{"text_format":"1","workbook":"xlsx","n_sheets":4,"sheets":["Import","Blad1","Blad2","Aanmeld batchfile"],"not_rendered":{"charts":0,"images":1,"macros":1,"external_links":0,"defined_names":2,"comments":0,"pivot_tables":0},"unopened":[],"bounds":{"document_bytes":16777216,"sheet_cells":100000,"rows_first":2000,"rows_last":500,"rows_between":2000,"halvings":0,"cell_chars":16384,"cell_head_chars":4096},"cells_cut":0,"cells_raw":0,"read":"whole","date_system":"1900"}

{"sheet":"Import","index":0,"n_rows":2,"n_cols":12,"rows_kept":2,"cut":false,"hidden":true,"merged":[]}
["Dhr/Mevr","Voorletters","Tussenvoegsel","Voornaam","Achternaam","Geboortedatum","E-mail","mobielnummer","Opmerking","BurgerServiceNummer","GeboortePlaats","Aanwijzing"]
[null,{"$f":"IF(Blad1!B15=\"\",\"\",Blad1!B15)","v":""},{"$f":"IF(Blad1!E15=\"\",\"\",Blad1!E15)","v":""},{"$f":"IF(Blad1!C15=\"\",\"\",Blad1!C15)","v":""},{"$f":"IF(Blad1!D15=\"\",\"\",Blad1!D15)","v":""},{"$f":"IF(Blad1!H15=\"\",\"\",Blad1!H15)","v":""},{"$f":"IF(Blad1!R15=\"\",\"\",Blad1!R15)","v":""},null,null,null,{"$f":"IF(Blad1!I15=\"\",\"\",Blad1!I15)","v":""},{"$f":"IF(Blad1!F15=\"\",\"\",Blad1!F15)","v":""}]

{"sheet":"Blad1","index":1,"n_rows":515,"n_cols":60,"rows_kept":515,"cut":false,"hidden":false,"merged":[[0,0,5,16],[8,0,8,1],[8,44,9,48],[8,49,9,53],[6,22,11,24],[11,45,11,48],[11,50,11,53],[8,39,9,41],[8,43,11,43],[8,2,8,3],[8,5,8,6],[8,8,8,9],[8,25,11,25],[8,26,9,30],[6,18,11,21],[6,0,6,15],[7,0,7,1],[7,2,7,3],[7,5,7,6],[7,8,7,9],[7,10,8,11],[11,27,11,30],[11,0,11,15],[9,5,9,6],[9,2,9,3],[9,0,9,1],[10,0,10,1],[10,2,10,3],[10,5,10,6],[11,58,11,59],[11,55,11,56],[11,40,11,41],[11,37,11,38],[11,32,11,35],[8,57,9,59],[8,55,9,56],[8,37,9,38],[8,31,9,35],[7,12,9,16],[6,43,7,59],[6,25,7,41]]}
["Ponsioen Opleiding en Advies: Kandidatenlijst VIAG & BEI"]
[]
[]
[]
[]
[]
["Uw gegevens:",null,null,null,null,null,null,null,null,null,null,null,null,null,null,null,null,null,"Nog doen!",null,null,null,"E-learing",null,null,"VIAG",null,null,null,null,null,null,null,null,null,null,null,null,null,null,null,null,null,"BEI"]
["Datum:",null,null,null,"O & A fonds:",null,null,"Naam:",null,null,"Paraaf:"]
["Opdrachtgever:",null,null,null,"Naam:",null,null,"Functie:",null,null,null,null,null,null,null,null,null,null,null,null,null,null,null,null,null,null,"VIAG Theorie",null,null,null,null,"VIAG Praktijk",null,null,null,null,null,null,null,null,null,null,null,null,"BEI Theorie",null,null,null,null,"BEI Praktijk"]
["Contact persoon:",null,null,null,"Nummer:",null,null,"Verklaart deze kandidatenlijst naar waarheid te hebben ingevuld"]
[null,null,null,null,null,null,null,"Verleent toestemming voor het verwerken van persoonsgegevens"]
["Cursisten:",null,null,null,null,null,null,null,null,null,null,null,null,null,null,null,null,null,null,null,null,null,null,null,null,null,null,"Theorie examens gepland",null,null,null,null,"Praktijk examens gepland",null,null,null,null,"Praktijk training",null,null,"Theorie les",null,null,null,null,"Theorie examens gepland",null,null,null,null,"Praktijk examens gepland",null,null,null,null,"Praktijk training",null,null,"Theorie les"]
["Nummer","Letter:","Voornaam:","Achternaam:","Tussen voegsel: ","Aanwijzing:","Werkgever","Geb. dd.:","Geb. Plaats:","Postcode:","Woonplaats:","Straat:","land:","Voldoet aan opleidingseis?","Voldoet aan ervaringseis?","Herexamen?","Datum oude certificaat","E-mail","Ttr","Ptr","Tex","Pex","Gekregen op","Van","Tot","PCE verzonden","TEX geslaagd","TEX 1","TEX 2","TEX 3","TEX 4 ","PEX geslaagd","PEX 1","PEX 2","PEX 3","PEX 4",null,"training1","training 2",null,"Les 1","Les 2",null,"PCE verzonden","TEX geslaagd","TEX 1","TEX 2","TEX 3","TEX 4 ","PEX geslaagd","PEX 1","PEX 2","PEX 3","PEX 4",null,"training1","training 2",null,"Les 1","Les 2"]
[0]
[]
[]
[]
[]
[]
[]
[]
[]
[]
[]
[]
[]
[]
[]
[]
[]
[]
[]
[]
[]
[]
[]
[]
[]
[]
[]
[]
[]
[]
[]
[]
[]
[]
[]
[]
[]
[]
[]
[]
[]
[]
[]
[]
[]
[]
[]
[]
[]
[]
[]
[]
[]
[]
[]
[]
[]
[]
[]
[]
[]
[]
[]
[]
[]
[]
[]
[]
[]
[]
[]
[]
[]
[]
[]
[]
[]
[]
[]
[]
[]
[]
[]
[]
[]
[]
[]
[]
[]
[]
[]
[]
[]
[]
[]
[]
[]
[]
[]
[]
[]
[]
[]
[]
[]
[]
[]
[]
[]
[]
[]
[]
[]
[]
[]
[]
[]
[]
[]
[]
[]
[]
[]
[]
[]
[]
[]
[]
[]
[]
[]
[]
[]
[]
[]
[]
[]
[]
[]
[]
[]
[]
[]
[]
[]
[]
[]
[]
[]
[]
[]
[]
[]
[]
[]
[]
[]
[]
[]
[]
[]
[]
[]
[]
[]
[]
[]
[]
[]
[]
[]
[]
[]
[]
[]
[]
[]
[]
[]
[]
[]
[]
[]
[]
[]
[]
[]
[]
[]
[]
[]
[]
[]
[]
[]
[]
[]
[]
[]
[]
[]
[]
[]
[]
[]
[]
[]
[]
[]
[]
[]
[]
[]
[]
[]
[]
[]
[]
[]
[]
[]
[]
[]
[]
[]
[]
[]
[]
[]
[]
[]
[]
[]
[]
[]
[]
[]
[]
[]
[]
[]
[]
[]
[]
[]
[]
[]
[]
[]
[]
[]
[]
[]
[]
[]
[]
[]
[]
[]
[]
[]
[]
[]
[]
[]
[]
[]
[]
[]
[]
[]
[]
[]
[]
[]
[]
[]
[]
[]
[]
[]
[]
[]
[]
[]
[]
[]
[]
[]
[]
[]
[]
[]
[]
[]
[]
[]
[]
[]
[]
[]
[]
[]
[]
[]
[]
[]
[]
[]
[]
[]
[]
[]
[]
[]
[]
[]
[]
[]
[]
[]
[]
[]
[]
[]
[]
[]
[]
[]
[]
[]
[]
[]
[]
[]
[]
[]
[]
[]
[]
[]
[]
[]
[]
[]
[]
[]
[]
[]
[]
[]
[]
[]
[]
[]
[]
[]
[]
[]
[]
[]
[]
[]
[]
[]
[]
[]
[]
[]
[]
[]
[]
[]
[]
[]
[]
[]
[]
[]
[]
[]
[]
[]
[]
[]
[]
[]
[]
[]
[]
[]
[]
[]
[]
[]
[]
[]
[]
[]
[]
[]
[]
[]
[]
[]
[]
[]
[]
[]
[]
[]
[]
[]
[]
[]
[]
[]
[]
[]
[]
[]
[]
[]
[]
[]
[]
[]
[]
[]
[]
[]
[]
[]
[]
[]
[]
[]
[]
[]
[]
[]
[]
[]
[]
[]
[]
[]
[]
[]
[]
[]
[]
[]
[]
[]
[]
[]
[]
[]
[]
[]
[]
[]
[]
[]
[]
[]
[]
[]
[]
[]
[]
[]
[]
[]
[]
[]
[]
[]
[]
[]
[]
[]
[]
[]
[]
[]
[]
[]
[]
[]
[]
[]
[]
[]
[]
[]
[]
[]
[]
[]
[500]

{"sheet":"Blad2","index":2,"n_rows":77,"n_cols":1,"rows_kept":77,"cut":false,"hidden":false,"merged":[]}
["VIAG THP G"]
["VIAG VOP G assistent"]
["VIAG VOP G meters"]
["VIAG VP G meterkast"]
["VIAG VP G aanleg"]
["VIAG VP G LD"]
["VIAG AVP G LD netten"]
["VIAG AVP G netten"]
["VIAG AVP G stations"]
["VIAG AVP G distributie"]
["VIAG WV G meterkast"]
["VIAG WV G LDnetten"]
["VIAG WV G netten"]
["VIAG WV G distributie"]
["VIAG BD G"]
["VIAG OIV G"]
["VIAG IV G"]
["BEI THP LS"]
["BEI VOP LS assistent"]
["BEI VOP LS meters"]
["BEI VP LS aansluiting"]
["BEI VP LS meterkast"]
["BEI VP LS netten"]
["BEI AVP LS service"]
["BEI AVP LS netten"]
["BEI AVP LS distributie"]
["BEI WV LS meterkast"]
["BEI WV LS netmontage"]
["BEI WV LS netten"]
["BEI WV LS distributie"]
["BEI BD LS"]
["BEI OIV LS distributie"]
["BEI IV LS distributie"]
["BEI VOP LS LNB Transport"]
["BEI VP LS LNB Transport"]
["BEI AVP LS LNB Transport"]
["BEI WV LS LNB Transport"]
["BEI OIV LS LNB Transport"]
["BEI IV LS LNB Transport"]
["BEI BHS MS THP"]
["BEI BHS MS VOP"]
["BEI BHS MS VP"]
["BEI BHS MS AVP"]
["BEI BHS MS AVP Service"]
["BEI BHS MS WV Netmontage"]
["BEI BHS MS WV"]
["BEI BHS MS BD"]
["BEI BHS MS OIV"]
["BEI BHS MS IV"]
["BEI BHS TR THP"]
["BEI BHS TR VOP"]
["BEI BHS TR VP Verbindingen"]
["BEI BHS TR VP"]
["BEI BHS TR AVP Service"]
["BEI BHS TR AVP Verbindingen"]
["BEI BHS TR AVP"]
["BEI BHS TR WV netmontage"]
["BEI BHS TR WV Stations"]
["BEI BHS TR WV Verbindingen"]
["BEI BHS TR WV"]
["BEI BHS TR BD"]
["BEI BHS TR OIV"]
["BEI BHS TR IV"]
["BEI BHS LNB THP"]
["BEI BHS LNB VOP"]
["BEI BHS LNB VP Verbindingen"]
["BEI BHS LNB VP"]
["BEI BHS LNB AVP Verbindingen"]
["BEI BHS LNB AVP"]
["BEI BHS LNB WV Stations"]
["BEI BHS LNB WV Verbindingen"]
["BEI BHS LNB WV"]
["BEI BHS LNB BD"]
["BEI BHS LNB OIV"]
["BEI BHS LNB IV"]
["VCA Basis"]
["VCA Vol"]

{"sheet":"Aanmeld batchfile","index":3,"n_rows":1500,"n_cols":11,"rows_kept":1500,"cut":false,"hidden":true,"merged":[]}
["Achternaam","Tussenvoegsel","Voorletters","Geboortedatum","Geboorteplaats","Land","Profiel","Huidig vigerend certificaat geldig tot","Examenlocatie","Personeel nummer","Oproeptijd"]
[{"$f":"IF(Blad1!D15=\"\",\"\",Blad1!D15)","v":""},{"$f":"IF(Blad1!E15=\"\",\"\",Blad1!E15)","v":""},{"$f":"IF(Blad1!B15=\"\",\"\",Blad1!B15)","v":""},{"$f":"IF(Blad1!H15=\"\",\"\",Blad1!H15)","v":""},{"$f":"IF(Blad1!I15=\"\",\"\",Blad1!I15)","v":""},{"$f":"IF(Blad1!M15=\"\",\"\",Blad1!M15)","v":""},{"$f":"IF(Blad1!F15=\"\",\"\",Blad1!F15)","v":""},{"$f":"IF(Blad1!Q15=\"\",\"\",Blad1!Q15)","v":""}]
[{"$f":"IF(Blad1!D16=\"\",\"\",Blad1!D16)","v":""},{"$f":"IF(Blad1!E16=\"\",\"\",Blad1!E16)","v":""},{"$f":"IF(Blad1!B16=\"\",\"\",Blad1!B16)","v":""},{"$f":"IF(Blad1!H16=\"\",\"\",Blad1!H16)","v":""},{"$f":"IF(Blad1!I16=\"\",\"\",Blad1!I16)","v":""},{"$f":"IF(Blad1!M16=\"\",\"\",Blad1!M16)","v":""},{"$f":"IF(Blad1!F16=\"\",\"\",Blad1!F16)","v":""},{"$f":"IF(Blad1!Q16=\"\",\"\",Blad1!Q16)","v":""}]
[{"$f":"IF(Blad1!D17=\"\",\"\",Blad1!D17)","v":""},{"$f":"IF(Blad1!E17=\"\",\"\",Blad1!E17)","v":""},{"$f":"IF(Blad1!B17=\"\",\"\",Blad1!B17)","v":""},{"$f":"IF(Blad1!H17=\"\",\"\",Blad1!H17)","v":""},{"$f":"IF(Blad1!I17=\"\",\"\",Blad1!I17)","v":""},{"$f":"IF(Blad1!M17=\"\",\"\",Blad1!M17)","v":""},{"$f":"IF(Blad1!F17=\"\",\"\",Blad1!F17)","v":""},{"$f":"IF(Blad1!Q17=\"\",\"\",Blad1!Q17)","v":""}]
[{"$f":"IF(Blad1!D18=\"\",\"\",Blad1!D18)","v":""},{"$f":"IF(Blad1!E18=\"\",\"\",Blad1!E18)","v":""},{"$f":"IF(Blad1!B18=\"\",\"\",Blad1!B18)","v":""},{"$f":"IF(Blad1!H18=\"\",\"\",Blad1!H18)","v":""},{"$f":"IF(Blad1!I18=\"\",\"\",Blad1!I18)","v":""},{"$f":"IF(Blad1!M18=\"\",\"\",Blad1!M18)","v":""},{"$f":"IF(Blad1!F18=\"\",\"\",Blad1!F18)","v":""},{"$f":"IF(Blad1!Q18=\"\",\"\",Blad1!Q18)","v":""}]
[{"$f":"IF(Blad1!D19=\"\",\"\",Blad1!D19)","v":""},{"$f":"IF(Blad1!E19=\"\",\"\",Blad1!E19)","v":""},{"$f":"IF(Blad1!B19=\"\",\"\",Blad1!B19)","v":""},{"$f":"IF(Blad1!H19=\"\",\"\",Blad1!H19)","v":""},{"$f":"IF(Blad1!I19=\"\",\"\",Blad1!I19)","v":""},{"$f":"IF(Blad1!M19=\"\",\"\",Blad1!M19)","v":""},{"$f":"IF(Blad1!F19=\"\",\"\",Blad1!F19)","v":""},{"$f":"IF(Blad1!Q19=\"\",\"\",Blad1!Q19)","v":""}]
[{"$f":"IF(Blad1!D20=\"\",\"\",Blad1!D20)","v":""},{"$f":"IF(Blad1!E20=\"\",\"\",Blad1!E20)","v":""},{"$f":"IF(Blad1!B20=\"\",\"\",Blad1!B20)","v":""},{"$f":"IF(Blad1!H20=\"\",\"\",Blad1!H20)","v":""},{"$f":"IF(Blad1!I20=\"\",\"\",Blad1!I20)","v":""},{"$f":"IF(Blad1!M20=\"\",\"\",Blad1!M20)","v":""},{"$f":"IF(Blad1!F20=\"\",\"\",Blad1!F20)","v":""},{"$f":"IF(Blad1!Q20=\"\",\"\",Blad1!Q20)","v":""}]
[{"$f":"IF(Blad1!D21=\"\",\"\",Blad1!D21)","v":""},{"$f":"IF(Blad1!E21=\"\",\"\",Blad1!E21)","v":""},{"$f":"IF(Blad1!B21=\"\",\"\",Blad1!B21)","v":""},{"$f":"IF(Blad1!H21=\"\",\"\",Blad1!H21)","v":""},{"$f":"IF(Blad1!I21=\"\",\"\",Blad1!I21)","v":""},{"$f":"IF(Blad1!M21=\"\",\"\",Blad1!M21)","v":""},{"$f":"IF(Blad1!F21=\"\",\"\",Blad1!F21)","v":""},{"$f":"IF(Blad1!Q21=\"\",\"\",Blad1!Q21)","v":""}]
[{"$f":"IF(Blad1!D22=\"\",\"\",Blad1!D22)","v":""},{"$f":"IF(Blad1!E22=\"\",\"\",Blad1!E22)","v":""},{"$f":"IF(Blad1!B22=\"\",\"\",Blad1!B22)","v":""},{"$f":"IF(Blad1!H22=\"\",\"\",Blad1!H22)","v":""},{"$f":"IF(Blad1!I22=\"\",\"\",Blad1!I22)","v":""},{"$f":"IF(Blad1!M22=\"\",\"\",Blad1!M22)","v":""},{"$f":"IF(Blad1!F22=\"\",\"\",Blad1!F22)","v":""},{"$f":"IF(Blad1!Q22=\"\",\"\",Blad1!Q22)","v":""}]
[{"$f":"IF(Blad1!D23=\"\",\"\",Blad1!D23)","v":""},{"$f":"IF(Blad1!E23=\"\",\"\",Blad1!E23)","v":""},{"$f":"IF(Blad1!B23=\"\",\"\",Blad1!B23)","v":""},{"$f":"IF(Blad1!H23=\"\",\"\",Blad1!H23)","v":""},{"$f":"IF(Blad1!I23=\"\",\"\",Blad1!I23)","v":""},{"$f":"IF(Blad1!M23=\"\",\"\",Blad1!M23)","v":""},{"$f":"IF(Blad1!F23=\"\",\"\",Blad1!F23)","v":""},{"$f":"IF(Blad1!Q23=\"\",\"\",Blad1!Q23)","v":""}]
[{"$f":"IF(Blad1!D24=\"\",\"\",Blad1!D24)","v":""},{"$f":"IF(Blad1!E24=\"\",\"\",Blad1!E24)","v":""},{"$f":"IF(Blad1!B24=\"\",\"\",Blad1!B24)","v":""},{"$f":"IF(Blad1!H24=\"\",\"\",Blad1!H24)","v":""},{"$f":"IF(Blad1!I24=\"\",\"\",Blad1!I24)","v":""},{"$f":"IF(Blad1!M24=\"\",\"\",Blad1!M24)","v":""},{"$f":"IF(Blad1!F24=\"\",\"\",Blad1!F24)","v":""},{"$f":"IF(Blad1!Q24=\"\",\"\",Blad1!Q24)","v":""}]
[{"$f":"IF(Blad1!D25=\"\",\"\",Blad1!D25)","v":""},{"$f":"IF(Blad1!E25=\"\",\"\",Blad1!E25)","v":""},{"$f":"IF(Blad1!B25=\"\",\"\",Blad1!B25)","v":""},{"$f":"IF(Blad1!H25=\"\",\"\",Blad1!H25)","v":""},{"$f":"IF(Blad1!I25=\"\",\"\",Blad1!I25)","v":""},{"$f":"IF(Blad1!M25=\"\",\"\",Blad1!M25)","v":""},{"$f":"IF(Blad1!F25=\"\",\"\",Blad1!F25)","v":""},{"$f":"IF(Blad1!Q25=\"\",\"\",Blad1!Q25)","v":""}]
[{"$f":"IF(Blad1!D26=\"\",\"\",Blad1!D26)","v":""},{"$f":"IF(Blad1!E26=\"\",\"\",Blad1!E26)","v":""},{"$f":"IF(Blad1!B26=\"\",\"\",Blad1!B26)","v":""},{"$f":"IF(Blad1!H26=\"\",\"\",Blad1!H26)","v":""},{"$f":"IF(Blad1!I26=\"\",\"\",Blad1!I26)","v":""},{"$f":"IF(Blad1!M26=\"\",\"\",Blad1!M26)","v":""},{"$f":"IF(Blad1!F26=\"\",\"\",Blad1!F26)","v":""},{"$f":"IF(Blad1!Q26=\"\",\"\",Blad1!Q26)","v":""}]
[{"$f":"IF(Blad1!D27=\"\",\"\",Blad1!D27)","v":""},{"$f":"IF(Blad1!E27=\"\",\"\",Blad1!E27)","v":""},{"$f":"IF(Blad1!B27=\"\",\"\",Blad1!B27)","v":""},{"$f":"IF(Blad1!H27=\"\",\"\",Blad1!H27)","v":""},{"$f":"IF(Blad1!I27=\"\",\"\",Blad1!I27)","v":""},{"$f":"IF(Blad1!M27=\"\",\"\",Blad1!M27)","v":""},{"$f":"IF(Blad1!F27=\"\",\"\",Blad1!F27)","v":""},{"$f":"IF(Blad1!Q27=\"\",\"\",Blad1!Q27)","v":""}]
[{"$f":"IF(Blad1!D28=\"\",\"\",Blad1!D28)","v":""},{"$f":"IF(Blad1!E28=\"\",\"\",Blad1!E28)","v":""},{"$f":"IF(Blad1!B28=\"\",\"\",Blad1!B28)","v":""},{"$f":"IF(Blad1!H28=\"\",\"\",Blad1!H28)","v":""},{"$f":"IF(Blad1!I28=\"\",\"\",Blad1!I28)","v":""},{"$f":"IF(Blad1!M28=\"\",\"\",Blad1!M28)","v":""},{"$f":"IF(Blad1!F28=\"\",\"\",Blad1!F28)","v":""},{"$f":"IF(Blad1!Q28=\"\",\"\",Blad1!Q28)","v":""}]
[{"$f":"IF(Blad1!D29=\"\",\"\",Blad1!D29)","v":""},{"$f":"IF(Blad1!E29=\"\",\"\",Blad1!E29)","v":""},{"$f":"IF(Blad1!B29=\"\",\"\",Blad1!B29)","v":""},{"$f":"IF(Blad1!H29=\"\",\"\",Blad1!H29)","v":""},{"$f":"IF(Blad1!I29=\"\",\"\",Blad1!I29)","v":""},{"$f":"IF(Blad1!M29=\"\",\"\",Blad1!M29)","v":""},{"$f":"IF(Blad1!F29=\"\",\"\",Blad1!F29)","v":""},{"$f":"IF(Blad1!Q29=\"\",\"\",Blad1!Q29)","v":""}]
[{"$f":"IF(Blad1!D30=\"\",\"\",Blad1!D30)","v":""},{"$f":"IF(Blad1!E30=\"\",\"\",Blad1!E30)","v":""},{"$f":"IF(Blad1!B30=\"\",\"\",Blad1!B30)","v":""},{"$f":"IF(Blad1!H30=\"\",\"\",Blad1!H30)","v":""},{"$f":"IF(Blad1!I30=\"\",\"\",Blad1!I30)","v":""},{"$f":"IF(Blad1!M30=\"\",\"\",Blad1!M30)","v":""},{"$f":"IF(Blad1!F30=\"\",\"\",Blad1!F30)","v":""},{"$f":"IF(Blad1!Q30=\"\",\"\",Blad1!Q30)","v":""}]
[{"$f":"IF(Blad1!D31=\"\",\"\",Blad1!D31)","v":""},{"$f":"IF(Blad1!E31=\"\",\"\",Blad1!E31)","v":""},{"$f":"IF(Blad1!B31=\"\",\"\",Blad1!B31)","v":""},{"$f":"IF(Blad1!H31=\"\",\"\",Blad1!H31)","v":""},{"$f":"IF(Blad1!I31=\"\",\"\",Blad1!I31)","v":""},{"$f":"IF(Blad1!M31=\"\",\"\",Blad1!M31)","v":""},{"$f":"IF(Blad1!F31=\"\",\"\",Blad1!F31)","v":""},{"$f":"IF(Blad1!Q31=\"\",\"\",Blad1!Q31)","v":""}]
[{"$f":"IF(Blad1!D32=\"\",\"\",Blad1!D32)","v":""},{"$f":"IF(Blad1!E32=\"\",\"\",Blad1!E32)","v":""},{"$f":"IF(Blad1!B32=\"\",\"\",Blad1!B32)","v":""},{"$f":"IF(Blad1!H32=\"\",\"\",Blad1!H32)","v":""},{"$f":"IF(Blad1!I32=\"\",\"\",Blad1!I32)","v":""},{"$f":"IF(Blad1!M32=\"\",\"\",Blad1!M32)","v":""},{"$f":"IF(Blad1!F32=\"\",\"\",Blad1!F32)","v":""},{"$f":"IF(Blad1!Q32=\"\",\"\",Blad1!Q32)","v":""}]
[{"$f":"IF(Blad1!D33=\"\",\"\",Blad1!D33)","v":""},{"$f":"IF(Blad1!E33=\"\",\"\",Blad1!E33)","v":""},{"$f":"IF(Blad1!B33=\"\",\"\",Blad1!B33)","v":""},{"$f":"IF(Blad1!H33=\"\",\"\",Blad1!H33)","v":""},{"$f":"IF(Blad1!I33=\"\",\"\",Blad1!I33)","v":""},{"$f":"IF(Blad1!M33=\"\",\"\",Blad1!M33)","v":""},{"$f":"IF(Blad1!F33=\"\",\"\",Blad1!F33)","v":""},{"$f":"IF(Blad1!Q33=\"\",\"\",Blad1!Q33)","v":""}]
[{"$f":"IF(Blad1!D34=\"\",\"\",Blad1!D34)","v":""},{"$f":"IF(Blad1!E34=\"\",\"\",Blad1!E34)","v":""},{"$f":"IF(Blad1!B34=\"\",\"\",Blad1!B34)","v":""},{"$f":"IF(Blad1!H34=\"\",\"\",Blad1!H34)","v":""},{"$f":"IF(Blad1!I34=\"\",\"\",Blad1!I34)","v":""},{"$f":"IF(Blad1!M34=\"\",\"\",Blad1!M34)","v":""},{"$f":"IF(Blad1!F34=\"\",\"\",Blad1!F34)","v":""},{"$f":"IF(Blad1!Q34=\"\",\"\",Blad1!Q34)","v":""}]
[{"$f":"IF(Blad1!D35=\"\",\"\",Blad1!D35)","v":""},{"$f":"IF(Blad1!E35=\"\",\"\",Blad1!E35)","v":""},{"$f":"IF(Blad1!B35=\"\",\"\",Blad1!B35)","v":""},{"$f":"IF(Blad1!H35=\"\",\"\",Blad1!H35)","v":""},{"$f":"IF(Blad1!I35=\"\",\"\",Blad1!I35)","v":""},{"$f":"IF(Blad1!M35=\"\",\"\",Blad1!M35)","v":""},{"$f":"IF(Blad1!F35=\"\",\"\",Blad1!F35)","v":""},{"$f":"IF(Blad1!Q35=\"\",\"\",Blad1!Q35)","v":""}]
[{"$f":"IF(Blad1!D36=\"\",\"\",Blad1!D36)","v":""},{"$f":"IF(Blad1!E36=\"\",\"\",Blad1!E36)","v":""},{"$f":"IF(Blad1!B36=\"\",\"\",Blad1!B36)","v":""},{"$f":"IF(Blad1!H36=\"\",\"\",Blad1!H36)","v":""},{"$f":"IF(Blad1!I36=\"\",\"\",Blad1!I36)","v":""},{"$f":"IF(Blad1!M36=\"\",\"\",Blad1!M36)","v":""},{"$f":"IF(Blad1!F36=\"\",\"\",Blad1!F36)","v":""},{"$f":"IF(Blad1!Q36=\"\",\"\",Blad1!Q36)","v":""}]
[{"$f":"IF(Blad1!D37=\"\",\"\",Blad1!D37)","v":""},{"$f":"IF(Blad1!E37=\"\",\"\",Blad1!E37)","v":""},{"$f":"IF(Blad1!B37=\"\",\"\",Blad1!B37)","v":""},{"$f":"IF(Blad1!H37=\"\",\"\",Blad1!H37)","v":""},{"$f":"IF(Blad1!I37=\"\",\"\",Blad1!I37)","v":""},{"$f":"IF(Blad1!M37=\"\",\"\",Blad1!M37)","v":""},{"$f":"IF(Blad1!F37=\"\",\"\",Blad1!F37)","v":""},{"$f":"IF(Blad1!Q37=\"\",\"\",Blad1!Q37)","v":""}]
[{"$f":"IF(Blad1!D38=\"\",\"\",Blad1!D38)","v":""},{"$f":"IF(Blad1!E38=\"\",\"\",Blad1!E38)","v":""},{"$f":"IF(Blad1!B38=\"\",\"\",Blad1!B38)","v":""},{"$f":"IF(Blad1!H38=\"\",\"\",Blad1!H38)","v":""},{"$f":"IF(Blad1!I38=\"\",\"\",Blad1!I38)","v":""},{"$f":"IF(Blad1!M38=\"\",\"\",Blad1!M38)","v":""},{"$f":"IF(Blad1!F38=\"\",\"\",Blad1!F38)","v":""},{"$f":"IF(Blad1!Q38=\"\",\"\",Blad1!Q38)","v":""}]
[{"$f":"IF(Blad1!D39=\"\",\"\",Blad1!D39)","v":""},{"$f":"IF(Blad1!E39=\"\",\"\",Blad1!E39)","v":""},{"$f":"IF(Blad1!B39=\"\",\"\",Blad1!B39)","v":""},{"$f":"IF(Blad1!H39=\"\",\"\",Blad1!H39)","v":""},{"$f":"IF(Blad1!I39=\"\",\"\",Blad1!I39)","v":""},{"$f":"IF(Blad1!M39=\"\",\"\",Blad1!M39)","v":""},{"$f":"IF(Blad1!F39=\"\",\"\",Blad1!F39)","v":""},{"$f":"IF(Blad1!Q39=\"\",\"\",Blad1!Q39)","v":""}]
[{"$f":"IF(Blad1!D40=\"\",\"\",Blad1!D40)","v":""},{"$f":"IF(Blad1!E40=\"\",\"\",Blad1!E40)","v":""},{"$f":"IF(Blad1!B40=\"\",\"\",Blad1!B40)","v":""},{"$f":"IF(Blad1!H40=\"\",\"\",Blad1!H40)","v":""},{"$f":"IF(Blad1!I40=\"\",\"\",Blad1!I40)","v":""},{"$f":"IF(Blad1!M40=\"\",\"\",Blad1!M40)","v":""},{"$f":"IF(Blad1!F40=\"\",\"\",Blad1!F40)","v":""},{"$f":"IF(Blad1!Q40=\"\",\"\",Blad1!Q40)","v":""}]
[{"$f":"IF(Blad1!D41=\"\",\"\",Blad1!D41)","v":""},{"$f":"IF(Blad1!E41=\"\",\"\",Blad1!E41)","v":""},{"$f":"IF(Blad1!B41=\"\",\"\",Blad1!B41)","v":""},{"$f":"IF(Blad1!H41=\"\",\"\",Blad1!H41)","v":""},{"$f":"IF(Blad1!I41=\"\",\"\",Blad1!I41)","v":""},{"$f":"IF(Blad1!M41=\"\",\"\",Blad1!M41)","v":""},{"$f":"IF(Blad1!F41=\"\",\"\",Blad1!F41)","v":""},{"$f":"IF(Blad1!Q41=\"\",\"\",Blad1!Q41)","v":""}]
[{"$f":"IF(Blad1!D42=\"\",\"\",Blad1!D42)","v":""},{"$f":"IF(Blad1!E42=\"\",\"\",Blad1!E42)","v":""},{"$f":"IF(Blad1!B42=\"\",\"\",Blad1!B42)","v":""},{"$f":"IF(Blad1!H42=\"\",\"\",Blad1!H42)","v":""},{"$f":"IF(Blad1!I42=\"\",\"\",Blad1!I42)","v":""},{"$f":"IF(Blad1!M42=\"\",\"\",Blad1!M42)","v":""},{"$f":"IF(Blad1!F42=\"\",\"\",Blad1!F42)","v":""},{"$f":"IF(Blad1!Q42=\"\",\"\",Blad1!Q42)","v":""}]
[{"$f":"IF(Blad1!D43=\"\",\"\",Blad1!D43)","v":""},{"$f":"IF(Blad1!E43=\"\",\"\",Blad1!E43)","v":""},{"$f":"IF(Blad1!B43=\"\",\"\",Blad1!B43)","v":""},{"$f":"IF(Blad1!H43=\"\",\"\",Blad1!H43)","v":""},{"$f":"IF(Blad1!I43=\"\",\"\",Blad1!I43)","v":""},{"$f":"IF(Blad1!M43=\"\",\"\",Blad1!M43)","v":""},{"$f":"IF(Blad1!F43=\"\",\"\",Blad1!F43)","v":""},{"$f":"IF(Blad1!Q43=\"\",\"\",Blad1!Q43)","v":""}]
[{"$f":"IF(Blad1!D44=\"\",\"\",Blad1!D44)","v":""},{"$f":"IF(Blad1!E44=\"\",\"\",Blad1!E44)","v":""},{"$f":"IF(Blad1!B44=\"\",\"\",Blad1!B44)","v":""},{"$f":"IF(Blad1!H44=\"\",\"\",Blad1!H44)","v":""},{"$f":"IF(Blad1!I44=\"\",\"\",Blad1!I44)","v":""},{"$f":"IF(Blad1!M44=\"\",\"\",Blad1!M44)","v":""},{"$f":"IF(Blad1!F44=\"\",\"\",Blad1!F44)","v":""},{"$f":"IF(Blad1!Q44=\"\",\"\",Blad1!Q44)","v":""}]
[{"$f":"IF(Blad1!D45=\"\",\"\",Blad1!D45)","v":""},{"$f":"IF(Blad1!E45=\"\",\"\",Blad1!E45)","v":""},{"$f":"IF(Blad1!B45=\"\",\"\",Blad1!B45)","v":""},{"$f":"IF(Blad1!H45=\"\",\"\",Blad1!H45)","v":""},{"$f":"IF(Blad1!I45=\"\",\"\",Blad1!I45)","v":""},{"$f":"IF(Blad1!M45=\"\",\"\",Blad1!M45)","v":""},{"$f":"IF(Blad1!F45=\"\",\"\",Blad1!F45)","v":""},{"$f":"IF(Blad1!Q45=\"\",\"\",Blad1!Q45)","v":""}]
[{"$f":"IF(Blad1!D46=\"\",\"\",Blad1!D46)","v":""},{"$f":"IF(Blad1!E46=\"\",\"\",Blad1!E46)","v":""},{"$f":"IF(Blad1!B46=\"\",\"\",Blad1!B46)","v":""},{"$f":"IF(Blad1!H46=\"\",\"\",Blad1!H46)","v":""},{"$f":"IF(Blad1!I46=\"\",\"\",Blad1!I46)","v":""},{"$f":"IF(Blad1!M46=\"\",\"\",Blad1!M46)","v":""},{"$f":"IF(Blad1!F46=\"\",\"\",Blad1!F46)","v":""},{"$f":"IF(Blad1!Q46=\"\",\"\",Blad1!Q46)","v":""}]
[{"$f":"IF(Blad1!D47=\"\",\"\",Blad1!D47)","v":""},{"$f":"IF(Blad1!E47=\"\",\"\",Blad1!E47)","v":""},{"$f":"IF(Blad1!B47=\"\",\"\",Blad1!B47)","v":""},{"$f":"IF(Blad1!H47=\"\",\"\",Blad1!H47)","v":""},{"$f":"IF(Blad1!I47=\"\",\"\",Blad1!I47)","v":""},{"$f":"IF(Blad1!M47=\"\",\"\",Blad1!M47)","v":""},{"$f":"IF(Blad1!F47=\"\",\"\",Blad1!F47)","v":""},{"$f":"IF(Blad1!Q47=\"\",\"\",Blad1!Q47)","v":""}]
[{"$f":"IF(Blad1!D48=\"\",\"\",Blad1!D48)","v":""},{"$f":"IF(Blad1!E48=\"\",\"\",Blad1!E48)","v":""},{"$f":"IF(Blad1!B48=\"\",\"\",Blad1!B48)","v":""},{"$f":"IF(Blad1!H48=\"\",\"\",Blad1!H48)","v":""},{"$f":"IF(Blad1!I48=\"\",\"\",Blad1!I48)","v":""},{"$f":"IF(Blad1!M48=\"\",\"\",Blad1!M48)","v":""},{"$f":"IF(Blad1!F48=\"\",\"\",Blad1!F48)","v":""},{"$f":"IF(Blad1!Q48=\"\",\"\",Blad1!Q48)","v":""}]
[{"$f":"IF(Blad1!D49=\"\",\"\",Blad1!D49)","v":""},{"$f":"IF(Blad1!E49=\"\",\"\",Blad1!E49)","v":""},{"$f":"IF(Blad1!B49=\"\",\"\",Blad1!B49)","v":""},{"$f":"IF(Blad1!H49=\"\",\"\",Blad1!H49)","v":""},{"$f":"IF(Blad1!I49=\"\",\"\",Blad1!I49)","v":""},{"$f":"IF(Blad1!M49=\"\",\"\",Blad1!M49)","v":""},{"$f":"IF(Blad1!F49=\"\",\"\",Blad1!F49)","v":""},{"$f":"IF(Blad1!Q49=\"\",\"\",Blad1!Q49)","v":""}]
[{"$f":"IF(Blad1!D50=\"\",\"\",Blad1!D50)","v":""},{"$f":"IF(Blad1!E50=\"\",\"\",Blad1!E50)","v":""},{"$f":"IF(Blad1!B50=\"\",\"\",Blad1!B50)","v":""},{"$f":"IF(Blad1!H50=\"\",\"\",Blad1!H50)","v":""},{"$f":"IF(Blad1!I50=\"\",\"\",Blad1!I50)","v":""},{"$f":"IF(Blad1!M50=\"\",\"\",Blad1!M50)","v":""},{"$f":"IF(Blad1!F50=\"\",\"\",Blad1!F50)","v":""},{"$f":"IF(Blad1!Q50=\"\",\"\",Blad1!Q50)","v":""}]
[{"$f":"IF(Blad1!D51=\"\",\"\",Blad1!D51)","v":""},{"$f":"IF(Blad1!E51=\"\",\"\",Blad1!E51)","v":""},{"$f":"IF(Blad1!B51=\"\",\"\",Blad1!B51)","v":""},{"$f":"IF(Blad1!H51=\"\",\"\",Blad1!H51)","v":""},{"$f":"IF(Blad1!I51=\"\",\"\",Blad1!I51)","v":""},{"$f":"IF(Blad1!M51=\"\",\"\",Blad1!M51)","v":""},{"$f":"IF(Blad1!F51=\"\",\"\",Blad1!F51)","v":""},{"$f":"IF(Blad1!Q51=\"\",\"\",Blad1!Q51)","v":""}]
[{"$f":"IF(Blad1!D52=\"\",\"\",Blad1!D52)","v":""},{"$f":"IF(Blad1!E52=\"\",\"\",Blad1!E52)","v":""},{"$f":"IF(Blad1!B52=\"\",\"\",Blad1!B52)","v":""},{"$f":"IF(Blad1!H52=\"\",\"\",Blad1!H52)","v":""},{"$f":"IF(Blad1!I52=\"\",\"\",Blad1!I52)","v":""},{"$f":"IF(Blad1!M52=\"\",\"\",Blad1!M52)","v":""},{"$f":"IF(Blad1!F52=\"\",\"\",Blad1!F52)","v":""},{"$f":"IF(Blad1!Q52=\"\",\"\",Blad1!Q52)","v":""}]
[{"$f":"IF(Blad1!D53=\"\",\"\",Blad1!D53)","v":""},{"$f":"IF(Blad1!E53=\"\",\"\",Blad1!E53)","v":""},{"$f":"IF(Blad1!B53=\"\",\"\",Blad1!B53)","v":""},{"$f":"IF(Blad1!H53=\"\",\"\",Blad1!H53)","v":""},{"$f":"IF(Blad1!I53=\"\",\"\",Blad1!I53)","v":""},{"$f":"IF(Blad1!M53=\"\",\"\",Blad1!M53)","v":""},{"$f":"IF(Blad1!F53=\"\",\"\",Blad1!F53)","v":""},{"$f":"IF(Blad1!Q53=\"\",\"\",Blad1!Q53)","v":""}]
[{"$f":"IF(Blad1!D54=\"\",\"\",Blad1!D54)","v":""},{"$f":"IF(Blad1!E54=\"\",\"\",Blad1!E54)","v":""},{"$f":"IF(Blad1!B54=\"\",\"\",Blad1!B54)","v":""},{"$f":"IF(Blad1!H54=\"\",\"\",Blad1!H54)","v":""},{"$f":"IF(Blad1!I54=\"\",\"\",Blad1!I54)","v":""},{"$f":"IF(Blad1!M54=\"\",\"\",Blad1!M54)","v":""},{"$f":"IF(Blad1!F54=\"\",\"\",Blad1!F54)","v":""},{"$f":"IF(Blad1!Q54=\"\",\"\",Blad1!Q54)","v":""}]
[{"$f":"IF(Blad1!D55=\"\",\"\",Blad1!D55)","v":""},{"$f":"IF(Blad1!E55=\"\",\"\",Blad1!E55)","v":""},{"$f":"IF(Blad1!B55=\"\",\"\",Blad1!B55)","v":""},{"$f":"IF(Blad1!H55=\"\",\"\",Blad1!H55)","v":""},{"$f":"IF(Blad1!I55=\"\",\"\",Blad1!I55)","v":""},{"$f":"IF(Blad1!M55=\"\",\"\",Blad1!M55)","v":""},{"$f":"IF(Blad1!F55=\"\",\"\",Blad1!F55)","v":""},{"$f":"IF(Blad1!Q55=\"\",\"\",Blad1!Q55)","v":""}]
[{"$f":"IF(Blad1!D56=\"\",\"\",Blad1!D56)","v":""},{"$f":"IF(Blad1!E56=\"\",\"\",Blad1!E56)","v":""},{"$f":"IF(Blad1!B56=\"\",\"\",Blad1!B56)","v":""},{"$f":"IF(Blad1!H56=\"\",\"\",Blad1!H56)","v":""},{"$f":"IF(Blad1!I56=\"\",\"\",Blad1!I56)","v":""},{"$f":"IF(Blad1!M56=\"\",\"\",Blad1!M56)","v":""},{"$f":"IF(Blad1!F56=\"\",\"\",Blad1!F56)","v":""},{"$f":"IF(Blad1!Q56=\"\",\"\",Blad1!Q56)","v":""}]
[{"$f":"IF(Blad1!D57=\"\",\"\",Blad1!D57)","v":""},{"$f":"IF(Blad1!E57=\"\",\"\",Blad1!E57)","v":""},{"$f":"IF(Blad1!B57=\"\",\"\",Blad1!B57)","v":""},{"$f":"IF(Blad1!H57=\"\",\"\",Blad1!H57)","v":""},{"$f":"IF(Blad1!I57=\"\",\"\",Blad1!I57)","v":""},{"$f":"IF(Blad1!M57=\"\",\"\",Blad1!M57)","v":""},{"$f":"IF(Blad1!F57=\"\",\"\",Blad1!F57)","v":""},{"$f":"IF(Blad1!Q57=\"\",\"\",Blad1!Q57)","v":""}]
[{"$f":"IF(Blad1!D58=\"\",\"\",Blad1!D58)","v":""},{"$f":"IF(Blad1!E58=\"\",\"\",Blad1!E58)","v":""},{"$f":"IF(Blad1!B58=\"\",\"\",Blad1!B58)","v":""},{"$f":"IF(Blad1!H58=\"\",\"\",Blad1!H58)","v":""},{"$f":"IF(Blad1!I58=\"\",\"\",Blad1!I58)","v":""},{"$f":"IF(Blad1!M58=\"\",\"\",Blad1!M58)","v":""},{"$f":"IF(Blad1!F58=\"\",\"\",Blad1!F58)","v":""},{"$f":"IF(Blad1!Q58=\"\",\"\",Blad1!Q58)","v":""}]
[{"$f":"IF(Blad1!D59=\"\",\"\",Blad1!D59)","v":""},{"$f":"IF(Blad1!E59=\"\",\"\",Blad1!E59)","v":""},{"$f":"IF(Blad1!B59=\"\",\"\",Blad1!B59)","v":""},{"$f":"IF(Blad1!H59=\"\",\"\",Blad1!H59)","v":""},{"$f":"IF(Blad1!I59=\"\",\"\",Blad1!I59)","v":""},{"$f":"IF(Blad1!M59=\"\",\"\",Blad1!M59)","v":""},{"$f":"IF(Blad1!F59=\"\",\"\",Blad1!F59)","v":""},{"$f":"IF(Blad1!Q59=\"\",\"\",Blad1!Q59)","v":""}]
[{"$f":"IF(Blad1!D60=\"\",\"\",Blad1!D60)","v":""},{"$f":"IF(Blad1!E60=\"\",\"\",Blad1!E60)","v":""},{"$f":"IF(Blad1!B60=\"\",\"\",Blad1!B60)","v":""},{"$f":"IF(Blad1!H60=\"\",\"\",Blad1!H60)","v":""},{"$f":"IF(Blad1!I60=\"\",\"\",Blad1!I60)","v":""},{"$f":"IF(Blad1!M60=\"\",\"\",Blad1!M60)","v":""},{"$f":"IF(Blad1!F60=\"\",\"\",Blad1!F60)","v":""},{"$f":"IF(Blad1!Q60=\"\",\"\",Blad1!Q60)","v":""}]
[{"$f":"IF(Blad1!D61=\"\",\"\",Blad1!D61)","v":""},{"$f":"IF(Blad1!E61=\"\",\"\",Blad1!E61)","v":""},{"$f":"IF(Blad1!B61=\"\",\"\",Blad1!B61)","v":""},{"$f":"IF(Blad1!H61=\"\",\"\",Blad1!H61)","v":""},{"$f":"IF(Blad1!I61=\"\",\"\",Blad1!I61)","v":""},{"$f":"IF(Blad1!M61=\"\",\"\",Blad1!M61)","v":""},{"$f":"IF(Blad1!F61=\"\",\"\",Blad1!F61)","v":""},{"$f":"IF(Blad1!Q61=\"\",\"\",Blad1!Q61)","v":""}]
[{"$f":"IF(Blad1!D62=\"\",\"\",Blad1!D62)","v":""},{"$f":"IF(Blad1!E62=\"\",\"\",Blad1!E62)","v":""},{"$f":"IF(Blad1!B62=\"\",\"\",Blad1!B62)","v":""},{"$f":"IF(Blad1!H62=\"\",\"\",Blad1!H62)","v":""},{"$f":"IF(Blad1!I62=\"\",\"\",Blad1!I62)","v":""},{"$f":"IF(Blad1!M62=\"\",\"\",Blad1!M62)","v":""},{"$f":"IF(Blad1!F62=\"\",\"\",Blad1!F62)","v":""},{"$f":"IF(Blad1!Q62=\"\",\"\",Blad1!Q62)","v":""}]
[{"$f":"IF(Blad1!D63=\"\",\"\",Blad1!D63)","v":""},{"$f":"IF(Blad1!E63=\"\",\"\",Blad1!E63)","v":""},{"$f":"IF(Blad1!B63=\"\",\"\",Blad1!B63)","v":""},{"$f":"IF(Blad1!H63=\"\",\"\",Blad1!H63)","v":""},{"$f":"IF(Blad1!I63=\"\",\"\",Blad1!I63)","v":""},{"$f":"IF(Blad1!M63=\"\",\"\",Blad1!M63)","v":""},{"$f":"IF(Blad1!F63=\"\",\"\",Blad1!F63)","v":""},{"$f":"IF(Blad1!Q63=\"\",\"\",Blad1!Q63)","v":""}]
[{"$f":"IF(Blad1!D64=\"\",\"\",Blad1!D64)","v":""},{"$f":"IF(Blad1!E64=\"\",\"\",Blad1!E64)","v":""},{"$f":"IF(Blad1!B64=\"\",\"\",Blad1!B64)","v":""},{"$f":"IF(Blad1!H64=\"\",\"\",Blad1!H64)","v":""},{"$f":"IF(Blad1!I64=\"\",\"\",Blad1!I64)","v":""},{"$f":"IF(Blad1!M64=\"\",\"\",Blad1!M64)","v":""},{"$f":"IF(Blad1!F64=\"\",\"\",Blad1!F64)","v":""},{"$f":"IF(Blad1!Q64=\"\",\"\",Blad1!Q64)","v":""}]
[{"$f":"IF(Blad1!D65=\"\",\"\",Blad1!D65)","v":""},{"$f":"IF(Blad1!E65=\"\",\"\",Blad1!E65)","v":""},{"$f":"IF(Blad1!B65=\"\",\"\",Blad1!B65)","v":""},{"$f":"IF(Blad1!H65=\"\",\"\",Blad1!H65)","v":""},{"$f":"IF(Blad1!I65=\"\",\"\",Blad1!I65)","v":""},{"$f":"IF(Blad1!M65=\"\",\"\",Blad1!M65)","v":""},{"$f":"IF(Blad1!F65=\"\",\"\",Blad1!F65)","v":""},{"$f":"IF(Blad1!Q65=\"\",\"\",Blad1!Q65)","v":""}]
[{"$f":"IF(Blad1!D66=\"\",\"\",Blad1!D66)","v":""},{"$f":"IF(Blad1!E66=\"\",\"\",Blad1!E66)","v":""},{"$f":"IF(Blad1!B66=\"\",\"\",Blad1!B66)","v":""},{"$f":"IF(Blad1!H66=\"\",\"\",Blad1!H66)","v":""},{"$f":"IF(Blad1!I66=\"\",\"\",Blad1!I66)","v":""},{"$f":"IF(Blad1!M66=\"\",\"\",Blad1!M66)","v":""},{"$f":"IF(Blad1!F66=\"\",\"\",Blad1!F66)","v":""},{"$f":"IF(Blad1!Q66=\"\",\"\",Blad1!Q66)","v":""}]
[{"$f":"IF(Blad1!D67=\"\",\"\",Blad1!D67)","v":""},{"$f":"IF(Blad1!E67=\"\",\"\",Blad1!E67)","v":""},{"$f":"IF(Blad1!B67=\"\",\"\",Blad1!B67)","v":""},{"$f":"IF(Blad1!H67=\"\",\"\",Blad1!H67)","v":""},{"$f":"IF(Blad1!I67=\"\",\"\",Blad1!I67)","v":""},{"$f":"IF(Blad1!M67=\"\",\"\",Blad1!M67)","v":""},{"$f":"IF(Blad1!F67=\"\",\"\",Blad1!F67)","v":""},{"$f":"IF(Blad1!Q67=\"\",\"\",Blad1!Q67)","v":""}]
[{"$f":"IF(Blad1!D68=\"\",\"\",Blad1!D68)","v":""},{"$f":"IF(Blad1!E68=\"\",\"\",Blad1!E68)","v":""},{"$f":"IF(Blad1!B68=\"\",\"\",Blad1!B68)","v":""},{"$f":"IF(Blad1!H68=\"\",\"\",Blad1!H68)","v":""},{"$f":"IF(Blad1!I68=\"\",\"\",Blad1!I68)","v":""},{"$f":"IF(Blad1!M68=\"\",\"\",Blad1!M68)","v":""},{"$f":"IF(Blad1!F68=\"\",\"\",Blad1!F68)","v":""},{"$f":"IF(Blad1!Q68=\"\",\"\",Blad1!Q68)","v":""}]
[{"$f":"IF(Blad1!D69=\"\",\"\",Blad1!D69)","v":""},{"$f":"IF(Blad1!E69=\"\",\"\",Blad1!E69)","v":""},{"$f":"IF(Blad1!B69=\"\",\"\",Blad1!B69)","v":""},{"$f":"IF(Blad1!H69=\"\",\"\",Blad1!H69)","v":""},{"$f":"IF(Blad1!I69=\"\",\"\",Blad1!I69)","v":""},{"$f":"IF(Blad1!M69=\"\",\"\",Blad1!M69)","v":""},{"$f":"IF(Blad1!F69=\"\",\"\",Blad1!F69)","v":""},{"$f":"IF(Blad1!Q69=\"\",\"\",Blad1!Q69)","v":""}]
[{"$f":"IF(Blad1!D70=\"\",\"\",Blad1!D70)","v":""},{"$f":"IF(Blad1!E70=\"\",\"\",Blad1!E70)","v":""},{"$f":"IF(Blad1!B70=\"\",\"\",Blad1!B70)","v":""},{"$f":"IF(Blad1!H70=\"\",\"\",Blad1!H70)","v":""},{"$f":"IF(Blad1!I70=\"\",\"\",Blad1!I70)","v":""},{"$f":"IF(Blad1!M70=\"\",\"\",Blad1!M70)","v":""},{"$f":"IF(Blad1!F70=\"\",\"\",Blad1!F70)","v":""},{"$f":"IF(Blad1!Q70=\"\",\"\",Blad1!Q70)","v":""}]
[{"$f":"IF(Blad1!D71=\"\",\"\",Blad1!D71)","v":""},{"$f":"IF(Blad1!E71=\"\",\"\",Blad1!E71)","v":""},{"$f":"IF(Blad1!B71=\"\",\"\",Blad1!B71)","v":""},{"$f":"IF(Blad1!H71=\"\",\"\",Blad1!H71)","v":""},{"$f":"IF(Blad1!I71=\"\",\"\",Blad1!I71)","v":""},{"$f":"IF(Blad1!M71=\"\",\"\",Blad1!M71)","v":""},{"$f":"IF(Blad1!F71=\"\",\"\",Blad1!F71)","v":""},{"$f":"IF(Blad1!Q71=\"\",\"\",Blad1!Q71)","v":""}]
[{"$f":"IF(Blad1!D72=\"\",\"\",Blad1!D72)","v":""},{"$f":"IF(Blad1!E72=\"\",\"\",Blad1!E72)","v":""},{"$f":"IF(Blad1!B72=\"\",\"\",Blad1!B72)","v":""},{"$f":"IF(Blad1!H72=\"\",\"\",Blad1!H72)","v":""},{"$f":"IF(Blad1!I72=\"\",\"\",Blad1!I72)","v":""},{"$f":"IF(Blad1!M72=\"\",\"\",Blad1!M72)","v":""},{"$f":"IF(Blad1!F72=\"\",\"\",Blad1!F72)","v":""},{"$f":"IF(Blad1!Q72=\"\",\"\",Blad1!Q72)","v":""}]
[{"$f":"IF(Blad1!D73=\"\",\"\",Blad1!D73)","v":""},{"$f":"IF(Blad1!E73=\"\",\"\",Blad1!E73)","v":""},{"$f":"IF(Blad1!B73=\"\",\"\",Blad1!B73)","v":""},{"$f":"IF(Blad1!H73=\"\",\"\",Blad1!H73)","v":""},{"$f":"IF(Blad1!I73=\"\",\"\",Blad1!I73)","v":""},{"$f":"IF(Blad1!M73=\"\",\"\",Blad1!M73)","v":""},{"$f":"IF(Blad1!F73=\"\",\"\",Blad1!F73)","v":""},{"$f":"IF(Blad1!Q73=\"\",\"\",Blad1!Q73)","v":""}]
[{"$f":"IF(Blad1!D74=\"\",\"\",Blad1!D74)","v":""},{"$f":"IF(Blad1!E74=\"\",\"\",Blad1!E74)","v":""},{"$f":"IF(Blad1!B74=\"\",\"\",Blad1!B74)","v":""},{"$f":"IF(Blad1!H74=\"\",\"\",Blad1!H74)","v":""},{"$f":"IF(Blad1!I74=\"\",\"\",Blad1!I74)","v":""},{"$f":"IF(Blad1!M74=\"\",\"\",Blad1!M74)","v":""},{"$f":"IF(Blad1!F74=\"\",\"\",Blad1!F74)","v":""},{"$f":"IF(Blad1!Q74=\"\",\"\",Blad1!Q74)","v":""}]
[{"$f":"IF(Blad1!D75=\"\",\"\",Blad1!D75)","v":""},{"$f":"IF(Blad1!E75=\"\",\"\",Blad1!E75)","v":""},{"$f":"IF(Blad1!B75=\"\",\"\",Blad1!B75)","v":""},{"$f":"IF(Blad1!H75=\"\",\"\",Blad1!H75)","v":""},{"$f":"IF(Blad1!I75=\"\",\"\",Blad1!I75)","v":""},{"$f":"IF(Blad1!M75=\"\",\"\",Blad1!M75)","v":""},{"$f":"IF(Blad1!F75=\"\",\"\",Blad1!F75)","v":""},{"$f":"IF(Blad1!Q75=\"\",\"\",Blad1!Q75)","v":""}]
[{"$f":"IF(Blad1!D76=\"\",\"\",Blad1!D76)","v":""},{"$f":"IF(Blad1!E76=\"\",\"\",Blad1!E76)","v":""},{"$f":"IF(Blad1!B76=\"\",\"\",Blad1!B76)","v":""},{"$f":"IF(Blad1!H76=\"\",\"\",Blad1!H76)","v":""},{"$f":"IF(Blad1!I76=\"\",\"\",Blad1!I76)","v":""},{"$f":"IF(Blad1!M76=\"\",\"\",Blad1!M76)","v":""},{"$f":"IF(Blad1!F76=\"\",\"\",Blad1!F76)","v":""},{"$f":"IF(Blad1!Q76=\"\",\"\",Blad1!Q76)","v":""}]
[{"$f":"IF(Blad1!D77=\"\",\"\",Blad1!D77)","v":""},{"$f":"IF(Blad1!E77=\"\",\"\",Blad1!E77)","v":""},{"$f":"IF(Blad1!B77=\"\",\"\",Blad1!B77)","v":""},{"$f":"IF(Blad1!H77=\"\",\"\",Blad1!H77)","v":""},{"$f":"IF(Blad1!I77=\"\",\"\",Blad1!I77)","v":""},{"$f":"IF(Blad1!M77=\"\",\"\",Blad1!M77)","v":""},{"$f":"IF(Blad1!F77=\"\",\"\",Blad1!F77)","v":""},{"$f":"IF(Blad1!Q77=\"\",\"\",Blad1!Q77)","v":""}]
[{"$f":"IF(Blad1!D78=\"\",\"\",Blad1!D78)","v":""},{"$f":"IF(Blad1!E78=\"\",\"\",Blad1!E78)","v":""},{"$f":"IF(Blad1!B78=\"\",\"\",Blad1!B78)","v":""},{"$f":"IF(Blad1!H78=\"\",\"\",Blad1!H78)","v":""},{"$f":"IF(Blad1!I78=\"\",\"\",Blad1!I78)","v":""},{"$f":"IF(Blad1!M78=\"\",\"\",Blad1!M78)","v":""},{"$f":"IF(Blad1!F78=\"\",\"\",Blad1!F78)","v":""},{"$f":"IF(Blad1!Q78=\"\",\"\",Blad1!Q78)","v":""}]
[{"$f":"IF(Blad1!D79=\"\",\"\",Blad1!D79)","v":""},{"$f":"IF(Blad1!E79=\"\",\"\",Blad1!E79)","v":""},{"$f":"IF(Blad1!B79=\"\",\"\",Blad1!B79)","v":""},{"$f":"IF(Blad1!H79=\"\",\"\",Blad1!H79)","v":""},{"$f":"IF(Blad1!I79=\"\",\"\",Blad1!I79)","v":""},{"$f":"IF(Blad1!M79=\"\",\"\",Blad1!M79)","v":""},{"$f":"IF(Blad1!F79=\"\",\"\",Blad1!F79)","v":""},{"$f":"IF(Blad1!Q79=\"\",\"\",Blad1!Q79)","v":""}]
[{"$f":"IF(Blad1!D80=\"\",\"\",Blad1!D80)","v":""},{"$f":"IF(Blad1!E80=\"\",\"\",Blad1!E80)","v":""},{"$f":"IF(Blad1!B80=\"\",\"\",Blad1!B80)","v":""},{"$f":"IF(Blad1!H80=\"\",\"\",Blad1!H80)","v":""},{"$f":"IF(Blad1!I80=\"\",\"\",Blad1!I80)","v":""},{"$f":"IF(Blad1!M80=\"\",\"\",Blad1!M80)","v":""},{"$f":"IF(Blad1!F80=\"\",\"\",Blad1!F80)","v":""},{"$f":"IF(Blad1!Q80=\"\",\"\",Blad1!Q80)","v":""}]
[{"$f":"IF(Blad1!D81=\"\",\"\",Blad1!D81)","v":""},{"$f":"IF(Blad1!E81=\"\",\"\",Blad1!E81)","v":""},{"$f":"IF(Blad1!B81=\"\",\"\",Blad1!B81)","v":""},{"$f":"IF(Blad1!H81=\"\",\"\",Blad1!H81)","v":""},{"$f":"IF(Blad1!I81=\"\",\"\",Blad1!I81)","v":""},{"$f":"IF(Blad1!M81=\"\",\"\",Blad1!M81)","v":""},{"$f":"IF(Blad1!F81=\"\",\"\",Blad1!F81)","v":""},{"$f":"IF(Blad1!Q81=\"\",\"\",Blad1!Q81)","v":""}]
[{"$f":"IF(Blad1!D82=\"\",\"\",Blad1!D82)","v":""},{"$f":"IF(Blad1!E82=\"\",\"\",Blad1!E82)","v":""},{"$f":"IF(Blad1!B82=\"\",\"\",Blad1!B82)","v":""},{"$f":"IF(Blad1!H82=\"\",\"\",Blad1!H82)","v":""},{"$f":"IF(Blad1!I82=\"\",\"\",Blad1!I82)","v":""},{"$f":"IF(Blad1!M82=\"\",\"\",Blad1!M82)","v":""},{"$f":"IF(Blad1!F82=\"\",\"\",Blad1!F82)","v":""},{"$f":"IF(Blad1!Q82=\"\",\"\",Blad1!Q82)","v":""}]
[{"$f":"IF(Blad1!D83=\"\",\"\",Blad1!D83)","v":""},{"$f":"IF(Blad1!E83=\"\",\"\",Blad1!E83)","v":""},{"$f":"IF(Blad1!B83=\"\",\"\",Blad1!B83)","v":""},{"$f":"IF(Blad1!H83=\"\",\"\",Blad1!H83)","v":""},{"$f":"IF(Blad1!I83=\"\",\"\",Blad1!I83)","v":""},{"$f":"IF(Blad1!M83=\"\",\"\",Blad1!M83)","v":""},{"$f":"IF(Blad1!F83=\"\",\"\",Blad1!F83)","v":""},{"$f":"IF(Blad1!Q83=\"\",\"\",Blad1!Q83)","v":""}]
[{"$f":"IF(Blad1!D84=\"\",\"\",Blad1!D84)","v":""},{"$f":"IF(Blad1!E84=\"\",\"\",Blad1!E84)","v":""},{"$f":"IF(Blad1!B84=\"\",\"\",Blad1!B84)","v":""},{"$f":"IF(Blad1!H84=\"\",\"\",Blad1!H84)","v":""},{"$f":"IF(Blad1!I84=\"\",\"\",Blad1!I84)","v":""},{"$f":"IF(Blad1!M84=\"\",\"\",Blad1!M84)","v":""},{"$f":"IF(Blad1!F84=\"\",\"\",Blad1!F84)","v":""},{"$f":"IF(Blad1!Q84=\"\",\"\",Blad1!Q84)","v":""}]
[{"$f":"IF(Blad1!D85=\"\",\"\",Blad1!D85)","v":""},{"$f":"IF(Blad1!E85=\"\",\"\",Blad1!E85)","v":""},{"$f":"IF(Blad1!B85=\"\",\"\",Blad1!B85)","v":""},{"$f":"IF(Blad1!H85=\"\",\"\",Blad1!H85)","v":""},{"$f":"IF(Blad1!I85=\"\",\"\",Blad1!I85)","v":""},{"$f":"IF(Blad1!M85=\"\",\"\",Blad1!M85)","v":""},{"$f":"IF(Blad1!F85=\"\",\"\",Blad1!F85)","v":""},{"$f":"IF(Blad1!Q85=\"\",\"\",Blad1!Q85)","v":""}]
[{"$f":"IF(Blad1!D86=\"\",\"\",Blad1!D86)","v":""},{"$f":"IF(Blad1!E86=\"\",\"\",Blad1!E86)","v":""},{"$f":"IF(Blad1!B86=\"\",\"\",Blad1!B86)","v":""},{"$f":"IF(Blad1!H86=\"\",\"\",Blad1!H86)","v":""},{"$f":"IF(Blad1!I86=\"\",\"\",Blad1!I86)","v":""},{"$f":"IF(Blad1!M86=\"\",\"\",Blad1!M86)","v":""},{"$f":"IF(Blad1!F86=\"\",\"\",Blad1!F86)","v":""},{"$f":"IF(Blad1!Q86=\"\",\"\",Blad1!Q86)","v":""}]
[{"$f":"IF(Blad1!D87=\"\",\"\",Blad1!D87)","v":""},{"$f":"IF(Blad1!E87=\"\",\"\",Blad1!E87)","v":""},{"$f":"IF(Blad1!B87=\"\",\"\",Blad1!B87)","v":""},{"$f":"IF(Blad1!H87=\"\",\"\",Blad1!H87)","v":""},{"$f":"IF(Blad1!I87=\"\",\"\",Blad1!I87)","v":""},{"$f":"IF(Blad1!M87=\"\",\"\",Blad1!M87)","v":""},{"$f":"IF(Blad1!F87=\"\",\"\",Blad1!F87)","v":""},{"$f":"IF(Blad1!Q87=\"\",\"\",Blad1!Q87)","v":""}]
[{"$f":"IF(Blad1!D88=\"\",\"\",Blad1!D88)","v":""},{"$f":"IF(Blad1!E88=\"\",\"\",Blad1!E88)","v":""},{"$f":"IF(Blad1!B88=\"\",\"\",Blad1!B88)","v":""},{"$f":"IF(Blad1!H88=\"\",\"\",Blad1!H88)","v":""},{"$f":"IF(Blad1!I88=\"\",\"\",Blad1!I88)","v":""},{"$f":"IF(Blad1!M88=\"\",\"\",Blad1!M88)","v":""},{"$f":"IF(Blad1!F88=\"\",\"\",Blad1!F88)","v":""},{"$f":"IF(Blad1!Q88=\"\",\"\",Blad1!Q88)","v":""}]
[{"$f":"IF(Blad1!D89=\"\",\"\",Blad1!D89)","v":""},{"$f":"IF(Blad1!E89=\"\",\"\",Blad1!E89)","v":""},{"$f":"IF(Blad1!B89=\"\",\"\",Blad1!B89)","v":""},{"$f":"IF(Blad1!H89=\"\",\"\",Blad1!H89)","v":""},{"$f":"IF(Blad1!I89=\"\",\"\",Blad1!I89)","v":""},{"$f":"IF(Blad1!M89=\"\",\"\",Blad1!M89)","v":""},{"$f":"IF(Blad1!F89=\"\",\"\",Blad1!F89)","v":""},{"$f":"IF(Blad1!Q89=\"\",\"\",Blad1!Q89)","v":""}]
[{"$f":"IF(Blad1!D90=\"\",\"\",Blad1!D90)","v":""},{"$f":"IF(Blad1!E90=\"\",\"\",Blad1!E90)","v":""},{"$f":"IF(Blad1!B90=\"\",\"\",Blad1!B90)","v":""},{"$f":"IF(Blad1!H90=\"\",\"\",Blad1!H90)","v":""},{"$f":"IF(Blad1!I90=\"\",\"\",Blad1!I90)","v":""},{"$f":"IF(Blad1!M90=\"\",\"\",Blad1!M90)","v":""},{"$f":"IF(Blad1!F90=\"\",\"\",Blad1!F90)","v":""},{"$f":"IF(Blad1!Q90=\"\",\"\",Blad1!Q90)","v":""}]
[{"$f":"IF(Blad1!D91=\"\",\"\",Blad1!D91)","v":""},{"$f":"IF(Blad1!E91=\"\",\"\",Blad1!E91)","v":""},{"$f":"IF(Blad1!B91=\"\",\"\",Blad1!B91)","v":""},{"$f":"IF(Blad1!H91=\"\",\"\",Blad1!H91)","v":""},{"$f":"IF(Blad1!I91=\"\",\"\",Blad1!I91)","v":""},{"$f":"IF(Blad1!M91=\"\",\"\",Blad1!M91)","v":""},{"$f":"IF(Blad1!F91=\"\",\"\",Blad1!F91)","v":""},{"$f":"IF(Blad1!Q91=\"\",\"\",Blad1!Q91)","v":""}]
[{"$f":"IF(Blad1!D92=\"\",\"\",Blad1!D92)","v":""},{"$f":"IF(Blad1!E92=\"\",\"\",Blad1!E92)","v":""},{"$f":"IF(Blad1!B92=\"\",\"\",Blad1!B92)","v":""},{"$f":"IF(Blad1!H92=\"\",\"\",Blad1!H92)","v":""},{"$f":"IF(Blad1!I92=\"\",\"\",Blad1!I92)","v":""},{"$f":"IF(Blad1!M92=\"\",\"\",Blad1!M92)","v":""},{"$f":"IF(Blad1!F92=\"\",\"\",Blad1!F92)","v":""},{"$f":"IF(Blad1!Q92=\"\",\"\",Blad1!Q92)","v":""}]
[{"$f":"IF(Blad1!D93=\"\",\"\",Blad1!D93)","v":""},{"$f":"IF(Blad1!E93=\"\",\"\",Blad1!E93)","v":""},{"$f":"IF(Blad1!B93=\"\",\"\",Blad1!B93)","v":""},{"$f":"IF(Blad1!H93=\"\",\"\",Blad1!H93)","v":""},{"$f":"IF(Blad1!I93=\"\",\"\",Blad1!I93)","v":""},{"$f":"IF(Blad1!M93=\"\",\"\",Blad1!M93)","v":""},{"$f":"IF(Blad1!F93=\"\",\"\",Blad1!F93)","v":""},{"$f":"IF(Blad1!Q93=\"\",\"\",Blad1!Q93)","v":""}]
[{"$f":"IF(Blad1!D94=\"\",\"\",Blad1!D94)","v":""},{"$f":"IF(Blad1!E94=\"\",\"\",Blad1!E94)","v":""},{"$f":"IF(Blad1!B94=\"\",\"\",Blad1!B94)","v":""},{"$f":"IF(Blad1!H94=\"\",\"\",Blad1!H94)","v":""},{"$f":"IF(Blad1!I94=\"\",\"\",Blad1!I94)","v":""},{"$f":"IF(Blad1!M94=\"\",\"\",Blad1!M94)","v":""},{"$f":"IF(Blad1!F94=\"\",\"\",Blad1!F94)","v":""},{"$f":"IF(Blad1!Q94=\"\",\"\",Blad1!Q94)","v":""}]
[{"$f":"IF(Blad1!D95=\"\",\"\",Blad1!D95)","v":""},{"$f":"IF(Blad1!E95=\"\",\"\",Blad1!E95)","v":""},{"$f":"IF(Blad1!B95=\"\",\"\",Blad1!B95)","v":""},{"$f":"IF(Blad1!H95=\"\",\"\",Blad1!H95)","v":""},{"$f":"IF(Blad1!I95=\"\",\"\",Blad1!I95)","v":""},{"$f":"IF(Blad1!M95=\"\",\"\",Blad1!M95)","v":""},{"$f":"IF(Blad1!F95=\"\",\"\",Blad1!F95)","v":""},{"$f":"IF(Blad1!Q95=\"\",\"\",Blad1!Q95)","v":""}]
[{"$f":"IF(Blad1!D96=\"\",\"\",Blad1!D96)","v":""},{"$f":"IF(Blad1!E96=\"\",\"\",Blad1!E96)","v":""},{"$f":"IF(Blad1!B96=\"\",\"\",Blad1!B96)","v":""},{"$f":"IF(Blad1!H96=\"\",\"\",Blad1!H96)","v":""},{"$f":"IF(Blad1!I96=\"\",\"\",Blad1!I96)","v":""},{"$f":"IF(Blad1!M96=\"\",\"\",Blad1!M96)","v":""},{"$f":"IF(Blad1!F96=\"\",\"\",Blad1!F96)","v":""},{"$f":"IF(Blad1!Q96=\"\",\"\",Blad1!Q96)","v":""}]
[{"$f":"IF(Blad1!D97=\"\",\"\",Blad1!D97)","v":""},{"$f":"IF(Blad1!E97=\"\",\"\",Blad1!E97)","v":""},{"$f":"IF(Blad1!B97=\"\",\"\",Blad1!B97)","v":""},{"$f":"IF(Blad1!H97=\"\",\"\",Blad1!H97)","v":""},{"$f":"IF(Blad1!I97=\"\",\"\",Blad1!I97)","v":""},{"$f":"IF(Blad1!M97=\"\",\"\",Blad1!M97)","v":""},{"$f":"IF(Blad1!F97=\"\",\"\",Blad1!F97)","v":""},{"$f":"IF(Blad1!Q97=\"\",\"\",Blad1!Q97)","v":""}]
[{"$f":"IF(Blad1!D98=\"\",\"\",Blad1!D98)","v":""},{"$f":"IF(Blad1!E98=\"\",\"\",Blad1!E98)","v":""},{"$f":"IF(Blad1!B98=\"\",\"\",Blad1!B98)","v":""},{"$f":"IF(Blad1!H98=\"\",\"\",Blad1!H98)","v":""},{"$f":"IF(Blad1!I98=\"\",\"\",Blad1!I98)","v":""},{"$f":"IF(Blad1!M98=\"\",\"\",Blad1!M98)","v":""},{"$f":"IF(Blad1!F98=\"\",\"\",Blad1!F98)","v":""},{"$f":"IF(Blad1!Q98=\"\",\"\",Blad1!Q98)","v":""}]
[{"$f":"IF(Blad1!D99=\"\",\"\",Blad1!D99)","v":""},{"$f":"IF(Blad1!E99=\"\",\"\",Blad1!E99)","v":""},{"$f":"IF(Blad1!B99=\"\",\"\",Blad1!B99)","v":""},{"$f":"IF(Blad1!H99=\"\",\"\",Blad1!H99)","v":""},{"$f":"IF(Blad1!I99=\"\",\"\",Blad1!I99)","v":""},{"$f":"IF(Blad1!M99=\"\",\"\",Blad1!M99)","v":""},{"$f":"IF(Blad1!F99=\"\",\"\",Blad1!F99)","v":""},{"$f":"IF(Blad1!Q99=\"\",\"\",Blad1!Q99)","v":""}]
[{"$f":"IF(Blad1!D100=\"\",\"\",Blad1!D100)","v":""},{"$f":"IF(Blad1!E100=\"\",\"\",Blad1!E100)","v":""},{"$f":"IF(Blad1!B100=\"\",\"\",Blad1!B100)","v":""},{"$f":"IF(Blad1!H100=\"\",\"\",Blad1!H100)","v":""},{"$f":"IF(Blad1!I100=\"\",\"\",Blad1!I100)","v":""},{"$f":"IF(Blad1!M100=\"\",\"\",Blad1!M100)","v":""},{"$f":"IF(Blad1!F100=\"\",\"\",Blad1!F100)","v":""},{"$f":"IF(Blad1!Q100=\"\",\"\",Blad1!Q100)","v":""}]
[{"$f":"IF(Blad1!D101=\"\",\"\",Blad1!D101)","v":""},{"$f":"IF(Blad1!E101=\"\",\"\",Blad1!E101)","v":""},{"$f":"IF(Blad1!B101=\"\",\"\",Blad1!B101)","v":""},{"$f":"IF(Blad1!H101=\"\",\"\",Blad1!H101)","v":""},{"$f":"IF(Blad1!I101=\"\",\"\",Blad1!I101)","v":""},{"$f":"IF(Blad1!M101=\"\",\"\",Blad1!M101)","v":""},{"$f":"IF(Blad1!F101=\"\",\"\",Blad1!F101)","v":""},{"$f":"IF(Blad1!Q101=\"\",\"\",Blad1!Q101)","v":""}]
[{"$f":"IF(Blad1!D102=\"\",\"\",Blad1!D102)","v":""},{"$f":"IF(Blad1!E102=\"\",\"\",Blad1!E102)","v":""},{"$f":"IF(Blad1!B102=\"\",\"\",Blad1!B102)","v":""},{"$f":"IF(Blad1!H102=\"\",\"\",Blad1!H102)","v":""},{"$f":"IF(Blad1!I102=\"\",\"\",Blad1!I102)","v":""},{"$f":"IF(Blad1!M102=\"\",\"\",Blad1!M102)","v":""},{"$f":"IF(Blad1!F102=\"\",\"\",Blad1!F102)","v":""},{"$f":"IF(Blad1!Q102=\"\",\"\",Blad1!Q102)","v":""}]
[{"$f":"IF(Blad1!D103=\"\",\"\",Blad1!D103)","v":""},{"$f":"IF(Blad1!E103=\"\",\"\",Blad1!E103)","v":""},{"$f":"IF(Blad1!B103=\"\",\"\",Blad1!B103)","v":""},{"$f":"IF(Blad1!H103=\"\",\"\",Blad1!H103)","v":""},{"$f":"IF(Blad1!I103=\"\",\"\",Blad1!I103)","v":""},{"$f":"IF(Blad1!M103=\"\",\"\",Blad1!M103)","v":""},{"$f":"IF(Blad1!F103=\"\",\"\",Blad1!F103)","v":""},{"$f":"IF(Blad1!Q103=\"\",\"\",Blad1!Q103)","v":""}]
[{"$f":"IF(Blad1!D104=\"\",\"\",Blad1!D104)","v":""},{"$f":"IF(Blad1!E104=\"\",\"\",Blad1!E104)","v":""},{"$f":"IF(Blad1!B104=\"\",\"\",Blad1!B104)","v":""},{"$f":"IF(Blad1!H104=\"\",\"\",Blad1!H104)","v":""},{"$f":"IF(Blad1!I104=\"\",\"\",Blad1!I104)","v":""},{"$f":"IF(Blad1!M104=\"\",\"\",Blad1!M104)","v":""},{"$f":"IF(Blad1!F104=\"\",\"\",Blad1!F104)","v":""},{"$f":"IF(Blad1!Q104=\"\",\"\",Blad1!Q104)","v":""}]
[{"$f":"IF(Blad1!D105=\"\",\"\",Blad1!D105)","v":""},{"$f":"IF(Blad1!E105=\"\",\"\",Blad1!E105)","v":""},{"$f":"IF(Blad1!B105=\"\",\"\",Blad1!B105)","v":""},{"$f":"IF(Blad1!H105=\"\",\"\",Blad1!H105)","v":""},{"$f":"IF(Blad1!I105=\"\",\"\",Blad1!I105)","v":""},{"$f":"IF(Blad1!M105=\"\",\"\",Blad1!M105)","v":""},{"$f":"IF(Blad1!F105=\"\",\"\",Blad1!F105)","v":""},{"$f":"IF(Blad1!Q105=\"\",\"\",Blad1!Q105)","v":""}]
[{"$f":"IF(Blad1!D106=\"\",\"\",Blad1!D106)","v":""},{"$f":"IF(Blad1!E106=\"\",\"\",Blad1!E106)","v":""},{"$f":"IF(Blad1!B106=\"\",\"\",Blad1!B106)","v":""},{"$f":"IF(Blad1!H106=\"\",\"\",Blad1!H106)","v":""},{"$f":"IF(Blad1!I106=\"\",\"\",Blad1!I106)","v":""},{"$f":"IF(Blad1!M106=\"\",\"\",Blad1!M106)","v":""},{"$f":"IF(Blad1!F106=\"\",\"\",Blad1!F106)","v":""},{"$f":"IF(Blad1!Q106=\"\",\"\",Blad1!Q106)","v":""}]
[{"$f":"IF(Blad1!D107=\"\",\"\",Blad1!D107)","v":""},{"$f":"IF(Blad1!E107=\"\",\"\",Blad1!E107)","v":""},{"$f":"IF(Blad1!B107=\"\",\"\",Blad1!B107)","v":""},{"$f":"IF(Blad1!H107=\"\",\"\",Blad1!H107)","v":""},{"$f":"IF(Blad1!I107=\"\",\"\",Blad1!I107)","v":""},{"$f":"IF(Blad1!M107=\"\",\"\",Blad1!M107)","v":""},{"$f":"IF(Blad1!F107=\"\",\"\",Blad1!F107)","v":""},{"$f":"IF(Blad1!Q107=\"\",\"\",Blad1!Q107)","v":""}]
[{"$f":"IF(Blad1!D108=\"\",\"\",Blad1!D108)","v":""},{"$f":"IF(Blad1!E108=\"\",\"\",Blad1!E108)","v":""},{"$f":"IF(Blad1!B108=\"\",\"\",Blad1!B108)","v":""},{"$f":"IF(Blad1!H108=\"\",\"\",Blad1!H108)","v":""},{"$f":"IF(Blad1!I108=\"\",\"\",Blad1!I108)","v":""},{"$f":"IF(Blad1!M108=\"\",\"\",Blad1!M108)","v":""},{"$f":"IF(Blad1!F108=\"\",\"\",Blad1!F108)","v":""},{"$f":"IF(Blad1!Q108=\"\",\"\",Blad1!Q108)","v":""}]
[{"$f":"IF(Blad1!D109=\"\",\"\",Blad1!D109)","v":""},{"$f":"IF(Blad1!E109=\"\",\"\",Blad1!E109)","v":""},{"$f":"IF(Blad1!B109=\"\",\"\",Blad1!B109)","v":""},{"$f":"IF(Blad1!H109=\"\",\"\",Blad1!H109)","v":""},{"$f":"IF(Blad1!I109=\"\",\"\",Blad1!I109)","v":""},{"$f":"IF(Blad1!M109=\"\",\"\",Blad1!M109)","v":""},{"$f":"IF(Blad1!F109=\"\",\"\",Blad1!F109)","v":""},{"$f":"IF(Blad1!Q109=\"\",\"\",Blad1!Q109)","v":""}]
[{"$f":"IF(Blad1!D110=\"\",\"\",Blad1!D110)","v":""},{"$f":"IF(Blad1!E110=\"\",\"\",Blad1!E110)","v":""},{"$f":"IF(Blad1!B110=\"\",\"\",Blad1!B110)","v":""},{"$f":"IF(Blad1!H110=\"\",\"\",Blad1!H110)","v":""},{"$f":"IF(Blad1!I110=\"\",\"\",Blad1!I110)","v":""},{"$f":"IF(Blad1!M110=\"\",\"\",Blad1!M110)","v":""},{"$f":"IF(Blad1!F110=\"\",\"\",Blad1!F110)","v":""},{"$f":"IF(Blad1!Q110=\"\",\"\",Blad1!Q110)","v":""}]
[{"$f":"IF(Blad1!D111=\"\",\"\",Blad1!D111)","v":""},{"$f":"IF(Blad1!E111=\"\",\"\",Blad1!E111)","v":""},{"$f":"IF(Blad1!B111=\"\",\"\",Blad1!B111)","v":""},{"$f":"IF(Blad1!H111=\"\",\"\",Blad1!H111)","v":""},{"$f":"IF(Blad1!I111=\"\",\"\",Blad1!I111)","v":""},{"$f":"IF(Blad1!M111=\"\",\"\",Blad1!M111)","v":""},{"$f":"IF(Blad1!F111=\"\",\"\",Blad1!F111)","v":""},{"$f":"IF(Blad1!Q111=\"\",\"\",Blad1!Q111)","v":""}]
[{"$f":"IF(Blad1!D112=\"\",\"\",Blad1!D112)","v":""},{"$f":"IF(Blad1!E112=\"\",\"\",Blad1!E112)","v":""},{"$f":"IF(Blad1!B112=\"\",\"\",Blad1!B112)","v":""},{"$f":"IF(Blad1!H112=\"\",\"\",Blad1!H112)","v":""},{"$f":"IF(Blad1!I112=\"\",\"\",Blad1!I112)","v":""},{"$f":"IF(Blad1!M112=\"\",\"\",Blad1!M112)","v":""},{"$f":"IF(Blad1!F112=\"\",\"\",Blad1!F112)","v":""},{"$f":"IF(Blad1!Q112=\"\",\"\",Blad1!Q112)","v":""}]
[{"$f":"IF(Blad1!D113=\"\",\"\",Blad1!D113)","v":""},{"$f":"IF(Blad1!E113=\"\",\"\",Blad1!E113)","v":""},{"$f":"IF(Blad1!B113=\"\",\"\",Blad1!B113)","v":""},{"$f":"IF(Blad1!H113=\"\",\"\",Blad1!H113)","v":""},{"$f":"IF(Blad1!I113=\"\",\"\",Blad1!I113)","v":""},{"$f":"IF(Blad1!M113=\"\",\"\",Blad1!M113)","v":""},{"$f":"IF(Blad1!F113=\"\",\"\",Blad1!F113)","v":""},{"$f":"IF(Blad1!Q113=\"\",\"\",Blad1!Q113)","v":""}]
[{"$f":"IF(Blad1!D114=\"\",\"\",Blad1!D114)","v":""},{"$f":"IF(Blad1!E114=\"\",\"\",Blad1!E114)","v":""},{"$f":"IF(Blad1!B114=\"\",\"\",Blad1!B114)","v":""},{"$f":"IF(Blad1!H114=\"\",\"\",Blad1!H114)","v":""},{"$f":"IF(Blad1!I114=\"\",\"\",Blad1!I114)","v":""},{"$f":"IF(Blad1!M114=\"\",\"\",Blad1!M114)","v":""},{"$f":"IF(Blad1!F114=\"\",\"\",Blad1!F114)","v":""},{"$f":"IF(Blad1!Q114=\"\",\"\",Blad1!Q114)","v":""}]
[{"$f":"IF(Blad1!D115=\"\",\"\",Blad1!D115)","v":""},{"$f":"IF(Blad1!E115=\"\",\"\",Blad1!E115)","v":""},{"$f":"IF(Blad1!B115=\"\",\"\",Blad1!B115)","v":""},{"$f":"IF(Blad1!H115=\"\",\"\",Blad1!H115)","v":""},{"$f":"IF(Blad1!I115=\"\",\"\",Blad1!I115)","v":""},{"$f":"IF(Blad1!M115=\"\",\"\",Blad1!M115)","v":""},{"$f":"IF(Blad1!F115=\"\",\"\",Blad1!F115)","v":""},{"$f":"IF(Blad1!Q115=\"\",\"\",Blad1!Q115)","v":""}]
[{"$f":"IF(Blad1!D116=\"\",\"\",Blad1!D116)","v":""},{"$f":"IF(Blad1!E116=\"\",\"\",Blad1!E116)","v":""},{"$f":"IF(Blad1!B116=\"\",\"\",Blad1!B116)","v":""},{"$f":"IF(Blad1!H116=\"\",\"\",Blad1!H116)","v":""},{"$f":"IF(Blad1!I116=\"\",\"\",Blad1!I116)","v":""},{"$f":"IF(Blad1!M116=\"\",\"\",Blad1!M116)","v":""},{"$f":"IF(Blad1!F116=\"\",\"\",Blad1!F116)","v":""},{"$f":"IF(Blad1!Q116=\"\",\"\",Blad1!Q116)","v":""}]
[{"$f":"IF(Blad1!D117=\"\",\"\",Blad1!D117)","v":""},{"$f":"IF(Blad1!E117=\"\",\"\",Blad1!E117)","v":""},{"$f":"IF(Blad1!B117=\"\",\"\",Blad1!B117)","v":""},{"$f":"IF(Blad1!H117=\"\",\"\",Blad1!H117)","v":""},{"$f":"IF(Blad1!I117=\"\",\"\",Blad1!I117)","v":""},{"$f":"IF(Blad1!M117=\"\",\"\",Blad1!M117)","v":""},{"$f":"IF(Blad1!F117=\"\",\"\",Blad1!F117)","v":""},{"$f":"IF(Blad1!Q117=\"\",\"\",Blad1!Q117)","v":""}]
[{"$f":"IF(Blad1!D118=\"\",\"\",Blad1!D118)","v":""},{"$f":"IF(Blad1!E118=\"\",\"\",Blad1!E118)","v":""},{"$f":"IF(Blad1!B118=\"\",\"\",Blad1!B118)","v":""},{"$f":"IF(Blad1!H118=\"\",\"\",Blad1!H118)","v":""},{"$f":"IF(Blad1!I118=\"\",\"\",Blad1!I118)","v":""},{"$f":"IF(Blad1!M118=\"\",\"\",Blad1!M118)","v":""},{"$f":"IF(Blad1!F118=\"\",\"\",Blad1!F118)","v":""},{"$f":"IF(Blad1!Q118=\"\",\"\",Blad1!Q118)","v":""}]
[{"$f":"IF(Blad1!D119=\"\",\"\",Blad1!D119)","v":""},{"$f":"IF(Blad1!E119=\"\",\"\",Blad1!E119)","v":""},{"$f":"IF(Blad1!B119=\"\",\"\",Blad1!B119)","v":""},{"$f":"IF(Blad1!H119=\"\",\"\",Blad1!H119)","v":""},{"$f":"IF(Blad1!I119=\"\",\"\",Blad1!I119)","v":""},{"$f":"IF(Blad1!M119=\"\",\"\",Blad1!M119)","v":""},{"$f":"IF(Blad1!F119=\"\",\"\",Blad1!F119)","v":""},{"$f":"IF(Blad1!Q119=\"\",\"\",Blad1!Q119)","v":""}]
[{"$f":"IF(Blad1!D120=\"\",\"\",Blad1!D120)","v":""},{"$f":"IF(Blad1!E120=\"\",\"\",Blad1!E120)","v":""},{"$f":"IF(Blad1!B120=\"\",\"\",Blad1!B120)","v":""},{"$f":"IF(Blad1!H120=\"\",\"\",Blad1!H120)","v":""},{"$f":"IF(Blad1!I120=\"\",\"\",Blad1!I120)","v":""},{"$f":"IF(Blad1!M120=\"\",\"\",Blad1!M120)","v":""},{"$f":"IF(Blad1!F120=\"\",\"\",Blad1!F120)","v":""},{"$f":"IF(Blad1!Q120=\"\",\"\",Blad1!Q120)","v":""}]
[{"$f":"IF(Blad1!D121=\"\",\"\",Blad1!D121)","v":""},{"$f":"IF(Blad1!E121=\"\",\"\",Blad1!E121)","v":""},{"$f":"IF(Blad1!B121=\"\",\"\",Blad1!B121)","v":""},{"$f":"IF(Blad1!H121=\"\",\"\",Blad1!H121)","v":""},{"$f":"IF(Blad1!I121=\"\",\"\",Blad1!I121)","v":""},{"$f":"IF(Blad1!M121=\"\",\"\",Blad1!M121)","v":""},{"$f":"IF(Blad1!F121=\"\",\"\",Blad1!F121)","v":""},{"$f":"IF(Blad1!Q121=\"\",\"\",Blad1!Q121)","v":""}]
[{"$f":"IF(Blad1!D122=\"\",\"\",Blad1!D122)","v":""},{"$f":"IF(Blad1!E122=\"\",\"\",Blad1!E122)","v":""},{"$f":"IF(Blad1!B122=\"\",\"\",Blad1!B122)","v":""},{"$f":"IF(Blad1!H122=\"\",\"\",Blad1!H122)","v":""},{"$f":"IF(Blad1!I122=\"\",\"\",Blad1!I122)","v":""},{"$f":"IF(Blad1!M122=\"\",\"\",Blad1!M122)","v":""},{"$f":"IF(Blad1!F122=\"\",\"\",Blad1!F122)","v":""},{"$f":"IF(Blad1!Q122=\"\",\"\",Blad1!Q122)","v":""}]
[{"$f":"IF(Blad1!D123=\"\",\"\",Blad1!D123)","v":""},{"$f":"IF(Blad1!E123=\"\",\"\",Blad1!E123)","v":""},{"$f":"IF(Blad1!B123=\"\",\"\",Blad1!B123)","v":""},{"$f":"IF(Blad1!H123=\"\",\"\",Blad1!H123)","v":""},{"$f":"IF(Blad1!I123=\"\",\"\",Blad1!I123)","v":""},{"$f":"IF(Blad1!M123=\"\",\"\",Blad1!M123)","v":""},{"$f":"IF(Blad1!F123=\"\",\"\",Blad1!F123)","v":""},{"$f":"IF(Blad1!Q123=\"\",\"\",Blad1!Q123)","v":""}]
[{"$f":"IF(Blad1!D124=\"\",\"\",Blad1!D124)","v":""},{"$f":"IF(Blad1!E124=\"\",\"\",Blad1!E124)","v":""},{"$f":"IF(Blad1!B124=\"\",\"\",Blad1!B124)","v":""},{"$f":"IF(Blad1!H124=\"\",\"\",Blad1!H124)","v":""},{"$f":"IF(Blad1!I124=\"\",\"\",Blad1!I124)","v":""},{"$f":"IF(Blad1!M124=\"\",\"\",Blad1!M124)","v":""},{"$f":"IF(Blad1!F124=\"\",\"\",Blad1!F124)","v":""},{"$f":"IF(Blad1!Q124=\"\",\"\",Blad1!Q124)","v":""}]
[{"$f":"IF(Blad1!D125=\"\",\"\",Blad1!D125)","v":""},{"$f":"IF(Blad1!E125=\"\",\"\",Blad1!E125)","v":""},{"$f":"IF(Blad1!B125=\"\",\"\",Blad1!B125)","v":""},{"$f":"IF(Blad1!H125=\"\",\"\",Blad1!H125)","v":""},{"$f":"IF(Blad1!I125=\"\",\"\",Blad1!I125)","v":""},{"$f":"IF(Blad1!M125=\"\",\"\",Blad1!M125)","v":""},{"$f":"IF(Blad1!F125=\"\",\"\",Blad1!F125)","v":""},{"$f":"IF(Blad1!Q125=\"\",\"\",Blad1!Q125)","v":""}]
[{"$f":"IF(Blad1!D126=\"\",\"\",Blad1!D126)","v":""},{"$f":"IF(Blad1!E126=\"\",\"\",Blad1!E126)","v":""},{"$f":"IF(Blad1!B126=\"\",\"\",Blad1!B126)","v":""},{"$f":"IF(Blad1!H126=\"\",\"\",Blad1!H126)","v":""},{"$f":"IF(Blad1!I126=\"\",\"\",Blad1!I126)","v":""},{"$f":"IF(Blad1!M126=\"\",\"\",Blad1!M126)","v":""},{"$f":"IF(Blad1!F126=\"\",\"\",Blad1!F126)","v":""},{"$f":"IF(Blad1!Q126=\"\",\"\",Blad1!Q126)","v":""}]
[{"$f":"IF(Blad1!D127=\"\",\"\",Blad1!D127)","v":""},{"$f":"IF(Blad1!E127=\"\",\"\",Blad1!E127)","v":""},{"$f":"IF(Blad1!B127=\"\",\"\",Blad1!B127)","v":""},{"$f":"IF(Blad1!H127=\"\",\"\",Blad1!H127)","v":""},{"$f":"IF(Blad1!I127=\"\",\"\",Blad1!I127)","v":""},{"$f":"IF(Blad1!M127=\"\",\"\",Blad1!M127)","v":""},{"$f":"IF(Blad1!F127=\"\",\"\",Blad1!F127)","v":""},{"$f":"IF(Blad1!Q127=\"\",\"\",Blad1!Q127)","v":""}]
[{"$f":"IF(Blad1!D128=\"\",\"\",Blad1!D128)","v":""},{"$f":"IF(Blad1!E128=\"\",\"\",Blad1!E128)","v":""},{"$f":"IF(Blad1!B128=\"\",\"\",Blad1!B128)","v":""},{"$f":"IF(Blad1!H128=\"\",\"\",Blad1!H128)","v":""},{"$f":"IF(Blad1!I128=\"\",\"\",Blad1!I128)","v":""},{"$f":"IF(Blad1!M128=\"\",\"\",Blad1!M128)","v":""},{"$f":"IF(Blad1!F128=\"\",\"\",Blad1!F128)","v":""},{"$f":"IF(Blad1!Q128=\"\",\"\",Blad1!Q128)","v":""}]
[{"$f":"IF(Blad1!D129=\"\",\"\",Blad1!D129)","v":""},{"$f":"IF(Blad1!E129=\"\",\"\",Blad1!E129)","v":""},{"$f":"IF(Blad1!B129=\"\",\"\",Blad1!B129)","v":""},{"$f":"IF(Blad1!H129=\"\",\"\",Blad1!H129)","v":""},{"$f":"IF(Blad1!I129=\"\",\"\",Blad1!I129)","v":""},{"$f":"IF(Blad1!M129=\"\",\"\",Blad1!M129)","v":""},{"$f":"IF(Blad1!F129=\"\",\"\",Blad1!F129)","v":""},{"$f":"IF(Blad1!Q129=\"\",\"\",Blad1!Q129)","v":""}]
[{"$f":"IF(Blad1!D130=\"\",\"\",Blad1!D130)","v":""},{"$f":"IF(Blad1!E130=\"\",\"\",Blad1!E130)","v":""},{"$f":"IF(Blad1!B130=\"\",\"\",Blad1!B130)","v":""},{"$f":"IF(Blad1!H130=\"\",\"\",Blad1!H130)","v":""},{"$f":"IF(Blad1!I130=\"\",\"\",Blad1!I130)","v":""},{"$f":"IF(Blad1!M130=\"\",\"\",Blad1!M130)","v":""},{"$f":"IF(Blad1!F130=\"\",\"\",Blad1!F130)","v":""},{"$f":"IF(Blad1!Q130=\"\",\"\",Blad1!Q130)","v":""}]
[{"$f":"IF(Blad1!D131=\"\",\"\",Blad1!D131)","v":""},{"$f":"IF(Blad1!E131=\"\",\"\",Blad1!E131)","v":""},{"$f":"IF(Blad1!B131=\"\",\"\",Blad1!B131)","v":""},{"$f":"IF(Blad1!H131=\"\",\"\",Blad1!H131)","v":""},{"$f":"IF(Blad1!I131=\"\",\"\",Blad1!I131)","v":""},{"$f":"IF(Blad1!M131=\"\",\"\",Blad1!M131)","v":""},{"$f":"IF(Blad1!F131=\"\",\"\",Blad1!F131)","v":""},{"$f":"IF(Blad1!Q131=\"\",\"\",Blad1!Q131)","v":""}]
[{"$f":"IF(Blad1!D132=\"\",\"\",Blad1!D132)","v":""},{"$f":"IF(Blad1!E132=\"\",\"\",Blad1!E132)","v":""},{"$f":"IF(Blad1!B132=\"\",\"\",Blad1!B132)","v":""},{"$f":"IF(Blad1!H132=\"\",\"\",Blad1!H132)","v":""},{"$f":"IF(Blad1!I132=\"\",\"\",Blad1!I132)","v":""},{"$f":"IF(Blad1!M132=\"\",\"\",Blad1!M132)","v":""},{"$f":"IF(Blad1!F132=\"\",\"\",Blad1!F132)","v":""},{"$f":"IF(Blad1!Q132=\"\",\"\",Blad1!Q132)","v":""}]
[{"$f":"IF(Blad1!D133=\"\",\"\",Blad1!D133)","v":""},{"$f":"IF(Blad1!E133=\"\",\"\",Blad1!E133)","v":""},{"$f":"IF(Blad1!B133=\"\",\"\",Blad1!B133)","v":""},{"$f":"IF(Blad1!H133=\"\",\"\",Blad1!H133)","v":""},{"$f":"IF(Blad1!I133=\"\",\"\",Blad1!I133)","v":""},{"$f":"IF(Blad1!M133=\"\",\"\",Blad1!M133)","v":""},{"$f":"IF(Blad1!F133=\"\",\"\",Blad1!F133)","v":""},{"$f":"IF(Blad1!Q133=\"\",\"\",Blad1!Q133)","v":""}]
[{"$f":"IF(Blad1!D134=\"\",\"\",Blad1!D134)","v":""},{"$f":"IF(Blad1!E134=\"\",\"\",Blad1!E134)","v":""},{"$f":"IF(Blad1!B134=\"\",\"\",Blad1!B134)","v":""},{"$f":"IF(Blad1!H134=\"\",\"\",Blad1!H134)","v":""},{"$f":"IF(Blad1!I134=\"\",\"\",Blad1!I134)","v":""},{"$f":"IF(Blad1!M134=\"\",\"\",Blad1!M134)","v":""},{"$f":"IF(Blad1!F134=\"\",\"\",Blad1!F134)","v":""},{"$f":"IF(Blad1!Q134=\"\",\"\",Blad1!Q134)","v":""}]
[{"$f":"IF(Blad1!D135=\"\",\"\",Blad1!D135)","v":""},{"$f":"IF(Blad1!E135=\"\",\"\",Blad1!E135)","v":""},{"$f":"IF(Blad1!B135=\"\",\"\",Blad1!B135)","v":""},{"$f":"IF(Blad1!H135=\"\",\"\",Blad1!H135)","v":""},{"$f":"IF(Blad1!I135=\"\",\"\",Blad1!I135)","v":""},{"$f":"IF(Blad1!M135=\"\",\"\",Blad1!M135)","v":""},{"$f":"IF(Blad1!F135=\"\",\"\",Blad1!F135)","v":""},{"$f":"IF(Blad1!Q135=\"\",\"\",Blad1!Q135)","v":""}]
[{"$f":"IF(Blad1!D136=\"\",\"\",Blad1!D136)","v":""},{"$f":"IF(Blad1!E136=\"\",\"\",Blad1!E136)","v":""},{"$f":"IF(Blad1!B136=\"\",\"\",Blad1!B136)","v":""},{"$f":"IF(Blad1!H136=\"\",\"\",Blad1!H136)","v":""},{"$f":"IF(Blad1!I136=\"\",\"\",Blad1!I136)","v":""},{"$f":"IF(Blad1!M136=\"\",\"\",Blad1!M136)","v":""},{"$f":"IF(Blad1!F136=\"\",\"\",Blad1!F136)","v":""},{"$f":"IF(Blad1!Q136=\"\",\"\",Blad1!Q136)","v":""}]
[{"$f":"IF(Blad1!D137=\"\",\"\",Blad1!D137)","v":""},{"$f":"IF(Blad1!E137=\"\",\"\",Blad1!E137)","v":""},{"$f":"IF(Blad1!B137=\"\",\"\",Blad1!B137)","v":""},{"$f":"IF(Blad1!H137=\"\",\"\",Blad1!H137)","v":""},{"$f":"IF(Blad1!I137=\"\",\"\",Blad1!I137)","v":""},{"$f":"IF(Blad1!M137=\"\",\"\",Blad1!M137)","v":""},{"$f":"IF(Blad1!F137=\"\",\"\",Blad1!F137)","v":""},{"$f":"IF(Blad1!Q137=\"\",\"\",Blad1!Q137)","v":""}]
[{"$f":"IF(Blad1!D138=\"\",\"\",Blad1!D138)","v":""},{"$f":"IF(Blad1!E138=\"\",\"\",Blad1!E138)","v":""},{"$f":"IF(Blad1!B138=\"\",\"\",Blad1!B138)","v":""},{"$f":"IF(Blad1!H138=\"\",\"\",Blad1!H138)","v":""},{"$f":"IF(Blad1!I138=\"\",\"\",Blad1!I138)","v":""},{"$f":"IF(Blad1!M138=\"\",\"\",Blad1!M138)","v":""},{"$f":"IF(Blad1!F138=\"\",\"\",Blad1!F138)","v":""},{"$f":"IF(Blad1!Q138=\"\",\"\",Blad1!Q138)","v":""}]
[{"$f":"IF(Blad1!D139=\"\",\"\",Blad1!D139)","v":""},{"$f":"IF(Blad1!E139=\"\",\"\",Blad1!E139)","v":""},{"$f":"IF(Blad1!B139=\"\",\"\",Blad1!B139)","v":""},{"$f":"IF(Blad1!H139=\"\",\"\",Blad1!H139)","v":""},{"$f":"IF(Blad1!I139=\"\",\"\",Blad1!I139)","v":""},{"$f":"IF(Blad1!M139=\"\",\"\",Blad1!M139)","v":""},{"$f":"IF(Blad1!F139=\"\",\"\",Blad1!F139)","v":""},{"$f":"IF(Blad1!Q139=\"\",\"\",Blad1!Q139)","v":""}]
[{"$f":"IF(Blad1!D140=\"\",\"\",Blad1!D140)","v":""},{"$f":"IF(Blad1!E140=\"\",\"\",Blad1!E140)","v":""},{"$f":"IF(Blad1!B140=\"\",\"\",Blad1!B140)","v":""},{"$f":"IF(Blad1!H140=\"\",\"\",Blad1!H140)","v":""},{"$f":"IF(Blad1!I140=\"\",\"\",Blad1!I140)","v":""},{"$f":"IF(Blad1!M140=\"\",\"\",Blad1!M140)","v":""},{"$f":"IF(Blad1!F140=\"\",\"\",Blad1!F140)","v":""},{"$f":"IF(Blad1!Q140=\"\",\"\",Blad1!Q140)","v":""}]
[{"$f":"IF(Blad1!D141=\"\",\"\",Blad1!D141)","v":""},{"$f":"IF(Blad1!E141=\"\",\"\",Blad1!E141)","v":""},{"$f":"IF(Blad1!B141=\"\",\"\",Blad1!B141)","v":""},{"$f":"IF(Blad1!H141=\"\",\"\",Blad1!H141)","v":""},{"$f":"IF(Blad1!I141=\"\",\"\",Blad1!I141)","v":""},{"$f":"IF(Blad1!M141=\"\",\"\",Blad1!M141)","v":""},{"$f":"IF(Blad1!F141=\"\",\"\",Blad1!F141)","v":""},{"$f":"IF(Blad1!Q141=\"\",\"\",Blad1!Q141)","v":""}]
[{"$f":"IF(Blad1!D142=\"\",\"\",Blad1!D142)","v":""},{"$f":"IF(Blad1!E142=\"\",\"\",Blad1!E142)","v":""},{"$f":"IF(Blad1!B142=\"\",\"\",Blad1!B142)","v":""},{"$f":"IF(Blad1!H142=\"\",\"\",Blad1!H142)","v":""},{"$f":"IF(Blad1!I142=\"\",\"\",Blad1!I142)","v":""},{"$f":"IF(Blad1!M142=\"\",\"\",Blad1!M142)","v":""},{"$f":"IF(Blad1!F142=\"\",\"\",Blad1!F142)","v":""},{"$f":"IF(Blad1!Q142=\"\",\"\",Blad1!Q142)","v":""}]
[{"$f":"IF(Blad1!D143=\"\",\"\",Blad1!D143)","v":""},{"$f":"IF(Blad1!E143=\"\",\"\",Blad1!E143)","v":""},{"$f":"IF(Blad1!B143=\"\",\"\",Blad1!B143)","v":""},{"$f":"IF(Blad1!H143=\"\",\"\",Blad1!H143)","v":""},{"$f":"IF(Blad1!I143=\"\",\"\",Blad1!I143)","v":""},{"$f":"IF(Blad1!M143=\"\",\"\",Blad1!M143)","v":""},{"$f":"IF(Blad1!F143=\"\",\"\",Blad1!F143)","v":""},{"$f":"IF(Blad1!Q143=\"\",\"\",Blad1!Q143)","v":""}]
[{"$f":"IF(Blad1!D144=\"\",\"\",Blad1!D144)","v":""},{"$f":"IF(Blad1!E144=\"\",\"\",Blad1!E144)","v":""},{"$f":"IF(Blad1!B144=\"\",\"\",Blad1!B144)","v":""},{"$f":"IF(Blad1!H144=\"\",\"\",Blad1!H144)","v":""},{"$f":"IF(Blad1!I144=\"\",\"\",Blad1!I144)","v":""},{"$f":"IF(Blad1!M144=\"\",\"\",Blad1!M144)","v":""},{"$f":"IF(Blad1!F144=\"\",\"\",Blad1!F144)","v":""},{"$f":"IF(Blad1!Q144=\"\",\"\",Blad1!Q144)","v":""}]
[{"$f":"IF(Blad1!D145=\"\",\"\",Blad1!D145)","v":""},{"$f":"IF(Blad1!E145=\"\",\"\",Blad1!E145)","v":""},{"$f":"IF(Blad1!B145=\"\",\"\",Blad1!B145)","v":""},{"$f":"IF(Blad1!H145=\"\",\"\",Blad1!H145)","v":""},{"$f":"IF(Blad1!I145=\"\",\"\",Blad1!I145)","v":""},{"$f":"IF(Blad1!M145=\"\",\"\",Blad1!M145)","v":""},{"$f":"IF(Blad1!F145=\"\",\"\",Blad1!F145)","v":""},{"$f":"IF(Blad1!Q145=\"\",\"\",Blad1!Q145)","v":""}]
[{"$f":"IF(Blad1!D146=\"\",\"\",Blad1!D146)","v":""},{"$f":"IF(Blad1!E146=\"\",\"\",Blad1!E146)","v":""},{"$f":"IF(Blad1!B146=\"\",\"\",Blad1!B146)","v":""},{"$f":"IF(Blad1!H146=\"\",\"\",Blad1!H146)","v":""},{"$f":"IF(Blad1!I146=\"\",\"\",Blad1!I146)","v":""},{"$f":"IF(Blad1!M146=\"\",\"\",Blad1!M146)","v":""},{"$f":"IF(Blad1!F146=\"\",\"\",Blad1!F146)","v":""},{"$f":"IF(Blad1!Q146=\"\",\"\",Blad1!Q146)","v":""}]
[{"$f":"IF(Blad1!D147=\"\",\"\",Blad1!D147)","v":""},{"$f":"IF(Blad1!E147=\"\",\"\",Blad1!E147)","v":""},{"$f":"IF(Blad1!B147=\"\",\"\",Blad1!B147)","v":""},{"$f":"IF(Blad1!H147=\"\",\"\",Blad1!H147)","v":""},{"$f":"IF(Blad1!I147=\"\",\"\",Blad1!I147)","v":""},{"$f":"IF(Blad1!M147=\"\",\"\",Blad1!M147)","v":""},{"$f":"IF(Blad1!F147=\"\",\"\",Blad1!F147)","v":""},{"$f":"IF(Blad1!Q147=\"\",\"\",Blad1!Q147)","v":""}]
[{"$f":"IF(Blad1!D148=\"\",\"\",Blad1!D148)","v":""},{"$f":"IF(Blad1!E148=\"\",\"\",Blad1!E148)","v":""},{"$f":"IF(Blad1!B148=\"\",\"\",Blad1!B148)","v":""},{"$f":"IF(Blad1!H148=\"\",\"\",Blad1!H148)","v":""},{"$f":"IF(Blad1!I148=\"\",\"\",Blad1!I148)","v":""},{"$f":"IF(Blad1!M148=\"\",\"\",Blad1!M148)","v":""},{"$f":"IF(Blad1!F148=\"\",\"\",Blad1!F148)","v":""},{"$f":"IF(Blad1!Q148=\"\",\"\",Blad1!Q148)","v":""}]
[{"$f":"IF(Blad1!D149=\"\",\"\",Blad1!D149)","v":""},{"$f":"IF(Blad1!E149=\"\",\"\",Blad1!E149)","v":""},{"$f":"IF(Blad1!B149=\"\",\"\",Blad1!B149)","v":""},{"$f":"IF(Blad1!H149=\"\",\"\",Blad1!H149)","v":""},{"$f":"IF(Blad1!I149=\"\",\"\",Blad1!I149)","v":""},{"$f":"IF(Blad1!M149=\"\",\"\",Blad1!M149)","v":""},{"$f":"IF(Blad1!F149=\"\",\"\",Blad1!F149)","v":""},{"$f":"IF(Blad1!Q149=\"\",\"\",Blad1!Q149)","v":""}]
[{"$f":"IF(Blad1!D150=\"\",\"\",Blad1!D150)","v":""},{"$f":"IF(Blad1!E150=\"\",\"\",Blad1!E150)","v":""},{"$f":"IF(Blad1!B150=\"\",\"\",Blad1!B150)","v":""},{"$f":"IF(Blad1!H150=\"\",\"\",Blad1!H150)","v":""},{"$f":"IF(Blad1!I150=\"\",\"\",Blad1!I150)","v":""},{"$f":"IF(Blad1!M150=\"\",\"\",Blad1!M150)","v":""},{"$f":"IF(Blad1!F150=\"\",\"\",Blad1!F150)","v":""},{"$f":"IF(Blad1!Q150=\"\",\"\",Blad1!Q150)","v":""}]
[{"$f":"IF(Blad1!D151=\"\",\"\",Blad1!D151)","v":""},{"$f":"IF(Blad1!E151=\"\",\"\",Blad1!E151)","v":""},{"$f":"IF(Blad1!B151=\"\",\"\",Blad1!B151)","v":""},{"$f":"IF(Blad1!H151=\"\",\"\",Blad1!H151)","v":""},{"$f":"IF(Blad1!I151=\"\",\"\",Blad1!I151)","v":""},{"$f":"IF(Blad1!M151=\"\",\"\",Blad1!M151)","v":""},{"$f":"IF(Blad1!F151=\"\",\"\",Blad1!F151)","v":""},{"$f":"IF(Blad1!Q151=\"\",\"\",Blad1!Q151)","v":""}]
[{"$f":"IF(Blad1!D152=\"\",\"\",Blad1!D152)","v":""},{"$f":"IF(Blad1!E152=\"\",\"\",Blad1!E152)","v":""},{"$f":"IF(Blad1!B152=\"\",\"\",Blad1!B152)","v":""},{"$f":"IF(Blad1!H152=\"\",\"\",Blad1!H152)","v":""},{"$f":"IF(Blad1!I152=\"\",\"\",Blad1!I152)","v":""},{"$f":"IF(Blad1!M152=\"\",\"\",Blad1!M152)","v":""},{"$f":"IF(Blad1!F152=\"\",\"\",Blad1!F152)","v":""},{"$f":"IF(Blad1!Q152=\"\",\"\",Blad1!Q152)","v":""}]
[{"$f":"IF(Blad1!D153=\"\",\"\",Blad1!D153)","v":""},{"$f":"IF(Blad1!E153=\"\",\"\",Blad1!E153)","v":""},{"$f":"IF(Blad1!B153=\"\",\"\",Blad1!B153)","v":""},{"$f":"IF(Blad1!H153=\"\",\"\",Blad1!H153)","v":""},{"$f":"IF(Blad1!I153=\"\",\"\",Blad1!I153)","v":""},{"$f":"IF(Blad1!M153=\"\",\"\",Blad1!M153)","v":""},{"$f":"IF(Blad1!F153=\"\",\"\",Blad1!F153)","v":""},{"$f":"IF(Blad1!Q153=\"\",\"\",Blad1!Q153)","v":""}]
[{"$f":"IF(Blad1!D154=\"\",\"\",Blad1!D154)","v":""},{"$f":"IF(Blad1!E154=\"\",\"\",Blad1!E154)","v":""},{"$f":"IF(Blad1!B154=\"\",\"\",Blad1!B154)","v":""},{"$f":"IF(Blad1!H154=\"\",\"\",Blad1!H154)","v":""},{"$f":"IF(Blad1!I154=\"\",\"\",Blad1!I154)","v":""},{"$f":"IF(Blad1!M154=\"\",\"\",Blad1!M154)","v":""},{"$f":"IF(Blad1!F154=\"\",\"\",Blad1!F154)","v":""},{"$f":"IF(Blad1!Q154=\"\",\"\",Blad1!Q154)","v":""}]
[{"$f":"IF(Blad1!D155=\"\",\"\",Blad1!D155)","v":""},{"$f":"IF(Blad1!E155=\"\",\"\",Blad1!E155)","v":""},{"$f":"IF(Blad1!B155=\"\",\"\",Blad1!B155)","v":""},{"$f":"IF(Blad1!H155=\"\",\"\",Blad1!H155)","v":""},{"$f":"IF(Blad1!I155=\"\",\"\",Blad1!I155)","v":""},{"$f":"IF(Blad1!M155=\"\",\"\",Blad1!M155)","v":""},{"$f":"IF(Blad1!F155=\"\",\"\",Blad1!F155)","v":""},{"$f":"IF(Blad1!Q155=\"\",\"\",Blad1!Q155)","v":""}]
[{"$f":"IF(Blad1!D156=\"\",\"\",Blad1!D156)","v":""},{"$f":"IF(Blad1!E156=\"\",\"\",Blad1!E156)","v":""},{"$f":"IF(Blad1!B156=\"\",\"\",Blad1!B156)","v":""},{"$f":"IF(Blad1!H156=\"\",\"\",Blad1!H156)","v":""},{"$f":"IF(Blad1!I156=\"\",\"\",Blad1!I156)","v":""},{"$f":"IF(Blad1!M156=\"\",\"\",Blad1!M156)","v":""},{"$f":"IF(Blad1!F156=\"\",\"\",Blad1!F156)","v":""},{"$f":"IF(Blad1!Q156=\"\",\"\",Blad1!Q156)","v":""}]
[{"$f":"IF(Blad1!D157=\"\",\"\",Blad1!D157)","v":""},{"$f":"IF(Blad1!E157=\"\",\"\",Blad1!E157)","v":""},{"$f":"IF(Blad1!B157=\"\",\"\",Blad1!B157)","v":""},{"$f":"IF(Blad1!H157=\"\",\"\",Blad1!H157)","v":""},{"$f":"IF(Blad1!I157=\"\",\"\",Blad1!I157)","v":""},{"$f":"IF(Blad1!M157=\"\",\"\",Blad1!M157)","v":""},{"$f":"IF(Blad1!F157=\"\",\"\",Blad1!F157)","v":""},{"$f":"IF(Blad1!Q157=\"\",\"\",Blad1!Q157)","v":""}]
[{"$f":"IF(Blad1!D158=\"\",\"\",Blad1!D158)","v":""},{"$f":"IF(Blad1!E158=\"\",\"\",Blad1!E158)","v":""},{"$f":"IF(Blad1!B158=\"\",\"\",Blad1!B158)","v":""},{"$f":"IF(Blad1!H158=\"\",\"\",Blad1!H158)","v":""},{"$f":"IF(Blad1!I158=\"\",\"\",Blad1!I158)","v":""},{"$f":"IF(Blad1!M158=\"\",\"\",Blad1!M158)","v":""},{"$f":"IF(Blad1!F158=\"\",\"\",Blad1!F158)","v":""},{"$f":"IF(Blad1!Q158=\"\",\"\",Blad1!Q158)","v":""}]
[{"$f":"IF(Blad1!D159=\"\",\"\",Blad1!D159)","v":""},{"$f":"IF(Blad1!E159=\"\",\"\",Blad1!E159)","v":""},{"$f":"IF(Blad1!B159=\"\",\"\",Blad1!B159)","v":""},{"$f":"IF(Blad1!H159=\"\",\"\",Blad1!H159)","v":""},{"$f":"IF(Blad1!I159=\"\",\"\",Blad1!I159)","v":""},{"$f":"IF(Blad1!M159=\"\",\"\",Blad1!M159)","v":""},{"$f":"IF(Blad1!F159=\"\",\"\",Blad1!F159)","v":""},{"$f":"IF(Blad1!Q159=\"\",\"\",Blad1!Q159)","v":""}]
[{"$f":"IF(Blad1!D160=\"\",\"\",Blad1!D160)","v":""},{"$f":"IF(Blad1!E160=\"\",\"\",Blad1!E160)","v":""},{"$f":"IF(Blad1!B160=\"\",\"\",Blad1!B160)","v":""},{"$f":"IF(Blad1!H160=\"\",\"\",Blad1!H160)","v":""},{"$f":"IF(Blad1!I160=\"\",\"\",Blad1!I160)","v":""},{"$f":"IF(Blad1!M160=\"\",\"\",Blad1!M160)","v":""},{"$f":"IF(Blad1!F160=\"\",\"\",Blad1!F160)","v":""},{"$f":"IF(Blad1!Q160=\"\",\"\",Blad1!Q160)","v":""}]
[{"$f":"IF(Blad1!D161=\"\",\"\",Blad1!D161)","v":""},{"$f":"IF(Blad1!E161=\"\",\"\",Blad1!E161)","v":""},{"$f":"IF(Blad1!B161=\"\",\"\",Blad1!B161)","v":""},{"$f":"IF(Blad1!H161=\"\",\"\",Blad1!H161)","v":""},{"$f":"IF(Blad1!I161=\"\",\"\",Blad1!I161)","v":""},{"$f":"IF(Blad1!M161=\"\",\"\",Blad1!M161)","v":""},{"$f":"IF(Blad1!F161=\"\",\"\",Blad1!F161)","v":""},{"$f":"IF(Blad1!Q161=\"\",\"\",Blad1!Q161)","v":""}]
[{"$f":"IF(Blad1!D162=\"\",\"\",Blad1!D162)","v":""},{"$f":"IF(Blad1!E162=\"\",\"\",Blad1!E162)","v":""},{"$f":"IF(Blad1!B162=\"\",\"\",Blad1!B162)","v":""},{"$f":"IF(Blad1!H162=\"\",\"\",Blad1!H162)","v":""},{"$f":"IF(Blad1!I162=\"\",\"\",Blad1!I162)","v":""},{"$f":"IF(Blad1!M162=\"\",\"\",Blad1!M162)","v":""},{"$f":"IF(Blad1!F162=\"\",\"\",Blad1!F162)","v":""},{"$f":"IF(Blad1!Q162=\"\",\"\",Blad1!Q162)","v":""}]
[{"$f":"IF(Blad1!D163=\"\",\"\",Blad1!D163)","v":""},{"$f":"IF(Blad1!E163=\"\",\"\",Blad1!E163)","v":""},{"$f":"IF(Blad1!B163=\"\",\"\",Blad1!B163)","v":""},{"$f":"IF(Blad1!H163=\"\",\"\",Blad1!H163)","v":""},{"$f":"IF(Blad1!I163=\"\",\"\",Blad1!I163)","v":""},{"$f":"IF(Blad1!M163=\"\",\"\",Blad1!M163)","v":""},{"$f":"IF(Blad1!F163=\"\",\"\",Blad1!F163)","v":""},{"$f":"IF(Blad1!Q163=\"\",\"\",Blad1!Q163)","v":""}]
[{"$f":"IF(Blad1!D164=\"\",\"\",Blad1!D164)","v":""},{"$f":"IF(Blad1!E164=\"\",\"\",Blad1!E164)","v":""},{"$f":"IF(Blad1!B164=\"\",\"\",Blad1!B164)","v":""},{"$f":"IF(Blad1!H164=\"\",\"\",Blad1!H164)","v":""},{"$f":"IF(Blad1!I164=\"\",\"\",Blad1!I164)","v":""},{"$f":"IF(Blad1!M164=\"\",\"\",Blad1!M164)","v":""},{"$f":"IF(Blad1!F164=\"\",\"\",Blad1!F164)","v":""},{"$f":"IF(Blad1!Q164=\"\",\"\",Blad1!Q164)","v":""}]
[{"$f":"IF(Blad1!D165=\"\",\"\",Blad1!D165)","v":""},{"$f":"IF(Blad1!E165=\"\",\"\",Blad1!E165)","v":""},{"$f":"IF(Blad1!B165=\"\",\"\",Blad1!B165)","v":""},{"$f":"IF(Blad1!H165=\"\",\"\",Blad1!H165)","v":""},{"$f":"IF(Blad1!I165=\"\",\"\",Blad1!I165)","v":""},{"$f":"IF(Blad1!M165=\"\",\"\",Blad1!M165)","v":""},{"$f":"IF(Blad1!F165=\"\",\"\",Blad1!F165)","v":""},{"$f":"IF(Blad1!Q165=\"\",\"\",Blad1!Q165)","v":""}]
[{"$f":"IF(Blad1!D166=\"\",\"\",Blad1!D166)","v":""},{"$f":"IF(Blad1!E166=\"\",\"\",Blad1!E166)","v":""},{"$f":"IF(Blad1!B166=\"\",\"\",Blad1!B166)","v":""},{"$f":"IF(Blad1!H166=\"\",\"\",Blad1!H166)","v":""},{"$f":"IF(Blad1!I166=\"\",\"\",Blad1!I166)","v":""},{"$f":"IF(Blad1!M166=\"\",\"\",Blad1!M166)","v":""},{"$f":"IF(Blad1!F166=\"\",\"\",Blad1!F166)","v":""},{"$f":"IF(Blad1!Q166=\"\",\"\",Blad1!Q166)","v":""}]
[{"$f":"IF(Blad1!D167=\"\",\"\",Blad1!D167)","v":""},{"$f":"IF(Blad1!E167=\"\",\"\",Blad1!E167)","v":""},{"$f":"IF(Blad1!B167=\"\",\"\",Blad1!B167)","v":""},{"$f":"IF(Blad1!H167=\"\",\"\",Blad1!H167)","v":""},{"$f":"IF(Blad1!I167=\"\",\"\",Blad1!I167)","v":""},{"$f":"IF(Blad1!M167=\"\",\"\",Blad1!M167)","v":""},{"$f":"IF(Blad1!F167=\"\",\"\",Blad1!F167)","v":""},{"$f":"IF(Blad1!Q167=\"\",\"\",Blad1!Q167)","v":""}]
[{"$f":"IF(Blad1!D168=\"\",\"\",Blad1!D168)","v":""},{"$f":"IF(Blad1!E168=\"\",\"\",Blad1!E168)","v":""},{"$f":"IF(Blad1!B168=\"\",\"\",Blad1!B168)","v":""},{"$f":"IF(Blad1!H168=\"\",\"\",Blad1!H168)","v":""},{"$f":"IF(Blad1!I168=\"\",\"\",Blad1!I168)","v":""},{"$f":"IF(Blad1!M168=\"\",\"\",Blad1!M168)","v":""},{"$f":"IF(Blad1!F168=\"\",\"\",Blad1!F168)","v":""},{"$f":"IF(Blad1!Q168=\"\",\"\",Blad1!Q168)","v":""}]
[{"$f":"IF(Blad1!D169=\"\",\"\",Blad1!D169)","v":""},{"$f":"IF(Blad1!E169=\"\",\"\",Blad1!E169)","v":""},{"$f":"IF(Blad1!B169=\"\",\"\",Blad1!B169)","v":""},{"$f":"IF(Blad1!H169=\"\",\"\",Blad1!H169)","v":""},{"$f":"IF(Blad1!I169=\"\",\"\",Blad1!I169)","v":""},{"$f":"IF(Blad1!M169=\"\",\"\",Blad1!M169)","v":""},{"$f":"IF(Blad1!F169=\"\",\"\",Blad1!F169)","v":""},{"$f":"IF(Blad1!Q169=\"\",\"\",Blad1!Q169)","v":""}]
[{"$f":"IF(Blad1!D170=\"\",\"\",Blad1!D170)","v":""},{"$f":"IF(Blad1!E170=\"\",\"\",Blad1!E170)","v":""},{"$f":"IF(Blad1!B170=\"\",\"\",Blad1!B170)","v":""},{"$f":"IF(Blad1!H170=\"\",\"\",Blad1!H170)","v":""},{"$f":"IF(Blad1!I170=\"\",\"\",Blad1!I170)","v":""},{"$f":"IF(Blad1!M170=\"\",\"\",Blad1!M170)","v":""},{"$f":"IF(Blad1!F170=\"\",\"\",Blad1!F170)","v":""},{"$f":"IF(Blad1!Q170=\"\",\"\",Blad1!Q170)","v":""}]
[{"$f":"IF(Blad1!D171=\"\",\"\",Blad1!D171)","v":""},{"$f":"IF(Blad1!E171=\"\",\"\",Blad1!E171)","v":""},{"$f":"IF(Blad1!B171=\"\",\"\",Blad1!B171)","v":""},{"$f":"IF(Blad1!H171=\"\",\"\",Blad1!H171)","v":""},{"$f":"IF(Blad1!I171=\"\",\"\",Blad1!I171)","v":""},{"$f":"IF(Blad1!M171=\"\",\"\",Blad1!M171)","v":""},{"$f":"IF(Blad1!F171=\"\",\"\",Blad1!F171)","v":""},{"$f":"IF(Blad1!Q171=\"\",\"\",Blad1!Q171)","v":""}]
[{"$f":"IF(Blad1!D172=\"\",\"\",Blad1!D172)","v":""},{"$f":"IF(Blad1!E172=\"\",\"\",Blad1!E172)","v":""},{"$f":"IF(Blad1!B172=\"\",\"\",Blad1!B172)","v":""},{"$f":"IF(Blad1!H172=\"\",\"\",Blad1!H172)","v":""},{"$f":"IF(Blad1!I172=\"\",\"\",Blad1!I172)","v":""},{"$f":"IF(Blad1!M172=\"\",\"\",Blad1!M172)","v":""},{"$f":"IF(Blad1!F172=\"\",\"\",Blad1!F172)","v":""},{"$f":"IF(Blad1!Q172=\"\",\"\",Blad1!Q172)","v":""}]
[{"$f":"IF(Blad1!D173=\"\",\"\",Blad1!D173)","v":""},{"$f":"IF(Blad1!E173=\"\",\"\",Blad1!E173)","v":""},{"$f":"IF(Blad1!B173=\"\",\"\",Blad1!B173)","v":""},{"$f":"IF(Blad1!H173=\"\",\"\",Blad1!H173)","v":""},{"$f":"IF(Blad1!I173=\"\",\"\",Blad1!I173)","v":""},{"$f":"IF(Blad1!M173=\"\",\"\",Blad1!M173)","v":""},{"$f":"IF(Blad1!F173=\"\",\"\",Blad1!F173)","v":""},{"$f":"IF(Blad1!Q173=\"\",\"\",Blad1!Q173)","v":""}]
[{"$f":"IF(Blad1!D174=\"\",\"\",Blad1!D174)","v":""},{"$f":"IF(Blad1!E174=\"\",\"\",Blad1!E174)","v":""},{"$f":"IF(Blad1!B174=\"\",\"\",Blad1!B174)","v":""},{"$f":"IF(Blad1!H174=\"\",\"\",Blad1!H174)","v":""},{"$f":"IF(Blad1!I174=\"\",\"\",Blad1!I174)","v":""},{"$f":"IF(Blad1!M174=\"\",\"\",Blad1!M174)","v":""},{"$f":"IF(Blad1!F174=\"\",\"\",Blad1!F174)","v":""},{"$f":"IF(Blad1!Q174=\"\",\"\",Blad1!Q174)","v":""}]
[{"$f":"IF(Blad1!D175=\"\",\"\",Blad1!D175)","v":""},{"$f":"IF(Blad1!E175=\"\",\"\",Blad1!E175)","v":""},{"$f":"IF(Blad1!B175=\"\",\"\",Blad1!B175)","v":""},{"$f":"IF(Blad1!H175=\"\",\"\",Blad1!H175)","v":""},{"$f":"IF(Blad1!I175=\"\",\"\",Blad1!I175)","v":""},{"$f":"IF(Blad1!M175=\"\",\"\",Blad1!M175)","v":""},{"$f":"IF(Blad1!F175=\"\",\"\",Blad1!F175)","v":""},{"$f":"IF(Blad1!Q175=\"\",\"\",Blad1!Q175)","v":""}]
[{"$f":"IF(Blad1!D176=\"\",\"\",Blad1!D176)","v":""},{"$f":"IF(Blad1!E176=\"\",\"\",Blad1!E176)","v":""},{"$f":"IF(Blad1!B176=\"\",\"\",Blad1!B176)","v":""},{"$f":"IF(Blad1!H176=\"\",\"\",Blad1!H176)","v":""},{"$f":"IF(Blad1!I176=\"\",\"\",Blad1!I176)","v":""},{"$f":"IF(Blad1!M176=\"\",\"\",Blad1!M176)","v":""},{"$f":"IF(Blad1!F176=\"\",\"\",Blad1!F176)","v":""},{"$f":"IF(Blad1!Q176=\"\",\"\",Blad1!Q176)","v":""}]
[{"$f":"IF(Blad1!D177=\"\",\"\",Blad1!D177)","v":""},{"$f":"IF(Blad1!E177=\"\",\"\",Blad1!E177)","v":""},{"$f":"IF(Blad1!B177=\"\",\"\",Blad1!B177)","v":""},{"$f":"IF(Blad1!H177=\"\",\"\",Blad1!H177)","v":""},{"$f":"IF(Blad1!I177=\"\",\"\",Blad1!I177)","v":""},{"$f":"IF(Blad1!M177=\"\",\"\",Blad1!M177)","v":""},{"$f":"IF(Blad1!F177=\"\",\"\",Blad1!F177)","v":""},{"$f":"IF(Blad1!Q177=\"\",\"\",Blad1!Q177)","v":""}]
[{"$f":"IF(Blad1!D178=\"\",\"\",Blad1!D178)","v":""},{"$f":"IF(Blad1!E178=\"\",\"\",Blad1!E178)","v":""},{"$f":"IF(Blad1!B178=\"\",\"\",Blad1!B178)","v":""},{"$f":"IF(Blad1!H178=\"\",\"\",Blad1!H178)","v":""},{"$f":"IF(Blad1!I178=\"\",\"\",Blad1!I178)","v":""},{"$f":"IF(Blad1!M178=\"\",\"\",Blad1!M178)","v":""},{"$f":"IF(Blad1!F178=\"\",\"\",Blad1!F178)","v":""},{"$f":"IF(Blad1!Q178=\"\",\"\",Blad1!Q178)","v":""}]
[{"$f":"IF(Blad1!D179=\"\",\"\",Blad1!D179)","v":""},{"$f":"IF(Blad1!E179=\"\",\"\",Blad1!E179)","v":""},{"$f":"IF(Blad1!B179=\"\",\"\",Blad1!B179)","v":""},{"$f":"IF(Blad1!H179=\"\",\"\",Blad1!H179)","v":""},{"$f":"IF(Blad1!I179=\"\",\"\",Blad1!I179)","v":""},{"$f":"IF(Blad1!M179=\"\",\"\",Blad1!M179)","v":""},{"$f":"IF(Blad1!F179=\"\",\"\",Blad1!F179)","v":""},{"$f":"IF(Blad1!Q179=\"\",\"\",Blad1!Q179)","v":""}]
[{"$f":"IF(Blad1!D180=\"\",\"\",Blad1!D180)","v":""},{"$f":"IF(Blad1!E180=\"\",\"\",Blad1!E180)","v":""},{"$f":"IF(Blad1!B180=\"\",\"\",Blad1!B180)","v":""},{"$f":"IF(Blad1!H180=\"\",\"\",Blad1!H180)","v":""},{"$f":"IF(Blad1!I180=\"\",\"\",Blad1!I180)","v":""},{"$f":"IF(Blad1!M180=\"\",\"\",Blad1!M180)","v":""},{"$f":"IF(Blad1!F180=\"\",\"\",Blad1!F180)","v":""},{"$f":"IF(Blad1!Q180=\"\",\"\",Blad1!Q180)","v":""}]
[{"$f":"IF(Blad1!D181=\"\",\"\",Blad1!D181)","v":""},{"$f":"IF(Blad1!E181=\"\",\"\",Blad1!E181)","v":""},{"$f":"IF(Blad1!B181=\"\",\"\",Blad1!B181)","v":""},{"$f":"IF(Blad1!H181=\"\",\"\",Blad1!H181)","v":""},{"$f":"IF(Blad1!I181=\"\",\"\",Blad1!I181)","v":""},{"$f":"IF(Blad1!M181=\"\",\"\",Blad1!M181)","v":""},{"$f":"IF(Blad1!F181=\"\",\"\",Blad1!F181)","v":""},{"$f":"IF(Blad1!Q181=\"\",\"\",Blad1!Q181)","v":""}]
[{"$f":"IF(Blad1!D182=\"\",\"\",Blad1!D182)","v":""},{"$f":"IF(Blad1!E182=\"\",\"\",Blad1!E182)","v":""},{"$f":"IF(Blad1!B182=\"\",\"\",Blad1!B182)","v":""},{"$f":"IF(Blad1!H182=\"\",\"\",Blad1!H182)","v":""},{"$f":"IF(Blad1!I182=\"\",\"\",Blad1!I182)","v":""},{"$f":"IF(Blad1!M182=\"\",\"\",Blad1!M182)","v":""},{"$f":"IF(Blad1!F182=\"\",\"\",Blad1!F182)","v":""},{"$f":"IF(Blad1!Q182=\"\",\"\",Blad1!Q182)","v":""}]
[{"$f":"IF(Blad1!D183=\"\",\"\",Blad1!D183)","v":""},{"$f":"IF(Blad1!E183=\"\",\"\",Blad1!E183)","v":""},{"$f":"IF(Blad1!B183=\"\",\"\",Blad1!B183)","v":""},{"$f":"IF(Blad1!H183=\"\",\"\",Blad1!H183)","v":""},{"$f":"IF(Blad1!I183=\"\",\"\",Blad1!I183)","v":""},{"$f":"IF(Blad1!M183=\"\",\"\",Blad1!M183)","v":""},{"$f":"IF(Blad1!F183=\"\",\"\",Blad1!F183)","v":""},{"$f":"IF(Blad1!Q183=\"\",\"\",Blad1!Q183)","v":""}]
[{"$f":"IF(Blad1!D184=\"\",\"\",Blad1!D184)","v":""},{"$f":"IF(Blad1!E184=\"\",\"\",Blad1!E184)","v":""},{"$f":"IF(Blad1!B184=\"\",\"\",Blad1!B184)","v":""},{"$f":"IF(Blad1!H184=\"\",\"\",Blad1!H184)","v":""},{"$f":"IF(Blad1!I184=\"\",\"\",Blad1!I184)","v":""},{"$f":"IF(Blad1!M184=\"\",\"\",Blad1!M184)","v":""},{"$f":"IF(Blad1!F184=\"\",\"\",Blad1!F184)","v":""},{"$f":"IF(Blad1!Q184=\"\",\"\",Blad1!Q184)","v":""}]
[{"$f":"IF(Blad1!D185=\"\",\"\",Blad1!D185)","v":""},{"$f":"IF(Blad1!E185=\"\",\"\",Blad1!E185)","v":""},{"$f":"IF(Blad1!B185=\"\",\"\",Blad1!B185)","v":""},{"$f":"IF(Blad1!H185=\"\",\"\",Blad1!H185)","v":""},{"$f":"IF(Blad1!I185=\"\",\"\",Blad1!I185)","v":""},{"$f":"IF(Blad1!M185=\"\",\"\",Blad1!M185)","v":""},{"$f":"IF(Blad1!F185=\"\",\"\",Blad1!F185)","v":""},{"$f":"IF(Blad1!Q185=\"\",\"\",Blad1!Q185)","v":""}]
[{"$f":"IF(Blad1!D186=\"\",\"\",Blad1!D186)","v":""},{"$f":"IF(Blad1!E186=\"\",\"\",Blad1!E186)","v":""},{"$f":"IF(Blad1!B186=\"\",\"\",Blad1!B186)","v":""},{"$f":"IF(Blad1!H186=\"\",\"\",Blad1!H186)","v":""},{"$f":"IF(Blad1!I186=\"\",\"\",Blad1!I186)","v":""},{"$f":"IF(Blad1!M186=\"\",\"\",Blad1!M186)","v":""},{"$f":"IF(Blad1!F186=\"\",\"\",Blad1!F186)","v":""},{"$f":"IF(Blad1!Q186=\"\",\"\",Blad1!Q186)","v":""}]
[{"$f":"IF(Blad1!D187=\"\",\"\",Blad1!D187)","v":""},{"$f":"IF(Blad1!E187=\"\",\"\",Blad1!E187)","v":""},{"$f":"IF(Blad1!B187=\"\",\"\",Blad1!B187)","v":""},{"$f":"IF(Blad1!H187=\"\",\"\",Blad1!H187)","v":""},{"$f":"IF(Blad1!I187=\"\",\"\",Blad1!I187)","v":""},{"$f":"IF(Blad1!M187=\"\",\"\",Blad1!M187)","v":""},{"$f":"IF(Blad1!F187=\"\",\"\",Blad1!F187)","v":""},{"$f":"IF(Blad1!Q187=\"\",\"\",Blad1!Q187)","v":""}]
[{"$f":"IF(Blad1!D188=\"\",\"\",Blad1!D188)","v":""},{"$f":"IF(Blad1!E188=\"\",\"\",Blad1!E188)","v":""},{"$f":"IF(Blad1!B188=\"\",\"\",Blad1!B188)","v":""},{"$f":"IF(Blad1!H188=\"\",\"\",Blad1!H188)","v":""},{"$f":"IF(Blad1!I188=\"\",\"\",Blad1!I188)","v":""},{"$f":"IF(Blad1!M188=\"\",\"\",Blad1!M188)","v":""},{"$f":"IF(Blad1!F188=\"\",\"\",Blad1!F188)","v":""},{"$f":"IF(Blad1!Q188=\"\",\"\",Blad1!Q188)","v":""}]
[{"$f":"IF(Blad1!D189=\"\",\"\",Blad1!D189)","v":""},{"$f":"IF(Blad1!E189=\"\",\"\",Blad1!E189)","v":""},{"$f":"IF(Blad1!B189=\"\",\"\",Blad1!B189)","v":""},{"$f":"IF(Blad1!H189=\"\",\"\",Blad1!H189)","v":""},{"$f":"IF(Blad1!I189=\"\",\"\",Blad1!I189)","v":""},{"$f":"IF(Blad1!M189=\"\",\"\",Blad1!M189)","v":""},{"$f":"IF(Blad1!F189=\"\",\"\",Blad1!F189)","v":""},{"$f":"IF(Blad1!Q189=\"\",\"\",Blad1!Q189)","v":""}]
[{"$f":"IF(Blad1!D190=\"\",\"\",Blad1!D190)","v":""},{"$f":"IF(Blad1!E190=\"\",\"\",Blad1!E190)","v":""},{"$f":"IF(Blad1!B190=\"\",\"\",Blad1!B190)","v":""},{"$f":"IF(Blad1!H190=\"\",\"\",Blad1!H190)","v":""},{"$f":"IF(Blad1!I190=\"\",\"\",Blad1!I190)","v":""},{"$f":"IF(Blad1!M190=\"\",\"\",Blad1!M190)","v":""},{"$f":"IF(Blad1!F190=\"\",\"\",Blad1!F190)","v":""},{"$f":"IF(Blad1!Q190=\"\",\"\",Blad1!Q190)","v":""}]
[{"$f":"IF(Blad1!D191=\"\",\"\",Blad1!D191)","v":""},{"$f":"IF(Blad1!E191=\"\",\"\",Blad1!E191)","v":""},{"$f":"IF(Blad1!B191=\"\",\"\",Blad1!B191)","v":""},{"$f":"IF(Blad1!H191=\"\",\"\",Blad1!H191)","v":""},{"$f":"IF(Blad1!I191=\"\",\"\",Blad1!I191)","v":""},{"$f":"IF(Blad1!M191=\"\",\"\",Blad1!M191)","v":""},{"$f":"IF(Blad1!F191=\"\",\"\",Blad1!F191)","v":""},{"$f":"IF(Blad1!Q191=\"\",\"\",Blad1!Q191)","v":""}]
[{"$f":"IF(Blad1!D192=\"\",\"\",Blad1!D192)","v":""},{"$f":"IF(Blad1!E192=\"\",\"\",Blad1!E192)","v":""},{"$f":"IF(Blad1!B192=\"\",\"\",Blad1!B192)","v":""},{"$f":"IF(Blad1!H192=\"\",\"\",Blad1!H192)","v":""},{"$f":"IF(Blad1!I192=\"\",\"\",Blad1!I192)","v":""},{"$f":"IF(Blad1!M192=\"\",\"\",Blad1!M192)","v":""},{"$f":"IF(Blad1!F192=\"\",\"\",Blad1!F192)","v":""},{"$f":"IF(Blad1!Q192=\"\",\"\",Blad1!Q192)","v":""}]
[{"$f":"IF(Blad1!D193=\"\",\"\",Blad1!D193)","v":""},{"$f":"IF(Blad1!E193=\"\",\"\",Blad1!E193)","v":""},{"$f":"IF(Blad1!B193=\"\",\"\",Blad1!B193)","v":""},{"$f":"IF(Blad1!H193=\"\",\"\",Blad1!H193)","v":""},{"$f":"IF(Blad1!I193=\"\",\"\",Blad1!I193)","v":""},{"$f":"IF(Blad1!M193=\"\",\"\",Blad1!M193)","v":""},{"$f":"IF(Blad1!F193=\"\",\"\",Blad1!F193)","v":""},{"$f":"IF(Blad1!Q193=\"\",\"\",Blad1!Q193)","v":""}]
[{"$f":"IF(Blad1!D194=\"\",\"\",Blad1!D194)","v":""},{"$f":"IF(Blad1!E194=\"\",\"\",Blad1!E194)","v":""},{"$f":"IF(Blad1!B194=\"\",\"\",Blad1!B194)","v":""},{"$f":"IF(Blad1!H194=\"\",\"\",Blad1!H194)","v":""},{"$f":"IF(Blad1!I194=\"\",\"\",Blad1!I194)","v":""},{"$f":"IF(Blad1!M194=\"\",\"\",Blad1!M194)","v":""},{"$f":"IF(Blad1!F194=\"\",\"\",Blad1!F194)","v":""},{"$f":"IF(Blad1!Q194=\"\",\"\",Blad1!Q194)","v":""}]
[{"$f":"IF(Blad1!D195=\"\",\"\",Blad1!D195)","v":""},{"$f":"IF(Blad1!E195=\"\",\"\",Blad1!E195)","v":""},{"$f":"IF(Blad1!B195=\"\",\"\",Blad1!B195)","v":""},{"$f":"IF(Blad1!H195=\"\",\"\",Blad1!H195)","v":""},{"$f":"IF(Blad1!I195=\"\",\"\",Blad1!I195)","v":""},{"$f":"IF(Blad1!M195=\"\",\"\",Blad1!M195)","v":""},{"$f":"IF(Blad1!F195=\"\",\"\",Blad1!F195)","v":""},{"$f":"IF(Blad1!Q195=\"\",\"\",Blad1!Q195)","v":""}]
[{"$f":"IF(Blad1!D196=\"\",\"\",Blad1!D196)","v":""},{"$f":"IF(Blad1!E196=\"\",\"\",Blad1!E196)","v":""},{"$f":"IF(Blad1!B196=\"\",\"\",Blad1!B196)","v":""},{"$f":"IF(Blad1!H196=\"\",\"\",Blad1!H196)","v":""},{"$f":"IF(Blad1!I196=\"\",\"\",Blad1!I196)","v":""},{"$f":"IF(Blad1!M196=\"\",\"\",Blad1!M196)","v":""},{"$f":"IF(Blad1!F196=\"\",\"\",Blad1!F196)","v":""},{"$f":"IF(Blad1!Q196=\"\",\"\",Blad1!Q196)","v":""}]
[{"$f":"IF(Blad1!D197=\"\",\"\",Blad1!D197)","v":""},{"$f":"IF(Blad1!E197=\"\",\"\",Blad1!E197)","v":""},{"$f":"IF(Blad1!B197=\"\",\"\",Blad1!B197)","v":""},{"$f":"IF(Blad1!H197=\"\",\"\",Blad1!H197)","v":""},{"$f":"IF(Blad1!I197=\"\",\"\",Blad1!I197)","v":""},{"$f":"IF(Blad1!M197=\"\",\"\",Blad1!M197)","v":""},{"$f":"IF(Blad1!F197=\"\",\"\",Blad1!F197)","v":""},{"$f":"IF(Blad1!Q197=\"\",\"\",Blad1!Q197)","v":""}]
[{"$f":"IF(Blad1!D198=\"\",\"\",Blad1!D198)","v":""},{"$f":"IF(Blad1!E198=\"\",\"\",Blad1!E198)","v":""},{"$f":"IF(Blad1!B198=\"\",\"\",Blad1!B198)","v":""},{"$f":"IF(Blad1!H198=\"\",\"\",Blad1!H198)","v":""},{"$f":"IF(Blad1!I198=\"\",\"\",Blad1!I198)","v":""},{"$f":"IF(Blad1!M198=\"\",\"\",Blad1!M198)","v":""},{"$f":"IF(Blad1!F198=\"\",\"\",Blad1!F198)","v":""},{"$f":"IF(Blad1!Q198=\"\",\"\",Blad1!Q198)","v":""}]
[{"$f":"IF(Blad1!D199=\"\",\"\",Blad1!D199)","v":""},{"$f":"IF(Blad1!E199=\"\",\"\",Blad1!E199)","v":""},{"$f":"IF(Blad1!B199=\"\",\"\",Blad1!B199)","v":""},{"$f":"IF(Blad1!H199=\"\",\"\",Blad1!H199)","v":""},{"$f":"IF(Blad1!I199=\"\",\"\",Blad1!I199)","v":""},{"$f":"IF(Blad1!M199=\"\",\"\",Blad1!M199)","v":""},{"$f":"IF(Blad1!F199=\"\",\"\",Blad1!F199)","v":""},{"$f":"IF(Blad1!Q199=\"\",\"\",Blad1!Q199)","v":""}]
[{"$f":"IF(Blad1!D200=\"\",\"\",Blad1!D200)","v":""},{"$f":"IF(Blad1!E200=\"\",\"\",Blad1!E200)","v":""},{"$f":"IF(Blad1!B200=\"\",\"\",Blad1!B200)","v":""},{"$f":"IF(Blad1!H200=\"\",\"\",Blad1!H200)","v":""},{"$f":"IF(Blad1!I200=\"\",\"\",Blad1!I200)","v":""},{"$f":"IF(Blad1!M200=\"\",\"\",Blad1!M200)","v":""},{"$f":"IF(Blad1!F200=\"\",\"\",Blad1!F200)","v":""},{"$f":"IF(Blad1!Q200=\"\",\"\",Blad1!Q200)","v":""}]
[{"$f":"IF(Blad1!D201=\"\",\"\",Blad1!D201)","v":""},{"$f":"IF(Blad1!E201=\"\",\"\",Blad1!E201)","v":""},{"$f":"IF(Blad1!B201=\"\",\"\",Blad1!B201)","v":""},{"$f":"IF(Blad1!H201=\"\",\"\",Blad1!H201)","v":""},{"$f":"IF(Blad1!I201=\"\",\"\",Blad1!I201)","v":""},{"$f":"IF(Blad1!M201=\"\",\"\",Blad1!M201)","v":""},{"$f":"IF(Blad1!F201=\"\",\"\",Blad1!F201)","v":""},{"$f":"IF(Blad1!Q201=\"\",\"\",Blad1!Q201)","v":""}]
[{"$f":"IF(Blad1!D202=\"\",\"\",Blad1!D202)","v":""},{"$f":"IF(Blad1!E202=\"\",\"\",Blad1!E202)","v":""},{"$f":"IF(Blad1!B202=\"\",\"\",Blad1!B202)","v":""},{"$f":"IF(Blad1!H202=\"\",\"\",Blad1!H202)","v":""},{"$f":"IF(Blad1!I202=\"\",\"\",Blad1!I202)","v":""},{"$f":"IF(Blad1!M202=\"\",\"\",Blad1!M202)","v":""},{"$f":"IF(Blad1!F202=\"\",\"\",Blad1!F202)","v":""},{"$f":"IF(Blad1!Q202=\"\",\"\",Blad1!Q202)","v":""}]
[{"$f":"IF(Blad1!D203=\"\",\"\",Blad1!D203)","v":""},{"$f":"IF(Blad1!E203=\"\",\"\",Blad1!E203)","v":""},{"$f":"IF(Blad1!B203=\"\",\"\",Blad1!B203)","v":""},{"$f":"IF(Blad1!H203=\"\",\"\",Blad1!H203)","v":""},{"$f":"IF(Blad1!I203=\"\",\"\",Blad1!I203)","v":""},{"$f":"IF(Blad1!M203=\"\",\"\",Blad1!M203)","v":""},{"$f":"IF(Blad1!F203=\"\",\"\",Blad1!F203)","v":""},{"$f":"IF(Blad1!Q203=\"\",\"\",Blad1!Q203)","v":""}]
[{"$f":"IF(Blad1!D204=\"\",\"\",Blad1!D204)","v":""},{"$f":"IF(Blad1!E204=\"\",\"\",Blad1!E204)","v":""},{"$f":"IF(Blad1!B204=\"\",\"\",Blad1!B204)","v":""},{"$f":"IF(Blad1!H204=\"\",\"\",Blad1!H204)","v":""},{"$f":"IF(Blad1!I204=\"\",\"\",Blad1!I204)","v":""},{"$f":"IF(Blad1!M204=\"\",\"\",Blad1!M204)","v":""},{"$f":"IF(Blad1!F204=\"\",\"\",Blad1!F204)","v":""},{"$f":"IF(Blad1!Q204=\"\",\"\",Blad1!Q204)","v":""}]
[{"$f":"IF(Blad1!D205=\"\",\"\",Blad1!D205)","v":""},{"$f":"IF(Blad1!E205=\"\",\"\",Blad1!E205)","v":""},{"$f":"IF(Blad1!B205=\"\",\"\",Blad1!B205)","v":""},{"$f":"IF(Blad1!H205=\"\",\"\",Blad1!H205)","v":""},{"$f":"IF(Blad1!I205=\"\",\"\",Blad1!I205)","v":""},{"$f":"IF(Blad1!M205=\"\",\"\",Blad1!M205)","v":""},{"$f":"IF(Blad1!F205=\"\",\"\",Blad1!F205)","v":""},{"$f":"IF(Blad1!Q205=\"\",\"\",Blad1!Q205)","v":""}]
[{"$f":"IF(Blad1!D206=\"\",\"\",Blad1!D206)","v":""},{"$f":"IF(Blad1!E206=\"\",\"\",Blad1!E206)","v":""},{"$f":"IF(Blad1!B206=\"\",\"\",Blad1!B206)","v":""},{"$f":"IF(Blad1!H206=\"\",\"\",Blad1!H206)","v":""},{"$f":"IF(Blad1!I206=\"\",\"\",Blad1!I206)","v":""},{"$f":"IF(Blad1!M206=\"\",\"\",Blad1!M206)","v":""},{"$f":"IF(Blad1!F206=\"\",\"\",Blad1!F206)","v":""},{"$f":"IF(Blad1!Q206=\"\",\"\",Blad1!Q206)","v":""}]
[{"$f":"IF(Blad1!D207=\"\",\"\",Blad1!D207)","v":""},{"$f":"IF(Blad1!E207=\"\",\"\",Blad1!E207)","v":""},{"$f":"IF(Blad1!B207=\"\",\"\",Blad1!B207)","v":""},{"$f":"IF(Blad1!H207=\"\",\"\",Blad1!H207)","v":""},{"$f":"IF(Blad1!I207=\"\",\"\",Blad1!I207)","v":""},{"$f":"IF(Blad1!M207=\"\",\"\",Blad1!M207)","v":""},{"$f":"IF(Blad1!F207=\"\",\"\",Blad1!F207)","v":""},{"$f":"IF(Blad1!Q207=\"\",\"\",Blad1!Q207)","v":""}]
[{"$f":"IF(Blad1!D208=\"\",\"\",Blad1!D208)","v":""},{"$f":"IF(Blad1!E208=\"\",\"\",Blad1!E208)","v":""},{"$f":"IF(Blad1!B208=\"\",\"\",Blad1!B208)","v":""},{"$f":"IF(Blad1!H208=\"\",\"\",Blad1!H208)","v":""},{"$f":"IF(Blad1!I208=\"\",\"\",Blad1!I208)","v":""},{"$f":"IF(Blad1!M208=\"\",\"\",Blad1!M208)","v":""},{"$f":"IF(Blad1!F208=\"\",\"\",Blad1!F208)","v":""},{"$f":"IF(Blad1!Q208=\"\",\"\",Blad1!Q208)","v":""}]
[{"$f":"IF(Blad1!D209=\"\",\"\",Blad1!D209)","v":""},{"$f":"IF(Blad1!E209=\"\",\"\",Blad1!E209)","v":""},{"$f":"IF(Blad1!B209=\"\",\"\",Blad1!B209)","v":""},{"$f":"IF(Blad1!H209=\"\",\"\",Blad1!H209)","v":""},{"$f":"IF(Blad1!I209=\"\",\"\",Blad1!I209)","v":""},{"$f":"IF(Blad1!M209=\"\",\"\",Blad1!M209)","v":""},{"$f":"IF(Blad1!F209=\"\",\"\",Blad1!F209)","v":""},{"$f":"IF(Blad1!Q209=\"\",\"\",Blad1!Q209)","v":""}]
[{"$f":"IF(Blad1!D210=\"\",\"\",Blad1!D210)","v":""},{"$f":"IF(Blad1!E210=\"\",\"\",Blad1!E210)","v":""},{"$f":"IF(Blad1!B210=\"\",\"\",Blad1!B210)","v":""},{"$f":"IF(Blad1!H210=\"\",\"\",Blad1!H210)","v":""},{"$f":"IF(Blad1!I210=\"\",\"\",Blad1!I210)","v":""},{"$f":"IF(Blad1!M210=\"\",\"\",Blad1!M210)","v":""},{"$f":"IF(Blad1!F210=\"\",\"\",Blad1!F210)","v":""},{"$f":"IF(Blad1!Q210=\"\",\"\",Blad1!Q210)","v":""}]
[{"$f":"IF(Blad1!D211=\"\",\"\",Blad1!D211)","v":""},{"$f":"IF(Blad1!E211=\"\",\"\",Blad1!E211)","v":""},{"$f":"IF(Blad1!B211=\"\",\"\",Blad1!B211)","v":""},{"$f":"IF(Blad1!H211=\"\",\"\",Blad1!H211)","v":""},{"$f":"IF(Blad1!I211=\"\",\"\",Blad1!I211)","v":""},{"$f":"IF(Blad1!M211=\"\",\"\",Blad1!M211)","v":""},{"$f":"IF(Blad1!F211=\"\",\"\",Blad1!F211)","v":""},{"$f":"IF(Blad1!Q211=\"\",\"\",Blad1!Q211)","v":""}]
[{"$f":"IF(Blad1!D212=\"\",\"\",Blad1!D212)","v":""},{"$f":"IF(Blad1!E212=\"\",\"\",Blad1!E212)","v":""},{"$f":"IF(Blad1!B212=\"\",\"\",Blad1!B212)","v":""},{"$f":"IF(Blad1!H212=\"\",\"\",Blad1!H212)","v":""},{"$f":"IF(Blad1!I212=\"\",\"\",Blad1!I212)","v":""},{"$f":"IF(Blad1!M212=\"\",\"\",Blad1!M212)","v":""},{"$f":"IF(Blad1!F212=\"\",\"\",Blad1!F212)","v":""},{"$f":"IF(Blad1!Q212=\"\",\"\",Blad1!Q212)","v":""}]
[{"$f":"IF(Blad1!D213=\"\",\"\",Blad1!D213)","v":""},{"$f":"IF(Blad1!E213=\"\",\"\",Blad1!E213)","v":""},{"$f":"IF(Blad1!B213=\"\",\"\",Blad1!B213)","v":""},{"$f":"IF(Blad1!H213=\"\",\"\",Blad1!H213)","v":""},{"$f":"IF(Blad1!I213=\"\",\"\",Blad1!I213)","v":""},{"$f":"IF(Blad1!M213=\"\",\"\",Blad1!M213)","v":""},{"$f":"IF(Blad1!F213=\"\",\"\",Blad1!F213)","v":""},{"$f":"IF(Blad1!Q213=\"\",\"\",Blad1!Q213)","v":""}]
[{"$f":"IF(Blad1!D214=\"\",\"\",Blad1!D214)","v":""},{"$f":"IF(Blad1!E214=\"\",\"\",Blad1!E214)","v":""},{"$f":"IF(Blad1!B214=\"\",\"\",Blad1!B214)","v":""},{"$f":"IF(Blad1!H214=\"\",\"\",Blad1!H214)","v":""},{"$f":"IF(Blad1!I214=\"\",\"\",Blad1!I214)","v":""},{"$f":"IF(Blad1!M214=\"\",\"\",Blad1!M214)","v":""},{"$f":"IF(Blad1!F214=\"\",\"\",Blad1!F214)","v":""},{"$f":"IF(Blad1!Q214=\"\",\"\",Blad1!Q214)","v":""}]
[{"$f":"IF(Blad1!D215=\"\",\"\",Blad1!D215)","v":""},{"$f":"IF(Blad1!E215=\"\",\"\",Blad1!E215)","v":""},{"$f":"IF(Blad1!B215=\"\",\"\",Blad1!B215)","v":""},{"$f":"IF(Blad1!H215=\"\",\"\",Blad1!H215)","v":""},{"$f":"IF(Blad1!I215=\"\",\"\",Blad1!I215)","v":""},{"$f":"IF(Blad1!M215=\"\",\"\",Blad1!M215)","v":""},{"$f":"IF(Blad1!F215=\"\",\"\",Blad1!F215)","v":""},{"$f":"IF(Blad1!Q215=\"\",\"\",Blad1!Q215)","v":""}]
[{"$f":"IF(Blad1!D216=\"\",\"\",Blad1!D216)","v":""},{"$f":"IF(Blad1!E216=\"\",\"\",Blad1!E216)","v":""},{"$f":"IF(Blad1!B216=\"\",\"\",Blad1!B216)","v":""},{"$f":"IF(Blad1!H216=\"\",\"\",Blad1!H216)","v":""},{"$f":"IF(Blad1!I216=\"\",\"\",Blad1!I216)","v":""},{"$f":"IF(Blad1!M216=\"\",\"\",Blad1!M216)","v":""},{"$f":"IF(Blad1!F216=\"\",\"\",Blad1!F216)","v":""},{"$f":"IF(Blad1!Q216=\"\",\"\",Blad1!Q216)","v":""}]
[{"$f":"IF(Blad1!D217=\"\",\"\",Blad1!D217)","v":""},{"$f":"IF(Blad1!E217=\"\",\"\",Blad1!E217)","v":""},{"$f":"IF(Blad1!B217=\"\",\"\",Blad1!B217)","v":""},{"$f":"IF(Blad1!H217=\"\",\"\",Blad1!H217)","v":""},{"$f":"IF(Blad1!I217=\"\",\"\",Blad1!I217)","v":""},{"$f":"IF(Blad1!M217=\"\",\"\",Blad1!M217)","v":""},{"$f":"IF(Blad1!F217=\"\",\"\",Blad1!F217)","v":""},{"$f":"IF(Blad1!Q217=\"\",\"\",Blad1!Q217)","v":""}]
[{"$f":"IF(Blad1!D218=\"\",\"\",Blad1!D218)","v":""},{"$f":"IF(Blad1!E218=\"\",\"\",Blad1!E218)","v":""},{"$f":"IF(Blad1!B218=\"\",\"\",Blad1!B218)","v":""},{"$f":"IF(Blad1!H218=\"\",\"\",Blad1!H218)","v":""},{"$f":"IF(Blad1!I218=\"\",\"\",Blad1!I218)","v":""},{"$f":"IF(Blad1!M218=\"\",\"\",Blad1!M218)","v":""},{"$f":"IF(Blad1!F218=\"\",\"\",Blad1!F218)","v":""},{"$f":"IF(Blad1!Q218=\"\",\"\",Blad1!Q218)","v":""}]
[{"$f":"IF(Blad1!D219=\"\",\"\",Blad1!D219)","v":""},{"$f":"IF(Blad1!E219=\"\",\"\",Blad1!E219)","v":""},{"$f":"IF(Blad1!B219=\"\",\"\",Blad1!B219)","v":""},{"$f":"IF(Blad1!H219=\"\",\"\",Blad1!H219)","v":""},{"$f":"IF(Blad1!I219=\"\",\"\",Blad1!I219)","v":""},{"$f":"IF(Blad1!M219=\"\",\"\",Blad1!M219)","v":""},{"$f":"IF(Blad1!F219=\"\",\"\",Blad1!F219)","v":""},{"$f":"IF(Blad1!Q219=\"\",\"\",Blad1!Q219)","v":""}]
[{"$f":"IF(Blad1!D220=\"\",\"\",Blad1!D220)","v":""},{"$f":"IF(Blad1!E220=\"\",\"\",Blad1!E220)","v":""},{"$f":"IF(Blad1!B220=\"\",\"\",Blad1!B220)","v":""},{"$f":"IF(Blad1!H220=\"\",\"\",Blad1!H220)","v":""},{"$f":"IF(Blad1!I220=\"\",\"\",Blad1!I220)","v":""},{"$f":"IF(Blad1!M220=\"\",\"\",Blad1!M220)","v":""},{"$f":"IF(Blad1!F220=\"\",\"\",Blad1!F220)","v":""},{"$f":"IF(Blad1!Q220=\"\",\"\",Blad1!Q220)","v":""}]
[{"$f":"IF(Blad1!D221=\"\",\"\",Blad1!D221)","v":""},{"$f":"IF(Blad1!E221=\"\",\"\",Blad1!E221)","v":""},{"$f":"IF(Blad1!B221=\"\",\"\",Blad1!B221)","v":""},{"$f":"IF(Blad1!H221=\"\",\"\",Blad1!H221)","v":""},{"$f":"IF(Blad1!I221=\"\",\"\",Blad1!I221)","v":""},{"$f":"IF(Blad1!M221=\"\",\"\",Blad1!M221)","v":""},{"$f":"IF(Blad1!F221=\"\",\"\",Blad1!F221)","v":""},{"$f":"IF(Blad1!Q221=\"\",\"\",Blad1!Q221)","v":""}]
[{"$f":"IF(Blad1!D222=\"\",\"\",Blad1!D222)","v":""},{"$f":"IF(Blad1!E222=\"\",\"\",Blad1!E222)","v":""},{"$f":"IF(Blad1!B222=\"\",\"\",Blad1!B222)","v":""},{"$f":"IF(Blad1!H222=\"\",\"\",Blad1!H222)","v":""},{"$f":"IF(Blad1!I222=\"\",\"\",Blad1!I222)","v":""},{"$f":"IF(Blad1!M222=\"\",\"\",Blad1!M222)","v":""},{"$f":"IF(Blad1!F222=\"\",\"\",Blad1!F222)","v":""},{"$f":"IF(Blad1!Q222=\"\",\"\",Blad1!Q222)","v":""}]
[{"$f":"IF(Blad1!D223=\"\",\"\",Blad1!D223)","v":""},{"$f":"IF(Blad1!E223=\"\",\"\",Blad1!E223)","v":""},{"$f":"IF(Blad1!B223=\"\",\"\",Blad1!B223)","v":""},{"$f":"IF(Blad1!H223=\"\",\"\",Blad1!H223)","v":""},{"$f":"IF(Blad1!I223=\"\",\"\",Blad1!I223)","v":""},{"$f":"IF(Blad1!M223=\"\",\"\",Blad1!M223)","v":""},{"$f":"IF(Blad1!F223=\"\",\"\",Blad1!F223)","v":""},{"$f":"IF(Blad1!Q223=\"\",\"\",Blad1!Q223)","v":""}]
[{"$f":"IF(Blad1!D224=\"\",\"\",Blad1!D224)","v":""},{"$f":"IF(Blad1!E224=\"\",\"\",Blad1!E224)","v":""},{"$f":"IF(Blad1!B224=\"\",\"\",Blad1!B224)","v":""},{"$f":"IF(Blad1!H224=\"\",\"\",Blad1!H224)","v":""},{"$f":"IF(Blad1!I224=\"\",\"\",Blad1!I224)","v":""},{"$f":"IF(Blad1!M224=\"\",\"\",Blad1!M224)","v":""},{"$f":"IF(Blad1!F224=\"\",\"\",Blad1!F224)","v":""},{"$f":"IF(Blad1!Q224=\"\",\"\",Blad1!Q224)","v":""}]
[{"$f":"IF(Blad1!D225=\"\",\"\",Blad1!D225)","v":""},{"$f":"IF(Blad1!E225=\"\",\"\",Blad1!E225)","v":""},{"$f":"IF(Blad1!B225=\"\",\"\",Blad1!B225)","v":""},{"$f":"IF(Blad1!H225=\"\",\"\",Blad1!H225)","v":""},{"$f":"IF(Blad1!I225=\"\",\"\",Blad1!I225)","v":""},{"$f":"IF(Blad1!M225=\"\",\"\",Blad1!M225)","v":""},{"$f":"IF(Blad1!F225=\"\",\"\",Blad1!F225)","v":""},{"$f":"IF(Blad1!Q225=\"\",\"\",Blad1!Q225)","v":""}]
[{"$f":"IF(Blad1!D226=\"\",\"\",Blad1!D226)","v":""},{"$f":"IF(Blad1!E226=\"\",\"\",Blad1!E226)","v":""},{"$f":"IF(Blad1!B226=\"\",\"\",Blad1!B226)","v":""},{"$f":"IF(Blad1!H226=\"\",\"\",Blad1!H226)","v":""},{"$f":"IF(Blad1!I226=\"\",\"\",Blad1!I226)","v":""},{"$f":"IF(Blad1!M226=\"\",\"\",Blad1!M226)","v":""},{"$f":"IF(Blad1!F226=\"\",\"\",Blad1!F226)","v":""},{"$f":"IF(Blad1!Q226=\"\",\"\",Blad1!Q226)","v":""}]
[{"$f":"IF(Blad1!D227=\"\",\"\",Blad1!D227)","v":""},{"$f":"IF(Blad1!E227=\"\",\"\",Blad1!E227)","v":""},{"$f":"IF(Blad1!B227=\"\",\"\",Blad1!B227)","v":""},{"$f":"IF(Blad1!H227=\"\",\"\",Blad1!H227)","v":""},{"$f":"IF(Blad1!I227=\"\",\"\",Blad1!I227)","v":""},{"$f":"IF(Blad1!M227=\"\",\"\",Blad1!M227)","v":""},{"$f":"IF(Blad1!F227=\"\",\"\",Blad1!F227)","v":""},{"$f":"IF(Blad1!Q227=\"\",\"\",Blad1!Q227)","v":""}]
[{"$f":"IF(Blad1!D228=\"\",\"\",Blad1!D228)","v":""},{"$f":"IF(Blad1!E228=\"\",\"\",Blad1!E228)","v":""},{"$f":"IF(Blad1!B228=\"\",\"\",Blad1!B228)","v":""},{"$f":"IF(Blad1!H228=\"\",\"\",Blad1!H228)","v":""},{"$f":"IF(Blad1!I228=\"\",\"\",Blad1!I228)","v":""},{"$f":"IF(Blad1!M228=\"\",\"\",Blad1!M228)","v":""},{"$f":"IF(Blad1!F228=\"\",\"\",Blad1!F228)","v":""},{"$f":"IF(Blad1!Q228=\"\",\"\",Blad1!Q228)","v":""}]
[{"$f":"IF(Blad1!D229=\"\",\"\",Blad1!D229)","v":""},{"$f":"IF(Blad1!E229=\"\",\"\",Blad1!E229)","v":""},{"$f":"IF(Blad1!B229=\"\",\"\",Blad1!B229)","v":""},{"$f":"IF(Blad1!H229=\"\",\"\",Blad1!H229)","v":""},{"$f":"IF(Blad1!I229=\"\",\"\",Blad1!I229)","v":""},{"$f":"IF(Blad1!M229=\"\",\"\",Blad1!M229)","v":""},{"$f":"IF(Blad1!F229=\"\",\"\",Blad1!F229)","v":""},{"$f":"IF(Blad1!Q229=\"\",\"\",Blad1!Q229)","v":""}]
[{"$f":"IF(Blad1!D230=\"\",\"\",Blad1!D230)","v":""},{"$f":"IF(Blad1!E230=\"\",\"\",Blad1!E230)","v":""},{"$f":"IF(Blad1!B230=\"\",\"\",Blad1!B230)","v":""},{"$f":"IF(Blad1!H230=\"\",\"\",Blad1!H230)","v":""},{"$f":"IF(Blad1!I230=\"\",\"\",Blad1!I230)","v":""},{"$f":"IF(Blad1!M230=\"\",\"\",Blad1!M230)","v":""},{"$f":"IF(Blad1!F230=\"\",\"\",Blad1!F230)","v":""},{"$f":"IF(Blad1!Q230=\"\",\"\",Blad1!Q230)","v":""}]
[{"$f":"IF(Blad1!D231=\"\",\"\",Blad1!D231)","v":""},{"$f":"IF(Blad1!E231=\"\",\"\",Blad1!E231)","v":""},{"$f":"IF(Blad1!B231=\"\",\"\",Blad1!B231)","v":""},{"$f":"IF(Blad1!H231=\"\",\"\",Blad1!H231)","v":""},{"$f":"IF(Blad1!I231=\"\",\"\",Blad1!I231)","v":""},{"$f":"IF(Blad1!M231=\"\",\"\",Blad1!M231)","v":""},{"$f":"IF(Blad1!F231=\"\",\"\",Blad1!F231)","v":""},{"$f":"IF(Blad1!Q231=\"\",\"\",Blad1!Q231)","v":""}]
[{"$f":"IF(Blad1!D232=\"\",\"\",Blad1!D232)","v":""},{"$f":"IF(Blad1!E232=\"\",\"\",Blad1!E232)","v":""},{"$f":"IF(Blad1!B232=\"\",\"\",Blad1!B232)","v":""},{"$f":"IF(Blad1!H232=\"\",\"\",Blad1!H232)","v":""},{"$f":"IF(Blad1!I232=\"\",\"\",Blad1!I232)","v":""},{"$f":"IF(Blad1!M232=\"\",\"\",Blad1!M232)","v":""},{"$f":"IF(Blad1!F232=\"\",\"\",Blad1!F232)","v":""},{"$f":"IF(Blad1!Q232=\"\",\"\",Blad1!Q232)","v":""}]
[{"$f":"IF(Blad1!D233=\"\",\"\",Blad1!D233)","v":""},{"$f":"IF(Blad1!E233=\"\",\"\",Blad1!E233)","v":""},{"$f":"IF(Blad1!B233=\"\",\"\",Blad1!B233)","v":""},{"$f":"IF(Blad1!H233=\"\",\"\",Blad1!H233)","v":""},{"$f":"IF(Blad1!I233=\"\",\"\",Blad1!I233)","v":""},{"$f":"IF(Blad1!M233=\"\",\"\",Blad1!M233)","v":""},{"$f":"IF(Blad1!F233=\"\",\"\",Blad1!F233)","v":""},{"$f":"IF(Blad1!Q233=\"\",\"\",Blad1!Q233)","v":""}]
[{"$f":"IF(Blad1!D234=\"\",\"\",Blad1!D234)","v":""},{"$f":"IF(Blad1!E234=\"\",\"\",Blad1!E234)","v":""},{"$f":"IF(Blad1!B234=\"\",\"\",Blad1!B234)","v":""},{"$f":"IF(Blad1!H234=\"\",\"\",Blad1!H234)","v":""},{"$f":"IF(Blad1!I234=\"\",\"\",Blad1!I234)","v":""},{"$f":"IF(Blad1!M234=\"\",\"\",Blad1!M234)","v":""},{"$f":"IF(Blad1!F234=\"\",\"\",Blad1!F234)","v":""},{"$f":"IF(Blad1!Q234=\"\",\"\",Blad1!Q234)","v":""}]
[{"$f":"IF(Blad1!D235=\"\",\"\",Blad1!D235)","v":""},{"$f":"IF(Blad1!E235=\"\",\"\",Blad1!E235)","v":""},{"$f":"IF(Blad1!B235=\"\",\"\",Blad1!B235)","v":""},{"$f":"IF(Blad1!H235=\"\",\"\",Blad1!H235)","v":""},{"$f":"IF(Blad1!I235=\"\",\"\",Blad1!I235)","v":""},{"$f":"IF(Blad1!M235=\"\",\"\",Blad1!M235)","v":""},{"$f":"IF(Blad1!F235=\"\",\"\",Blad1!F235)","v":""},{"$f":"IF(Blad1!Q235=\"\",\"\",Blad1!Q235)","v":""}]
[{"$f":"IF(Blad1!D236=\"\",\"\",Blad1!D236)","v":""},{"$f":"IF(Blad1!E236=\"\",\"\",Blad1!E236)","v":""},{"$f":"IF(Blad1!B236=\"\",\"\",Blad1!B236)","v":""},{"$f":"IF(Blad1!H236=\"\",\"\",Blad1!H236)","v":""},{"$f":"IF(Blad1!I236=\"\",\"\",Blad1!I236)","v":""},{"$f":"IF(Blad1!M236=\"\",\"\",Blad1!M236)","v":""},{"$f":"IF(Blad1!F236=\"\",\"\",Blad1!F236)","v":""},{"$f":"IF(Blad1!Q236=\"\",\"\",Blad1!Q236)","v":""}]
[{"$f":"IF(Blad1!D237=\"\",\"\",Blad1!D237)","v":""},{"$f":"IF(Blad1!E237=\"\",\"\",Blad1!E237)","v":""},{"$f":"IF(Blad1!B237=\"\",\"\",Blad1!B237)","v":""},{"$f":"IF(Blad1!H237=\"\",\"\",Blad1!H237)","v":""},{"$f":"IF(Blad1!I237=\"\",\"\",Blad1!I237)","v":""},{"$f":"IF(Blad1!M237=\"\",\"\",Blad1!M237)","v":""},{"$f":"IF(Blad1!F237=\"\",\"\",Blad1!F237)","v":""},{"$f":"IF(Blad1!Q237=\"\",\"\",Blad1!Q237)","v":""}]
[{"$f":"IF(Blad1!D238=\"\",\"\",Blad1!D238)","v":""},{"$f":"IF(Blad1!E238=\"\",\"\",Blad1!E238)","v":""},{"$f":"IF(Blad1!B238=\"\",\"\",Blad1!B238)","v":""},{"$f":"IF(Blad1!H238=\"\",\"\",Blad1!H238)","v":""},{"$f":"IF(Blad1!I238=\"\",\"\",Blad1!I238)","v":""},{"$f":"IF(Blad1!M238=\"\",\"\",Blad1!M238)","v":""},{"$f":"IF(Blad1!F238=\"\",\"\",Blad1!F238)","v":""},{"$f":"IF(Blad1!Q238=\"\",\"\",Blad1!Q238)","v":""}]
[{"$f":"IF(Blad1!D239=\"\",\"\",Blad1!D239)","v":""},{"$f":"IF(Blad1!E239=\"\",\"\",Blad1!E239)","v":""},{"$f":"IF(Blad1!B239=\"\",\"\",Blad1!B239)","v":""},{"$f":"IF(Blad1!H239=\"\",\"\",Blad1!H239)","v":""},{"$f":"IF(Blad1!I239=\"\",\"\",Blad1!I239)","v":""},{"$f":"IF(Blad1!M239=\"\",\"\",Blad1!M239)","v":""},{"$f":"IF(Blad1!F239=\"\",\"\",Blad1!F239)","v":""},{"$f":"IF(Blad1!Q239=\"\",\"\",Blad1!Q239)","v":""}]
[{"$f":"IF(Blad1!D240=\"\",\"\",Blad1!D240)","v":""},{"$f":"IF(Blad1!E240=\"\",\"\",Blad1!E240)","v":""},{"$f":"IF(Blad1!B240=\"\",\"\",Blad1!B240)","v":""},{"$f":"IF(Blad1!H240=\"\",\"\",Blad1!H240)","v":""},{"$f":"IF(Blad1!I240=\"\",\"\",Blad1!I240)","v":""},{"$f":"IF(Blad1!M240=\"\",\"\",Blad1!M240)","v":""},{"$f":"IF(Blad1!F240=\"\",\"\",Blad1!F240)","v":""},{"$f":"IF(Blad1!Q240=\"\",\"\",Blad1!Q240)","v":""}]
[{"$f":"IF(Blad1!D241=\"\",\"\",Blad1!D241)","v":""},{"$f":"IF(Blad1!E241=\"\",\"\",Blad1!E241)","v":""},{"$f":"IF(Blad1!B241=\"\",\"\",Blad1!B241)","v":""},{"$f":"IF(Blad1!H241=\"\",\"\",Blad1!H241)","v":""},{"$f":"IF(Blad1!I241=\"\",\"\",Blad1!I241)","v":""},{"$f":"IF(Blad1!M241=\"\",\"\",Blad1!M241)","v":""},{"$f":"IF(Blad1!F241=\"\",\"\",Blad1!F241)","v":""},{"$f":"IF(Blad1!Q241=\"\",\"\",Blad1!Q241)","v":""}]
[{"$f":"IF(Blad1!D242=\"\",\"\",Blad1!D242)","v":""},{"$f":"IF(Blad1!E242=\"\",\"\",Blad1!E242)","v":""},{"$f":"IF(Blad1!B242=\"\",\"\",Blad1!B242)","v":""},{"$f":"IF(Blad1!H242=\"\",\"\",Blad1!H242)","v":""},{"$f":"IF(Blad1!I242=\"\",\"\",Blad1!I242)","v":""},{"$f":"IF(Blad1!M242=\"\",\"\",Blad1!M242)","v":""},{"$f":"IF(Blad1!F242=\"\",\"\",Blad1!F242)","v":""},{"$f":"IF(Blad1!Q242=\"\",\"\",Blad1!Q242)","v":""}]
[{"$f":"IF(Blad1!D243=\"\",\"\",Blad1!D243)","v":""},{"$f":"IF(Blad1!E243=\"\",\"\",Blad1!E243)","v":""},{"$f":"IF(Blad1!B243=\"\",\"\",Blad1!B243)","v":""},{"$f":"IF(Blad1!H243=\"\",\"\",Blad1!H243)","v":""},{"$f":"IF(Blad1!I243=\"\",\"\",Blad1!I243)","v":""},{"$f":"IF(Blad1!M243=\"\",\"\",Blad1!M243)","v":""},{"$f":"IF(Blad1!F243=\"\",\"\",Blad1!F243)","v":""},{"$f":"IF(Blad1!Q243=\"\",\"\",Blad1!Q243)","v":""}]
[{"$f":"IF(Blad1!D244=\"\",\"\",Blad1!D244)","v":""},{"$f":"IF(Blad1!E244=\"\",\"\",Blad1!E244)","v":""},{"$f":"IF(Blad1!B244=\"\",\"\",Blad1!B244)","v":""},{"$f":"IF(Blad1!H244=\"\",\"\",Blad1!H244)","v":""},{"$f":"IF(Blad1!I244=\"\",\"\",Blad1!I244)","v":""},{"$f":"IF(Blad1!M244=\"\",\"\",Blad1!M244)","v":""},{"$f":"IF(Blad1!F244=\"\",\"\",Blad1!F244)","v":""},{"$f":"IF(Blad1!Q244=\"\",\"\",Blad1!Q244)","v":""}]
[{"$f":"IF(Blad1!D245=\"\",\"\",Blad1!D245)","v":""},{"$f":"IF(Blad1!E245=\"\",\"\",Blad1!E245)","v":""},{"$f":"IF(Blad1!B245=\"\",\"\",Blad1!B245)","v":""},{"$f":"IF(Blad1!H245=\"\",\"\",Blad1!H245)","v":""},{"$f":"IF(Blad1!I245=\"\",\"\",Blad1!I245)","v":""},{"$f":"IF(Blad1!M245=\"\",\"\",Blad1!M245)","v":""},{"$f":"IF(Blad1!F245=\"\",\"\",Blad1!F245)","v":""},{"$f":"IF(Blad1!Q245=\"\",\"\",Blad1!Q245)","v":""}]
[{"$f":"IF(Blad1!D246=\"\",\"\",Blad1!D246)","v":""},{"$f":"IF(Blad1!E246=\"\",\"\",Blad1!E246)","v":""},{"$f":"IF(Blad1!B246=\"\",\"\",Blad1!B246)","v":""},{"$f":"IF(Blad1!H246=\"\",\"\",Blad1!H246)","v":""},{"$f":"IF(Blad1!I246=\"\",\"\",Blad1!I246)","v":""},{"$f":"IF(Blad1!M246=\"\",\"\",Blad1!M246)","v":""},{"$f":"IF(Blad1!F246=\"\",\"\",Blad1!F246)","v":""},{"$f":"IF(Blad1!Q246=\"\",\"\",Blad1!Q246)","v":""}]
[{"$f":"IF(Blad1!D247=\"\",\"\",Blad1!D247)","v":""},{"$f":"IF(Blad1!E247=\"\",\"\",Blad1!E247)","v":""},{"$f":"IF(Blad1!B247=\"\",\"\",Blad1!B247)","v":""},{"$f":"IF(Blad1!H247=\"\",\"\",Blad1!H247)","v":""},{"$f":"IF(Blad1!I247=\"\",\"\",Blad1!I247)","v":""},{"$f":"IF(Blad1!M247=\"\",\"\",Blad1!M247)","v":""},{"$f":"IF(Blad1!F247=\"\",\"\",Blad1!F247)","v":""},{"$f":"IF(Blad1!Q247=\"\",\"\",Blad1!Q247)","v":""}]
[{"$f":"IF(Blad1!D248=\"\",\"\",Blad1!D248)","v":""},{"$f":"IF(Blad1!E248=\"\",\"\",Blad1!E248)","v":""},{"$f":"IF(Blad1!B248=\"\",\"\",Blad1!B248)","v":""},{"$f":"IF(Blad1!H248=\"\",\"\",Blad1!H248)","v":""},{"$f":"IF(Blad1!I248=\"\",\"\",Blad1!I248)","v":""},{"$f":"IF(Blad1!M248=\"\",\"\",Blad1!M248)","v":""},{"$f":"IF(Blad1!F248=\"\",\"\",Blad1!F248)","v":""},{"$f":"IF(Blad1!Q248=\"\",\"\",Blad1!Q248)","v":""}]
[{"$f":"IF(Blad1!D249=\"\",\"\",Blad1!D249)","v":""},{"$f":"IF(Blad1!E249=\"\",\"\",Blad1!E249)","v":""},{"$f":"IF(Blad1!B249=\"\",\"\",Blad1!B249)","v":""},{"$f":"IF(Blad1!H249=\"\",\"\",Blad1!H249)","v":""},{"$f":"IF(Blad1!I249=\"\",\"\",Blad1!I249)","v":""},{"$f":"IF(Blad1!M249=\"\",\"\",Blad1!M249)","v":""},{"$f":"IF(Blad1!F249=\"\",\"\",Blad1!F249)","v":""},{"$f":"IF(Blad1!Q249=\"\",\"\",Blad1!Q249)","v":""}]
[{"$f":"IF(Blad1!D250=\"\",\"\",Blad1!D250)","v":""},{"$f":"IF(Blad1!E250=\"\",\"\",Blad1!E250)","v":""},{"$f":"IF(Blad1!B250=\"\",\"\",Blad1!B250)","v":""},{"$f":"IF(Blad1!H250=\"\",\"\",Blad1!H250)","v":""},{"$f":"IF(Blad1!I250=\"\",\"\",Blad1!I250)","v":""},{"$f":"IF(Blad1!M250=\"\",\"\",Blad1!M250)","v":""},{"$f":"IF(Blad1!F250=\"\",\"\",Blad1!F250)","v":""},{"$f":"IF(Blad1!Q250=\"\",\"\",Blad1!Q250)","v":""}]
[{"$f":"IF(Blad1!D251=\"\",\"\",Blad1!D251)","v":""},{"$f":"IF(Blad1!E251=\"\",\"\",Blad1!E251)","v":""},{"$f":"IF(Blad1!B251=\"\",\"\",Blad1!B251)","v":""},{"$f":"IF(Blad1!H251=\"\",\"\",Blad1!H251)","v":""},{"$f":"IF(Blad1!I251=\"\",\"\",Blad1!I251)","v":""},{"$f":"IF(Blad1!M251=\"\",\"\",Blad1!M251)","v":""},{"$f":"IF(Blad1!F251=\"\",\"\",Blad1!F251)","v":""},{"$f":"IF(Blad1!Q251=\"\",\"\",Blad1!Q251)","v":""}]
[{"$f":"IF(Blad1!D252=\"\",\"\",Blad1!D252)","v":""},{"$f":"IF(Blad1!E252=\"\",\"\",Blad1!E252)","v":""},{"$f":"IF(Blad1!B252=\"\",\"\",Blad1!B252)","v":""},{"$f":"IF(Blad1!H252=\"\",\"\",Blad1!H252)","v":""},{"$f":"IF(Blad1!I252=\"\",\"\",Blad1!I252)","v":""},{"$f":"IF(Blad1!M252=\"\",\"\",Blad1!M252)","v":""},{"$f":"IF(Blad1!F252=\"\",\"\",Blad1!F252)","v":""},{"$f":"IF(Blad1!Q252=\"\",\"\",Blad1!Q252)","v":""}]
[{"$f":"IF(Blad1!D253=\"\",\"\",Blad1!D253)","v":""},{"$f":"IF(Blad1!E253=\"\",\"\",Blad1!E253)","v":""},{"$f":"IF(Blad1!B253=\"\",\"\",Blad1!B253)","v":""},{"$f":"IF(Blad1!H253=\"\",\"\",Blad1!H253)","v":""},{"$f":"IF(Blad1!I253=\"\",\"\",Blad1!I253)","v":""},{"$f":"IF(Blad1!M253=\"\",\"\",Blad1!M253)","v":""},{"$f":"IF(Blad1!F253=\"\",\"\",Blad1!F253)","v":""},{"$f":"IF(Blad1!Q253=\"\",\"\",Blad1!Q253)","v":""}]
[{"$f":"IF(Blad1!D254=\"\",\"\",Blad1!D254)","v":""},{"$f":"IF(Blad1!E254=\"\",\"\",Blad1!E254)","v":""},{"$f":"IF(Blad1!B254=\"\",\"\",Blad1!B254)","v":""},{"$f":"IF(Blad1!H254=\"\",\"\",Blad1!H254)","v":""},{"$f":"IF(Blad1!I254=\"\",\"\",Blad1!I254)","v":""},{"$f":"IF(Blad1!M254=\"\",\"\",Blad1!M254)","v":""},{"$f":"IF(Blad1!F254=\"\",\"\",Blad1!F254)","v":""},{"$f":"IF(Blad1!Q254=\"\",\"\",Blad1!Q254)","v":""}]
[{"$f":"IF(Blad1!D255=\"\",\"\",Blad1!D255)","v":""},{"$f":"IF(Blad1!E255=\"\",\"\",Blad1!E255)","v":""},{"$f":"IF(Blad1!B255=\"\",\"\",Blad1!B255)","v":""},{"$f":"IF(Blad1!H255=\"\",\"\",Blad1!H255)","v":""},{"$f":"IF(Blad1!I255=\"\",\"\",Blad1!I255)","v":""},{"$f":"IF(Blad1!M255=\"\",\"\",Blad1!M255)","v":""},{"$f":"IF(Blad1!F255=\"\",\"\",Blad1!F255)","v":""},{"$f":"IF(Blad1!Q255=\"\",\"\",Blad1!Q255)","v":""}]
[{"$f":"IF(Blad1!D256=\"\",\"\",Blad1!D256)","v":""},{"$f":"IF(Blad1!E256=\"\",\"\",Blad1!E256)","v":""},{"$f":"IF(Blad1!B256=\"\",\"\",Blad1!B256)","v":""},{"$f":"IF(Blad1!H256=\"\",\"\",Blad1!H256)","v":""},{"$f":"IF(Blad1!I256=\"\",\"\",Blad1!I256)","v":""},{"$f":"IF(Blad1!M256=\"\",\"\",Blad1!M256)","v":""},{"$f":"IF(Blad1!F256=\"\",\"\",Blad1!F256)","v":""},{"$f":"IF(Blad1!Q256=\"\",\"\",Blad1!Q256)","v":""}]
[{"$f":"IF(Blad1!D257=\"\",\"\",Blad1!D257)","v":""},{"$f":"IF(Blad1!E257=\"\",\"\",Blad1!E257)","v":""},{"$f":"IF(Blad1!B257=\"\",\"\",Blad1!B257)","v":""},{"$f":"IF(Blad1!H257=\"\",\"\",Blad1!H257)","v":""},{"$f":"IF(Blad1!I257=\"\",\"\",Blad1!I257)","v":""},{"$f":"IF(Blad1!M257=\"\",\"\",Blad1!M257)","v":""},{"$f":"IF(Blad1!F257=\"\",\"\",Blad1!F257)","v":""},{"$f":"IF(Blad1!Q257=\"\",\"\",Blad1!Q257)","v":""}]
[{"$f":"IF(Blad1!D258=\"\",\"\",Blad1!D258)","v":""},{"$f":"IF(Blad1!E258=\"\",\"\",Blad1!E258)","v":""},{"$f":"IF(Blad1!B258=\"\",\"\",Blad1!B258)","v":""},{"$f":"IF(Blad1!H258=\"\",\"\",Blad1!H258)","v":""},{"$f":"IF(Blad1!I258=\"\",\"\",Blad1!I258)","v":""},{"$f":"IF(Blad1!M258=\"\",\"\",Blad1!M258)","v":""},{"$f":"IF(Blad1!F258=\"\",\"\",Blad1!F258)","v":""},{"$f":"IF(Blad1!Q258=\"\",\"\",Blad1!Q258)","v":""}]
[{"$f":"IF(Blad1!D259=\"\",\"\",Blad1!D259)","v":""},{"$f":"IF(Blad1!E259=\"\",\"\",Blad1!E259)","v":""},{"$f":"IF(Blad1!B259=\"\",\"\",Blad1!B259)","v":""},{"$f":"IF(Blad1!H259=\"\",\"\",Blad1!H259)","v":""},{"$f":"IF(Blad1!I259=\"\",\"\",Blad1!I259)","v":""},{"$f":"IF(Blad1!M259=\"\",\"\",Blad1!M259)","v":""},{"$f":"IF(Blad1!F259=\"\",\"\",Blad1!F259)","v":""},{"$f":"IF(Blad1!Q259=\"\",\"\",Blad1!Q259)","v":""}]
[{"$f":"IF(Blad1!D260=\"\",\"\",Blad1!D260)","v":""},{"$f":"IF(Blad1!E260=\"\",\"\",Blad1!E260)","v":""},{"$f":"IF(Blad1!B260=\"\",\"\",Blad1!B260)","v":""},{"$f":"IF(Blad1!H260=\"\",\"\",Blad1!H260)","v":""},{"$f":"IF(Blad1!I260=\"\",\"\",Blad1!I260)","v":""},{"$f":"IF(Blad1!M260=\"\",\"\",Blad1!M260)","v":""},{"$f":"IF(Blad1!F260=\"\",\"\",Blad1!F260)","v":""},{"$f":"IF(Blad1!Q260=\"\",\"\",Blad1!Q260)","v":""}]
[{"$f":"IF(Blad1!D261=\"\",\"\",Blad1!D261)","v":""},{"$f":"IF(Blad1!E261=\"\",\"\",Blad1!E261)","v":""},{"$f":"IF(Blad1!B261=\"\",\"\",Blad1!B261)","v":""},{"$f":"IF(Blad1!H261=\"\",\"\",Blad1!H261)","v":""},{"$f":"IF(Blad1!I261=\"\",\"\",Blad1!I261)","v":""},{"$f":"IF(Blad1!M261=\"\",\"\",Blad1!M261)","v":""},{"$f":"IF(Blad1!F261=\"\",\"\",Blad1!F261)","v":""},{"$f":"IF(Blad1!Q261=\"\",\"\",Blad1!Q261)","v":""}]
[{"$f":"IF(Blad1!D262=\"\",\"\",Blad1!D262)","v":""},{"$f":"IF(Blad1!E262=\"\",\"\",Blad1!E262)","v":""},{"$f":"IF(Blad1!B262=\"\",\"\",Blad1!B262)","v":""},{"$f":"IF(Blad1!H262=\"\",\"\",Blad1!H262)","v":""},{"$f":"IF(Blad1!I262=\"\",\"\",Blad1!I262)","v":""},{"$f":"IF(Blad1!M262=\"\",\"\",Blad1!M262)","v":""},{"$f":"IF(Blad1!F262=\"\",\"\",Blad1!F262)","v":""},{"$f":"IF(Blad1!Q262=\"\",\"\",Blad1!Q262)","v":""}]
[{"$f":"IF(Blad1!D263=\"\",\"\",Blad1!D263)","v":""},{"$f":"IF(Blad1!E263=\"\",\"\",Blad1!E263)","v":""},{"$f":"IF(Blad1!B263=\"\",\"\",Blad1!B263)","v":""},{"$f":"IF(Blad1!H263=\"\",\"\",Blad1!H263)","v":""},{"$f":"IF(Blad1!I263=\"\",\"\",Blad1!I263)","v":""},{"$f":"IF(Blad1!M263=\"\",\"\",Blad1!M263)","v":""},{"$f":"IF(Blad1!F263=\"\",\"\",Blad1!F263)","v":""},{"$f":"IF(Blad1!Q263=\"\",\"\",Blad1!Q263)","v":""}]
[{"$f":"IF(Blad1!D264=\"\",\"\",Blad1!D264)","v":""},{"$f":"IF(Blad1!E264=\"\",\"\",Blad1!E264)","v":""},{"$f":"IF(Blad1!B264=\"\",\"\",Blad1!B264)","v":""},{"$f":"IF(Blad1!H264=\"\",\"\",Blad1!H264)","v":""},{"$f":"IF(Blad1!I264=\"\",\"\",Blad1!I264)","v":""},{"$f":"IF(Blad1!M264=\"\",\"\",Blad1!M264)","v":""},{"$f":"IF(Blad1!F264=\"\",\"\",Blad1!F264)","v":""},{"$f":"IF(Blad1!Q264=\"\",\"\",Blad1!Q264)","v":""}]
[{"$f":"IF(Blad1!D265=\"\",\"\",Blad1!D265)","v":""},{"$f":"IF(Blad1!E265=\"\",\"\",Blad1!E265)","v":""},{"$f":"IF(Blad1!B265=\"\",\"\",Blad1!B265)","v":""},{"$f":"IF(Blad1!H265=\"\",\"\",Blad1!H265)","v":""},{"$f":"IF(Blad1!I265=\"\",\"\",Blad1!I265)","v":""},{"$f":"IF(Blad1!M265=\"\",\"\",Blad1!M265)","v":""},{"$f":"IF(Blad1!F265=\"\",\"\",Blad1!F265)","v":""},{"$f":"IF(Blad1!Q265=\"\",\"\",Blad1!Q265)","v":""}]
[{"$f":"IF(Blad1!D266=\"\",\"\",Blad1!D266)","v":""},{"$f":"IF(Blad1!E266=\"\",\"\",Blad1!E266)","v":""},{"$f":"IF(Blad1!B266=\"\",\"\",Blad1!B266)","v":""},{"$f":"IF(Blad1!H266=\"\",\"\",Blad1!H266)","v":""},{"$f":"IF(Blad1!I266=\"\",\"\",Blad1!I266)","v":""},{"$f":"IF(Blad1!M266=\"\",\"\",Blad1!M266)","v":""},{"$f":"IF(Blad1!F266=\"\",\"\",Blad1!F266)","v":""},{"$f":"IF(Blad1!Q266=\"\",\"\",Blad1!Q266)","v":""}]
[{"$f":"IF(Blad1!D267=\"\",\"\",Blad1!D267)","v":""},{"$f":"IF(Blad1!E267=\"\",\"\",Blad1!E267)","v":""},{"$f":"IF(Blad1!B267=\"\",\"\",Blad1!B267)","v":""},{"$f":"IF(Blad1!H267=\"\",\"\",Blad1!H267)","v":""},{"$f":"IF(Blad1!I267=\"\",\"\",Blad1!I267)","v":""},{"$f":"IF(Blad1!M267=\"\",\"\",Blad1!M267)","v":""},{"$f":"IF(Blad1!F267=\"\",\"\",Blad1!F267)","v":""},{"$f":"IF(Blad1!Q267=\"\",\"\",Blad1!Q267)","v":""}]
[{"$f":"IF(Blad1!D268=\"\",\"\",Blad1!D268)","v":""},{"$f":"IF(Blad1!E268=\"\",\"\",Blad1!E268)","v":""},{"$f":"IF(Blad1!B268=\"\",\"\",Blad1!B268)","v":""},{"$f":"IF(Blad1!H268=\"\",\"\",Blad1!H268)","v":""},{"$f":"IF(Blad1!I268=\"\",\"\",Blad1!I268)","v":""},{"$f":"IF(Blad1!M268=\"\",\"\",Blad1!M268)","v":""},{"$f":"IF(Blad1!F268=\"\",\"\",Blad1!F268)","v":""},{"$f":"IF(Blad1!Q268=\"\",\"\",Blad1!Q268)","v":""}]
[{"$f":"IF(Blad1!D269=\"\",\"\",Blad1!D269)","v":""},{"$f":"IF(Blad1!E269=\"\",\"\",Blad1!E269)","v":""},{"$f":"IF(Blad1!B269=\"\",\"\",Blad1!B269)","v":""},{"$f":"IF(Blad1!H269=\"\",\"\",Blad1!H269)","v":""},{"$f":"IF(Blad1!I269=\"\",\"\",Blad1!I269)","v":""},{"$f":"IF(Blad1!M269=\"\",\"\",Blad1!M269)","v":""},{"$f":"IF(Blad1!F269=\"\",\"\",Blad1!F269)","v":""},{"$f":"IF(Blad1!Q269=\"\",\"\",Blad1!Q269)","v":""}]
[{"$f":"IF(Blad1!D270=\"\",\"\",Blad1!D270)","v":""},{"$f":"IF(Blad1!E270=\"\",\"\",Blad1!E270)","v":""},{"$f":"IF(Blad1!B270=\"\",\"\",Blad1!B270)","v":""},{"$f":"IF(Blad1!H270=\"\",\"\",Blad1!H270)","v":""},{"$f":"IF(Blad1!I270=\"\",\"\",Blad1!I270)","v":""},{"$f":"IF(Blad1!M270=\"\",\"\",Blad1!M270)","v":""},{"$f":"IF(Blad1!F270=\"\",\"\",Blad1!F270)","v":""},{"$f":"IF(Blad1!Q270=\"\",\"\",Blad1!Q270)","v":""}]
[{"$f":"IF(Blad1!D271=\"\",\"\",Blad1!D271)","v":""},{"$f":"IF(Blad1!E271=\"\",\"\",Blad1!E271)","v":""},{"$f":"IF(Blad1!B271=\"\",\"\",Blad1!B271)","v":""},{"$f":"IF(Blad1!H271=\"\",\"\",Blad1!H271)","v":""},{"$f":"IF(Blad1!I271=\"\",\"\",Blad1!I271)","v":""},{"$f":"IF(Blad1!M271=\"\",\"\",Blad1!M271)","v":""},{"$f":"IF(Blad1!F271=\"\",\"\",Blad1!F271)","v":""},{"$f":"IF(Blad1!Q271=\"\",\"\",Blad1!Q271)","v":""}]
[{"$f":"IF(Blad1!D272=\"\",\"\",Blad1!D272)","v":""},{"$f":"IF(Blad1!E272=\"\",\"\",Blad1!E272)","v":""},{"$f":"IF(Blad1!B272=\"\",\"\",Blad1!B272)","v":""},{"$f":"IF(Blad1!H272=\"\",\"\",Blad1!H272)","v":""},{"$f":"IF(Blad1!I272=\"\",\"\",Blad1!I272)","v":""},{"$f":"IF(Blad1!M272=\"\",\"\",Blad1!M272)","v":""},{"$f":"IF(Blad1!F272=\"\",\"\",Blad1!F272)","v":""},{"$f":"IF(Blad1!Q272=\"\",\"\",Blad1!Q272)","v":""}]
[{"$f":"IF(Blad1!D273=\"\",\"\",Blad1!D273)","v":""},{"$f":"IF(Blad1!E273=\"\",\"\",Blad1!E273)","v":""},{"$f":"IF(Blad1!B273=\"\",\"\",Blad1!B273)","v":""},{"$f":"IF(Blad1!H273=\"\",\"\",Blad1!H273)","v":""},{"$f":"IF(Blad1!I273=\"\",\"\",Blad1!I273)","v":""},{"$f":"IF(Blad1!M273=\"\",\"\",Blad1!M273)","v":""},{"$f":"IF(Blad1!F273=\"\",\"\",Blad1!F273)","v":""},{"$f":"IF(Blad1!Q273=\"\",\"\",Blad1!Q273)","v":""}]
[{"$f":"IF(Blad1!D274=\"\",\"\",Blad1!D274)","v":""},{"$f":"IF(Blad1!E274=\"\",\"\",Blad1!E274)","v":""},{"$f":"IF(Blad1!B274=\"\",\"\",Blad1!B274)","v":""},{"$f":"IF(Blad1!H274=\"\",\"\",Blad1!H274)","v":""},{"$f":"IF(Blad1!I274=\"\",\"\",Blad1!I274)","v":""},{"$f":"IF(Blad1!M274=\"\",\"\",Blad1!M274)","v":""},{"$f":"IF(Blad1!F274=\"\",\"\",Blad1!F274)","v":""},{"$f":"IF(Blad1!Q274=\"\",\"\",Blad1!Q274)","v":""}]
[{"$f":"IF(Blad1!D275=\"\",\"\",Blad1!D275)","v":""},{"$f":"IF(Blad1!E275=\"\",\"\",Blad1!E275)","v":""},{"$f":"IF(Blad1!B275=\"\",\"\",Blad1!B275)","v":""},{"$f":"IF(Blad1!H275=\"\",\"\",Blad1!H275)","v":""},{"$f":"IF(Blad1!I275=\"\",\"\",Blad1!I275)","v":""},{"$f":"IF(Blad1!M275=\"\",\"\",Blad1!M275)","v":""},{"$f":"IF(Blad1!F275=\"\",\"\",Blad1!F275)","v":""},{"$f":"IF(Blad1!Q275=\"\",\"\",Blad1!Q275)","v":""}]
[{"$f":"IF(Blad1!D276=\"\",\"\",Blad1!D276)","v":""},{"$f":"IF(Blad1!E276=\"\",\"\",Blad1!E276)","v":""},{"$f":"IF(Blad1!B276=\"\",\"\",Blad1!B276)","v":""},{"$f":"IF(Blad1!H276=\"\",\"\",Blad1!H276)","v":""},{"$f":"IF(Blad1!I276=\"\",\"\",Blad1!I276)","v":""},{"$f":"IF(Blad1!M276=\"\",\"\",Blad1!M276)","v":""},{"$f":"IF(Blad1!F276=\"\",\"\",Blad1!F276)","v":""},{"$f":"IF(Blad1!Q276=\"\",\"\",Blad1!Q276)","v":""}]
[{"$f":"IF(Blad1!D277=\"\",\"\",Blad1!D277)","v":""},{"$f":"IF(Blad1!E277=\"\",\"\",Blad1!E277)","v":""},{"$f":"IF(Blad1!B277=\"\",\"\",Blad1!B277)","v":""},{"$f":"IF(Blad1!H277=\"\",\"\",Blad1!H277)","v":""},{"$f":"IF(Blad1!I277=\"\",\"\",Blad1!I277)","v":""},{"$f":"IF(Blad1!M277=\"\",\"\",Blad1!M277)","v":""},{"$f":"IF(Blad1!F277=\"\",\"\",Blad1!F277)","v":""},{"$f":"IF(Blad1!Q277=\"\",\"\",Blad1!Q277)","v":""}]
[{"$f":"IF(Blad1!D278=\"\",\"\",Blad1!D278)","v":""},{"$f":"IF(Blad1!E278=\"\",\"\",Blad1!E278)","v":""},{"$f":"IF(Blad1!B278=\"\",\"\",Blad1!B278)","v":""},{"$f":"IF(Blad1!H278=\"\",\"\",Blad1!H278)","v":""},{"$f":"IF(Blad1!I278=\"\",\"\",Blad1!I278)","v":""},{"$f":"IF(Blad1!M278=\"\",\"\",Blad1!M278)","v":""},{"$f":"IF(Blad1!F278=\"\",\"\",Blad1!F278)","v":""},{"$f":"IF(Blad1!Q278=\"\",\"\",Blad1!Q278)","v":""}]
[{"$f":"IF(Blad1!D279=\"\",\"\",Blad1!D279)","v":""},{"$f":"IF(Blad1!E279=\"\",\"\",Blad1!E279)","v":""},{"$f":"IF(Blad1!B279=\"\",\"\",Blad1!B279)","v":""},{"$f":"IF(Blad1!H279=\"\",\"\",Blad1!H279)","v":""},{"$f":"IF(Blad1!I279=\"\",\"\",Blad1!I279)","v":""},{"$f":"IF(Blad1!M279=\"\",\"\",Blad1!M279)","v":""},{"$f":"IF(Blad1!F279=\"\",\"\",Blad1!F279)","v":""},{"$f":"IF(Blad1!Q279=\"\",\"\",Blad1!Q279)","v":""}]
[{"$f":"IF(Blad1!D280=\"\",\"\",Blad1!D280)","v":""},{"$f":"IF(Blad1!E280=\"\",\"\",Blad1!E280)","v":""},{"$f":"IF(Blad1!B280=\"\",\"\",Blad1!B280)","v":""},{"$f":"IF(Blad1!H280=\"\",\"\",Blad1!H280)","v":""},{"$f":"IF(Blad1!I280=\"\",\"\",Blad1!I280)","v":""},{"$f":"IF(Blad1!M280=\"\",\"\",Blad1!M280)","v":""},{"$f":"IF(Blad1!F280=\"\",\"\",Blad1!F280)","v":""},{"$f":"IF(Blad1!Q280=\"\",\"\",Blad1!Q280)","v":""}]
[{"$f":"IF(Blad1!D281=\"\",\"\",Blad1!D281)","v":""},{"$f":"IF(Blad1!E281=\"\",\"\",Blad1!E281)","v":""},{"$f":"IF(Blad1!B281=\"\",\"\",Blad1!B281)","v":""},{"$f":"IF(Blad1!H281=\"\",\"\",Blad1!H281)","v":""},{"$f":"IF(Blad1!I281=\"\",\"\",Blad1!I281)","v":""},{"$f":"IF(Blad1!M281=\"\",\"\",Blad1!M281)","v":""},{"$f":"IF(Blad1!F281=\"\",\"\",Blad1!F281)","v":""},{"$f":"IF(Blad1!Q281=\"\",\"\",Blad1!Q281)","v":""}]
[{"$f":"IF(Blad1!D282=\"\",\"\",Blad1!D282)","v":""},{"$f":"IF(Blad1!E282=\"\",\"\",Blad1!E282)","v":""},{"$f":"IF(Blad1!B282=\"\",\"\",Blad1!B282)","v":""},{"$f":"IF(Blad1!H282=\"\",\"\",Blad1!H282)","v":""},{"$f":"IF(Blad1!I282=\"\",\"\",Blad1!I282)","v":""},{"$f":"IF(Blad1!M282=\"\",\"\",Blad1!M282)","v":""},{"$f":"IF(Blad1!F282=\"\",\"\",Blad1!F282)","v":""},{"$f":"IF(Blad1!Q282=\"\",\"\",Blad1!Q282)","v":""}]
[{"$f":"IF(Blad1!D283=\"\",\"\",Blad1!D283)","v":""},{"$f":"IF(Blad1!E283=\"\",\"\",Blad1!E283)","v":""},{"$f":"IF(Blad1!B283=\"\",\"\",Blad1!B283)","v":""},{"$f":"IF(Blad1!H283=\"\",\"\",Blad1!H283)","v":""},{"$f":"IF(Blad1!I283=\"\",\"\",Blad1!I283)","v":""},{"$f":"IF(Blad1!M283=\"\",\"\",Blad1!M283)","v":""},{"$f":"IF(Blad1!F283=\"\",\"\",Blad1!F283)","v":""},{"$f":"IF(Blad1!Q283=\"\",\"\",Blad1!Q283)","v":""}]
[{"$f":"IF(Blad1!D284=\"\",\"\",Blad1!D284)","v":""},{"$f":"IF(Blad1!E284=\"\",\"\",Blad1!E284)","v":""},{"$f":"IF(Blad1!B284=\"\",\"\",Blad1!B284)","v":""},{"$f":"IF(Blad1!H284=\"\",\"\",Blad1!H284)","v":""},{"$f":"IF(Blad1!I284=\"\",\"\",Blad1!I284)","v":""},{"$f":"IF(Blad1!M284=\"\",\"\",Blad1!M284)","v":""},{"$f":"IF(Blad1!F284=\"\",\"\",Blad1!F284)","v":""},{"$f":"IF(Blad1!Q284=\"\",\"\",Blad1!Q284)","v":""}]
[{"$f":"IF(Blad1!D285=\"\",\"\",Blad1!D285)","v":""},{"$f":"IF(Blad1!E285=\"\",\"\",Blad1!E285)","v":""},{"$f":"IF(Blad1!B285=\"\",\"\",Blad1!B285)","v":""},{"$f":"IF(Blad1!H285=\"\",\"\",Blad1!H285)","v":""},{"$f":"IF(Blad1!I285=\"\",\"\",Blad1!I285)","v":""},{"$f":"IF(Blad1!M285=\"\",\"\",Blad1!M285)","v":""},{"$f":"IF(Blad1!F285=\"\",\"\",Blad1!F285)","v":""},{"$f":"IF(Blad1!Q285=\"\",\"\",Blad1!Q285)","v":""}]
[{"$f":"IF(Blad1!D286=\"\",\"\",Blad1!D286)","v":""},{"$f":"IF(Blad1!E286=\"\",\"\",Blad1!E286)","v":""},{"$f":"IF(Blad1!B286=\"\",\"\",Blad1!B286)","v":""},{"$f":"IF(Blad1!H286=\"\",\"\",Blad1!H286)","v":""},{"$f":"IF(Blad1!I286=\"\",\"\",Blad1!I286)","v":""},{"$f":"IF(Blad1!M286=\"\",\"\",Blad1!M286)","v":""},{"$f":"IF(Blad1!F286=\"\",\"\",Blad1!F286)","v":""},{"$f":"IF(Blad1!Q286=\"\",\"\",Blad1!Q286)","v":""}]
[{"$f":"IF(Blad1!D287=\"\",\"\",Blad1!D287)","v":""},{"$f":"IF(Blad1!E287=\"\",\"\",Blad1!E287)","v":""},{"$f":"IF(Blad1!B287=\"\",\"\",Blad1!B287)","v":""},{"$f":"IF(Blad1!H287=\"\",\"\",Blad1!H287)","v":""},{"$f":"IF(Blad1!I287=\"\",\"\",Blad1!I287)","v":""},{"$f":"IF(Blad1!M287=\"\",\"\",Blad1!M287)","v":""},{"$f":"IF(Blad1!F287=\"\",\"\",Blad1!F287)","v":""},{"$f":"IF(Blad1!Q287=\"\",\"\",Blad1!Q287)","v":""}]
[{"$f":"IF(Blad1!D288=\"\",\"\",Blad1!D288)","v":""},{"$f":"IF(Blad1!E288=\"\",\"\",Blad1!E288)","v":""},{"$f":"IF(Blad1!B288=\"\",\"\",Blad1!B288)","v":""},{"$f":"IF(Blad1!H288=\"\",\"\",Blad1!H288)","v":""},{"$f":"IF(Blad1!I288=\"\",\"\",Blad1!I288)","v":""},{"$f":"IF(Blad1!M288=\"\",\"\",Blad1!M288)","v":""},{"$f":"IF(Blad1!F288=\"\",\"\",Blad1!F288)","v":""},{"$f":"IF(Blad1!Q288=\"\",\"\",Blad1!Q288)","v":""}]
[{"$f":"IF(Blad1!D289=\"\",\"\",Blad1!D289)","v":""},{"$f":"IF(Blad1!E289=\"\",\"\",Blad1!E289)","v":""},{"$f":"IF(Blad1!B289=\"\",\"\",Blad1!B289)","v":""},{"$f":"IF(Blad1!H289=\"\",\"\",Blad1!H289)","v":""},{"$f":"IF(Blad1!I289=\"\",\"\",Blad1!I289)","v":""},{"$f":"IF(Blad1!M289=\"\",\"\",Blad1!M289)","v":""},{"$f":"IF(Blad1!F289=\"\",\"\",Blad1!F289)","v":""},{"$f":"IF(Blad1!Q289=\"\",\"\",Blad1!Q289)","v":""}]
[{"$f":"IF(Blad1!D290=\"\",\"\",Blad1!D290)","v":""},{"$f":"IF(Blad1!E290=\"\",\"\",Blad1!E290)","v":""},{"$f":"IF(Blad1!B290=\"\",\"\",Blad1!B290)","v":""},{"$f":"IF(Blad1!H290=\"\",\"\",Blad1!H290)","v":""},{"$f":"IF(Blad1!I290=\"\",\"\",Blad1!I290)","v":""},{"$f":"IF(Blad1!M290=\"\",\"\",Blad1!M290)","v":""},{"$f":"IF(Blad1!F290=\"\",\"\",Blad1!F290)","v":""},{"$f":"IF(Blad1!Q290=\"\",\"\",Blad1!Q290)","v":""}]
[{"$f":"IF(Blad1!D291=\"\",\"\",Blad1!D291)","v":""},{"$f":"IF(Blad1!E291=\"\",\"\",Blad1!E291)","v":""},{"$f":"IF(Blad1!B291=\"\",\"\",Blad1!B291)","v":""},{"$f":"IF(Blad1!H291=\"\",\"\",Blad1!H291)","v":""},{"$f":"IF(Blad1!I291=\"\",\"\",Blad1!I291)","v":""},{"$f":"IF(Blad1!M291=\"\",\"\",Blad1!M291)","v":""},{"$f":"IF(Blad1!F291=\"\",\"\",Blad1!F291)","v":""},{"$f":"IF(Blad1!Q291=\"\",\"\",Blad1!Q291)","v":""}]
[{"$f":"IF(Blad1!D292=\"\",\"\",Blad1!D292)","v":""},{"$f":"IF(Blad1!E292=\"\",\"\",Blad1!E292)","v":""},{"$f":"IF(Blad1!B292=\"\",\"\",Blad1!B292)","v":""},{"$f":"IF(Blad1!H292=\"\",\"\",Blad1!H292)","v":""},{"$f":"IF(Blad1!I292=\"\",\"\",Blad1!I292)","v":""},{"$f":"IF(Blad1!M292=\"\",\"\",Blad1!M292)","v":""},{"$f":"IF(Blad1!F292=\"\",\"\",Blad1!F292)","v":""},{"$f":"IF(Blad1!Q292=\"\",\"\",Blad1!Q292)","v":""}]
[{"$f":"IF(Blad1!D293=\"\",\"\",Blad1!D293)","v":""},{"$f":"IF(Blad1!E293=\"\",\"\",Blad1!E293)","v":""},{"$f":"IF(Blad1!B293=\"\",\"\",Blad1!B293)","v":""},{"$f":"IF(Blad1!H293=\"\",\"\",Blad1!H293)","v":""},{"$f":"IF(Blad1!I293=\"\",\"\",Blad1!I293)","v":""},{"$f":"IF(Blad1!M293=\"\",\"\",Blad1!M293)","v":""},{"$f":"IF(Blad1!F293=\"\",\"\",Blad1!F293)","v":""},{"$f":"IF(Blad1!Q293=\"\",\"\",Blad1!Q293)","v":""}]
[{"$f":"IF(Blad1!D294=\"\",\"\",Blad1!D294)","v":""},{"$f":"IF(Blad1!E294=\"\",\"\",Blad1!E294)","v":""},{"$f":"IF(Blad1!B294=\"\",\"\",Blad1!B294)","v":""},{"$f":"IF(Blad1!H294=\"\",\"\",Blad1!H294)","v":""},{"$f":"IF(Blad1!I294=\"\",\"\",Blad1!I294)","v":""},{"$f":"IF(Blad1!M294=\"\",\"\",Blad1!M294)","v":""},{"$f":"IF(Blad1!F294=\"\",\"\",Blad1!F294)","v":""},{"$f":"IF(Blad1!Q294=\"\",\"\",Blad1!Q294)","v":""}]
[{"$f":"IF(Blad1!D295=\"\",\"\",Blad1!D295)","v":""},{"$f":"IF(Blad1!E295=\"\",\"\",Blad1!E295)","v":""},{"$f":"IF(Blad1!B295=\"\",\"\",Blad1!B295)","v":""},{"$f":"IF(Blad1!H295=\"\",\"\",Blad1!H295)","v":""},{"$f":"IF(Blad1!I295=\"\",\"\",Blad1!I295)","v":""},{"$f":"IF(Blad1!M295=\"\",\"\",Blad1!M295)","v":""},{"$f":"IF(Blad1!F295=\"\",\"\",Blad1!F295)","v":""},{"$f":"IF(Blad1!Q295=\"\",\"\",Blad1!Q295)","v":""}]
[{"$f":"IF(Blad1!D296=\"\",\"\",Blad1!D296)","v":""},{"$f":"IF(Blad1!E296=\"\",\"\",Blad1!E296)","v":""},{"$f":"IF(Blad1!B296=\"\",\"\",Blad1!B296)","v":""},{"$f":"IF(Blad1!H296=\"\",\"\",Blad1!H296)","v":""},{"$f":"IF(Blad1!I296=\"\",\"\",Blad1!I296)","v":""},{"$f":"IF(Blad1!M296=\"\",\"\",Blad1!M296)","v":""},{"$f":"IF(Blad1!F296=\"\",\"\",Blad1!F296)","v":""},{"$f":"IF(Blad1!Q296=\"\",\"\",Blad1!Q296)","v":""}]
[{"$f":"IF(Blad1!D297=\"\",\"\",Blad1!D297)","v":""},{"$f":"IF(Blad1!E297=\"\",\"\",Blad1!E297)","v":""},{"$f":"IF(Blad1!B297=\"\",\"\",Blad1!B297)","v":""},{"$f":"IF(Blad1!H297=\"\",\"\",Blad1!H297)","v":""},{"$f":"IF(Blad1!I297=\"\",\"\",Blad1!I297)","v":""},{"$f":"IF(Blad1!M297=\"\",\"\",Blad1!M297)","v":""},{"$f":"IF(Blad1!F297=\"\",\"\",Blad1!F297)","v":""},{"$f":"IF(Blad1!Q297=\"\",\"\",Blad1!Q297)","v":""}]
[{"$f":"IF(Blad1!D298=\"\",\"\",Blad1!D298)","v":""},{"$f":"IF(Blad1!E298=\"\",\"\",Blad1!E298)","v":""},{"$f":"IF(Blad1!B298=\"\",\"\",Blad1!B298)","v":""},{"$f":"IF(Blad1!H298=\"\",\"\",Blad1!H298)","v":""},{"$f":"IF(Blad1!I298=\"\",\"\",Blad1!I298)","v":""},{"$f":"IF(Blad1!M298=\"\",\"\",Blad1!M298)","v":""},{"$f":"IF(Blad1!F298=\"\",\"\",Blad1!F298)","v":""},{"$f":"IF(Blad1!Q298=\"\",\"\",Blad1!Q298)","v":""}]
[{"$f":"IF(Blad1!D299=\"\",\"\",Blad1!D299)","v":""},{"$f":"IF(Blad1!E299=\"\",\"\",Blad1!E299)","v":""},{"$f":"IF(Blad1!B299=\"\",\"\",Blad1!B299)","v":""},{"$f":"IF(Blad1!H299=\"\",\"\",Blad1!H299)","v":""},{"$f":"IF(Blad1!I299=\"\",\"\",Blad1!I299)","v":""},{"$f":"IF(Blad1!M299=\"\",\"\",Blad1!M299)","v":""},{"$f":"IF(Blad1!F299=\"\",\"\",Blad1!F299)","v":""},{"$f":"IF(Blad1!Q299=\"\",\"\",Blad1!Q299)","v":""}]
[{"$f":"IF(Blad1!D300=\"\",\"\",Blad1!D300)","v":""},{"$f":"IF(Blad1!E300=\"\",\"\",Blad1!E300)","v":""},{"$f":"IF(Blad1!B300=\"\",\"\",Blad1!B300)","v":""},{"$f":"IF(Blad1!H300=\"\",\"\",Blad1!H300)","v":""},{"$f":"IF(Blad1!I300=\"\",\"\",Blad1!I300)","v":""},{"$f":"IF(Blad1!M300=\"\",\"\",Blad1!M300)","v":""},{"$f":"IF(Blad1!F300=\"\",\"\",Blad1!F300)","v":""},{"$f":"IF(Blad1!Q300=\"\",\"\",Blad1!Q300)","v":""}]
[{"$f":"IF(Blad1!D301=\"\",\"\",Blad1!D301)","v":""},{"$f":"IF(Blad1!E301=\"\",\"\",Blad1!E301)","v":""},{"$f":"IF(Blad1!B301=\"\",\"\",Blad1!B301)","v":""},{"$f":"IF(Blad1!H301=\"\",\"\",Blad1!H301)","v":""},{"$f":"IF(Blad1!I301=\"\",\"\",Blad1!I301)","v":""},{"$f":"IF(Blad1!M301=\"\",\"\",Blad1!M301)","v":""},{"$f":"IF(Blad1!F301=\"\",\"\",Blad1!F301)","v":""},{"$f":"IF(Blad1!Q301=\"\",\"\",Blad1!Q301)","v":""}]
[{"$f":"IF(Blad1!D302=\"\",\"\",Blad1!D302)","v":""},{"$f":"IF(Blad1!E302=\"\",\"\",Blad1!E302)","v":""},{"$f":"IF(Blad1!B302=\"\",\"\",Blad1!B302)","v":""},{"$f":"IF(Blad1!H302=\"\",\"\",Blad1!H302)","v":""},{"$f":"IF(Blad1!I302=\"\",\"\",Blad1!I302)","v":""},{"$f":"IF(Blad1!M302=\"\",\"\",Blad1!M302)","v":""},{"$f":"IF(Blad1!F302=\"\",\"\",Blad1!F302)","v":""},{"$f":"IF(Blad1!Q302=\"\",\"\",Blad1!Q302)","v":""}]
[{"$f":"IF(Blad1!D303=\"\",\"\",Blad1!D303)","v":""},{"$f":"IF(Blad1!E303=\"\",\"\",Blad1!E303)","v":""},{"$f":"IF(Blad1!B303=\"\",\"\",Blad1!B303)","v":""},{"$f":"IF(Blad1!H303=\"\",\"\",Blad1!H303)","v":""},{"$f":"IF(Blad1!I303=\"\",\"\",Blad1!I303)","v":""},{"$f":"IF(Blad1!M303=\"\",\"\",Blad1!M303)","v":""},{"$f":"IF(Blad1!F303=\"\",\"\",Blad1!F303)","v":""},{"$f":"IF(Blad1!Q303=\"\",\"\",Blad1!Q303)","v":""}]
[{"$f":"IF(Blad1!D304=\"\",\"\",Blad1!D304)","v":""},{"$f":"IF(Blad1!E304=\"\",\"\",Blad1!E304)","v":""},{"$f":"IF(Blad1!B304=\"\",\"\",Blad1!B304)","v":""},{"$f":"IF(Blad1!H304=\"\",\"\",Blad1!H304)","v":""},{"$f":"IF(Blad1!I304=\"\",\"\",Blad1!I304)","v":""},{"$f":"IF(Blad1!M304=\"\",\"\",Blad1!M304)","v":""},{"$f":"IF(Blad1!F304=\"\",\"\",Blad1!F304)","v":""},{"$f":"IF(Blad1!Q304=\"\",\"\",Blad1!Q304)","v":""}]
[{"$f":"IF(Blad1!D305=\"\",\"\",Blad1!D305)","v":""},{"$f":"IF(Blad1!E305=\"\",\"\",Blad1!E305)","v":""},{"$f":"IF(Blad1!B305=\"\",\"\",Blad1!B305)","v":""},{"$f":"IF(Blad1!H305=\"\",\"\",Blad1!H305)","v":""},{"$f":"IF(Blad1!I305=\"\",\"\",Blad1!I305)","v":""},{"$f":"IF(Blad1!M305=\"\",\"\",Blad1!M305)","v":""},{"$f":"IF(Blad1!F305=\"\",\"\",Blad1!F305)","v":""},{"$f":"IF(Blad1!Q305=\"\",\"\",Blad1!Q305)","v":""}]
[{"$f":"IF(Blad1!D306=\"\",\"\",Blad1!D306)","v":""},{"$f":"IF(Blad1!E306=\"\",\"\",Blad1!E306)","v":""},{"$f":"IF(Blad1!B306=\"\",\"\",Blad1!B306)","v":""},{"$f":"IF(Blad1!H306=\"\",\"\",Blad1!H306)","v":""},{"$f":"IF(Blad1!I306=\"\",\"\",Blad1!I306)","v":""},{"$f":"IF(Blad1!M306=\"\",\"\",Blad1!M306)","v":""},{"$f":"IF(Blad1!F306=\"\",\"\",Blad1!F306)","v":""},{"$f":"IF(Blad1!Q306=\"\",\"\",Blad1!Q306)","v":""}]
[{"$f":"IF(Blad1!D307=\"\",\"\",Blad1!D307)","v":""},{"$f":"IF(Blad1!E307=\"\",\"\",Blad1!E307)","v":""},{"$f":"IF(Blad1!B307=\"\",\"\",Blad1!B307)","v":""},{"$f":"IF(Blad1!H307=\"\",\"\",Blad1!H307)","v":""},{"$f":"IF(Blad1!I307=\"\",\"\",Blad1!I307)","v":""},{"$f":"IF(Blad1!M307=\"\",\"\",Blad1!M307)","v":""},{"$f":"IF(Blad1!F307=\"\",\"\",Blad1!F307)","v":""},{"$f":"IF(Blad1!Q307=\"\",\"\",Blad1!Q307)","v":""}]
[{"$f":"IF(Blad1!D308=\"\",\"\",Blad1!D308)","v":""},{"$f":"IF(Blad1!E308=\"\",\"\",Blad1!E308)","v":""},{"$f":"IF(Blad1!B308=\"\",\"\",Blad1!B308)","v":""},{"$f":"IF(Blad1!H308=\"\",\"\",Blad1!H308)","v":""},{"$f":"IF(Blad1!I308=\"\",\"\",Blad1!I308)","v":""},{"$f":"IF(Blad1!M308=\"\",\"\",Blad1!M308)","v":""},{"$f":"IF(Blad1!F308=\"\",\"\",Blad1!F308)","v":""},{"$f":"IF(Blad1!Q308=\"\",\"\",Blad1!Q308)","v":""}]
[{"$f":"IF(Blad1!D309=\"\",\"\",Blad1!D309)","v":""},{"$f":"IF(Blad1!E309=\"\",\"\",Blad1!E309)","v":""},{"$f":"IF(Blad1!B309=\"\",\"\",Blad1!B309)","v":""},{"$f":"IF(Blad1!H309=\"\",\"\",Blad1!H309)","v":""},{"$f":"IF(Blad1!I309=\"\",\"\",Blad1!I309)","v":""},{"$f":"IF(Blad1!M309=\"\",\"\",Blad1!M309)","v":""},{"$f":"IF(Blad1!F309=\"\",\"\",Blad1!F309)","v":""},{"$f":"IF(Blad1!Q309=\"\",\"\",Blad1!Q309)","v":""}]
[{"$f":"IF(Blad1!D310=\"\",\"\",Blad1!D310)","v":""},{"$f":"IF(Blad1!E310=\"\",\"\",Blad1!E310)","v":""},{"$f":"IF(Blad1!B310=\"\",\"\",Blad1!B310)","v":""},{"$f":"IF(Blad1!H310=\"\",\"\",Blad1!H310)","v":""},{"$f":"IF(Blad1!I310=\"\",\"\",Blad1!I310)","v":""},{"$f":"IF(Blad1!M310=\"\",\"\",Blad1!M310)","v":""},{"$f":"IF(Blad1!F310=\"\",\"\",Blad1!F310)","v":""},{"$f":"IF(Blad1!Q310=\"\",\"\",Blad1!Q310)","v":""}]
[{"$f":"IF(Blad1!D311=\"\",\"\",Blad1!D311)","v":""},{"$f":"IF(Blad1!E311=\"\",\"\",Blad1!E311)","v":""},{"$f":"IF(Blad1!B311=\"\",\"\",Blad1!B311)","v":""},{"$f":"IF(Blad1!H311=\"\",\"\",Blad1!H311)","v":""},{"$f":"IF(Blad1!I311=\"\",\"\",Blad1!I311)","v":""},{"$f":"IF(Blad1!M311=\"\",\"\",Blad1!M311)","v":""},{"$f":"IF(Blad1!F311=\"\",\"\",Blad1!F311)","v":""},{"$f":"IF(Blad1!Q311=\"\",\"\",Blad1!Q311)","v":""}]
[{"$f":"IF(Blad1!D312=\"\",\"\",Blad1!D312)","v":""},{"$f":"IF(Blad1!E312=\"\",\"\",Blad1!E312)","v":""},{"$f":"IF(Blad1!B312=\"\",\"\",Blad1!B312)","v":""},{"$f":"IF(Blad1!H312=\"\",\"\",Blad1!H312)","v":""},{"$f":"IF(Blad1!I312=\"\",\"\",Blad1!I312)","v":""},{"$f":"IF(Blad1!M312=\"\",\"\",Blad1!M312)","v":""},{"$f":"IF(Blad1!F312=\"\",\"\",Blad1!F312)","v":""},{"$f":"IF(Blad1!Q312=\"\",\"\",Blad1!Q312)","v":""}]
[{"$f":"IF(Blad1!D313=\"\",\"\",Blad1!D313)","v":""},{"$f":"IF(Blad1!E313=\"\",\"\",Blad1!E313)","v":""},{"$f":"IF(Blad1!B313=\"\",\"\",Blad1!B313)","v":""},{"$f":"IF(Blad1!H313=\"\",\"\",Blad1!H313)","v":""},{"$f":"IF(Blad1!I313=\"\",\"\",Blad1!I313)","v":""},{"$f":"IF(Blad1!M313=\"\",\"\",Blad1!M313)","v":""},{"$f":"IF(Blad1!F313=\"\",\"\",Blad1!F313)","v":""},{"$f":"IF(Blad1!Q313=\"\",\"\",Blad1!Q313)","v":""}]
[{"$f":"IF(Blad1!D314=\"\",\"\",Blad1!D314)","v":""},{"$f":"IF(Blad1!E314=\"\",\"\",Blad1!E314)","v":""},{"$f":"IF(Blad1!B314=\"\",\"\",Blad1!B314)","v":""},{"$f":"IF(Blad1!H314=\"\",\"\",Blad1!H314)","v":""},{"$f":"IF(Blad1!I314=\"\",\"\",Blad1!I314)","v":""},{"$f":"IF(Blad1!M314=\"\",\"\",Blad1!M314)","v":""},{"$f":"IF(Blad1!F314=\"\",\"\",Blad1!F314)","v":""},{"$f":"IF(Blad1!Q314=\"\",\"\",Blad1!Q314)","v":""}]
[{"$f":"IF(Blad1!D315=\"\",\"\",Blad1!D315)","v":""},{"$f":"IF(Blad1!E315=\"\",\"\",Blad1!E315)","v":""},{"$f":"IF(Blad1!B315=\"\",\"\",Blad1!B315)","v":""},{"$f":"IF(Blad1!H315=\"\",\"\",Blad1!H315)","v":""},{"$f":"IF(Blad1!I315=\"\",\"\",Blad1!I315)","v":""},{"$f":"IF(Blad1!M315=\"\",\"\",Blad1!M315)","v":""},{"$f":"IF(Blad1!F315=\"\",\"\",Blad1!F315)","v":""},{"$f":"IF(Blad1!Q315=\"\",\"\",Blad1!Q315)","v":""}]
[{"$f":"IF(Blad1!D316=\"\",\"\",Blad1!D316)","v":""},{"$f":"IF(Blad1!E316=\"\",\"\",Blad1!E316)","v":""},{"$f":"IF(Blad1!B316=\"\",\"\",Blad1!B316)","v":""},{"$f":"IF(Blad1!H316=\"\",\"\",Blad1!H316)","v":""},{"$f":"IF(Blad1!I316=\"\",\"\",Blad1!I316)","v":""},{"$f":"IF(Blad1!M316=\"\",\"\",Blad1!M316)","v":""},{"$f":"IF(Blad1!F316=\"\",\"\",Blad1!F316)","v":""},{"$f":"IF(Blad1!Q316=\"\",\"\",Blad1!Q316)","v":""}]
[{"$f":"IF(Blad1!D317=\"\",\"\",Blad1!D317)","v":""},{"$f":"IF(Blad1!E317=\"\",\"\",Blad1!E317)","v":""},{"$f":"IF(Blad1!B317=\"\",\"\",Blad1!B317)","v":""},{"$f":"IF(Blad1!H317=\"\",\"\",Blad1!H317)","v":""},{"$f":"IF(Blad1!I317=\"\",\"\",Blad1!I317)","v":""},{"$f":"IF(Blad1!M317=\"\",\"\",Blad1!M317)","v":""},{"$f":"IF(Blad1!F317=\"\",\"\",Blad1!F317)","v":""},{"$f":"IF(Blad1!Q317=\"\",\"\",Blad1!Q317)","v":""}]
[{"$f":"IF(Blad1!D318=\"\",\"\",Blad1!D318)","v":""},{"$f":"IF(Blad1!E318=\"\",\"\",Blad1!E318)","v":""},{"$f":"IF(Blad1!B318=\"\",\"\",Blad1!B318)","v":""},{"$f":"IF(Blad1!H318=\"\",\"\",Blad1!H318)","v":""},{"$f":"IF(Blad1!I318=\"\",\"\",Blad1!I318)","v":""},{"$f":"IF(Blad1!M318=\"\",\"\",Blad1!M318)","v":""},{"$f":"IF(Blad1!F318=\"\",\"\",Blad1!F318)","v":""},{"$f":"IF(Blad1!Q318=\"\",\"\",Blad1!Q318)","v":""}]
[{"$f":"IF(Blad1!D319=\"\",\"\",Blad1!D319)","v":""},{"$f":"IF(Blad1!E319=\"\",\"\",Blad1!E319)","v":""},{"$f":"IF(Blad1!B319=\"\",\"\",Blad1!B319)","v":""},{"$f":"IF(Blad1!H319=\"\",\"\",Blad1!H319)","v":""},{"$f":"IF(Blad1!I319=\"\",\"\",Blad1!I319)","v":""},{"$f":"IF(Blad1!M319=\"\",\"\",Blad1!M319)","v":""},{"$f":"IF(Blad1!F319=\"\",\"\",Blad1!F319)","v":""},{"$f":"IF(Blad1!Q319=\"\",\"\",Blad1!Q319)","v":""}]
[{"$f":"IF(Blad1!D320=\"\",\"\",Blad1!D320)","v":""},{"$f":"IF(Blad1!E320=\"\",\"\",Blad1!E320)","v":""},{"$f":"IF(Blad1!B320=\"\",\"\",Blad1!B320)","v":""},{"$f":"IF(Blad1!H320=\"\",\"\",Blad1!H320)","v":""},{"$f":"IF(Blad1!I320=\"\",\"\",Blad1!I320)","v":""},{"$f":"IF(Blad1!M320=\"\",\"\",Blad1!M320)","v":""},{"$f":"IF(Blad1!F320=\"\",\"\",Blad1!F320)","v":""},{"$f":"IF(Blad1!Q320=\"\",\"\",Blad1!Q320)","v":""}]
[{"$f":"IF(Blad1!D321=\"\",\"\",Blad1!D321)","v":""},{"$f":"IF(Blad1!E321=\"\",\"\",Blad1!E321)","v":""},{"$f":"IF(Blad1!B321=\"\",\"\",Blad1!B321)","v":""},{"$f":"IF(Blad1!H321=\"\",\"\",Blad1!H321)","v":""},{"$f":"IF(Blad1!I321=\"\",\"\",Blad1!I321)","v":""},{"$f":"IF(Blad1!M321=\"\",\"\",Blad1!M321)","v":""},{"$f":"IF(Blad1!F321=\"\",\"\",Blad1!F321)","v":""},{"$f":"IF(Blad1!Q321=\"\",\"\",Blad1!Q321)","v":""}]
[{"$f":"IF(Blad1!D322=\"\",\"\",Blad1!D322)","v":""},{"$f":"IF(Blad1!E322=\"\",\"\",Blad1!E322)","v":""},{"$f":"IF(Blad1!B322=\"\",\"\",Blad1!B322)","v":""},{"$f":"IF(Blad1!H322=\"\",\"\",Blad1!H322)","v":""},{"$f":"IF(Blad1!I322=\"\",\"\",Blad1!I322)","v":""},{"$f":"IF(Blad1!M322=\"\",\"\",Blad1!M322)","v":""},{"$f":"IF(Blad1!F322=\"\",\"\",Blad1!F322)","v":""},{"$f":"IF(Blad1!Q322=\"\",\"\",Blad1!Q322)","v":""}]
[{"$f":"IF(Blad1!D323=\"\",\"\",Blad1!D323)","v":""},{"$f":"IF(Blad1!E323=\"\",\"\",Blad1!E323)","v":""},{"$f":"IF(Blad1!B323=\"\",\"\",Blad1!B323)","v":""},{"$f":"IF(Blad1!H323=\"\",\"\",Blad1!H323)","v":""},{"$f":"IF(Blad1!I323=\"\",\"\",Blad1!I323)","v":""},{"$f":"IF(Blad1!M323=\"\",\"\",Blad1!M323)","v":""},{"$f":"IF(Blad1!F323=\"\",\"\",Blad1!F323)","v":""},{"$f":"IF(Blad1!Q323=\"\",\"\",Blad1!Q323)","v":""}]
[{"$f":"IF(Blad1!D324=\"\",\"\",Blad1!D324)","v":""},{"$f":"IF(Blad1!E324=\"\",\"\",Blad1!E324)","v":""},{"$f":"IF(Blad1!B324=\"\",\"\",Blad1!B324)","v":""},{"$f":"IF(Blad1!H324=\"\",\"\",Blad1!H324)","v":""},{"$f":"IF(Blad1!I324=\"\",\"\",Blad1!I324)","v":""},{"$f":"IF(Blad1!M324=\"\",\"\",Blad1!M324)","v":""},{"$f":"IF(Blad1!F324=\"\",\"\",Blad1!F324)","v":""},{"$f":"IF(Blad1!Q324=\"\",\"\",Blad1!Q324)","v":""}]
[{"$f":"IF(Blad1!D325=\"\",\"\",Blad1!D325)","v":""},{"$f":"IF(Blad1!E325=\"\",\"\",Blad1!E325)","v":""},{"$f":"IF(Blad1!B325=\"\",\"\",Blad1!B325)","v":""},{"$f":"IF(Blad1!H325=\"\",\"\",Blad1!H325)","v":""},{"$f":"IF(Blad1!I325=\"\",\"\",Blad1!I325)","v":""},{"$f":"IF(Blad1!M325=\"\",\"\",Blad1!M325)","v":""},{"$f":"IF(Blad1!F325=\"\",\"\",Blad1!F325)","v":""},{"$f":"IF(Blad1!Q325=\"\",\"\",Blad1!Q325)","v":""}]
[{"$f":"IF(Blad1!D326=\"\",\"\",Blad1!D326)","v":""},{"$f":"IF(Blad1!E326=\"\",\"\",Blad1!E326)","v":""},{"$f":"IF(Blad1!B326=\"\",\"\",Blad1!B326)","v":""},{"$f":"IF(Blad1!H326=\"\",\"\",Blad1!H326)","v":""},{"$f":"IF(Blad1!I326=\"\",\"\",Blad1!I326)","v":""},{"$f":"IF(Blad1!M326=\"\",\"\",Blad1!M326)","v":""},{"$f":"IF(Blad1!F326=\"\",\"\",Blad1!F326)","v":""},{"$f":"IF(Blad1!Q326=\"\",\"\",Blad1!Q326)","v":""}]
[{"$f":"IF(Blad1!D327=\"\",\"\",Blad1!D327)","v":""},{"$f":"IF(Blad1!E327=\"\",\"\",Blad1!E327)","v":""},{"$f":"IF(Blad1!B327=\"\",\"\",Blad1!B327)","v":""},{"$f":"IF(Blad1!H327=\"\",\"\",Blad1!H327)","v":""},{"$f":"IF(Blad1!I327=\"\",\"\",Blad1!I327)","v":""},{"$f":"IF(Blad1!M327=\"\",\"\",Blad1!M327)","v":""},{"$f":"IF(Blad1!F327=\"\",\"\",Blad1!F327)","v":""},{"$f":"IF(Blad1!Q327=\"\",\"\",Blad1!Q327)","v":""}]
[{"$f":"IF(Blad1!D328=\"\",\"\",Blad1!D328)","v":""},{"$f":"IF(Blad1!E328=\"\",\"\",Blad1!E328)","v":""},{"$f":"IF(Blad1!B328=\"\",\"\",Blad1!B328)","v":""},{"$f":"IF(Blad1!H328=\"\",\"\",Blad1!H328)","v":""},{"$f":"IF(Blad1!I328=\"\",\"\",Blad1!I328)","v":""},{"$f":"IF(Blad1!M328=\"\",\"\",Blad1!M328)","v":""},{"$f":"IF(Blad1!F328=\"\",\"\",Blad1!F328)","v":""},{"$f":"IF(Blad1!Q328=\"\",\"\",Blad1!Q328)","v":""}]
[{"$f":"IF(Blad1!D329=\"\",\"\",Blad1!D329)","v":""},{"$f":"IF(Blad1!E329=\"\",\"\",Blad1!E329)","v":""},{"$f":"IF(Blad1!B329=\"\",\"\",Blad1!B329)","v":""},{"$f":"IF(Blad1!H329=\"\",\"\",Blad1!H329)","v":""},{"$f":"IF(Blad1!I329=\"\",\"\",Blad1!I329)","v":""},{"$f":"IF(Blad1!M329=\"\",\"\",Blad1!M329)","v":""},{"$f":"IF(Blad1!F329=\"\",\"\",Blad1!F329)","v":""},{"$f":"IF(Blad1!Q329=\"\",\"\",Blad1!Q329)","v":""}]
[{"$f":"IF(Blad1!D330=\"\",\"\",Blad1!D330)","v":""},{"$f":"IF(Blad1!E330=\"\",\"\",Blad1!E330)","v":""},{"$f":"IF(Blad1!B330=\"\",\"\",Blad1!B330)","v":""},{"$f":"IF(Blad1!H330=\"\",\"\",Blad1!H330)","v":""},{"$f":"IF(Blad1!I330=\"\",\"\",Blad1!I330)","v":""},{"$f":"IF(Blad1!M330=\"\",\"\",Blad1!M330)","v":""},{"$f":"IF(Blad1!F330=\"\",\"\",Blad1!F330)","v":""},{"$f":"IF(Blad1!Q330=\"\",\"\",Blad1!Q330)","v":""}]
[{"$f":"IF(Blad1!D331=\"\",\"\",Blad1!D331)","v":""},{"$f":"IF(Blad1!E331=\"\",\"\",Blad1!E331)","v":""},{"$f":"IF(Blad1!B331=\"\",\"\",Blad1!B331)","v":""},{"$f":"IF(Blad1!H331=\"\",\"\",Blad1!H331)","v":""},{"$f":"IF(Blad1!I331=\"\",\"\",Blad1!I331)","v":""},{"$f":"IF(Blad1!M331=\"\",\"\",Blad1!M331)","v":""},{"$f":"IF(Blad1!F331=\"\",\"\",Blad1!F331)","v":""},{"$f":"IF(Blad1!Q331=\"\",\"\",Blad1!Q331)","v":""}]
[{"$f":"IF(Blad1!D332=\"\",\"\",Blad1!D332)","v":""},{"$f":"IF(Blad1!E332=\"\",\"\",Blad1!E332)","v":""},{"$f":"IF(Blad1!B332=\"\",\"\",Blad1!B332)","v":""},{"$f":"IF(Blad1!H332=\"\",\"\",Blad1!H332)","v":""},{"$f":"IF(Blad1!I332=\"\",\"\",Blad1!I332)","v":""},{"$f":"IF(Blad1!M332=\"\",\"\",Blad1!M332)","v":""},{"$f":"IF(Blad1!F332=\"\",\"\",Blad1!F332)","v":""},{"$f":"IF(Blad1!Q332=\"\",\"\",Blad1!Q332)","v":""}]
[{"$f":"IF(Blad1!D333=\"\",\"\",Blad1!D333)","v":""},{"$f":"IF(Blad1!E333=\"\",\"\",Blad1!E333)","v":""},{"$f":"IF(Blad1!B333=\"\",\"\",Blad1!B333)","v":""},{"$f":"IF(Blad1!H333=\"\",\"\",Blad1!H333)","v":""},{"$f":"IF(Blad1!I333=\"\",\"\",Blad1!I333)","v":""},{"$f":"IF(Blad1!M333=\"\",\"\",Blad1!M333)","v":""},{"$f":"IF(Blad1!F333=\"\",\"\",Blad1!F333)","v":""},{"$f":"IF(Blad1!Q333=\"\",\"\",Blad1!Q333)","v":""}]
[{"$f":"IF(Blad1!D334=\"\",\"\",Blad1!D334)","v":""},{"$f":"IF(Blad1!E334=\"\",\"\",Blad1!E334)","v":""},{"$f":"IF(Blad1!B334=\"\",\"\",Blad1!B334)","v":""},{"$f":"IF(Blad1!H334=\"\",\"\",Blad1!H334)","v":""},{"$f":"IF(Blad1!I334=\"\",\"\",Blad1!I334)","v":""},{"$f":"IF(Blad1!M334=\"\",\"\",Blad1!M334)","v":""},{"$f":"IF(Blad1!F334=\"\",\"\",Blad1!F334)","v":""},{"$f":"IF(Blad1!Q334=\"\",\"\",Blad1!Q334)","v":""}]
[{"$f":"IF(Blad1!D335=\"\",\"\",Blad1!D335)","v":""},{"$f":"IF(Blad1!E335=\"\",\"\",Blad1!E335)","v":""},{"$f":"IF(Blad1!B335=\"\",\"\",Blad1!B335)","v":""},{"$f":"IF(Blad1!H335=\"\",\"\",Blad1!H335)","v":""},{"$f":"IF(Blad1!I335=\"\",\"\",Blad1!I335)","v":""},{"$f":"IF(Blad1!M335=\"\",\"\",Blad1!M335)","v":""},{"$f":"IF(Blad1!F335=\"\",\"\",Blad1!F335)","v":""},{"$f":"IF(Blad1!Q335=\"\",\"\",Blad1!Q335)","v":""}]
[{"$f":"IF(Blad1!D336=\"\",\"\",Blad1!D336)","v":""},{"$f":"IF(Blad1!E336=\"\",\"\",Blad1!E336)","v":""},{"$f":"IF(Blad1!B336=\"\",\"\",Blad1!B336)","v":""},{"$f":"IF(Blad1!H336=\"\",\"\",Blad1!H336)","v":""},{"$f":"IF(Blad1!I336=\"\",\"\",Blad1!I336)","v":""},{"$f":"IF(Blad1!M336=\"\",\"\",Blad1!M336)","v":""},{"$f":"IF(Blad1!F336=\"\",\"\",Blad1!F336)","v":""},{"$f":"IF(Blad1!Q336=\"\",\"\",Blad1!Q336)","v":""}]
[{"$f":"IF(Blad1!D337=\"\",\"\",Blad1!D337)","v":""},{"$f":"IF(Blad1!E337=\"\",\"\",Blad1!E337)","v":""},{"$f":"IF(Blad1!B337=\"\",\"\",Blad1!B337)","v":""},{"$f":"IF(Blad1!H337=\"\",\"\",Blad1!H337)","v":""},{"$f":"IF(Blad1!I337=\"\",\"\",Blad1!I337)","v":""},{"$f":"IF(Blad1!M337=\"\",\"\",Blad1!M337)","v":""},{"$f":"IF(Blad1!F337=\"\",\"\",Blad1!F337)","v":""},{"$f":"IF(Blad1!Q337=\"\",\"\",Blad1!Q337)","v":""}]
[{"$f":"IF(Blad1!D338=\"\",\"\",Blad1!D338)","v":""},{"$f":"IF(Blad1!E338=\"\",\"\",Blad1!E338)","v":""},{"$f":"IF(Blad1!B338=\"\",\"\",Blad1!B338)","v":""},{"$f":"IF(Blad1!H338=\"\",\"\",Blad1!H338)","v":""},{"$f":"IF(Blad1!I338=\"\",\"\",Blad1!I338)","v":""},{"$f":"IF(Blad1!M338=\"\",\"\",Blad1!M338)","v":""},{"$f":"IF(Blad1!F338=\"\",\"\",Blad1!F338)","v":""},{"$f":"IF(Blad1!Q338=\"\",\"\",Blad1!Q338)","v":""}]
[{"$f":"IF(Blad1!D339=\"\",\"\",Blad1!D339)","v":""},{"$f":"IF(Blad1!E339=\"\",\"\",Blad1!E339)","v":""},{"$f":"IF(Blad1!B339=\"\",\"\",Blad1!B339)","v":""},{"$f":"IF(Blad1!H339=\"\",\"\",Blad1!H339)","v":""},{"$f":"IF(Blad1!I339=\"\",\"\",Blad1!I339)","v":""},{"$f":"IF(Blad1!M339=\"\",\"\",Blad1!M339)","v":""},{"$f":"IF(Blad1!F339=\"\",\"\",Blad1!F339)","v":""},{"$f":"IF(Blad1!Q339=\"\",\"\",Blad1!Q339)","v":""}]
[{"$f":"IF(Blad1!D340=\"\",\"\",Blad1!D340)","v":""},{"$f":"IF(Blad1!E340=\"\",\"\",Blad1!E340)","v":""},{"$f":"IF(Blad1!B340=\"\",\"\",Blad1!B340)","v":""},{"$f":"IF(Blad1!H340=\"\",\"\",Blad1!H340)","v":""},{"$f":"IF(Blad1!I340=\"\",\"\",Blad1!I340)","v":""},{"$f":"IF(Blad1!M340=\"\",\"\",Blad1!M340)","v":""},{"$f":"IF(Blad1!F340=\"\",\"\",Blad1!F340)","v":""},{"$f":"IF(Blad1!Q340=\"\",\"\",Blad1!Q340)","v":""}]
[{"$f":"IF(Blad1!D341=\"\",\"\",Blad1!D341)","v":""},{"$f":"IF(Blad1!E341=\"\",\"\",Blad1!E341)","v":""},{"$f":"IF(Blad1!B341=\"\",\"\",Blad1!B341)","v":""},{"$f":"IF(Blad1!H341=\"\",\"\",Blad1!H341)","v":""},{"$f":"IF(Blad1!I341=\"\",\"\",Blad1!I341)","v":""},{"$f":"IF(Blad1!M341=\"\",\"\",Blad1!M341)","v":""},{"$f":"IF(Blad1!F341=\"\",\"\",Blad1!F341)","v":""},{"$f":"IF(Blad1!Q341=\"\",\"\",Blad1!Q341)","v":""}]
[{"$f":"IF(Blad1!D342=\"\",\"\",Blad1!D342)","v":""},{"$f":"IF(Blad1!E342=\"\",\"\",Blad1!E342)","v":""},{"$f":"IF(Blad1!B342=\"\",\"\",Blad1!B342)","v":""},{"$f":"IF(Blad1!H342=\"\",\"\",Blad1!H342)","v":""},{"$f":"IF(Blad1!I342=\"\",\"\",Blad1!I342)","v":""},{"$f":"IF(Blad1!M342=\"\",\"\",Blad1!M342)","v":""},{"$f":"IF(Blad1!F342=\"\",\"\",Blad1!F342)","v":""},{"$f":"IF(Blad1!Q342=\"\",\"\",Blad1!Q342)","v":""}]
[{"$f":"IF(Blad1!D343=\"\",\"\",Blad1!D343)","v":""},{"$f":"IF(Blad1!E343=\"\",\"\",Blad1!E343)","v":""},{"$f":"IF(Blad1!B343=\"\",\"\",Blad1!B343)","v":""},{"$f":"IF(Blad1!H343=\"\",\"\",Blad1!H343)","v":""},{"$f":"IF(Blad1!I343=\"\",\"\",Blad1!I343)","v":""},{"$f":"IF(Blad1!M343=\"\",\"\",Blad1!M343)","v":""},{"$f":"IF(Blad1!F343=\"\",\"\",Blad1!F343)","v":""},{"$f":"IF(Blad1!Q343=\"\",\"\",Blad1!Q343)","v":""}]
[{"$f":"IF(Blad1!D344=\"\",\"\",Blad1!D344)","v":""},{"$f":"IF(Blad1!E344=\"\",\"\",Blad1!E344)","v":""},{"$f":"IF(Blad1!B344=\"\",\"\",Blad1!B344)","v":""},{"$f":"IF(Blad1!H344=\"\",\"\",Blad1!H344)","v":""},{"$f":"IF(Blad1!I344=\"\",\"\",Blad1!I344)","v":""},{"$f":"IF(Blad1!M344=\"\",\"\",Blad1!M344)","v":""},{"$f":"IF(Blad1!F344=\"\",\"\",Blad1!F344)","v":""},{"$f":"IF(Blad1!Q344=\"\",\"\",Blad1!Q344)","v":""}]
[{"$f":"IF(Blad1!D345=\"\",\"\",Blad1!D345)","v":""},{"$f":"IF(Blad1!E345=\"\",\"\",Blad1!E345)","v":""},{"$f":"IF(Blad1!B345=\"\",\"\",Blad1!B345)","v":""},{"$f":"IF(Blad1!H345=\"\",\"\",Blad1!H345)","v":""},{"$f":"IF(Blad1!I345=\"\",\"\",Blad1!I345)","v":""},{"$f":"IF(Blad1!M345=\"\",\"\",Blad1!M345)","v":""},{"$f":"IF(Blad1!F345=\"\",\"\",Blad1!F345)","v":""},{"$f":"IF(Blad1!Q345=\"\",\"\",Blad1!Q345)","v":""}]
[{"$f":"IF(Blad1!D346=\"\",\"\",Blad1!D346)","v":""},{"$f":"IF(Blad1!E346=\"\",\"\",Blad1!E346)","v":""},{"$f":"IF(Blad1!B346=\"\",\"\",Blad1!B346)","v":""},{"$f":"IF(Blad1!H346=\"\",\"\",Blad1!H346)","v":""},{"$f":"IF(Blad1!I346=\"\",\"\",Blad1!I346)","v":""},{"$f":"IF(Blad1!M346=\"\",\"\",Blad1!M346)","v":""},{"$f":"IF(Blad1!F346=\"\",\"\",Blad1!F346)","v":""},{"$f":"IF(Blad1!Q346=\"\",\"\",Blad1!Q346)","v":""}]
[{"$f":"IF(Blad1!D347=\"\",\"\",Blad1!D347)","v":""},{"$f":"IF(Blad1!E347=\"\",\"\",Blad1!E347)","v":""},{"$f":"IF(Blad1!B347=\"\",\"\",Blad1!B347)","v":""},{"$f":"IF(Blad1!H347=\"\",\"\",Blad1!H347)","v":""},{"$f":"IF(Blad1!I347=\"\",\"\",Blad1!I347)","v":""},{"$f":"IF(Blad1!M347=\"\",\"\",Blad1!M347)","v":""},{"$f":"IF(Blad1!F347=\"\",\"\",Blad1!F347)","v":""},{"$f":"IF(Blad1!Q347=\"\",\"\",Blad1!Q347)","v":""}]
[{"$f":"IF(Blad1!D348=\"\",\"\",Blad1!D348)","v":""},{"$f":"IF(Blad1!E348=\"\",\"\",Blad1!E348)","v":""},{"$f":"IF(Blad1!B348=\"\",\"\",Blad1!B348)","v":""},{"$f":"IF(Blad1!H348=\"\",\"\",Blad1!H348)","v":""},{"$f":"IF(Blad1!I348=\"\",\"\",Blad1!I348)","v":""},{"$f":"IF(Blad1!M348=\"\",\"\",Blad1!M348)","v":""},{"$f":"IF(Blad1!F348=\"\",\"\",Blad1!F348)","v":""},{"$f":"IF(Blad1!Q348=\"\",\"\",Blad1!Q348)","v":""}]
[{"$f":"IF(Blad1!D349=\"\",\"\",Blad1!D349)","v":""},{"$f":"IF(Blad1!E349=\"\",\"\",Blad1!E349)","v":""},{"$f":"IF(Blad1!B349=\"\",\"\",Blad1!B349)","v":""},{"$f":"IF(Blad1!H349=\"\",\"\",Blad1!H349)","v":""},{"$f":"IF(Blad1!I349=\"\",\"\",Blad1!I349)","v":""},{"$f":"IF(Blad1!M349=\"\",\"\",Blad1!M349)","v":""},{"$f":"IF(Blad1!F349=\"\",\"\",Blad1!F349)","v":""},{"$f":"IF(Blad1!Q349=\"\",\"\",Blad1!Q349)","v":""}]
[{"$f":"IF(Blad1!D350=\"\",\"\",Blad1!D350)","v":""},{"$f":"IF(Blad1!E350=\"\",\"\",Blad1!E350)","v":""},{"$f":"IF(Blad1!B350=\"\",\"\",Blad1!B350)","v":""},{"$f":"IF(Blad1!H350=\"\",\"\",Blad1!H350)","v":""},{"$f":"IF(Blad1!I350=\"\",\"\",Blad1!I350)","v":""},{"$f":"IF(Blad1!M350=\"\",\"\",Blad1!M350)","v":""},{"$f":"IF(Blad1!F350=\"\",\"\",Blad1!F350)","v":""},{"$f":"IF(Blad1!Q350=\"\",\"\",Blad1!Q350)","v":""}]
[{"$f":"IF(Blad1!D351=\"\",\"\",Blad1!D351)","v":""},{"$f":"IF(Blad1!E351=\"\",\"\",Blad1!E351)","v":""},{"$f":"IF(Blad1!B351=\"\",\"\",Blad1!B351)","v":""},{"$f":"IF(Blad1!H351=\"\",\"\",Blad1!H351)","v":""},{"$f":"IF(Blad1!I351=\"\",\"\",Blad1!I351)","v":""},{"$f":"IF(Blad1!M351=\"\",\"\",Blad1!M351)","v":""},{"$f":"IF(Blad1!F351=\"\",\"\",Blad1!F351)","v":""},{"$f":"IF(Blad1!Q351=\"\",\"\",Blad1!Q351)","v":""}]
[{"$f":"IF(Blad1!D352=\"\",\"\",Blad1!D352)","v":""},{"$f":"IF(Blad1!E352=\"\",\"\",Blad1!E352)","v":""},{"$f":"IF(Blad1!B352=\"\",\"\",Blad1!B352)","v":""},{"$f":"IF(Blad1!H352=\"\",\"\",Blad1!H352)","v":""},{"$f":"IF(Blad1!I352=\"\",\"\",Blad1!I352)","v":""},{"$f":"IF(Blad1!M352=\"\",\"\",Blad1!M352)","v":""},{"$f":"IF(Blad1!F352=\"\",\"\",Blad1!F352)","v":""},{"$f":"IF(Blad1!Q352=\"\",\"\",Blad1!Q352)","v":""}]
[{"$f":"IF(Blad1!D353=\"\",\"\",Blad1!D353)","v":""},{"$f":"IF(Blad1!E353=\"\",\"\",Blad1!E353)","v":""},{"$f":"IF(Blad1!B353=\"\",\"\",Blad1!B353)","v":""},{"$f":"IF(Blad1!H353=\"\",\"\",Blad1!H353)","v":""},{"$f":"IF(Blad1!I353=\"\",\"\",Blad1!I353)","v":""},{"$f":"IF(Blad1!M353=\"\",\"\",Blad1!M353)","v":""},{"$f":"IF(Blad1!F353=\"\",\"\",Blad1!F353)","v":""},{"$f":"IF(Blad1!Q353=\"\",\"\",Blad1!Q353)","v":""}]
[{"$f":"IF(Blad1!D354=\"\",\"\",Blad1!D354)","v":""},{"$f":"IF(Blad1!E354=\"\",\"\",Blad1!E354)","v":""},{"$f":"IF(Blad1!B354=\"\",\"\",Blad1!B354)","v":""},{"$f":"IF(Blad1!H354=\"\",\"\",Blad1!H354)","v":""},{"$f":"IF(Blad1!I354=\"\",\"\",Blad1!I354)","v":""},{"$f":"IF(Blad1!M354=\"\",\"\",Blad1!M354)","v":""},{"$f":"IF(Blad1!F354=\"\",\"\",Blad1!F354)","v":""},{"$f":"IF(Blad1!Q354=\"\",\"\",Blad1!Q354)","v":""}]
[{"$f":"IF(Blad1!D355=\"\",\"\",Blad1!D355)","v":""},{"$f":"IF(Blad1!E355=\"\",\"\",Blad1!E355)","v":""},{"$f":"IF(Blad1!B355=\"\",\"\",Blad1!B355)","v":""},{"$f":"IF(Blad1!H355=\"\",\"\",Blad1!H355)","v":""},{"$f":"IF(Blad1!I355=\"\",\"\",Blad1!I355)","v":""},{"$f":"IF(Blad1!M355=\"\",\"\",Blad1!M355)","v":""},{"$f":"IF(Blad1!F355=\"\",\"\",Blad1!F355)","v":""},{"$f":"IF(Blad1!Q355=\"\",\"\",Blad1!Q355)","v":""}]
[{"$f":"IF(Blad1!D356=\"\",\"\",Blad1!D356)","v":""},{"$f":"IF(Blad1!E356=\"\",\"\",Blad1!E356)","v":""},{"$f":"IF(Blad1!B356=\"\",\"\",Blad1!B356)","v":""},{"$f":"IF(Blad1!H356=\"\",\"\",Blad1!H356)","v":""},{"$f":"IF(Blad1!I356=\"\",\"\",Blad1!I356)","v":""},{"$f":"IF(Blad1!M356=\"\",\"\",Blad1!M356)","v":""},{"$f":"IF(Blad1!F356=\"\",\"\",Blad1!F356)","v":""},{"$f":"IF(Blad1!Q356=\"\",\"\",Blad1!Q356)","v":""}]
[{"$f":"IF(Blad1!D357=\"\",\"\",Blad1!D357)","v":""},{"$f":"IF(Blad1!E357=\"\",\"\",Blad1!E357)","v":""},{"$f":"IF(Blad1!B357=\"\",\"\",Blad1!B357)","v":""},{"$f":"IF(Blad1!H357=\"\",\"\",Blad1!H357)","v":""},{"$f":"IF(Blad1!I357=\"\",\"\",Blad1!I357)","v":""},{"$f":"IF(Blad1!M357=\"\",\"\",Blad1!M357)","v":""},{"$f":"IF(Blad1!F357=\"\",\"\",Blad1!F357)","v":""},{"$f":"IF(Blad1!Q357=\"\",\"\",Blad1!Q357)","v":""}]
[{"$f":"IF(Blad1!D358=\"\",\"\",Blad1!D358)","v":""},{"$f":"IF(Blad1!E358=\"\",\"\",Blad1!E358)","v":""},{"$f":"IF(Blad1!B358=\"\",\"\",Blad1!B358)","v":""},{"$f":"IF(Blad1!H358=\"\",\"\",Blad1!H358)","v":""},{"$f":"IF(Blad1!I358=\"\",\"\",Blad1!I358)","v":""},{"$f":"IF(Blad1!M358=\"\",\"\",Blad1!M358)","v":""},{"$f":"IF(Blad1!F358=\"\",\"\",Blad1!F358)","v":""},{"$f":"IF(Blad1!Q358=\"\",\"\",Blad1!Q358)","v":""}]
[{"$f":"IF(Blad1!D359=\"\",\"\",Blad1!D359)","v":""},{"$f":"IF(Blad1!E359=\"\",\"\",Blad1!E359)","v":""},{"$f":"IF(Blad1!B359=\"\",\"\",Blad1!B359)","v":""},{"$f":"IF(Blad1!H359=\"\",\"\",Blad1!H359)","v":""},{"$f":"IF(Blad1!I359=\"\",\"\",Blad1!I359)","v":""},{"$f":"IF(Blad1!M359=\"\",\"\",Blad1!M359)","v":""},{"$f":"IF(Blad1!F359=\"\",\"\",Blad1!F359)","v":""},{"$f":"IF(Blad1!Q359=\"\",\"\",Blad1!Q359)","v":""}]
[{"$f":"IF(Blad1!D360=\"\",\"\",Blad1!D360)","v":""},{"$f":"IF(Blad1!E360=\"\",\"\",Blad1!E360)","v":""},{"$f":"IF(Blad1!B360=\"\",\"\",Blad1!B360)","v":""},{"$f":"IF(Blad1!H360=\"\",\"\",Blad1!H360)","v":""},{"$f":"IF(Blad1!I360=\"\",\"\",Blad1!I360)","v":""},{"$f":"IF(Blad1!M360=\"\",\"\",Blad1!M360)","v":""},{"$f":"IF(Blad1!F360=\"\",\"\",Blad1!F360)","v":""},{"$f":"IF(Blad1!Q360=\"\",\"\",Blad1!Q360)","v":""}]
[{"$f":"IF(Blad1!D361=\"\",\"\",Blad1!D361)","v":""},{"$f":"IF(Blad1!E361=\"\",\"\",Blad1!E361)","v":""},{"$f":"IF(Blad1!B361=\"\",\"\",Blad1!B361)","v":""},{"$f":"IF(Blad1!H361=\"\",\"\",Blad1!H361)","v":""},{"$f":"IF(Blad1!I361=\"\",\"\",Blad1!I361)","v":""},{"$f":"IF(Blad1!M361=\"\",\"\",Blad1!M361)","v":""},{"$f":"IF(Blad1!F361=\"\",\"\",Blad1!F361)","v":""},{"$f":"IF(Blad1!Q361=\"\",\"\",Blad1!Q361)","v":""}]
[{"$f":"IF(Blad1!D362=\"\",\"\",Blad1!D362)","v":""},{"$f":"IF(Blad1!E362=\"\",\"\",Blad1!E362)","v":""},{"$f":"IF(Blad1!B362=\"\",\"\",Blad1!B362)","v":""},{"$f":"IF(Blad1!H362=\"\",\"\",Blad1!H362)","v":""},{"$f":"IF(Blad1!I362=\"\",\"\",Blad1!I362)","v":""},{"$f":"IF(Blad1!M362=\"\",\"\",Blad1!M362)","v":""},{"$f":"IF(Blad1!F362=\"\",\"\",Blad1!F362)","v":""},{"$f":"IF(Blad1!Q362=\"\",\"\",Blad1!Q362)","v":""}]
[{"$f":"IF(Blad1!D363=\"\",\"\",Blad1!D363)","v":""},{"$f":"IF(Blad1!E363=\"\",\"\",Blad1!E363)","v":""},{"$f":"IF(Blad1!B363=\"\",\"\",Blad1!B363)","v":""},{"$f":"IF(Blad1!H363=\"\",\"\",Blad1!H363)","v":""},{"$f":"IF(Blad1!I363=\"\",\"\",Blad1!I363)","v":""},{"$f":"IF(Blad1!M363=\"\",\"\",Blad1!M363)","v":""},{"$f":"IF(Blad1!F363=\"\",\"\",Blad1!F363)","v":""},{"$f":"IF(Blad1!Q363=\"\",\"\",Blad1!Q363)","v":""}]
[{"$f":"IF(Blad1!D364=\"\",\"\",Blad1!D364)","v":""},{"$f":"IF(Blad1!E364=\"\",\"\",Blad1!E364)","v":""},{"$f":"IF(Blad1!B364=\"\",\"\",Blad1!B364)","v":""},{"$f":"IF(Blad1!H364=\"\",\"\",Blad1!H364)","v":""},{"$f":"IF(Blad1!I364=\"\",\"\",Blad1!I364)","v":""},{"$f":"IF(Blad1!M364=\"\",\"\",Blad1!M364)","v":""},{"$f":"IF(Blad1!F364=\"\",\"\",Blad1!F364)","v":""},{"$f":"IF(Blad1!Q364=\"\",\"\",Blad1!Q364)","v":""}]
[{"$f":"IF(Blad1!D365=\"\",\"\",Blad1!D365)","v":""},{"$f":"IF(Blad1!E365=\"\",\"\",Blad1!E365)","v":""},{"$f":"IF(Blad1!B365=\"\",\"\",Blad1!B365)","v":""},{"$f":"IF(Blad1!H365=\"\",\"\",Blad1!H365)","v":""},{"$f":"IF(Blad1!I365=\"\",\"\",Blad1!I365)","v":""},{"$f":"IF(Blad1!M365=\"\",\"\",Blad1!M365)","v":""},{"$f":"IF(Blad1!F365=\"\",\"\",Blad1!F365)","v":""},{"$f":"IF(Blad1!Q365=\"\",\"\",Blad1!Q365)","v":""}]
[{"$f":"IF(Blad1!D366=\"\",\"\",Blad1!D366)","v":""},{"$f":"IF(Blad1!E366=\"\",\"\",Blad1!E366)","v":""},{"$f":"IF(Blad1!B366=\"\",\"\",Blad1!B366)","v":""},{"$f":"IF(Blad1!H366=\"\",\"\",Blad1!H366)","v":""},{"$f":"IF(Blad1!I366=\"\",\"\",Blad1!I366)","v":""},{"$f":"IF(Blad1!M366=\"\",\"\",Blad1!M366)","v":""},{"$f":"IF(Blad1!F366=\"\",\"\",Blad1!F366)","v":""},{"$f":"IF(Blad1!Q366=\"\",\"\",Blad1!Q366)","v":""}]
[{"$f":"IF(Blad1!D367=\"\",\"\",Blad1!D367)","v":""},{"$f":"IF(Blad1!E367=\"\",\"\",Blad1!E367)","v":""},{"$f":"IF(Blad1!B367=\"\",\"\",Blad1!B367)","v":""},{"$f":"IF(Blad1!H367=\"\",\"\",Blad1!H367)","v":""},{"$f":"IF(Blad1!I367=\"\",\"\",Blad1!I367)","v":""},{"$f":"IF(Blad1!M367=\"\",\"\",Blad1!M367)","v":""},{"$f":"IF(Blad1!F367=\"\",\"\",Blad1!F367)","v":""},{"$f":"IF(Blad1!Q367=\"\",\"\",Blad1!Q367)","v":""}]
[{"$f":"IF(Blad1!D368=\"\",\"\",Blad1!D368)","v":""},{"$f":"IF(Blad1!E368=\"\",\"\",Blad1!E368)","v":""},{"$f":"IF(Blad1!B368=\"\",\"\",Blad1!B368)","v":""},{"$f":"IF(Blad1!H368=\"\",\"\",Blad1!H368)","v":""},{"$f":"IF(Blad1!I368=\"\",\"\",Blad1!I368)","v":""},{"$f":"IF(Blad1!M368=\"\",\"\",Blad1!M368)","v":""},{"$f":"IF(Blad1!F368=\"\",\"\",Blad1!F368)","v":""},{"$f":"IF(Blad1!Q368=\"\",\"\",Blad1!Q368)","v":""}]
[{"$f":"IF(Blad1!D369=\"\",\"\",Blad1!D369)","v":""},{"$f":"IF(Blad1!E369=\"\",\"\",Blad1!E369)","v":""},{"$f":"IF(Blad1!B369=\"\",\"\",Blad1!B369)","v":""},{"$f":"IF(Blad1!H369=\"\",\"\",Blad1!H369)","v":""},{"$f":"IF(Blad1!I369=\"\",\"\",Blad1!I369)","v":""},{"$f":"IF(Blad1!M369=\"\",\"\",Blad1!M369)","v":""},{"$f":"IF(Blad1!F369=\"\",\"\",Blad1!F369)","v":""},{"$f":"IF(Blad1!Q369=\"\",\"\",Blad1!Q369)","v":""}]
[{"$f":"IF(Blad1!D370=\"\",\"\",Blad1!D370)","v":""},{"$f":"IF(Blad1!E370=\"\",\"\",Blad1!E370)","v":""},{"$f":"IF(Blad1!B370=\"\",\"\",Blad1!B370)","v":""},{"$f":"IF(Blad1!H370=\"\",\"\",Blad1!H370)","v":""},{"$f":"IF(Blad1!I370=\"\",\"\",Blad1!I370)","v":""},{"$f":"IF(Blad1!M370=\"\",\"\",Blad1!M370)","v":""},{"$f":"IF(Blad1!F370=\"\",\"\",Blad1!F370)","v":""},{"$f":"IF(Blad1!Q370=\"\",\"\",Blad1!Q370)","v":""}]
[{"$f":"IF(Blad1!D371=\"\",\"\",Blad1!D371)","v":""},{"$f":"IF(Blad1!E371=\"\",\"\",Blad1!E371)","v":""},{"$f":"IF(Blad1!B371=\"\",\"\",Blad1!B371)","v":""},{"$f":"IF(Blad1!H371=\"\",\"\",Blad1!H371)","v":""},{"$f":"IF(Blad1!I371=\"\",\"\",Blad1!I371)","v":""},{"$f":"IF(Blad1!M371=\"\",\"\",Blad1!M371)","v":""},{"$f":"IF(Blad1!F371=\"\",\"\",Blad1!F371)","v":""},{"$f":"IF(Blad1!Q371=\"\",\"\",Blad1!Q371)","v":""}]
[{"$f":"IF(Blad1!D372=\"\",\"\",Blad1!D372)","v":""},{"$f":"IF(Blad1!E372=\"\",\"\",Blad1!E372)","v":""},{"$f":"IF(Blad1!B372=\"\",\"\",Blad1!B372)","v":""},{"$f":"IF(Blad1!H372=\"\",\"\",Blad1!H372)","v":""},{"$f":"IF(Blad1!I372=\"\",\"\",Blad1!I372)","v":""},{"$f":"IF(Blad1!M372=\"\",\"\",Blad1!M372)","v":""},{"$f":"IF(Blad1!F372=\"\",\"\",Blad1!F372)","v":""},{"$f":"IF(Blad1!Q372=\"\",\"\",Blad1!Q372)","v":""}]
[{"$f":"IF(Blad1!D373=\"\",\"\",Blad1!D373)","v":""},{"$f":"IF(Blad1!E373=\"\",\"\",Blad1!E373)","v":""},{"$f":"IF(Blad1!B373=\"\",\"\",Blad1!B373)","v":""},{"$f":"IF(Blad1!H373=\"\",\"\",Blad1!H373)","v":""},{"$f":"IF(Blad1!I373=\"\",\"\",Blad1!I373)","v":""},{"$f":"IF(Blad1!M373=\"\",\"\",Blad1!M373)","v":""},{"$f":"IF(Blad1!F373=\"\",\"\",Blad1!F373)","v":""},{"$f":"IF(Blad1!Q373=\"\",\"\",Blad1!Q373)","v":""}]
[{"$f":"IF(Blad1!D374=\"\",\"\",Blad1!D374)","v":""},{"$f":"IF(Blad1!E374=\"\",\"\",Blad1!E374)","v":""},{"$f":"IF(Blad1!B374=\"\",\"\",Blad1!B374)","v":""},{"$f":"IF(Blad1!H374=\"\",\"\",Blad1!H374)","v":""},{"$f":"IF(Blad1!I374=\"\",\"\",Blad1!I374)","v":""},{"$f":"IF(Blad1!M374=\"\",\"\",Blad1!M374)","v":""},{"$f":"IF(Blad1!F374=\"\",\"\",Blad1!F374)","v":""},{"$f":"IF(Blad1!Q374=\"\",\"\",Blad1!Q374)","v":""}]
[{"$f":"IF(Blad1!D375=\"\",\"\",Blad1!D375)","v":""},{"$f":"IF(Blad1!E375=\"\",\"\",Blad1!E375)","v":""},{"$f":"IF(Blad1!B375=\"\",\"\",Blad1!B375)","v":""},{"$f":"IF(Blad1!H375=\"\",\"\",Blad1!H375)","v":""},{"$f":"IF(Blad1!I375=\"\",\"\",Blad1!I375)","v":""},{"$f":"IF(Blad1!M375=\"\",\"\",Blad1!M375)","v":""},{"$f":"IF(Blad1!F375=\"\",\"\",Blad1!F375)","v":""},{"$f":"IF(Blad1!Q375=\"\",\"\",Blad1!Q375)","v":""}]
[{"$f":"IF(Blad1!D376=\"\",\"\",Blad1!D376)","v":""},{"$f":"IF(Blad1!E376=\"\",\"\",Blad1!E376)","v":""},{"$f":"IF(Blad1!B376=\"\",\"\",Blad1!B376)","v":""},{"$f":"IF(Blad1!H376=\"\",\"\",Blad1!H376)","v":""},{"$f":"IF(Blad1!I376=\"\",\"\",Blad1!I376)","v":""},{"$f":"IF(Blad1!M376=\"\",\"\",Blad1!M376)","v":""},{"$f":"IF(Blad1!F376=\"\",\"\",Blad1!F376)","v":""},{"$f":"IF(Blad1!Q376=\"\",\"\",Blad1!Q376)","v":""}]
[{"$f":"IF(Blad1!D377=\"\",\"\",Blad1!D377)","v":""},{"$f":"IF(Blad1!E377=\"\",\"\",Blad1!E377)","v":""},{"$f":"IF(Blad1!B377=\"\",\"\",Blad1!B377)","v":""},{"$f":"IF(Blad1!H377=\"\",\"\",Blad1!H377)","v":""},{"$f":"IF(Blad1!I377=\"\",\"\",Blad1!I377)","v":""},{"$f":"IF(Blad1!M377=\"\",\"\",Blad1!M377)","v":""},{"$f":"IF(Blad1!F377=\"\",\"\",Blad1!F377)","v":""},{"$f":"IF(Blad1!Q377=\"\",\"\",Blad1!Q377)","v":""}]
[{"$f":"IF(Blad1!D378=\"\",\"\",Blad1!D378)","v":""},{"$f":"IF(Blad1!E378=\"\",\"\",Blad1!E378)","v":""},{"$f":"IF(Blad1!B378=\"\",\"\",Blad1!B378)","v":""},{"$f":"IF(Blad1!H378=\"\",\"\",Blad1!H378)","v":""},{"$f":"IF(Blad1!I378=\"\",\"\",Blad1!I378)","v":""},{"$f":"IF(Blad1!M378=\"\",\"\",Blad1!M378)","v":""},{"$f":"IF(Blad1!F378=\"\",\"\",Blad1!F378)","v":""},{"$f":"IF(Blad1!Q378=\"\",\"\",Blad1!Q378)","v":""}]
[{"$f":"IF(Blad1!D379=\"\",\"\",Blad1!D379)","v":""},{"$f":"IF(Blad1!E379=\"\",\"\",Blad1!E379)","v":""},{"$f":"IF(Blad1!B379=\"\",\"\",Blad1!B379)","v":""},{"$f":"IF(Blad1!H379=\"\",\"\",Blad1!H379)","v":""},{"$f":"IF(Blad1!I379=\"\",\"\",Blad1!I379)","v":""},{"$f":"IF(Blad1!M379=\"\",\"\",Blad1!M379)","v":""},{"$f":"IF(Blad1!F379=\"\",\"\",Blad1!F379)","v":""},{"$f":"IF(Blad1!Q379=\"\",\"\",Blad1!Q379)","v":""}]
[{"$f":"IF(Blad1!D380=\"\",\"\",Blad1!D380)","v":""},{"$f":"IF(Blad1!E380=\"\",\"\",Blad1!E380)","v":""},{"$f":"IF(Blad1!B380=\"\",\"\",Blad1!B380)","v":""},{"$f":"IF(Blad1!H380=\"\",\"\",Blad1!H380)","v":""},{"$f":"IF(Blad1!I380=\"\",\"\",Blad1!I380)","v":""},{"$f":"IF(Blad1!M380=\"\",\"\",Blad1!M380)","v":""},{"$f":"IF(Blad1!F380=\"\",\"\",Blad1!F380)","v":""},{"$f":"IF(Blad1!Q380=\"\",\"\",Blad1!Q380)","v":""}]
[{"$f":"IF(Blad1!D381=\"\",\"\",Blad1!D381)","v":""},{"$f":"IF(Blad1!E381=\"\",\"\",Blad1!E381)","v":""},{"$f":"IF(Blad1!B381=\"\",\"\",Blad1!B381)","v":""},{"$f":"IF(Blad1!H381=\"\",\"\",Blad1!H381)","v":""},{"$f":"IF(Blad1!I381=\"\",\"\",Blad1!I381)","v":""},{"$f":"IF(Blad1!M381=\"\",\"\",Blad1!M381)","v":""},{"$f":"IF(Blad1!F381=\"\",\"\",Blad1!F381)","v":""},{"$f":"IF(Blad1!Q381=\"\",\"\",Blad1!Q381)","v":""}]
[{"$f":"IF(Blad1!D382=\"\",\"\",Blad1!D382)","v":""},{"$f":"IF(Blad1!E382=\"\",\"\",Blad1!E382)","v":""},{"$f":"IF(Blad1!B382=\"\",\"\",Blad1!B382)","v":""},{"$f":"IF(Blad1!H382=\"\",\"\",Blad1!H382)","v":""},{"$f":"IF(Blad1!I382=\"\",\"\",Blad1!I382)","v":""},{"$f":"IF(Blad1!M382=\"\",\"\",Blad1!M382)","v":""},{"$f":"IF(Blad1!F382=\"\",\"\",Blad1!F382)","v":""},{"$f":"IF(Blad1!Q382=\"\",\"\",Blad1!Q382)","v":""}]
[{"$f":"IF(Blad1!D383=\"\",\"\",Blad1!D383)","v":""},{"$f":"IF(Blad1!E383=\"\",\"\",Blad1!E383)","v":""},{"$f":"IF(Blad1!B383=\"\",\"\",Blad1!B383)","v":""},{"$f":"IF(Blad1!H383=\"\",\"\",Blad1!H383)","v":""},{"$f":"IF(Blad1!I383=\"\",\"\",Blad1!I383)","v":""},{"$f":"IF(Blad1!M383=\"\",\"\",Blad1!M383)","v":""},{"$f":"IF(Blad1!F383=\"\",\"\",Blad1!F383)","v":""},{"$f":"IF(Blad1!Q383=\"\",\"\",Blad1!Q383)","v":""}]
[{"$f":"IF(Blad1!D384=\"\",\"\",Blad1!D384)","v":""},{"$f":"IF(Blad1!E384=\"\",\"\",Blad1!E384)","v":""},{"$f":"IF(Blad1!B384=\"\",\"\",Blad1!B384)","v":""},{"$f":"IF(Blad1!H384=\"\",\"\",Blad1!H384)","v":""},{"$f":"IF(Blad1!I384=\"\",\"\",Blad1!I384)","v":""},{"$f":"IF(Blad1!M384=\"\",\"\",Blad1!M384)","v":""},{"$f":"IF(Blad1!F384=\"\",\"\",Blad1!F384)","v":""},{"$f":"IF(Blad1!Q384=\"\",\"\",Blad1!Q384)","v":""}]
[{"$f":"IF(Blad1!D385=\"\",\"\",Blad1!D385)","v":""},{"$f":"IF(Blad1!E385=\"\",\"\",Blad1!E385)","v":""},{"$f":"IF(Blad1!B385=\"\",\"\",Blad1!B385)","v":""},{"$f":"IF(Blad1!H385=\"\",\"\",Blad1!H385)","v":""},{"$f":"IF(Blad1!I385=\"\",\"\",Blad1!I385)","v":""},{"$f":"IF(Blad1!M385=\"\",\"\",Blad1!M385)","v":""},{"$f":"IF(Blad1!F385=\"\",\"\",Blad1!F385)","v":""},{"$f":"IF(Blad1!Q385=\"\",\"\",Blad1!Q385)","v":""}]
[{"$f":"IF(Blad1!D386=\"\",\"\",Blad1!D386)","v":""},{"$f":"IF(Blad1!E386=\"\",\"\",Blad1!E386)","v":""},{"$f":"IF(Blad1!B386=\"\",\"\",Blad1!B386)","v":""},{"$f":"IF(Blad1!H386=\"\",\"\",Blad1!H386)","v":""},{"$f":"IF(Blad1!I386=\"\",\"\",Blad1!I386)","v":""},{"$f":"IF(Blad1!M386=\"\",\"\",Blad1!M386)","v":""},{"$f":"IF(Blad1!F386=\"\",\"\",Blad1!F386)","v":""},{"$f":"IF(Blad1!Q386=\"\",\"\",Blad1!Q386)","v":""}]
[{"$f":"IF(Blad1!D387=\"\",\"\",Blad1!D387)","v":""},{"$f":"IF(Blad1!E387=\"\",\"\",Blad1!E387)","v":""},{"$f":"IF(Blad1!B387=\"\",\"\",Blad1!B387)","v":""},{"$f":"IF(Blad1!H387=\"\",\"\",Blad1!H387)","v":""},{"$f":"IF(Blad1!I387=\"\",\"\",Blad1!I387)","v":""},{"$f":"IF(Blad1!M387=\"\",\"\",Blad1!M387)","v":""},{"$f":"IF(Blad1!F387=\"\",\"\",Blad1!F387)","v":""},{"$f":"IF(Blad1!Q387=\"\",\"\",Blad1!Q387)","v":""}]
[{"$f":"IF(Blad1!D388=\"\",\"\",Blad1!D388)","v":""},{"$f":"IF(Blad1!E388=\"\",\"\",Blad1!E388)","v":""},{"$f":"IF(Blad1!B388=\"\",\"\",Blad1!B388)","v":""},{"$f":"IF(Blad1!H388=\"\",\"\",Blad1!H388)","v":""},{"$f":"IF(Blad1!I388=\"\",\"\",Blad1!I388)","v":""},{"$f":"IF(Blad1!M388=\"\",\"\",Blad1!M388)","v":""},{"$f":"IF(Blad1!F388=\"\",\"\",Blad1!F388)","v":""},{"$f":"IF(Blad1!Q388=\"\",\"\",Blad1!Q388)","v":""}]
[{"$f":"IF(Blad1!D389=\"\",\"\",Blad1!D389)","v":""},{"$f":"IF(Blad1!E389=\"\",\"\",Blad1!E389)","v":""},{"$f":"IF(Blad1!B389=\"\",\"\",Blad1!B389)","v":""},{"$f":"IF(Blad1!H389=\"\",\"\",Blad1!H389)","v":""},{"$f":"IF(Blad1!I389=\"\",\"\",Blad1!I389)","v":""},{"$f":"IF(Blad1!M389=\"\",\"\",Blad1!M389)","v":""},{"$f":"IF(Blad1!F389=\"\",\"\",Blad1!F389)","v":""},{"$f":"IF(Blad1!Q389=\"\",\"\",Blad1!Q389)","v":""}]
[{"$f":"IF(Blad1!D390=\"\",\"\",Blad1!D390)","v":""},{"$f":"IF(Blad1!E390=\"\",\"\",Blad1!E390)","v":""},{"$f":"IF(Blad1!B390=\"\",\"\",Blad1!B390)","v":""},{"$f":"IF(Blad1!H390=\"\",\"\",Blad1!H390)","v":""},{"$f":"IF(Blad1!I390=\"\",\"\",Blad1!I390)","v":""},{"$f":"IF(Blad1!M390=\"\",\"\",Blad1!M390)","v":""},{"$f":"IF(Blad1!F390=\"\",\"\",Blad1!F390)","v":""},{"$f":"IF(Blad1!Q390=\"\",\"\",Blad1!Q390)","v":""}]
[{"$f":"IF(Blad1!D391=\"\",\"\",Blad1!D391)","v":""},{"$f":"IF(Blad1!E391=\"\",\"\",Blad1!E391)","v":""},{"$f":"IF(Blad1!B391=\"\",\"\",Blad1!B391)","v":""},{"$f":"IF(Blad1!H391=\"\",\"\",Blad1!H391)","v":""},{"$f":"IF(Blad1!I391=\"\",\"\",Blad1!I391)","v":""},{"$f":"IF(Blad1!M391=\"\",\"\",Blad1!M391)","v":""},{"$f":"IF(Blad1!F391=\"\",\"\",Blad1!F391)","v":""},{"$f":"IF(Blad1!Q391=\"\",\"\",Blad1!Q391)","v":""}]
[{"$f":"IF(Blad1!D392=\"\",\"\",Blad1!D392)","v":""},{"$f":"IF(Blad1!E392=\"\",\"\",Blad1!E392)","v":""},{"$f":"IF(Blad1!B392=\"\",\"\",Blad1!B392)","v":""},{"$f":"IF(Blad1!H392=\"\",\"\",Blad1!H392)","v":""},{"$f":"IF(Blad1!I392=\"\",\"\",Blad1!I392)","v":""},{"$f":"IF(Blad1!M392=\"\",\"\",Blad1!M392)","v":""},{"$f":"IF(Blad1!F392=\"\",\"\",Blad1!F392)","v":""},{"$f":"IF(Blad1!Q392=\"\",\"\",Blad1!Q392)","v":""}]
[{"$f":"IF(Blad1!D393=\"\",\"\",Blad1!D393)","v":""},{"$f":"IF(Blad1!E393=\"\",\"\",Blad1!E393)","v":""},{"$f":"IF(Blad1!B393=\"\",\"\",Blad1!B393)","v":""},{"$f":"IF(Blad1!H393=\"\",\"\",Blad1!H393)","v":""},{"$f":"IF(Blad1!I393=\"\",\"\",Blad1!I393)","v":""},{"$f":"IF(Blad1!M393=\"\",\"\",Blad1!M393)","v":""},{"$f":"IF(Blad1!F393=\"\",\"\",Blad1!F393)","v":""},{"$f":"IF(Blad1!Q393=\"\",\"\",Blad1!Q393)","v":""}]
[{"$f":"IF(Blad1!D394=\"\",\"\",Blad1!D394)","v":""},{"$f":"IF(Blad1!E394=\"\",\"\",Blad1!E394)","v":""},{"$f":"IF(Blad1!B394=\"\",\"\",Blad1!B394)","v":""},{"$f":"IF(Blad1!H394=\"\",\"\",Blad1!H394)","v":""},{"$f":"IF(Blad1!I394=\"\",\"\",Blad1!I394)","v":""},{"$f":"IF(Blad1!M394=\"\",\"\",Blad1!M394)","v":""},{"$f":"IF(Blad1!F394=\"\",\"\",Blad1!F394)","v":""},{"$f":"IF(Blad1!Q394=\"\",\"\",Blad1!Q394)","v":""}]
[{"$f":"IF(Blad1!D395=\"\",\"\",Blad1!D395)","v":""},{"$f":"IF(Blad1!E395=\"\",\"\",Blad1!E395)","v":""},{"$f":"IF(Blad1!B395=\"\",\"\",Blad1!B395)","v":""},{"$f":"IF(Blad1!H395=\"\",\"\",Blad1!H395)","v":""},{"$f":"IF(Blad1!I395=\"\",\"\",Blad1!I395)","v":""},{"$f":"IF(Blad1!M395=\"\",\"\",Blad1!M395)","v":""},{"$f":"IF(Blad1!F395=\"\",\"\",Blad1!F395)","v":""},{"$f":"IF(Blad1!Q395=\"\",\"\",Blad1!Q395)","v":""}]
[{"$f":"IF(Blad1!D396=\"\",\"\",Blad1!D396)","v":""},{"$f":"IF(Blad1!E396=\"\",\"\",Blad1!E396)","v":""},{"$f":"IF(Blad1!B396=\"\",\"\",Blad1!B396)","v":""},{"$f":"IF(Blad1!H396=\"\",\"\",Blad1!H396)","v":""},{"$f":"IF(Blad1!I396=\"\",\"\",Blad1!I396)","v":""},{"$f":"IF(Blad1!M396=\"\",\"\",Blad1!M396)","v":""},{"$f":"IF(Blad1!F396=\"\",\"\",Blad1!F396)","v":""},{"$f":"IF(Blad1!Q396=\"\",\"\",Blad1!Q396)","v":""}]
[{"$f":"IF(Blad1!D397=\"\",\"\",Blad1!D397)","v":""},{"$f":"IF(Blad1!E397=\"\",\"\",Blad1!E397)","v":""},{"$f":"IF(Blad1!B397=\"\",\"\",Blad1!B397)","v":""},{"$f":"IF(Blad1!H397=\"\",\"\",Blad1!H397)","v":""},{"$f":"IF(Blad1!I397=\"\",\"\",Blad1!I397)","v":""},{"$f":"IF(Blad1!M397=\"\",\"\",Blad1!M397)","v":""},{"$f":"IF(Blad1!F397=\"\",\"\",Blad1!F397)","v":""},{"$f":"IF(Blad1!Q397=\"\",\"\",Blad1!Q397)","v":""}]
[{"$f":"IF(Blad1!D398=\"\",\"\",Blad1!D398)","v":""},{"$f":"IF(Blad1!E398=\"\",\"\",Blad1!E398)","v":""},{"$f":"IF(Blad1!B398=\"\",\"\",Blad1!B398)","v":""},{"$f":"IF(Blad1!H398=\"\",\"\",Blad1!H398)","v":""},{"$f":"IF(Blad1!I398=\"\",\"\",Blad1!I398)","v":""},{"$f":"IF(Blad1!M398=\"\",\"\",Blad1!M398)","v":""},{"$f":"IF(Blad1!F398=\"\",\"\",Blad1!F398)","v":""},{"$f":"IF(Blad1!Q398=\"\",\"\",Blad1!Q398)","v":""}]
[{"$f":"IF(Blad1!D399=\"\",\"\",Blad1!D399)","v":""},{"$f":"IF(Blad1!E399=\"\",\"\",Blad1!E399)","v":""},{"$f":"IF(Blad1!B399=\"\",\"\",Blad1!B399)","v":""},{"$f":"IF(Blad1!H399=\"\",\"\",Blad1!H399)","v":""},{"$f":"IF(Blad1!I399=\"\",\"\",Blad1!I399)","v":""},{"$f":"IF(Blad1!M399=\"\",\"\",Blad1!M399)","v":""},{"$f":"IF(Blad1!F399=\"\",\"\",Blad1!F399)","v":""},{"$f":"IF(Blad1!Q399=\"\",\"\",Blad1!Q399)","v":""}]
[{"$f":"IF(Blad1!D400=\"\",\"\",Blad1!D400)","v":""},{"$f":"IF(Blad1!E400=\"\",\"\",Blad1!E400)","v":""},{"$f":"IF(Blad1!B400=\"\",\"\",Blad1!B400)","v":""},{"$f":"IF(Blad1!H400=\"\",\"\",Blad1!H400)","v":""},{"$f":"IF(Blad1!I400=\"\",\"\",Blad1!I400)","v":""},{"$f":"IF(Blad1!M400=\"\",\"\",Blad1!M400)","v":""},{"$f":"IF(Blad1!F400=\"\",\"\",Blad1!F400)","v":""},{"$f":"IF(Blad1!Q400=\"\",\"\",Blad1!Q400)","v":""}]
[{"$f":"IF(Blad1!D401=\"\",\"\",Blad1!D401)","v":""},{"$f":"IF(Blad1!E401=\"\",\"\",Blad1!E401)","v":""},{"$f":"IF(Blad1!B401=\"\",\"\",Blad1!B401)","v":""},{"$f":"IF(Blad1!H401=\"\",\"\",Blad1!H401)","v":""},{"$f":"IF(Blad1!I401=\"\",\"\",Blad1!I401)","v":""},{"$f":"IF(Blad1!M401=\"\",\"\",Blad1!M401)","v":""},{"$f":"IF(Blad1!F401=\"\",\"\",Blad1!F401)","v":""},{"$f":"IF(Blad1!Q401=\"\",\"\",Blad1!Q401)","v":""}]
[{"$f":"IF(Blad1!D402=\"\",\"\",Blad1!D402)","v":""},{"$f":"IF(Blad1!E402=\"\",\"\",Blad1!E402)","v":""},{"$f":"IF(Blad1!B402=\"\",\"\",Blad1!B402)","v":""},{"$f":"IF(Blad1!H402=\"\",\"\",Blad1!H402)","v":""},{"$f":"IF(Blad1!I402=\"\",\"\",Blad1!I402)","v":""},{"$f":"IF(Blad1!M402=\"\",\"\",Blad1!M402)","v":""},{"$f":"IF(Blad1!F402=\"\",\"\",Blad1!F402)","v":""},{"$f":"IF(Blad1!Q402=\"\",\"\",Blad1!Q402)","v":""}]
[{"$f":"IF(Blad1!D403=\"\",\"\",Blad1!D403)","v":""},{"$f":"IF(Blad1!E403=\"\",\"\",Blad1!E403)","v":""},{"$f":"IF(Blad1!B403=\"\",\"\",Blad1!B403)","v":""},{"$f":"IF(Blad1!H403=\"\",\"\",Blad1!H403)","v":""},{"$f":"IF(Blad1!I403=\"\",\"\",Blad1!I403)","v":""},{"$f":"IF(Blad1!M403=\"\",\"\",Blad1!M403)","v":""},{"$f":"IF(Blad1!F403=\"\",\"\",Blad1!F403)","v":""},{"$f":"IF(Blad1!Q403=\"\",\"\",Blad1!Q403)","v":""}]
[{"$f":"IF(Blad1!D404=\"\",\"\",Blad1!D404)","v":""},{"$f":"IF(Blad1!E404=\"\",\"\",Blad1!E404)","v":""},{"$f":"IF(Blad1!B404=\"\",\"\",Blad1!B404)","v":""},{"$f":"IF(Blad1!H404=\"\",\"\",Blad1!H404)","v":""},{"$f":"IF(Blad1!I404=\"\",\"\",Blad1!I404)","v":""},{"$f":"IF(Blad1!M404=\"\",\"\",Blad1!M404)","v":""},{"$f":"IF(Blad1!F404=\"\",\"\",Blad1!F404)","v":""},{"$f":"IF(Blad1!Q404=\"\",\"\",Blad1!Q404)","v":""}]
[{"$f":"IF(Blad1!D405=\"\",\"\",Blad1!D405)","v":""},{"$f":"IF(Blad1!E405=\"\",\"\",Blad1!E405)","v":""},{"$f":"IF(Blad1!B405=\"\",\"\",Blad1!B405)","v":""},{"$f":"IF(Blad1!H405=\"\",\"\",Blad1!H405)","v":""},{"$f":"IF(Blad1!I405=\"\",\"\",Blad1!I405)","v":""},{"$f":"IF(Blad1!M405=\"\",\"\",Blad1!M405)","v":""},{"$f":"IF(Blad1!F405=\"\",\"\",Blad1!F405)","v":""},{"$f":"IF(Blad1!Q405=\"\",\"\",Blad1!Q405)","v":""}]
[{"$f":"IF(Blad1!D406=\"\",\"\",Blad1!D406)","v":""},{"$f":"IF(Blad1!E406=\"\",\"\",Blad1!E406)","v":""},{"$f":"IF(Blad1!B406=\"\",\"\",Blad1!B406)","v":""},{"$f":"IF(Blad1!H406=\"\",\"\",Blad1!H406)","v":""},{"$f":"IF(Blad1!I406=\"\",\"\",Blad1!I406)","v":""},{"$f":"IF(Blad1!M406=\"\",\"\",Blad1!M406)","v":""},{"$f":"IF(Blad1!F406=\"\",\"\",Blad1!F406)","v":""},{"$f":"IF(Blad1!Q406=\"\",\"\",Blad1!Q406)","v":""}]
[{"$f":"IF(Blad1!D407=\"\",\"\",Blad1!D407)","v":""},{"$f":"IF(Blad1!E407=\"\",\"\",Blad1!E407)","v":""},{"$f":"IF(Blad1!B407=\"\",\"\",Blad1!B407)","v":""},{"$f":"IF(Blad1!H407=\"\",\"\",Blad1!H407)","v":""},{"$f":"IF(Blad1!I407=\"\",\"\",Blad1!I407)","v":""},{"$f":"IF(Blad1!M407=\"\",\"\",Blad1!M407)","v":""},{"$f":"IF(Blad1!F407=\"\",\"\",Blad1!F407)","v":""},{"$f":"IF(Blad1!Q407=\"\",\"\",Blad1!Q407)","v":""}]
[{"$f":"IF(Blad1!D408=\"\",\"\",Blad1!D408)","v":""},{"$f":"IF(Blad1!E408=\"\",\"\",Blad1!E408)","v":""},{"$f":"IF(Blad1!B408=\"\",\"\",Blad1!B408)","v":""},{"$f":"IF(Blad1!H408=\"\",\"\",Blad1!H408)","v":""},{"$f":"IF(Blad1!I408=\"\",\"\",Blad1!I408)","v":""},{"$f":"IF(Blad1!M408=\"\",\"\",Blad1!M408)","v":""},{"$f":"IF(Blad1!F408=\"\",\"\",Blad1!F408)","v":""},{"$f":"IF(Blad1!Q408=\"\",\"\",Blad1!Q408)","v":""}]
[{"$f":"IF(Blad1!D409=\"\",\"\",Blad1!D409)","v":""},{"$f":"IF(Blad1!E409=\"\",\"\",Blad1!E409)","v":""},{"$f":"IF(Blad1!B409=\"\",\"\",Blad1!B409)","v":""},{"$f":"IF(Blad1!H409=\"\",\"\",Blad1!H409)","v":""},{"$f":"IF(Blad1!I409=\"\",\"\",Blad1!I409)","v":""},{"$f":"IF(Blad1!M409=\"\",\"\",Blad1!M409)","v":""},{"$f":"IF(Blad1!F409=\"\",\"\",Blad1!F409)","v":""},{"$f":"IF(Blad1!Q409=\"\",\"\",Blad1!Q409)","v":""}]
[{"$f":"IF(Blad1!D410=\"\",\"\",Blad1!D410)","v":""},{"$f":"IF(Blad1!E410=\"\",\"\",Blad1!E410)","v":""},{"$f":"IF(Blad1!B410=\"\",\"\",Blad1!B410)","v":""},{"$f":"IF(Blad1!H410=\"\",\"\",Blad1!H410)","v":""},{"$f":"IF(Blad1!I410=\"\",\"\",Blad1!I410)","v":""},{"$f":"IF(Blad1!M410=\"\",\"\",Blad1!M410)","v":""},{"$f":"IF(Blad1!F410=\"\",\"\",Blad1!F410)","v":""},{"$f":"IF(Blad1!Q410=\"\",\"\",Blad1!Q410)","v":""}]
[{"$f":"IF(Blad1!D411=\"\",\"\",Blad1!D411)","v":""},{"$f":"IF(Blad1!E411=\"\",\"\",Blad1!E411)","v":""},{"$f":"IF(Blad1!B411=\"\",\"\",Blad1!B411)","v":""},{"$f":"IF(Blad1!H411=\"\",\"\",Blad1!H411)","v":""},{"$f":"IF(Blad1!I411=\"\",\"\",Blad1!I411)","v":""},{"$f":"IF(Blad1!M411=\"\",\"\",Blad1!M411)","v":""},{"$f":"IF(Blad1!F411=\"\",\"\",Blad1!F411)","v":""},{"$f":"IF(Blad1!Q411=\"\",\"\",Blad1!Q411)","v":""}]
[{"$f":"IF(Blad1!D412=\"\",\"\",Blad1!D412)","v":""},{"$f":"IF(Blad1!E412=\"\",\"\",Blad1!E412)","v":""},{"$f":"IF(Blad1!B412=\"\",\"\",Blad1!B412)","v":""},{"$f":"IF(Blad1!H412=\"\",\"\",Blad1!H412)","v":""},{"$f":"IF(Blad1!I412=\"\",\"\",Blad1!I412)","v":""},{"$f":"IF(Blad1!M412=\"\",\"\",Blad1!M412)","v":""},{"$f":"IF(Blad1!F412=\"\",\"\",Blad1!F412)","v":""},{"$f":"IF(Blad1!Q412=\"\",\"\",Blad1!Q412)","v":""}]
[{"$f":"IF(Blad1!D413=\"\",\"\",Blad1!D413)","v":""},{"$f":"IF(Blad1!E413=\"\",\"\",Blad1!E413)","v":""},{"$f":"IF(Blad1!B413=\"\",\"\",Blad1!B413)","v":""},{"$f":"IF(Blad1!H413=\"\",\"\",Blad1!H413)","v":""},{"$f":"IF(Blad1!I413=\"\",\"\",Blad1!I413)","v":""},{"$f":"IF(Blad1!M413=\"\",\"\",Blad1!M413)","v":""},{"$f":"IF(Blad1!F413=\"\",\"\",Blad1!F413)","v":""},{"$f":"IF(Blad1!Q413=\"\",\"\",Blad1!Q413)","v":""}]
[{"$f":"IF(Blad1!D414=\"\",\"\",Blad1!D414)","v":""},{"$f":"IF(Blad1!E414=\"\",\"\",Blad1!E414)","v":""},{"$f":"IF(Blad1!B414=\"\",\"\",Blad1!B414)","v":""},{"$f":"IF(Blad1!H414=\"\",\"\",Blad1!H414)","v":""},{"$f":"IF(Blad1!I414=\"\",\"\",Blad1!I414)","v":""},{"$f":"IF(Blad1!M414=\"\",\"\",Blad1!M414)","v":""},{"$f":"IF(Blad1!F414=\"\",\"\",Blad1!F414)","v":""},{"$f":"IF(Blad1!Q414=\"\",\"\",Blad1!Q414)","v":""}]
[{"$f":"IF(Blad1!D415=\"\",\"\",Blad1!D415)","v":""},{"$f":"IF(Blad1!E415=\"\",\"\",Blad1!E415)","v":""},{"$f":"IF(Blad1!B415=\"\",\"\",Blad1!B415)","v":""},{"$f":"IF(Blad1!H415=\"\",\"\",Blad1!H415)","v":""},{"$f":"IF(Blad1!I415=\"\",\"\",Blad1!I415)","v":""},{"$f":"IF(Blad1!M415=\"\",\"\",Blad1!M415)","v":""},{"$f":"IF(Blad1!F415=\"\",\"\",Blad1!F415)","v":""},{"$f":"IF(Blad1!Q415=\"\",\"\",Blad1!Q415)","v":""}]
[{"$f":"IF(Blad1!D416=\"\",\"\",Blad1!D416)","v":""},{"$f":"IF(Blad1!E416=\"\",\"\",Blad1!E416)","v":""},{"$f":"IF(Blad1!B416=\"\",\"\",Blad1!B416)","v":""},{"$f":"IF(Blad1!H416=\"\",\"\",Blad1!H416)","v":""},{"$f":"IF(Blad1!I416=\"\",\"\",Blad1!I416)","v":""},{"$f":"IF(Blad1!M416=\"\",\"\",Blad1!M416)","v":""},{"$f":"IF(Blad1!F416=\"\",\"\",Blad1!F416)","v":""},{"$f":"IF(Blad1!Q416=\"\",\"\",Blad1!Q416)","v":""}]
[{"$f":"IF(Blad1!D417=\"\",\"\",Blad1!D417)","v":""},{"$f":"IF(Blad1!E417=\"\",\"\",Blad1!E417)","v":""},{"$f":"IF(Blad1!B417=\"\",\"\",Blad1!B417)","v":""},{"$f":"IF(Blad1!H417=\"\",\"\",Blad1!H417)","v":""},{"$f":"IF(Blad1!I417=\"\",\"\",Blad1!I417)","v":""},{"$f":"IF(Blad1!M417=\"\",\"\",Blad1!M417)","v":""},{"$f":"IF(Blad1!F417=\"\",\"\",Blad1!F417)","v":""},{"$f":"IF(Blad1!Q417=\"\",\"\",Blad1!Q417)","v":""}]
[{"$f":"IF(Blad1!D418=\"\",\"\",Blad1!D418)","v":""},{"$f":"IF(Blad1!E418=\"\",\"\",Blad1!E418)","v":""},{"$f":"IF(Blad1!B418=\"\",\"\",Blad1!B418)","v":""},{"$f":"IF(Blad1!H418=\"\",\"\",Blad1!H418)","v":""},{"$f":"IF(Blad1!I418=\"\",\"\",Blad1!I418)","v":""},{"$f":"IF(Blad1!M418=\"\",\"\",Blad1!M418)","v":""},{"$f":"IF(Blad1!F418=\"\",\"\",Blad1!F418)","v":""},{"$f":"IF(Blad1!Q418=\"\",\"\",Blad1!Q418)","v":""}]
[{"$f":"IF(Blad1!D419=\"\",\"\",Blad1!D419)","v":""},{"$f":"IF(Blad1!E419=\"\",\"\",Blad1!E419)","v":""},{"$f":"IF(Blad1!B419=\"\",\"\",Blad1!B419)","v":""},{"$f":"IF(Blad1!H419=\"\",\"\",Blad1!H419)","v":""},{"$f":"IF(Blad1!I419=\"\",\"\",Blad1!I419)","v":""},{"$f":"IF(Blad1!M419=\"\",\"\",Blad1!M419)","v":""},{"$f":"IF(Blad1!F419=\"\",\"\",Blad1!F419)","v":""},{"$f":"IF(Blad1!Q419=\"\",\"\",Blad1!Q419)","v":""}]
[{"$f":"IF(Blad1!D420=\"\",\"\",Blad1!D420)","v":""},{"$f":"IF(Blad1!E420=\"\",\"\",Blad1!E420)","v":""},{"$f":"IF(Blad1!B420=\"\",\"\",Blad1!B420)","v":""},{"$f":"IF(Blad1!H420=\"\",\"\",Blad1!H420)","v":""},{"$f":"IF(Blad1!I420=\"\",\"\",Blad1!I420)","v":""},{"$f":"IF(Blad1!M420=\"\",\"\",Blad1!M420)","v":""},{"$f":"IF(Blad1!F420=\"\",\"\",Blad1!F420)","v":""},{"$f":"IF(Blad1!Q420=\"\",\"\",Blad1!Q420)","v":""}]
[{"$f":"IF(Blad1!D421=\"\",\"\",Blad1!D421)","v":""},{"$f":"IF(Blad1!E421=\"\",\"\",Blad1!E421)","v":""},{"$f":"IF(Blad1!B421=\"\",\"\",Blad1!B421)","v":""},{"$f":"IF(Blad1!H421=\"\",\"\",Blad1!H421)","v":""},{"$f":"IF(Blad1!I421=\"\",\"\",Blad1!I421)","v":""},{"$f":"IF(Blad1!M421=\"\",\"\",Blad1!M421)","v":""},{"$f":"IF(Blad1!F421=\"\",\"\",Blad1!F421)","v":""},{"$f":"IF(Blad1!Q421=\"\",\"\",Blad1!Q421)","v":""}]
[{"$f":"IF(Blad1!D422=\"\",\"\",Blad1!D422)","v":""},{"$f":"IF(Blad1!E422=\"\",\"\",Blad1!E422)","v":""},{"$f":"IF(Blad1!B422=\"\",\"\",Blad1!B422)","v":""},{"$f":"IF(Blad1!H422=\"\",\"\",Blad1!H422)","v":""},{"$f":"IF(Blad1!I422=\"\",\"\",Blad1!I422)","v":""},{"$f":"IF(Blad1!M422=\"\",\"\",Blad1!M422)","v":""},{"$f":"IF(Blad1!F422=\"\",\"\",Blad1!F422)","v":""},{"$f":"IF(Blad1!Q422=\"\",\"\",Blad1!Q422)","v":""}]
[{"$f":"IF(Blad1!D423=\"\",\"\",Blad1!D423)","v":""},{"$f":"IF(Blad1!E423=\"\",\"\",Blad1!E423)","v":""},{"$f":"IF(Blad1!B423=\"\",\"\",Blad1!B423)","v":""},{"$f":"IF(Blad1!H423=\"\",\"\",Blad1!H423)","v":""},{"$f":"IF(Blad1!I423=\"\",\"\",Blad1!I423)","v":""},{"$f":"IF(Blad1!M423=\"\",\"\",Blad1!M423)","v":""},{"$f":"IF(Blad1!F423=\"\",\"\",Blad1!F423)","v":""},{"$f":"IF(Blad1!Q423=\"\",\"\",Blad1!Q423)","v":""}]
[{"$f":"IF(Blad1!D424=\"\",\"\",Blad1!D424)","v":""},{"$f":"IF(Blad1!E424=\"\",\"\",Blad1!E424)","v":""},{"$f":"IF(Blad1!B424=\"\",\"\",Blad1!B424)","v":""},{"$f":"IF(Blad1!H424=\"\",\"\",Blad1!H424)","v":""},{"$f":"IF(Blad1!I424=\"\",\"\",Blad1!I424)","v":""},{"$f":"IF(Blad1!M424=\"\",\"\",Blad1!M424)","v":""},{"$f":"IF(Blad1!F424=\"\",\"\",Blad1!F424)","v":""},{"$f":"IF(Blad1!Q424=\"\",\"\",Blad1!Q424)","v":""}]
[{"$f":"IF(Blad1!D425=\"\",\"\",Blad1!D425)","v":""},{"$f":"IF(Blad1!E425=\"\",\"\",Blad1!E425)","v":""},{"$f":"IF(Blad1!B425=\"\",\"\",Blad1!B425)","v":""},{"$f":"IF(Blad1!H425=\"\",\"\",Blad1!H425)","v":""},{"$f":"IF(Blad1!I425=\"\",\"\",Blad1!I425)","v":""},{"$f":"IF(Blad1!M425=\"\",\"\",Blad1!M425)","v":""},{"$f":"IF(Blad1!F425=\"\",\"\",Blad1!F425)","v":""},{"$f":"IF(Blad1!Q425=\"\",\"\",Blad1!Q425)","v":""}]
[{"$f":"IF(Blad1!D426=\"\",\"\",Blad1!D426)","v":""},{"$f":"IF(Blad1!E426=\"\",\"\",Blad1!E426)","v":""},{"$f":"IF(Blad1!B426=\"\",\"\",Blad1!B426)","v":""},{"$f":"IF(Blad1!H426=\"\",\"\",Blad1!H426)","v":""},{"$f":"IF(Blad1!I426=\"\",\"\",Blad1!I426)","v":""},{"$f":"IF(Blad1!M426=\"\",\"\",Blad1!M426)","v":""},{"$f":"IF(Blad1!F426=\"\",\"\",Blad1!F426)","v":""},{"$f":"IF(Blad1!Q426=\"\",\"\",Blad1!Q426)","v":""}]
[{"$f":"IF(Blad1!D427=\"\",\"\",Blad1!D427)","v":""},{"$f":"IF(Blad1!E427=\"\",\"\",Blad1!E427)","v":""},{"$f":"IF(Blad1!B427=\"\",\"\",Blad1!B427)","v":""},{"$f":"IF(Blad1!H427=\"\",\"\",Blad1!H427)","v":""},{"$f":"IF(Blad1!I427=\"\",\"\",Blad1!I427)","v":""},{"$f":"IF(Blad1!M427=\"\",\"\",Blad1!M427)","v":""},{"$f":"IF(Blad1!F427=\"\",\"\",Blad1!F427)","v":""},{"$f":"IF(Blad1!Q427=\"\",\"\",Blad1!Q427)","v":""}]
[{"$f":"IF(Blad1!D428=\"\",\"\",Blad1!D428)","v":""},{"$f":"IF(Blad1!E428=\"\",\"\",Blad1!E428)","v":""},{"$f":"IF(Blad1!B428=\"\",\"\",Blad1!B428)","v":""},{"$f":"IF(Blad1!H428=\"\",\"\",Blad1!H428)","v":""},{"$f":"IF(Blad1!I428=\"\",\"\",Blad1!I428)","v":""},{"$f":"IF(Blad1!M428=\"\",\"\",Blad1!M428)","v":""},{"$f":"IF(Blad1!F428=\"\",\"\",Blad1!F428)","v":""},{"$f":"IF(Blad1!Q428=\"\",\"\",Blad1!Q428)","v":""}]
[{"$f":"IF(Blad1!D429=\"\",\"\",Blad1!D429)","v":""},{"$f":"IF(Blad1!E429=\"\",\"\",Blad1!E429)","v":""},{"$f":"IF(Blad1!B429=\"\",\"\",Blad1!B429)","v":""},{"$f":"IF(Blad1!H429=\"\",\"\",Blad1!H429)","v":""},{"$f":"IF(Blad1!I429=\"\",\"\",Blad1!I429)","v":""},{"$f":"IF(Blad1!M429=\"\",\"\",Blad1!M429)","v":""},{"$f":"IF(Blad1!F429=\"\",\"\",Blad1!F429)","v":""},{"$f":"IF(Blad1!Q429=\"\",\"\",Blad1!Q429)","v":""}]
[{"$f":"IF(Blad1!D430=\"\",\"\",Blad1!D430)","v":""},{"$f":"IF(Blad1!E430=\"\",\"\",Blad1!E430)","v":""},{"$f":"IF(Blad1!B430=\"\",\"\",Blad1!B430)","v":""},{"$f":"IF(Blad1!H430=\"\",\"\",Blad1!H430)","v":""},{"$f":"IF(Blad1!I430=\"\",\"\",Blad1!I430)","v":""},{"$f":"IF(Blad1!M430=\"\",\"\",Blad1!M430)","v":""},{"$f":"IF(Blad1!F430=\"\",\"\",Blad1!F430)","v":""},{"$f":"IF(Blad1!Q430=\"\",\"\",Blad1!Q430)","v":""}]
[{"$f":"IF(Blad1!D431=\"\",\"\",Blad1!D431)","v":""},{"$f":"IF(Blad1!E431=\"\",\"\",Blad1!E431)","v":""},{"$f":"IF(Blad1!B431=\"\",\"\",Blad1!B431)","v":""},{"$f":"IF(Blad1!H431=\"\",\"\",Blad1!H431)","v":""},{"$f":"IF(Blad1!I431=\"\",\"\",Blad1!I431)","v":""},{"$f":"IF(Blad1!M431=\"\",\"\",Blad1!M431)","v":""},{"$f":"IF(Blad1!F431=\"\",\"\",Blad1!F431)","v":""},{"$f":"IF(Blad1!Q431=\"\",\"\",Blad1!Q431)","v":""}]
[{"$f":"IF(Blad1!D432=\"\",\"\",Blad1!D432)","v":""},{"$f":"IF(Blad1!E432=\"\",\"\",Blad1!E432)","v":""},{"$f":"IF(Blad1!B432=\"\",\"\",Blad1!B432)","v":""},{"$f":"IF(Blad1!H432=\"\",\"\",Blad1!H432)","v":""},{"$f":"IF(Blad1!I432=\"\",\"\",Blad1!I432)","v":""},{"$f":"IF(Blad1!M432=\"\",\"\",Blad1!M432)","v":""},{"$f":"IF(Blad1!F432=\"\",\"\",Blad1!F432)","v":""},{"$f":"IF(Blad1!Q432=\"\",\"\",Blad1!Q432)","v":""}]
[{"$f":"IF(Blad1!D433=\"\",\"\",Blad1!D433)","v":""},{"$f":"IF(Blad1!E433=\"\",\"\",Blad1!E433)","v":""},{"$f":"IF(Blad1!B433=\"\",\"\",Blad1!B433)","v":""},{"$f":"IF(Blad1!H433=\"\",\"\",Blad1!H433)","v":""},{"$f":"IF(Blad1!I433=\"\",\"\",Blad1!I433)","v":""},{"$f":"IF(Blad1!M433=\"\",\"\",Blad1!M433)","v":""},{"$f":"IF(Blad1!F433=\"\",\"\",Blad1!F433)","v":""},{"$f":"IF(Blad1!Q433=\"\",\"\",Blad1!Q433)","v":""}]
[{"$f":"IF(Blad1!D434=\"\",\"\",Blad1!D434)","v":""},{"$f":"IF(Blad1!E434=\"\",\"\",Blad1!E434)","v":""},{"$f":"IF(Blad1!B434=\"\",\"\",Blad1!B434)","v":""},{"$f":"IF(Blad1!H434=\"\",\"\",Blad1!H434)","v":""},{"$f":"IF(Blad1!I434=\"\",\"\",Blad1!I434)","v":""},{"$f":"IF(Blad1!M434=\"\",\"\",Blad1!M434)","v":""},{"$f":"IF(Blad1!F434=\"\",\"\",Blad1!F434)","v":""},{"$f":"IF(Blad1!Q434=\"\",\"\",Blad1!Q434)","v":""}]
[{"$f":"IF(Blad1!D435=\"\",\"\",Blad1!D435)","v":""},{"$f":"IF(Blad1!E435=\"\",\"\",Blad1!E435)","v":""},{"$f":"IF(Blad1!B435=\"\",\"\",Blad1!B435)","v":""},{"$f":"IF(Blad1!H435=\"\",\"\",Blad1!H435)","v":""},{"$f":"IF(Blad1!I435=\"\",\"\",Blad1!I435)","v":""},{"$f":"IF(Blad1!M435=\"\",\"\",Blad1!M435)","v":""},{"$f":"IF(Blad1!F435=\"\",\"\",Blad1!F435)","v":""},{"$f":"IF(Blad1!Q435=\"\",\"\",Blad1!Q435)","v":""}]
[{"$f":"IF(Blad1!D436=\"\",\"\",Blad1!D436)","v":""},{"$f":"IF(Blad1!E436=\"\",\"\",Blad1!E436)","v":""},{"$f":"IF(Blad1!B436=\"\",\"\",Blad1!B436)","v":""},{"$f":"IF(Blad1!H436=\"\",\"\",Blad1!H436)","v":""},{"$f":"IF(Blad1!I436=\"\",\"\",Blad1!I436)","v":""},{"$f":"IF(Blad1!M436=\"\",\"\",Blad1!M436)","v":""},{"$f":"IF(Blad1!F436=\"\",\"\",Blad1!F436)","v":""},{"$f":"IF(Blad1!Q436=\"\",\"\",Blad1!Q436)","v":""}]
[{"$f":"IF(Blad1!D437=\"\",\"\",Blad1!D437)","v":""},{"$f":"IF(Blad1!E437=\"\",\"\",Blad1!E437)","v":""},{"$f":"IF(Blad1!B437=\"\",\"\",Blad1!B437)","v":""},{"$f":"IF(Blad1!H437=\"\",\"\",Blad1!H437)","v":""},{"$f":"IF(Blad1!I437=\"\",\"\",Blad1!I437)","v":""},{"$f":"IF(Blad1!M437=\"\",\"\",Blad1!M437)","v":""},{"$f":"IF(Blad1!F437=\"\",\"\",Blad1!F437)","v":""},{"$f":"IF(Blad1!Q437=\"\",\"\",Blad1!Q437)","v":""}]
[{"$f":"IF(Blad1!D438=\"\",\"\",Blad1!D438)","v":""},{"$f":"IF(Blad1!E438=\"\",\"\",Blad1!E438)","v":""},{"$f":"IF(Blad1!B438=\"\",\"\",Blad1!B438)","v":""},{"$f":"IF(Blad1!H438=\"\",\"\",Blad1!H438)","v":""},{"$f":"IF(Blad1!I438=\"\",\"\",Blad1!I438)","v":""},{"$f":"IF(Blad1!M438=\"\",\"\",Blad1!M438)","v":""},{"$f":"IF(Blad1!F438=\"\",\"\",Blad1!F438)","v":""},{"$f":"IF(Blad1!Q438=\"\",\"\",Blad1!Q438)","v":""}]
[{"$f":"IF(Blad1!D439=\"\",\"\",Blad1!D439)","v":""},{"$f":"IF(Blad1!E439=\"\",\"\",Blad1!E439)","v":""},{"$f":"IF(Blad1!B439=\"\",\"\",Blad1!B439)","v":""},{"$f":"IF(Blad1!H439=\"\",\"\",Blad1!H439)","v":""},{"$f":"IF(Blad1!I439=\"\",\"\",Blad1!I439)","v":""},{"$f":"IF(Blad1!M439=\"\",\"\",Blad1!M439)","v":""},{"$f":"IF(Blad1!F439=\"\",\"\",Blad1!F439)","v":""},{"$f":"IF(Blad1!Q439=\"\",\"\",Blad1!Q439)","v":""}]
[{"$f":"IF(Blad1!D440=\"\",\"\",Blad1!D440)","v":""},{"$f":"IF(Blad1!E440=\"\",\"\",Blad1!E440)","v":""},{"$f":"IF(Blad1!B440=\"\",\"\",Blad1!B440)","v":""},{"$f":"IF(Blad1!H440=\"\",\"\",Blad1!H440)","v":""},{"$f":"IF(Blad1!I440=\"\",\"\",Blad1!I440)","v":""},{"$f":"IF(Blad1!M440=\"\",\"\",Blad1!M440)","v":""},{"$f":"IF(Blad1!F440=\"\",\"\",Blad1!F440)","v":""},{"$f":"IF(Blad1!Q440=\"\",\"\",Blad1!Q440)","v":""}]
[{"$f":"IF(Blad1!D441=\"\",\"\",Blad1!D441)","v":""},{"$f":"IF(Blad1!E441=\"\",\"\",Blad1!E441)","v":""},{"$f":"IF(Blad1!B441=\"\",\"\",Blad1!B441)","v":""},{"$f":"IF(Blad1!H441=\"\",\"\",Blad1!H441)","v":""},{"$f":"IF(Blad1!I441=\"\",\"\",Blad1!I441)","v":""},{"$f":"IF(Blad1!M441=\"\",\"\",Blad1!M441)","v":""},{"$f":"IF(Blad1!F441=\"\",\"\",Blad1!F441)","v":""},{"$f":"IF(Blad1!Q441=\"\",\"\",Blad1!Q441)","v":""}]
[{"$f":"IF(Blad1!D442=\"\",\"\",Blad1!D442)","v":""},{"$f":"IF(Blad1!E442=\"\",\"\",Blad1!E442)","v":""},{"$f":"IF(Blad1!B442=\"\",\"\",Blad1!B442)","v":""},{"$f":"IF(Blad1!H442=\"\",\"\",Blad1!H442)","v":""},{"$f":"IF(Blad1!I442=\"\",\"\",Blad1!I442)","v":""},{"$f":"IF(Blad1!M442=\"\",\"\",Blad1!M442)","v":""},{"$f":"IF(Blad1!F442=\"\",\"\",Blad1!F442)","v":""},{"$f":"IF(Blad1!Q442=\"\",\"\",Blad1!Q442)","v":""}]
[{"$f":"IF(Blad1!D443=\"\",\"\",Blad1!D443)","v":""},{"$f":"IF(Blad1!E443=\"\",\"\",Blad1!E443)","v":""},{"$f":"IF(Blad1!B443=\"\",\"\",Blad1!B443)","v":""},{"$f":"IF(Blad1!H443=\"\",\"\",Blad1!H443)","v":""},{"$f":"IF(Blad1!I443=\"\",\"\",Blad1!I443)","v":""},{"$f":"IF(Blad1!M443=\"\",\"\",Blad1!M443)","v":""},{"$f":"IF(Blad1!F443=\"\",\"\",Blad1!F443)","v":""},{"$f":"IF(Blad1!Q443=\"\",\"\",Blad1!Q443)","v":""}]
[{"$f":"IF(Blad1!D444=\"\",\"\",Blad1!D444)","v":""},{"$f":"IF(Blad1!E444=\"\",\"\",Blad1!E444)","v":""},{"$f":"IF(Blad1!B444=\"\",\"\",Blad1!B444)","v":""},{"$f":"IF(Blad1!H444=\"\",\"\",Blad1!H444)","v":""},{"$f":"IF(Blad1!I444=\"\",\"\",Blad1!I444)","v":""},{"$f":"IF(Blad1!M444=\"\",\"\",Blad1!M444)","v":""},{"$f":"IF(Blad1!F444=\"\",\"\",Blad1!F444)","v":""},{"$f":"IF(Blad1!Q444=\"\",\"\",Blad1!Q444)","v":""}]
[{"$f":"IF(Blad1!D445=\"\",\"\",Blad1!D445)","v":""},{"$f":"IF(Blad1!E445=\"\",\"\",Blad1!E445)","v":""},{"$f":"IF(Blad1!B445=\"\",\"\",Blad1!B445)","v":""},{"$f":"IF(Blad1!H445=\"\",\"\",Blad1!H445)","v":""},{"$f":"IF(Blad1!I445=\"\",\"\",Blad1!I445)","v":""},{"$f":"IF(Blad1!M445=\"\",\"\",Blad1!M445)","v":""},{"$f":"IF(Blad1!F445=\"\",\"\",Blad1!F445)","v":""},{"$f":"IF(Blad1!Q445=\"\",\"\",Blad1!Q445)","v":""}]
[{"$f":"IF(Blad1!D446=\"\",\"\",Blad1!D446)","v":""},{"$f":"IF(Blad1!E446=\"\",\"\",Blad1!E446)","v":""},{"$f":"IF(Blad1!B446=\"\",\"\",Blad1!B446)","v":""},{"$f":"IF(Blad1!H446=\"\",\"\",Blad1!H446)","v":""},{"$f":"IF(Blad1!I446=\"\",\"\",Blad1!I446)","v":""},{"$f":"IF(Blad1!M446=\"\",\"\",Blad1!M446)","v":""},{"$f":"IF(Blad1!F446=\"\",\"\",Blad1!F446)","v":""},{"$f":"IF(Blad1!Q446=\"\",\"\",Blad1!Q446)","v":""}]
[{"$f":"IF(Blad1!D447=\"\",\"\",Blad1!D447)","v":""},{"$f":"IF(Blad1!E447=\"\",\"\",Blad1!E447)","v":""},{"$f":"IF(Blad1!B447=\"\",\"\",Blad1!B447)","v":""},{"$f":"IF(Blad1!H447=\"\",\"\",Blad1!H447)","v":""},{"$f":"IF(Blad1!I447=\"\",\"\",Blad1!I447)","v":""},{"$f":"IF(Blad1!M447=\"\",\"\",Blad1!M447)","v":""},{"$f":"IF(Blad1!F447=\"\",\"\",Blad1!F447)","v":""},{"$f":"IF(Blad1!Q447=\"\",\"\",Blad1!Q447)","v":""}]
[{"$f":"IF(Blad1!D448=\"\",\"\",Blad1!D448)","v":""},{"$f":"IF(Blad1!E448=\"\",\"\",Blad1!E448)","v":""},{"$f":"IF(Blad1!B448=\"\",\"\",Blad1!B448)","v":""},{"$f":"IF(Blad1!H448=\"\",\"\",Blad1!H448)","v":""},{"$f":"IF(Blad1!I448=\"\",\"\",Blad1!I448)","v":""},{"$f":"IF(Blad1!M448=\"\",\"\",Blad1!M448)","v":""},{"$f":"IF(Blad1!F448=\"\",\"\",Blad1!F448)","v":""},{"$f":"IF(Blad1!Q448=\"\",\"\",Blad1!Q448)","v":""}]
[{"$f":"IF(Blad1!D449=\"\",\"\",Blad1!D449)","v":""},{"$f":"IF(Blad1!E449=\"\",\"\",Blad1!E449)","v":""},{"$f":"IF(Blad1!B449=\"\",\"\",Blad1!B449)","v":""},{"$f":"IF(Blad1!H449=\"\",\"\",Blad1!H449)","v":""},{"$f":"IF(Blad1!I449=\"\",\"\",Blad1!I449)","v":""},{"$f":"IF(Blad1!M449=\"\",\"\",Blad1!M449)","v":""},{"$f":"IF(Blad1!F449=\"\",\"\",Blad1!F449)","v":""},{"$f":"IF(Blad1!Q449=\"\",\"\",Blad1!Q449)","v":""}]
[{"$f":"IF(Blad1!D450=\"\",\"\",Blad1!D450)","v":""},{"$f":"IF(Blad1!E450=\"\",\"\",Blad1!E450)","v":""},{"$f":"IF(Blad1!B450=\"\",\"\",Blad1!B450)","v":""},{"$f":"IF(Blad1!H450=\"\",\"\",Blad1!H450)","v":""},{"$f":"IF(Blad1!I450=\"\",\"\",Blad1!I450)","v":""},{"$f":"IF(Blad1!M450=\"\",\"\",Blad1!M450)","v":""},{"$f":"IF(Blad1!F450=\"\",\"\",Blad1!F450)","v":""},{"$f":"IF(Blad1!Q450=\"\",\"\",Blad1!Q450)","v":""}]
[{"$f":"IF(Blad1!D451=\"\",\"\",Blad1!D451)","v":""},{"$f":"IF(Blad1!E451=\"\",\"\",Blad1!E451)","v":""},{"$f":"IF(Blad1!B451=\"\",\"\",Blad1!B451)","v":""},{"$f":"IF(Blad1!H451=\"\",\"\",Blad1!H451)","v":""},{"$f":"IF(Blad1!I451=\"\",\"\",Blad1!I451)","v":""},{"$f":"IF(Blad1!M451=\"\",\"\",Blad1!M451)","v":""},{"$f":"IF(Blad1!F451=\"\",\"\",Blad1!F451)","v":""},{"$f":"IF(Blad1!Q451=\"\",\"\",Blad1!Q451)","v":""}]
[{"$f":"IF(Blad1!D452=\"\",\"\",Blad1!D452)","v":""},{"$f":"IF(Blad1!E452=\"\",\"\",Blad1!E452)","v":""},{"$f":"IF(Blad1!B452=\"\",\"\",Blad1!B452)","v":""},{"$f":"IF(Blad1!H452=\"\",\"\",Blad1!H452)","v":""},{"$f":"IF(Blad1!I452=\"\",\"\",Blad1!I452)","v":""},{"$f":"IF(Blad1!M452=\"\",\"\",Blad1!M452)","v":""},{"$f":"IF(Blad1!F452=\"\",\"\",Blad1!F452)","v":""},{"$f":"IF(Blad1!Q452=\"\",\"\",Blad1!Q452)","v":""}]
[{"$f":"IF(Blad1!D453=\"\",\"\",Blad1!D453)","v":""},{"$f":"IF(Blad1!E453=\"\",\"\",Blad1!E453)","v":""},{"$f":"IF(Blad1!B453=\"\",\"\",Blad1!B453)","v":""},{"$f":"IF(Blad1!H453=\"\",\"\",Blad1!H453)","v":""},{"$f":"IF(Blad1!I453=\"\",\"\",Blad1!I453)","v":""},{"$f":"IF(Blad1!M453=\"\",\"\",Blad1!M453)","v":""},{"$f":"IF(Blad1!F453=\"\",\"\",Blad1!F453)","v":""},{"$f":"IF(Blad1!Q453=\"\",\"\",Blad1!Q453)","v":""}]
[{"$f":"IF(Blad1!D454=\"\",\"\",Blad1!D454)","v":""},{"$f":"IF(Blad1!E454=\"\",\"\",Blad1!E454)","v":""},{"$f":"IF(Blad1!B454=\"\",\"\",Blad1!B454)","v":""},{"$f":"IF(Blad1!H454=\"\",\"\",Blad1!H454)","v":""},{"$f":"IF(Blad1!I454=\"\",\"\",Blad1!I454)","v":""},{"$f":"IF(Blad1!M454=\"\",\"\",Blad1!M454)","v":""},{"$f":"IF(Blad1!F454=\"\",\"\",Blad1!F454)","v":""},{"$f":"IF(Blad1!Q454=\"\",\"\",Blad1!Q454)","v":""}]
[{"$f":"IF(Blad1!D455=\"\",\"\",Blad1!D455)","v":""},{"$f":"IF(Blad1!E455=\"\",\"\",Blad1!E455)","v":""},{"$f":"IF(Blad1!B455=\"\",\"\",Blad1!B455)","v":""},{"$f":"IF(Blad1!H455=\"\",\"\",Blad1!H455)","v":""},{"$f":"IF(Blad1!I455=\"\",\"\",Blad1!I455)","v":""},{"$f":"IF(Blad1!M455=\"\",\"\",Blad1!M455)","v":""},{"$f":"IF(Blad1!F455=\"\",\"\",Blad1!F455)","v":""},{"$f":"IF(Blad1!Q455=\"\",\"\",Blad1!Q455)","v":""}]
[{"$f":"IF(Blad1!D456=\"\",\"\",Blad1!D456)","v":""},{"$f":"IF(Blad1!E456=\"\",\"\",Blad1!E456)","v":""},{"$f":"IF(Blad1!B456=\"\",\"\",Blad1!B456)","v":""},{"$f":"IF(Blad1!H456=\"\",\"\",Blad1!H456)","v":""},{"$f":"IF(Blad1!I456=\"\",\"\",Blad1!I456)","v":""},{"$f":"IF(Blad1!M456=\"\",\"\",Blad1!M456)","v":""},{"$f":"IF(Blad1!F456=\"\",\"\",Blad1!F456)","v":""},{"$f":"IF(Blad1!Q456=\"\",\"\",Blad1!Q456)","v":""}]
[{"$f":"IF(Blad1!D457=\"\",\"\",Blad1!D457)","v":""},{"$f":"IF(Blad1!E457=\"\",\"\",Blad1!E457)","v":""},{"$f":"IF(Blad1!B457=\"\",\"\",Blad1!B457)","v":""},{"$f":"IF(Blad1!H457=\"\",\"\",Blad1!H457)","v":""},{"$f":"IF(Blad1!I457=\"\",\"\",Blad1!I457)","v":""},{"$f":"IF(Blad1!M457=\"\",\"\",Blad1!M457)","v":""},{"$f":"IF(Blad1!F457=\"\",\"\",Blad1!F457)","v":""},{"$f":"IF(Blad1!Q457=\"\",\"\",Blad1!Q457)","v":""}]
[{"$f":"IF(Blad1!D458=\"\",\"\",Blad1!D458)","v":""},{"$f":"IF(Blad1!E458=\"\",\"\",Blad1!E458)","v":""},{"$f":"IF(Blad1!B458=\"\",\"\",Blad1!B458)","v":""},{"$f":"IF(Blad1!H458=\"\",\"\",Blad1!H458)","v":""},{"$f":"IF(Blad1!I458=\"\",\"\",Blad1!I458)","v":""},{"$f":"IF(Blad1!M458=\"\",\"\",Blad1!M458)","v":""},{"$f":"IF(Blad1!F458=\"\",\"\",Blad1!F458)","v":""},{"$f":"IF(Blad1!Q458=\"\",\"\",Blad1!Q458)","v":""}]
[{"$f":"IF(Blad1!D459=\"\",\"\",Blad1!D459)","v":""},{"$f":"IF(Blad1!E459=\"\",\"\",Blad1!E459)","v":""},{"$f":"IF(Blad1!B459=\"\",\"\",Blad1!B459)","v":""},{"$f":"IF(Blad1!H459=\"\",\"\",Blad1!H459)","v":""},{"$f":"IF(Blad1!I459=\"\",\"\",Blad1!I459)","v":""},{"$f":"IF(Blad1!M459=\"\",\"\",Blad1!M459)","v":""},{"$f":"IF(Blad1!F459=\"\",\"\",Blad1!F459)","v":""},{"$f":"IF(Blad1!Q459=\"\",\"\",Blad1!Q459)","v":""}]
[{"$f":"IF(Blad1!D460=\"\",\"\",Blad1!D460)","v":""},{"$f":"IF(Blad1!E460=\"\",\"\",Blad1!E460)","v":""},{"$f":"IF(Blad1!B460=\"\",\"\",Blad1!B460)","v":""},{"$f":"IF(Blad1!H460=\"\",\"\",Blad1!H460)","v":""},{"$f":"IF(Blad1!I460=\"\",\"\",Blad1!I460)","v":""},{"$f":"IF(Blad1!M460=\"\",\"\",Blad1!M460)","v":""},{"$f":"IF(Blad1!F460=\"\",\"\",Blad1!F460)","v":""},{"$f":"IF(Blad1!Q460=\"\",\"\",Blad1!Q460)","v":""}]
[{"$f":"IF(Blad1!D461=\"\",\"\",Blad1!D461)","v":""},{"$f":"IF(Blad1!E461=\"\",\"\",Blad1!E461)","v":""},{"$f":"IF(Blad1!B461=\"\",\"\",Blad1!B461)","v":""},{"$f":"IF(Blad1!H461=\"\",\"\",Blad1!H461)","v":""},{"$f":"IF(Blad1!I461=\"\",\"\",Blad1!I461)","v":""},{"$f":"IF(Blad1!M461=\"\",\"\",Blad1!M461)","v":""},{"$f":"IF(Blad1!F461=\"\",\"\",Blad1!F461)","v":""},{"$f":"IF(Blad1!Q461=\"\",\"\",Blad1!Q461)","v":""}]
[{"$f":"IF(Blad1!D462=\"\",\"\",Blad1!D462)","v":""},{"$f":"IF(Blad1!E462=\"\",\"\",Blad1!E462)","v":""},{"$f":"IF(Blad1!B462=\"\",\"\",Blad1!B462)","v":""},{"$f":"IF(Blad1!H462=\"\",\"\",Blad1!H462)","v":""},{"$f":"IF(Blad1!I462=\"\",\"\",Blad1!I462)","v":""},{"$f":"IF(Blad1!M462=\"\",\"\",Blad1!M462)","v":""},{"$f":"IF(Blad1!F462=\"\",\"\",Blad1!F462)","v":""},{"$f":"IF(Blad1!Q462=\"\",\"\",Blad1!Q462)","v":""}]
[{"$f":"IF(Blad1!D463=\"\",\"\",Blad1!D463)","v":""},{"$f":"IF(Blad1!E463=\"\",\"\",Blad1!E463)","v":""},{"$f":"IF(Blad1!B463=\"\",\"\",Blad1!B463)","v":""},{"$f":"IF(Blad1!H463=\"\",\"\",Blad1!H463)","v":""},{"$f":"IF(Blad1!I463=\"\",\"\",Blad1!I463)","v":""},{"$f":"IF(Blad1!M463=\"\",\"\",Blad1!M463)","v":""},{"$f":"IF(Blad1!F463=\"\",\"\",Blad1!F463)","v":""},{"$f":"IF(Blad1!Q463=\"\",\"\",Blad1!Q463)","v":""}]
[{"$f":"IF(Blad1!D464=\"\",\"\",Blad1!D464)","v":""},{"$f":"IF(Blad1!E464=\"\",\"\",Blad1!E464)","v":""},{"$f":"IF(Blad1!B464=\"\",\"\",Blad1!B464)","v":""},{"$f":"IF(Blad1!H464=\"\",\"\",Blad1!H464)","v":""},{"$f":"IF(Blad1!I464=\"\",\"\",Blad1!I464)","v":""},{"$f":"IF(Blad1!M464=\"\",\"\",Blad1!M464)","v":""},{"$f":"IF(Blad1!F464=\"\",\"\",Blad1!F464)","v":""},{"$f":"IF(Blad1!Q464=\"\",\"\",Blad1!Q464)","v":""}]
[{"$f":"IF(Blad1!D465=\"\",\"\",Blad1!D465)","v":""},{"$f":"IF(Blad1!E465=\"\",\"\",Blad1!E465)","v":""},{"$f":"IF(Blad1!B465=\"\",\"\",Blad1!B465)","v":""},{"$f":"IF(Blad1!H465=\"\",\"\",Blad1!H465)","v":""},{"$f":"IF(Blad1!I465=\"\",\"\",Blad1!I465)","v":""},{"$f":"IF(Blad1!M465=\"\",\"\",Blad1!M465)","v":""},{"$f":"IF(Blad1!F465=\"\",\"\",Blad1!F465)","v":""},{"$f":"IF(Blad1!Q465=\"\",\"\",Blad1!Q465)","v":""}]
[{"$f":"IF(Blad1!D466=\"\",\"\",Blad1!D466)","v":""},{"$f":"IF(Blad1!E466=\"\",\"\",Blad1!E466)","v":""},{"$f":"IF(Blad1!B466=\"\",\"\",Blad1!B466)","v":""},{"$f":"IF(Blad1!H466=\"\",\"\",Blad1!H466)","v":""},{"$f":"IF(Blad1!I466=\"\",\"\",Blad1!I466)","v":""},{"$f":"IF(Blad1!M466=\"\",\"\",Blad1!M466)","v":""},{"$f":"IF(Blad1!F466=\"\",\"\",Blad1!F466)","v":""},{"$f":"IF(Blad1!Q466=\"\",\"\",Blad1!Q466)","v":""}]
[{"$f":"IF(Blad1!D467=\"\",\"\",Blad1!D467)","v":""},{"$f":"IF(Blad1!E467=\"\",\"\",Blad1!E467)","v":""},{"$f":"IF(Blad1!B467=\"\",\"\",Blad1!B467)","v":""},{"$f":"IF(Blad1!H467=\"\",\"\",Blad1!H467)","v":""},{"$f":"IF(Blad1!I467=\"\",\"\",Blad1!I467)","v":""},{"$f":"IF(Blad1!M467=\"\",\"\",Blad1!M467)","v":""},{"$f":"IF(Blad1!F467=\"\",\"\",Blad1!F467)","v":""},{"$f":"IF(Blad1!Q467=\"\",\"\",Blad1!Q467)","v":""}]
[{"$f":"IF(Blad1!D468=\"\",\"\",Blad1!D468)","v":""},{"$f":"IF(Blad1!E468=\"\",\"\",Blad1!E468)","v":""},{"$f":"IF(Blad1!B468=\"\",\"\",Blad1!B468)","v":""},{"$f":"IF(Blad1!H468=\"\",\"\",Blad1!H468)","v":""},{"$f":"IF(Blad1!I468=\"\",\"\",Blad1!I468)","v":""},{"$f":"IF(Blad1!M468=\"\",\"\",Blad1!M468)","v":""},{"$f":"IF(Blad1!F468=\"\",\"\",Blad1!F468)","v":""},{"$f":"IF(Blad1!Q468=\"\",\"\",Blad1!Q468)","v":""}]
[{"$f":"IF(Blad1!D469=\"\",\"\",Blad1!D469)","v":""},{"$f":"IF(Blad1!E469=\"\",\"\",Blad1!E469)","v":""},{"$f":"IF(Blad1!B469=\"\",\"\",Blad1!B469)","v":""},{"$f":"IF(Blad1!H469=\"\",\"\",Blad1!H469)","v":""},{"$f":"IF(Blad1!I469=\"\",\"\",Blad1!I469)","v":""},{"$f":"IF(Blad1!M469=\"\",\"\",Blad1!M469)","v":""},{"$f":"IF(Blad1!F469=\"\",\"\",Blad1!F469)","v":""},{"$f":"IF(Blad1!Q469=\"\",\"\",Blad1!Q469)","v":""}]
[{"$f":"IF(Blad1!D470=\"\",\"\",Blad1!D470)","v":""},{"$f":"IF(Blad1!E470=\"\",\"\",Blad1!E470)","v":""},{"$f":"IF(Blad1!B470=\"\",\"\",Blad1!B470)","v":""},{"$f":"IF(Blad1!H470=\"\",\"\",Blad1!H470)","v":""},{"$f":"IF(Blad1!I470=\"\",\"\",Blad1!I470)","v":""},{"$f":"IF(Blad1!M470=\"\",\"\",Blad1!M470)","v":""},{"$f":"IF(Blad1!F470=\"\",\"\",Blad1!F470)","v":""},{"$f":"IF(Blad1!Q470=\"\",\"\",Blad1!Q470)","v":""}]
[{"$f":"IF(Blad1!D471=\"\",\"\",Blad1!D471)","v":""},{"$f":"IF(Blad1!E471=\"\",\"\",Blad1!E471)","v":""},{"$f":"IF(Blad1!B471=\"\",\"\",Blad1!B471)","v":""},{"$f":"IF(Blad1!H471=\"\",\"\",Blad1!H471)","v":""},{"$f":"IF(Blad1!I471=\"\",\"\",Blad1!I471)","v":""},{"$f":"IF(Blad1!M471=\"\",\"\",Blad1!M471)","v":""},{"$f":"IF(Blad1!F471=\"\",\"\",Blad1!F471)","v":""},{"$f":"IF(Blad1!Q471=\"\",\"\",Blad1!Q471)","v":""}]
[{"$f":"IF(Blad1!D472=\"\",\"\",Blad1!D472)","v":""},{"$f":"IF(Blad1!E472=\"\",\"\",Blad1!E472)","v":""},{"$f":"IF(Blad1!B472=\"\",\"\",Blad1!B472)","v":""},{"$f":"IF(Blad1!H472=\"\",\"\",Blad1!H472)","v":""},{"$f":"IF(Blad1!I472=\"\",\"\",Blad1!I472)","v":""},{"$f":"IF(Blad1!M472=\"\",\"\",Blad1!M472)","v":""},{"$f":"IF(Blad1!F472=\"\",\"\",Blad1!F472)","v":""},{"$f":"IF(Blad1!Q472=\"\",\"\",Blad1!Q472)","v":""}]
[{"$f":"IF(Blad1!D473=\"\",\"\",Blad1!D473)","v":""},{"$f":"IF(Blad1!E473=\"\",\"\",Blad1!E473)","v":""},{"$f":"IF(Blad1!B473=\"\",\"\",Blad1!B473)","v":""},{"$f":"IF(Blad1!H473=\"\",\"\",Blad1!H473)","v":""},{"$f":"IF(Blad1!I473=\"\",\"\",Blad1!I473)","v":""},{"$f":"IF(Blad1!M473=\"\",\"\",Blad1!M473)","v":""},{"$f":"IF(Blad1!F473=\"\",\"\",Blad1!F473)","v":""},{"$f":"IF(Blad1!Q473=\"\",\"\",Blad1!Q473)","v":""}]
[{"$f":"IF(Blad1!D474=\"\",\"\",Blad1!D474)","v":""},{"$f":"IF(Blad1!E474=\"\",\"\",Blad1!E474)","v":""},{"$f":"IF(Blad1!B474=\"\",\"\",Blad1!B474)","v":""},{"$f":"IF(Blad1!H474=\"\",\"\",Blad1!H474)","v":""},{"$f":"IF(Blad1!I474=\"\",\"\",Blad1!I474)","v":""},{"$f":"IF(Blad1!M474=\"\",\"\",Blad1!M474)","v":""},{"$f":"IF(Blad1!F474=\"\",\"\",Blad1!F474)","v":""},{"$f":"IF(Blad1!Q474=\"\",\"\",Blad1!Q474)","v":""}]
[{"$f":"IF(Blad1!D475=\"\",\"\",Blad1!D475)","v":""},{"$f":"IF(Blad1!E475=\"\",\"\",Blad1!E475)","v":""},{"$f":"IF(Blad1!B475=\"\",\"\",Blad1!B475)","v":""},{"$f":"IF(Blad1!H475=\"\",\"\",Blad1!H475)","v":""},{"$f":"IF(Blad1!I475=\"\",\"\",Blad1!I475)","v":""},{"$f":"IF(Blad1!M475=\"\",\"\",Blad1!M475)","v":""},{"$f":"IF(Blad1!F475=\"\",\"\",Blad1!F475)","v":""},{"$f":"IF(Blad1!Q475=\"\",\"\",Blad1!Q475)","v":""}]
[{"$f":"IF(Blad1!D476=\"\",\"\",Blad1!D476)","v":""},{"$f":"IF(Blad1!E476=\"\",\"\",Blad1!E476)","v":""},{"$f":"IF(Blad1!B476=\"\",\"\",Blad1!B476)","v":""},{"$f":"IF(Blad1!H476=\"\",\"\",Blad1!H476)","v":""},{"$f":"IF(Blad1!I476=\"\",\"\",Blad1!I476)","v":""},{"$f":"IF(Blad1!M476=\"\",\"\",Blad1!M476)","v":""},{"$f":"IF(Blad1!F476=\"\",\"\",Blad1!F476)","v":""},{"$f":"IF(Blad1!Q476=\"\",\"\",Blad1!Q476)","v":""}]
[{"$f":"IF(Blad1!D477=\"\",\"\",Blad1!D477)","v":""},{"$f":"IF(Blad1!E477=\"\",\"\",Blad1!E477)","v":""},{"$f":"IF(Blad1!B477=\"\",\"\",Blad1!B477)","v":""},{"$f":"IF(Blad1!H477=\"\",\"\",Blad1!H477)","v":""},{"$f":"IF(Blad1!I477=\"\",\"\",Blad1!I477)","v":""},{"$f":"IF(Blad1!M477=\"\",\"\",Blad1!M477)","v":""},{"$f":"IF(Blad1!F477=\"\",\"\",Blad1!F477)","v":""},{"$f":"IF(Blad1!Q477=\"\",\"\",Blad1!Q477)","v":""}]
[{"$f":"IF(Blad1!D478=\"\",\"\",Blad1!D478)","v":""},{"$f":"IF(Blad1!E478=\"\",\"\",Blad1!E478)","v":""},{"$f":"IF(Blad1!B478=\"\",\"\",Blad1!B478)","v":""},{"$f":"IF(Blad1!H478=\"\",\"\",Blad1!H478)","v":""},{"$f":"IF(Blad1!I478=\"\",\"\",Blad1!I478)","v":""},{"$f":"IF(Blad1!M478=\"\",\"\",Blad1!M478)","v":""},{"$f":"IF(Blad1!F478=\"\",\"\",Blad1!F478)","v":""},{"$f":"IF(Blad1!Q478=\"\",\"\",Blad1!Q478)","v":""}]
[{"$f":"IF(Blad1!D479=\"\",\"\",Blad1!D479)","v":""},{"$f":"IF(Blad1!E479=\"\",\"\",Blad1!E479)","v":""},{"$f":"IF(Blad1!B479=\"\",\"\",Blad1!B479)","v":""},{"$f":"IF(Blad1!H479=\"\",\"\",Blad1!H479)","v":""},{"$f":"IF(Blad1!I479=\"\",\"\",Blad1!I479)","v":""},{"$f":"IF(Blad1!M479=\"\",\"\",Blad1!M479)","v":""},{"$f":"IF(Blad1!F479=\"\",\"\",Blad1!F479)","v":""},{"$f":"IF(Blad1!Q479=\"\",\"\",Blad1!Q479)","v":""}]
[{"$f":"IF(Blad1!D480=\"\",\"\",Blad1!D480)","v":""},{"$f":"IF(Blad1!E480=\"\",\"\",Blad1!E480)","v":""},{"$f":"IF(Blad1!B480=\"\",\"\",Blad1!B480)","v":""},{"$f":"IF(Blad1!H480=\"\",\"\",Blad1!H480)","v":""},{"$f":"IF(Blad1!I480=\"\",\"\",Blad1!I480)","v":""},{"$f":"IF(Blad1!M480=\"\",\"\",Blad1!M480)","v":""},{"$f":"IF(Blad1!F480=\"\",\"\",Blad1!F480)","v":""},{"$f":"IF(Blad1!Q480=\"\",\"\",Blad1!Q480)","v":""}]
[{"$f":"IF(Blad1!D481=\"\",\"\",Blad1!D481)","v":""},{"$f":"IF(Blad1!E481=\"\",\"\",Blad1!E481)","v":""},{"$f":"IF(Blad1!B481=\"\",\"\",Blad1!B481)","v":""},{"$f":"IF(Blad1!H481=\"\",\"\",Blad1!H481)","v":""},{"$f":"IF(Blad1!I481=\"\",\"\",Blad1!I481)","v":""},{"$f":"IF(Blad1!M481=\"\",\"\",Blad1!M481)","v":""},{"$f":"IF(Blad1!F481=\"\",\"\",Blad1!F481)","v":""},{"$f":"IF(Blad1!Q481=\"\",\"\",Blad1!Q481)","v":""}]
[{"$f":"IF(Blad1!D482=\"\",\"\",Blad1!D482)","v":""},{"$f":"IF(Blad1!E482=\"\",\"\",Blad1!E482)","v":""},{"$f":"IF(Blad1!B482=\"\",\"\",Blad1!B482)","v":""},{"$f":"IF(Blad1!H482=\"\",\"\",Blad1!H482)","v":""},{"$f":"IF(Blad1!I482=\"\",\"\",Blad1!I482)","v":""},{"$f":"IF(Blad1!M482=\"\",\"\",Blad1!M482)","v":""},{"$f":"IF(Blad1!F482=\"\",\"\",Blad1!F482)","v":""},{"$f":"IF(Blad1!Q482=\"\",\"\",Blad1!Q482)","v":""}]
[{"$f":"IF(Blad1!D483=\"\",\"\",Blad1!D483)","v":""},{"$f":"IF(Blad1!E483=\"\",\"\",Blad1!E483)","v":""},{"$f":"IF(Blad1!B483=\"\",\"\",Blad1!B483)","v":""},{"$f":"IF(Blad1!H483=\"\",\"\",Blad1!H483)","v":""},{"$f":"IF(Blad1!I483=\"\",\"\",Blad1!I483)","v":""},{"$f":"IF(Blad1!M483=\"\",\"\",Blad1!M483)","v":""},{"$f":"IF(Blad1!F483=\"\",\"\",Blad1!F483)","v":""},{"$f":"IF(Blad1!Q483=\"\",\"\",Blad1!Q483)","v":""}]
[{"$f":"IF(Blad1!D484=\"\",\"\",Blad1!D484)","v":""},{"$f":"IF(Blad1!E484=\"\",\"\",Blad1!E484)","v":""},{"$f":"IF(Blad1!B484=\"\",\"\",Blad1!B484)","v":""},{"$f":"IF(Blad1!H484=\"\",\"\",Blad1!H484)","v":""},{"$f":"IF(Blad1!I484=\"\",\"\",Blad1!I484)","v":""},{"$f":"IF(Blad1!M484=\"\",\"\",Blad1!M484)","v":""},{"$f":"IF(Blad1!F484=\"\",\"\",Blad1!F484)","v":""},{"$f":"IF(Blad1!Q484=\"\",\"\",Blad1!Q484)","v":""}]
[{"$f":"IF(Blad1!D485=\"\",\"\",Blad1!D485)","v":""},{"$f":"IF(Blad1!E485=\"\",\"\",Blad1!E485)","v":""},{"$f":"IF(Blad1!B485=\"\",\"\",Blad1!B485)","v":""},{"$f":"IF(Blad1!H485=\"\",\"\",Blad1!H485)","v":""},{"$f":"IF(Blad1!I485=\"\",\"\",Blad1!I485)","v":""},{"$f":"IF(Blad1!M485=\"\",\"\",Blad1!M485)","v":""},{"$f":"IF(Blad1!F485=\"\",\"\",Blad1!F485)","v":""},{"$f":"IF(Blad1!Q485=\"\",\"\",Blad1!Q485)","v":""}]
[{"$f":"IF(Blad1!D486=\"\",\"\",Blad1!D486)","v":""},{"$f":"IF(Blad1!E486=\"\",\"\",Blad1!E486)","v":""},{"$f":"IF(Blad1!B486=\"\",\"\",Blad1!B486)","v":""},{"$f":"IF(Blad1!H486=\"\",\"\",Blad1!H486)","v":""},{"$f":"IF(Blad1!I486=\"\",\"\",Blad1!I486)","v":""},{"$f":"IF(Blad1!M486=\"\",\"\",Blad1!M486)","v":""},{"$f":"IF(Blad1!F486=\"\",\"\",Blad1!F486)","v":""},{"$f":"IF(Blad1!Q486=\"\",\"\",Blad1!Q486)","v":""}]
[{"$f":"IF(Blad1!D487=\"\",\"\",Blad1!D487)","v":""},{"$f":"IF(Blad1!E487=\"\",\"\",Blad1!E487)","v":""},{"$f":"IF(Blad1!B487=\"\",\"\",Blad1!B487)","v":""},{"$f":"IF(Blad1!H487=\"\",\"\",Blad1!H487)","v":""},{"$f":"IF(Blad1!I487=\"\",\"\",Blad1!I487)","v":""},{"$f":"IF(Blad1!M487=\"\",\"\",Blad1!M487)","v":""},{"$f":"IF(Blad1!F487=\"\",\"\",Blad1!F487)","v":""},{"$f":"IF(Blad1!Q487=\"\",\"\",Blad1!Q487)","v":""}]
[{"$f":"IF(Blad1!D488=\"\",\"\",Blad1!D488)","v":""},{"$f":"IF(Blad1!E488=\"\",\"\",Blad1!E488)","v":""},{"$f":"IF(Blad1!B488=\"\",\"\",Blad1!B488)","v":""},{"$f":"IF(Blad1!H488=\"\",\"\",Blad1!H488)","v":""},{"$f":"IF(Blad1!I488=\"\",\"\",Blad1!I488)","v":""},{"$f":"IF(Blad1!M488=\"\",\"\",Blad1!M488)","v":""},{"$f":"IF(Blad1!F488=\"\",\"\",Blad1!F488)","v":""},{"$f":"IF(Blad1!Q488=\"\",\"\",Blad1!Q488)","v":""}]
[{"$f":"IF(Blad1!D489=\"\",\"\",Blad1!D489)","v":""},{"$f":"IF(Blad1!E489=\"\",\"\",Blad1!E489)","v":""},{"$f":"IF(Blad1!B489=\"\",\"\",Blad1!B489)","v":""},{"$f":"IF(Blad1!H489=\"\",\"\",Blad1!H489)","v":""},{"$f":"IF(Blad1!I489=\"\",\"\",Blad1!I489)","v":""},{"$f":"IF(Blad1!M489=\"\",\"\",Blad1!M489)","v":""},{"$f":"IF(Blad1!F489=\"\",\"\",Blad1!F489)","v":""},{"$f":"IF(Blad1!Q489=\"\",\"\",Blad1!Q489)","v":""}]
[{"$f":"IF(Blad1!D490=\"\",\"\",Blad1!D490)","v":""},{"$f":"IF(Blad1!E490=\"\",\"\",Blad1!E490)","v":""},{"$f":"IF(Blad1!B490=\"\",\"\",Blad1!B490)","v":""},{"$f":"IF(Blad1!H490=\"\",\"\",Blad1!H490)","v":""},{"$f":"IF(Blad1!I490=\"\",\"\",Blad1!I490)","v":""},{"$f":"IF(Blad1!M490=\"\",\"\",Blad1!M490)","v":""},{"$f":"IF(Blad1!F490=\"\",\"\",Blad1!F490)","v":""},{"$f":"IF(Blad1!Q490=\"\",\"\",Blad1!Q490)","v":""}]
[{"$f":"IF(Blad1!D491=\"\",\"\",Blad1!D491)","v":""},{"$f":"IF(Blad1!E491=\"\",\"\",Blad1!E491)","v":""},{"$f":"IF(Blad1!B491=\"\",\"\",Blad1!B491)","v":""},{"$f":"IF(Blad1!H491=\"\",\"\",Blad1!H491)","v":""},{"$f":"IF(Blad1!I491=\"\",\"\",Blad1!I491)","v":""},{"$f":"IF(Blad1!M491=\"\",\"\",Blad1!M491)","v":""},{"$f":"IF(Blad1!F491=\"\",\"\",Blad1!F491)","v":""},{"$f":"IF(Blad1!Q491=\"\",\"\",Blad1!Q491)","v":""}]
[{"$f":"IF(Blad1!D492=\"\",\"\",Blad1!D492)","v":""},{"$f":"IF(Blad1!E492=\"\",\"\",Blad1!E492)","v":""},{"$f":"IF(Blad1!B492=\"\",\"\",Blad1!B492)","v":""},{"$f":"IF(Blad1!H492=\"\",\"\",Blad1!H492)","v":""},{"$f":"IF(Blad1!I492=\"\",\"\",Blad1!I492)","v":""},{"$f":"IF(Blad1!M492=\"\",\"\",Blad1!M492)","v":""},{"$f":"IF(Blad1!F492=\"\",\"\",Blad1!F492)","v":""},{"$f":"IF(Blad1!Q492=\"\",\"\",Blad1!Q492)","v":""}]
[{"$f":"IF(Blad1!D493=\"\",\"\",Blad1!D493)","v":""},{"$f":"IF(Blad1!E493=\"\",\"\",Blad1!E493)","v":""},{"$f":"IF(Blad1!B493=\"\",\"\",Blad1!B493)","v":""},{"$f":"IF(Blad1!H493=\"\",\"\",Blad1!H493)","v":""},{"$f":"IF(Blad1!I493=\"\",\"\",Blad1!I493)","v":""},{"$f":"IF(Blad1!M493=\"\",\"\",Blad1!M493)","v":""},{"$f":"IF(Blad1!F493=\"\",\"\",Blad1!F493)","v":""},{"$f":"IF(Blad1!Q493=\"\",\"\",Blad1!Q493)","v":""}]
[{"$f":"IF(Blad1!D494=\"\",\"\",Blad1!D494)","v":""},{"$f":"IF(Blad1!E494=\"\",\"\",Blad1!E494)","v":""},{"$f":"IF(Blad1!B494=\"\",\"\",Blad1!B494)","v":""},{"$f":"IF(Blad1!H494=\"\",\"\",Blad1!H494)","v":""},{"$f":"IF(Blad1!I494=\"\",\"\",Blad1!I494)","v":""},{"$f":"IF(Blad1!M494=\"\",\"\",Blad1!M494)","v":""},{"$f":"IF(Blad1!F494=\"\",\"\",Blad1!F494)","v":""},{"$f":"IF(Blad1!Q494=\"\",\"\",Blad1!Q494)","v":""}]
[{"$f":"IF(Blad1!D495=\"\",\"\",Blad1!D495)","v":""},{"$f":"IF(Blad1!E495=\"\",\"\",Blad1!E495)","v":""},{"$f":"IF(Blad1!B495=\"\",\"\",Blad1!B495)","v":""},{"$f":"IF(Blad1!H495=\"\",\"\",Blad1!H495)","v":""},{"$f":"IF(Blad1!I495=\"\",\"\",Blad1!I495)","v":""},{"$f":"IF(Blad1!M495=\"\",\"\",Blad1!M495)","v":""},{"$f":"IF(Blad1!F495=\"\",\"\",Blad1!F495)","v":""},{"$f":"IF(Blad1!Q495=\"\",\"\",Blad1!Q495)","v":""}]
[{"$f":"IF(Blad1!D496=\"\",\"\",Blad1!D496)","v":""},{"$f":"IF(Blad1!E496=\"\",\"\",Blad1!E496)","v":""},{"$f":"IF(Blad1!B496=\"\",\"\",Blad1!B496)","v":""},{"$f":"IF(Blad1!H496=\"\",\"\",Blad1!H496)","v":""},{"$f":"IF(Blad1!I496=\"\",\"\",Blad1!I496)","v":""},{"$f":"IF(Blad1!M496=\"\",\"\",Blad1!M496)","v":""},{"$f":"IF(Blad1!F496=\"\",\"\",Blad1!F496)","v":""},{"$f":"IF(Blad1!Q496=\"\",\"\",Blad1!Q496)","v":""}]
[{"$f":"IF(Blad1!D497=\"\",\"\",Blad1!D497)","v":""},{"$f":"IF(Blad1!E497=\"\",\"\",Blad1!E497)","v":""},{"$f":"IF(Blad1!B497=\"\",\"\",Blad1!B497)","v":""},{"$f":"IF(Blad1!H497=\"\",\"\",Blad1!H497)","v":""},{"$f":"IF(Blad1!I497=\"\",\"\",Blad1!I497)","v":""},{"$f":"IF(Blad1!M497=\"\",\"\",Blad1!M497)","v":""},{"$f":"IF(Blad1!F497=\"\",\"\",Blad1!F497)","v":""},{"$f":"IF(Blad1!Q497=\"\",\"\",Blad1!Q497)","v":""}]
[{"$f":"IF(Blad1!D498=\"\",\"\",Blad1!D498)","v":""},{"$f":"IF(Blad1!E498=\"\",\"\",Blad1!E498)","v":""},{"$f":"IF(Blad1!B498=\"\",\"\",Blad1!B498)","v":""},{"$f":"IF(Blad1!H498=\"\",\"\",Blad1!H498)","v":""},{"$f":"IF(Blad1!I498=\"\",\"\",Blad1!I498)","v":""},{"$f":"IF(Blad1!M498=\"\",\"\",Blad1!M498)","v":""},{"$f":"IF(Blad1!F498=\"\",\"\",Blad1!F498)","v":""},{"$f":"IF(Blad1!Q498=\"\",\"\",Blad1!Q498)","v":""}]
[{"$f":"IF(Blad1!D499=\"\",\"\",Blad1!D499)","v":""},{"$f":"IF(Blad1!E499=\"\",\"\",Blad1!E499)","v":""},{"$f":"IF(Blad1!B499=\"\",\"\",Blad1!B499)","v":""},{"$f":"IF(Blad1!H499=\"\",\"\",Blad1!H499)","v":""},{"$f":"IF(Blad1!I499=\"\",\"\",Blad1!I499)","v":""},{"$f":"IF(Blad1!M499=\"\",\"\",Blad1!M499)","v":""},{"$f":"IF(Blad1!F499=\"\",\"\",Blad1!F499)","v":""},{"$f":"IF(Blad1!Q499=\"\",\"\",Blad1!Q499)","v":""}]
[{"$f":"IF(Blad1!D500=\"\",\"\",Blad1!D500)","v":""},{"$f":"IF(Blad1!E500=\"\",\"\",Blad1!E500)","v":""},{"$f":"IF(Blad1!B500=\"\",\"\",Blad1!B500)","v":""},{"$f":"IF(Blad1!H500=\"\",\"\",Blad1!H500)","v":""},{"$f":"IF(Blad1!I500=\"\",\"\",Blad1!I500)","v":""},{"$f":"IF(Blad1!M500=\"\",\"\",Blad1!M500)","v":""},{"$f":"IF(Blad1!F500=\"\",\"\",Blad1!F500)","v":""},{"$f":"IF(Blad1!Q500=\"\",\"\",Blad1!Q500)","v":""}]
[{"$f":"IF(Blad1!D501=\"\",\"\",Blad1!D501)","v":""},{"$f":"IF(Blad1!E501=\"\",\"\",Blad1!E501)","v":""},{"$f":"IF(Blad1!B501=\"\",\"\",Blad1!B501)","v":""},{"$f":"IF(Blad1!H501=\"\",\"\",Blad1!H501)","v":""},{"$f":"IF(Blad1!I501=\"\",\"\",Blad1!I501)","v":""},{"$f":"IF(Blad1!M501=\"\",\"\",Blad1!M501)","v":""},{"$f":"IF(Blad1!F501=\"\",\"\",Blad1!F501)","v":""},{"$f":"IF(Blad1!Q501=\"\",\"\",Blad1!Q501)","v":""}]
[{"$f":"IF(Blad1!D502=\"\",\"\",Blad1!D502)","v":""},{"$f":"IF(Blad1!E502=\"\",\"\",Blad1!E502)","v":""},{"$f":"IF(Blad1!B502=\"\",\"\",Blad1!B502)","v":""},{"$f":"IF(Blad1!H502=\"\",\"\",Blad1!H502)","v":""},{"$f":"IF(Blad1!I502=\"\",\"\",Blad1!I502)","v":""},{"$f":"IF(Blad1!M502=\"\",\"\",Blad1!M502)","v":""},{"$f":"IF(Blad1!F502=\"\",\"\",Blad1!F502)","v":""},{"$f":"IF(Blad1!Q502=\"\",\"\",Blad1!Q502)","v":""}]
[{"$f":"IF(Blad1!D503=\"\",\"\",Blad1!D503)","v":""},{"$f":"IF(Blad1!E503=\"\",\"\",Blad1!E503)","v":""},{"$f":"IF(Blad1!B503=\"\",\"\",Blad1!B503)","v":""},{"$f":"IF(Blad1!H503=\"\",\"\",Blad1!H503)","v":""},{"$f":"IF(Blad1!I503=\"\",\"\",Blad1!I503)","v":""},{"$f":"IF(Blad1!M503=\"\",\"\",Blad1!M503)","v":""},{"$f":"IF(Blad1!F503=\"\",\"\",Blad1!F503)","v":""},{"$f":"IF(Blad1!Q503=\"\",\"\",Blad1!Q503)","v":""}]
[{"$f":"IF(Blad1!D504=\"\",\"\",Blad1!D504)","v":""},{"$f":"IF(Blad1!E504=\"\",\"\",Blad1!E504)","v":""},{"$f":"IF(Blad1!B504=\"\",\"\",Blad1!B504)","v":""},{"$f":"IF(Blad1!H504=\"\",\"\",Blad1!H504)","v":""},{"$f":"IF(Blad1!I504=\"\",\"\",Blad1!I504)","v":""},{"$f":"IF(Blad1!M504=\"\",\"\",Blad1!M504)","v":""},{"$f":"IF(Blad1!F504=\"\",\"\",Blad1!F504)","v":""},{"$f":"IF(Blad1!Q504=\"\",\"\",Blad1!Q504)","v":""}]
[{"$f":"IF(Blad1!D505=\"\",\"\",Blad1!D505)","v":""},{"$f":"IF(Blad1!E505=\"\",\"\",Blad1!E505)","v":""},{"$f":"IF(Blad1!B505=\"\",\"\",Blad1!B505)","v":""},{"$f":"IF(Blad1!H505=\"\",\"\",Blad1!H505)","v":""},{"$f":"IF(Blad1!I505=\"\",\"\",Blad1!I505)","v":""},{"$f":"IF(Blad1!M505=\"\",\"\",Blad1!M505)","v":""},{"$f":"IF(Blad1!F505=\"\",\"\",Blad1!F505)","v":""},{"$f":"IF(Blad1!Q505=\"\",\"\",Blad1!Q505)","v":""}]
[{"$f":"IF(Blad1!D506=\"\",\"\",Blad1!D506)","v":""},{"$f":"IF(Blad1!E506=\"\",\"\",Blad1!E506)","v":""},{"$f":"IF(Blad1!B506=\"\",\"\",Blad1!B506)","v":""},{"$f":"IF(Blad1!H506=\"\",\"\",Blad1!H506)","v":""},{"$f":"IF(Blad1!I506=\"\",\"\",Blad1!I506)","v":""},{"$f":"IF(Blad1!M506=\"\",\"\",Blad1!M506)","v":""},{"$f":"IF(Blad1!F506=\"\",\"\",Blad1!F506)","v":""},{"$f":"IF(Blad1!Q506=\"\",\"\",Blad1!Q506)","v":""}]
[{"$f":"IF(Blad1!D507=\"\",\"\",Blad1!D507)","v":""},{"$f":"IF(Blad1!E507=\"\",\"\",Blad1!E507)","v":""},{"$f":"IF(Blad1!B507=\"\",\"\",Blad1!B507)","v":""},{"$f":"IF(Blad1!H507=\"\",\"\",Blad1!H507)","v":""},{"$f":"IF(Blad1!I507=\"\",\"\",Blad1!I507)","v":""},{"$f":"IF(Blad1!M507=\"\",\"\",Blad1!M507)","v":""},{"$f":"IF(Blad1!F507=\"\",\"\",Blad1!F507)","v":""},{"$f":"IF(Blad1!Q507=\"\",\"\",Blad1!Q507)","v":""}]
[{"$f":"IF(Blad1!D508=\"\",\"\",Blad1!D508)","v":""},{"$f":"IF(Blad1!E508=\"\",\"\",Blad1!E508)","v":""},{"$f":"IF(Blad1!B508=\"\",\"\",Blad1!B508)","v":""},{"$f":"IF(Blad1!H508=\"\",\"\",Blad1!H508)","v":""},{"$f":"IF(Blad1!I508=\"\",\"\",Blad1!I508)","v":""},{"$f":"IF(Blad1!M508=\"\",\"\",Blad1!M508)","v":""},{"$f":"IF(Blad1!F508=\"\",\"\",Blad1!F508)","v":""},{"$f":"IF(Blad1!Q508=\"\",\"\",Blad1!Q508)","v":""}]
[{"$f":"IF(Blad1!D509=\"\",\"\",Blad1!D509)","v":""},{"$f":"IF(Blad1!E509=\"\",\"\",Blad1!E509)","v":""},{"$f":"IF(Blad1!B509=\"\",\"\",Blad1!B509)","v":""},{"$f":"IF(Blad1!H509=\"\",\"\",Blad1!H509)","v":""},{"$f":"IF(Blad1!I509=\"\",\"\",Blad1!I509)","v":""},{"$f":"IF(Blad1!M509=\"\",\"\",Blad1!M509)","v":""},{"$f":"IF(Blad1!F509=\"\",\"\",Blad1!F509)","v":""},{"$f":"IF(Blad1!Q509=\"\",\"\",Blad1!Q509)","v":""}]
[{"$f":"IF(Blad1!D510=\"\",\"\",Blad1!D510)","v":""},{"$f":"IF(Blad1!E510=\"\",\"\",Blad1!E510)","v":""},{"$f":"IF(Blad1!B510=\"\",\"\",Blad1!B510)","v":""},{"$f":"IF(Blad1!H510=\"\",\"\",Blad1!H510)","v":""},{"$f":"IF(Blad1!I510=\"\",\"\",Blad1!I510)","v":""},{"$f":"IF(Blad1!M510=\"\",\"\",Blad1!M510)","v":""},{"$f":"IF(Blad1!F510=\"\",\"\",Blad1!F510)","v":""},{"$f":"IF(Blad1!Q510=\"\",\"\",Blad1!Q510)","v":""}]
[{"$f":"IF(Blad1!D511=\"\",\"\",Blad1!D511)","v":""},{"$f":"IF(Blad1!E511=\"\",\"\",Blad1!E511)","v":""},{"$f":"IF(Blad1!B511=\"\",\"\",Blad1!B511)","v":""},{"$f":"IF(Blad1!H511=\"\",\"\",Blad1!H511)","v":""},{"$f":"IF(Blad1!I511=\"\",\"\",Blad1!I511)","v":""},{"$f":"IF(Blad1!M511=\"\",\"\",Blad1!M511)","v":""},{"$f":"IF(Blad1!F511=\"\",\"\",Blad1!F511)","v":""},{"$f":"IF(Blad1!Q511=\"\",\"\",Blad1!Q511)","v":""}]
[{"$f":"IF(Blad1!D512=\"\",\"\",Blad1!D512)","v":""},{"$f":"IF(Blad1!E512=\"\",\"\",Blad1!E512)","v":""},{"$f":"IF(Blad1!B512=\"\",\"\",Blad1!B512)","v":""},{"$f":"IF(Blad1!H512=\"\",\"\",Blad1!H512)","v":""},{"$f":"IF(Blad1!I512=\"\",\"\",Blad1!I512)","v":""},{"$f":"IF(Blad1!M512=\"\",\"\",Blad1!M512)","v":""},{"$f":"IF(Blad1!F512=\"\",\"\",Blad1!F512)","v":""},{"$f":"IF(Blad1!Q512=\"\",\"\",Blad1!Q512)","v":""}]
[{"$f":"IF(Blad1!D513=\"\",\"\",Blad1!D513)","v":""},{"$f":"IF(Blad1!E513=\"\",\"\",Blad1!E513)","v":""},{"$f":"IF(Blad1!B513=\"\",\"\",Blad1!B513)","v":""},{"$f":"IF(Blad1!H513=\"\",\"\",Blad1!H513)","v":""},{"$f":"IF(Blad1!I513=\"\",\"\",Blad1!I513)","v":""},{"$f":"IF(Blad1!M513=\"\",\"\",Blad1!M513)","v":""},{"$f":"IF(Blad1!F513=\"\",\"\",Blad1!F513)","v":""},{"$f":"IF(Blad1!Q513=\"\",\"\",Blad1!Q513)","v":""}]
[{"$f":"IF(Blad1!D514=\"\",\"\",Blad1!D514)","v":""},{"$f":"IF(Blad1!E514=\"\",\"\",Blad1!E514)","v":""},{"$f":"IF(Blad1!B514=\"\",\"\",Blad1!B514)","v":""},{"$f":"IF(Blad1!H514=\"\",\"\",Blad1!H514)","v":""},{"$f":"IF(Blad1!I514=\"\",\"\",Blad1!I514)","v":""},{"$f":"IF(Blad1!M514=\"\",\"\",Blad1!M514)","v":""},{"$f":"IF(Blad1!F514=\"\",\"\",Blad1!F514)","v":""},{"$f":"IF(Blad1!Q514=\"\",\"\",Blad1!Q514)","v":""}]
[{"$f":"IF(Blad1!D515=\"\",\"\",Blad1!D515)","v":""},{"$f":"IF(Blad1!E515=\"\",\"\",Blad1!E515)","v":""},{"$f":"IF(Blad1!B515=\"\",\"\",Blad1!B515)","v":""},{"$f":"IF(Blad1!H515=\"\",\"\",Blad1!H515)","v":""},{"$f":"IF(Blad1!I515=\"\",\"\",Blad1!I515)","v":""},{"$f":"IF(Blad1!M515=\"\",\"\",Blad1!M515)","v":""},{"$f":"IF(Blad1!F515=\"\",\"\",Blad1!F515)","v":""},{"$f":"IF(Blad1!Q515=\"\",\"\",Blad1!Q515)","v":""}]
[{"$f":"IF(Blad1!D516=\"\",\"\",Blad1!D516)","v":""},{"$f":"IF(Blad1!E516=\"\",\"\",Blad1!E516)","v":""},{"$f":"IF(Blad1!B516=\"\",\"\",Blad1!B516)","v":""},{"$f":"IF(Blad1!H516=\"\",\"\",Blad1!H516)","v":""},{"$f":"IF(Blad1!I516=\"\",\"\",Blad1!I516)","v":""},{"$f":"IF(Blad1!M516=\"\",\"\",Blad1!M516)","v":""},{"$f":"IF(Blad1!F516=\"\",\"\",Blad1!F516)","v":""},{"$f":"IF(Blad1!Q516=\"\",\"\",Blad1!Q516)","v":""}]
[{"$f":"IF(Blad1!D517=\"\",\"\",Blad1!D517)","v":""},{"$f":"IF(Blad1!E517=\"\",\"\",Blad1!E517)","v":""},{"$f":"IF(Blad1!B517=\"\",\"\",Blad1!B517)","v":""},{"$f":"IF(Blad1!H517=\"\",\"\",Blad1!H517)","v":""},{"$f":"IF(Blad1!I517=\"\",\"\",Blad1!I517)","v":""},{"$f":"IF(Blad1!M517=\"\",\"\",Blad1!M517)","v":""},{"$f":"IF(Blad1!F517=\"\",\"\",Blad1!F517)","v":""},{"$f":"IF(Blad1!Q517=\"\",\"\",Blad1!Q517)","v":""}]
[{"$f":"IF(Blad1!D518=\"\",\"\",Blad1!D518)","v":""},{"$f":"IF(Blad1!E518=\"\",\"\",Blad1!E518)","v":""},{"$f":"IF(Blad1!B518=\"\",\"\",Blad1!B518)","v":""},{"$f":"IF(Blad1!H518=\"\",\"\",Blad1!H518)","v":""},{"$f":"IF(Blad1!I518=\"\",\"\",Blad1!I518)","v":""},{"$f":"IF(Blad1!M518=\"\",\"\",Blad1!M518)","v":""},{"$f":"IF(Blad1!F518=\"\",\"\",Blad1!F518)","v":""},{"$f":"IF(Blad1!Q518=\"\",\"\",Blad1!Q518)","v":""}]
[{"$f":"IF(Blad1!D519=\"\",\"\",Blad1!D519)","v":""},{"$f":"IF(Blad1!E519=\"\",\"\",Blad1!E519)","v":""},{"$f":"IF(Blad1!B519=\"\",\"\",Blad1!B519)","v":""},{"$f":"IF(Blad1!H519=\"\",\"\",Blad1!H519)","v":""},{"$f":"IF(Blad1!I519=\"\",\"\",Blad1!I519)","v":""},{"$f":"IF(Blad1!M519=\"\",\"\",Blad1!M519)","v":""},{"$f":"IF(Blad1!F519=\"\",\"\",Blad1!F519)","v":""},{"$f":"IF(Blad1!Q519=\"\",\"\",Blad1!Q519)","v":""}]
[{"$f":"IF(Blad1!D520=\"\",\"\",Blad1!D520)","v":""},{"$f":"IF(Blad1!E520=\"\",\"\",Blad1!E520)","v":""},{"$f":"IF(Blad1!B520=\"\",\"\",Blad1!B520)","v":""},{"$f":"IF(Blad1!H520=\"\",\"\",Blad1!H520)","v":""},{"$f":"IF(Blad1!I520=\"\",\"\",Blad1!I520)","v":""},{"$f":"IF(Blad1!M520=\"\",\"\",Blad1!M520)","v":""},{"$f":"IF(Blad1!F520=\"\",\"\",Blad1!F520)","v":""},{"$f":"IF(Blad1!Q520=\"\",\"\",Blad1!Q520)","v":""}]
[{"$f":"IF(Blad1!D521=\"\",\"\",Blad1!D521)","v":""},{"$f":"IF(Blad1!E521=\"\",\"\",Blad1!E521)","v":""},{"$f":"IF(Blad1!B521=\"\",\"\",Blad1!B521)","v":""},{"$f":"IF(Blad1!H521=\"\",\"\",Blad1!H521)","v":""},{"$f":"IF(Blad1!I521=\"\",\"\",Blad1!I521)","v":""},{"$f":"IF(Blad1!M521=\"\",\"\",Blad1!M521)","v":""},{"$f":"IF(Blad1!F521=\"\",\"\",Blad1!F521)","v":""},{"$f":"IF(Blad1!Q521=\"\",\"\",Blad1!Q521)","v":""}]
[{"$f":"IF(Blad1!D522=\"\",\"\",Blad1!D522)","v":""},{"$f":"IF(Blad1!E522=\"\",\"\",Blad1!E522)","v":""},{"$f":"IF(Blad1!B522=\"\",\"\",Blad1!B522)","v":""},{"$f":"IF(Blad1!H522=\"\",\"\",Blad1!H522)","v":""},{"$f":"IF(Blad1!I522=\"\",\"\",Blad1!I522)","v":""},{"$f":"IF(Blad1!M522=\"\",\"\",Blad1!M522)","v":""},{"$f":"IF(Blad1!F522=\"\",\"\",Blad1!F522)","v":""},{"$f":"IF(Blad1!Q522=\"\",\"\",Blad1!Q522)","v":""}]
[{"$f":"IF(Blad1!D523=\"\",\"\",Blad1!D523)","v":""},{"$f":"IF(Blad1!E523=\"\",\"\",Blad1!E523)","v":""},{"$f":"IF(Blad1!B523=\"\",\"\",Blad1!B523)","v":""},{"$f":"IF(Blad1!H523=\"\",\"\",Blad1!H523)","v":""},{"$f":"IF(Blad1!I523=\"\",\"\",Blad1!I523)","v":""},{"$f":"IF(Blad1!M523=\"\",\"\",Blad1!M523)","v":""},{"$f":"IF(Blad1!F523=\"\",\"\",Blad1!F523)","v":""},{"$f":"IF(Blad1!Q523=\"\",\"\",Blad1!Q523)","v":""}]
[{"$f":"IF(Blad1!D524=\"\",\"\",Blad1!D524)","v":""},{"$f":"IF(Blad1!E524=\"\",\"\",Blad1!E524)","v":""},{"$f":"IF(Blad1!B524=\"\",\"\",Blad1!B524)","v":""},{"$f":"IF(Blad1!H524=\"\",\"\",Blad1!H524)","v":""},{"$f":"IF(Blad1!I524=\"\",\"\",Blad1!I524)","v":""},{"$f":"IF(Blad1!M524=\"\",\"\",Blad1!M524)","v":""},{"$f":"IF(Blad1!F524=\"\",\"\",Blad1!F524)","v":""},{"$f":"IF(Blad1!Q524=\"\",\"\",Blad1!Q524)","v":""}]
[{"$f":"IF(Blad1!D525=\"\",\"\",Blad1!D525)","v":""},{"$f":"IF(Blad1!E525=\"\",\"\",Blad1!E525)","v":""},{"$f":"IF(Blad1!B525=\"\",\"\",Blad1!B525)","v":""},{"$f":"IF(Blad1!H525=\"\",\"\",Blad1!H525)","v":""},{"$f":"IF(Blad1!I525=\"\",\"\",Blad1!I525)","v":""},{"$f":"IF(Blad1!M525=\"\",\"\",Blad1!M525)","v":""},{"$f":"IF(Blad1!F525=\"\",\"\",Blad1!F525)","v":""},{"$f":"IF(Blad1!Q525=\"\",\"\",Blad1!Q525)","v":""}]
[{"$f":"IF(Blad1!D526=\"\",\"\",Blad1!D526)","v":""},{"$f":"IF(Blad1!E526=\"\",\"\",Blad1!E526)","v":""},{"$f":"IF(Blad1!B526=\"\",\"\",Blad1!B526)","v":""},{"$f":"IF(Blad1!H526=\"\",\"\",Blad1!H526)","v":""},{"$f":"IF(Blad1!I526=\"\",\"\",Blad1!I526)","v":""},{"$f":"IF(Blad1!M526=\"\",\"\",Blad1!M526)","v":""},{"$f":"IF(Blad1!F526=\"\",\"\",Blad1!F526)","v":""},{"$f":"IF(Blad1!Q526=\"\",\"\",Blad1!Q526)","v":""}]
[{"$f":"IF(Blad1!D527=\"\",\"\",Blad1!D527)","v":""},{"$f":"IF(Blad1!E527=\"\",\"\",Blad1!E527)","v":""},{"$f":"IF(Blad1!B527=\"\",\"\",Blad1!B527)","v":""},{"$f":"IF(Blad1!H527=\"\",\"\",Blad1!H527)","v":""},{"$f":"IF(Blad1!I527=\"\",\"\",Blad1!I527)","v":""},{"$f":"IF(Blad1!M527=\"\",\"\",Blad1!M527)","v":""},{"$f":"IF(Blad1!F527=\"\",\"\",Blad1!F527)","v":""},{"$f":"IF(Blad1!Q527=\"\",\"\",Blad1!Q527)","v":""}]
[{"$f":"IF(Blad1!D528=\"\",\"\",Blad1!D528)","v":""},{"$f":"IF(Blad1!E528=\"\",\"\",Blad1!E528)","v":""},{"$f":"IF(Blad1!B528=\"\",\"\",Blad1!B528)","v":""},{"$f":"IF(Blad1!H528=\"\",\"\",Blad1!H528)","v":""},{"$f":"IF(Blad1!I528=\"\",\"\",Blad1!I528)","v":""},{"$f":"IF(Blad1!M528=\"\",\"\",Blad1!M528)","v":""},{"$f":"IF(Blad1!F528=\"\",\"\",Blad1!F528)","v":""},{"$f":"IF(Blad1!Q528=\"\",\"\",Blad1!Q528)","v":""}]
[{"$f":"IF(Blad1!D529=\"\",\"\",Blad1!D529)","v":""},{"$f":"IF(Blad1!E529=\"\",\"\",Blad1!E529)","v":""},{"$f":"IF(Blad1!B529=\"\",\"\",Blad1!B529)","v":""},{"$f":"IF(Blad1!H529=\"\",\"\",Blad1!H529)","v":""},{"$f":"IF(Blad1!I529=\"\",\"\",Blad1!I529)","v":""},{"$f":"IF(Blad1!M529=\"\",\"\",Blad1!M529)","v":""},{"$f":"IF(Blad1!F529=\"\",\"\",Blad1!F529)","v":""},{"$f":"IF(Blad1!Q529=\"\",\"\",Blad1!Q529)","v":""}]
[{"$f":"IF(Blad1!D530=\"\",\"\",Blad1!D530)","v":""},{"$f":"IF(Blad1!E530=\"\",\"\",Blad1!E530)","v":""},{"$f":"IF(Blad1!B530=\"\",\"\",Blad1!B530)","v":""},{"$f":"IF(Blad1!H530=\"\",\"\",Blad1!H530)","v":""},{"$f":"IF(Blad1!I530=\"\",\"\",Blad1!I530)","v":""},{"$f":"IF(Blad1!M530=\"\",\"\",Blad1!M530)","v":""},{"$f":"IF(Blad1!F530=\"\",\"\",Blad1!F530)","v":""},{"$f":"IF(Blad1!Q530=\"\",\"\",Blad1!Q530)","v":""}]
[{"$f":"IF(Blad1!D531=\"\",\"\",Blad1!D531)","v":""},{"$f":"IF(Blad1!E531=\"\",\"\",Blad1!E531)","v":""},{"$f":"IF(Blad1!B531=\"\",\"\",Blad1!B531)","v":""},{"$f":"IF(Blad1!H531=\"\",\"\",Blad1!H531)","v":""},{"$f":"IF(Blad1!I531=\"\",\"\",Blad1!I531)","v":""},{"$f":"IF(Blad1!M531=\"\",\"\",Blad1!M531)","v":""},{"$f":"IF(Blad1!F531=\"\",\"\",Blad1!F531)","v":""},{"$f":"IF(Blad1!Q531=\"\",\"\",Blad1!Q531)","v":""}]
[{"$f":"IF(Blad1!D532=\"\",\"\",Blad1!D532)","v":""},{"$f":"IF(Blad1!E532=\"\",\"\",Blad1!E532)","v":""},{"$f":"IF(Blad1!B532=\"\",\"\",Blad1!B532)","v":""},{"$f":"IF(Blad1!H532=\"\",\"\",Blad1!H532)","v":""},{"$f":"IF(Blad1!I532=\"\",\"\",Blad1!I532)","v":""},{"$f":"IF(Blad1!M532=\"\",\"\",Blad1!M532)","v":""},{"$f":"IF(Blad1!F532=\"\",\"\",Blad1!F532)","v":""},{"$f":"IF(Blad1!Q532=\"\",\"\",Blad1!Q532)","v":""}]
[{"$f":"IF(Blad1!D533=\"\",\"\",Blad1!D533)","v":""},{"$f":"IF(Blad1!E533=\"\",\"\",Blad1!E533)","v":""},{"$f":"IF(Blad1!B533=\"\",\"\",Blad1!B533)","v":""},{"$f":"IF(Blad1!H533=\"\",\"\",Blad1!H533)","v":""},{"$f":"IF(Blad1!I533=\"\",\"\",Blad1!I533)","v":""},{"$f":"IF(Blad1!M533=\"\",\"\",Blad1!M533)","v":""},{"$f":"IF(Blad1!F533=\"\",\"\",Blad1!F533)","v":""},{"$f":"IF(Blad1!Q533=\"\",\"\",Blad1!Q533)","v":""}]
[{"$f":"IF(Blad1!D534=\"\",\"\",Blad1!D534)","v":""},{"$f":"IF(Blad1!E534=\"\",\"\",Blad1!E534)","v":""},{"$f":"IF(Blad1!B534=\"\",\"\",Blad1!B534)","v":""},{"$f":"IF(Blad1!H534=\"\",\"\",Blad1!H534)","v":""},{"$f":"IF(Blad1!I534=\"\",\"\",Blad1!I534)","v":""},{"$f":"IF(Blad1!M534=\"\",\"\",Blad1!M534)","v":""},{"$f":"IF(Blad1!F534=\"\",\"\",Blad1!F534)","v":""},{"$f":"IF(Blad1!Q534=\"\",\"\",Blad1!Q534)","v":""}]
[{"$f":"IF(Blad1!D535=\"\",\"\",Blad1!D535)","v":""},{"$f":"IF(Blad1!E535=\"\",\"\",Blad1!E535)","v":""},{"$f":"IF(Blad1!B535=\"\",\"\",Blad1!B535)","v":""},{"$f":"IF(Blad1!H535=\"\",\"\",Blad1!H535)","v":""},{"$f":"IF(Blad1!I535=\"\",\"\",Blad1!I535)","v":""},{"$f":"IF(Blad1!M535=\"\",\"\",Blad1!M535)","v":""},{"$f":"IF(Blad1!F535=\"\",\"\",Blad1!F535)","v":""},{"$f":"IF(Blad1!Q535=\"\",\"\",Blad1!Q535)","v":""}]
[{"$f":"IF(Blad1!D536=\"\",\"\",Blad1!D536)","v":""},{"$f":"IF(Blad1!E536=\"\",\"\",Blad1!E536)","v":""},{"$f":"IF(Blad1!B536=\"\",\"\",Blad1!B536)","v":""},{"$f":"IF(Blad1!H536=\"\",\"\",Blad1!H536)","v":""},{"$f":"IF(Blad1!I536=\"\",\"\",Blad1!I536)","v":""},{"$f":"IF(Blad1!M536=\"\",\"\",Blad1!M536)","v":""},{"$f":"IF(Blad1!F536=\"\",\"\",Blad1!F536)","v":""},{"$f":"IF(Blad1!Q536=\"\",\"\",Blad1!Q536)","v":""}]
[{"$f":"IF(Blad1!D537=\"\",\"\",Blad1!D537)","v":""},{"$f":"IF(Blad1!E537=\"\",\"\",Blad1!E537)","v":""},{"$f":"IF(Blad1!B537=\"\",\"\",Blad1!B537)","v":""},{"$f":"IF(Blad1!H537=\"\",\"\",Blad1!H537)","v":""},{"$f":"IF(Blad1!I537=\"\",\"\",Blad1!I537)","v":""},{"$f":"IF(Blad1!M537=\"\",\"\",Blad1!M537)","v":""},{"$f":"IF(Blad1!F537=\"\",\"\",Blad1!F537)","v":""},{"$f":"IF(Blad1!Q537=\"\",\"\",Blad1!Q537)","v":""}]
[{"$f":"IF(Blad1!D538=\"\",\"\",Blad1!D538)","v":""},{"$f":"IF(Blad1!E538=\"\",\"\",Blad1!E538)","v":""},{"$f":"IF(Blad1!B538=\"\",\"\",Blad1!B538)","v":""},{"$f":"IF(Blad1!H538=\"\",\"\",Blad1!H538)","v":""},{"$f":"IF(Blad1!I538=\"\",\"\",Blad1!I538)","v":""},{"$f":"IF(Blad1!M538=\"\",\"\",Blad1!M538)","v":""},{"$f":"IF(Blad1!F538=\"\",\"\",Blad1!F538)","v":""},{"$f":"IF(Blad1!Q538=\"\",\"\",Blad1!Q538)","v":""}]
[{"$f":"IF(Blad1!D539=\"\",\"\",Blad1!D539)","v":""},{"$f":"IF(Blad1!E539=\"\",\"\",Blad1!E539)","v":""},{"$f":"IF(Blad1!B539=\"\",\"\",Blad1!B539)","v":""},{"$f":"IF(Blad1!H539=\"\",\"\",Blad1!H539)","v":""},{"$f":"IF(Blad1!I539=\"\",\"\",Blad1!I539)","v":""},{"$f":"IF(Blad1!M539=\"\",\"\",Blad1!M539)","v":""},{"$f":"IF(Blad1!F539=\"\",\"\",Blad1!F539)","v":""},{"$f":"IF(Blad1!Q539=\"\",\"\",Blad1!Q539)","v":""}]
[{"$f":"IF(Blad1!D540=\"\",\"\",Blad1!D540)","v":""},{"$f":"IF(Blad1!E540=\"\",\"\",Blad1!E540)","v":""},{"$f":"IF(Blad1!B540=\"\",\"\",Blad1!B540)","v":""},{"$f":"IF(Blad1!H540=\"\",\"\",Blad1!H540)","v":""},{"$f":"IF(Blad1!I540=\"\",\"\",Blad1!I540)","v":""},{"$f":"IF(Blad1!M540=\"\",\"\",Blad1!M540)","v":""},{"$f":"IF(Blad1!F540=\"\",\"\",Blad1!F540)","v":""},{"$f":"IF(Blad1!Q540=\"\",\"\",Blad1!Q540)","v":""}]
[{"$f":"IF(Blad1!D541=\"\",\"\",Blad1!D541)","v":""},{"$f":"IF(Blad1!E541=\"\",\"\",Blad1!E541)","v":""},{"$f":"IF(Blad1!B541=\"\",\"\",Blad1!B541)","v":""},{"$f":"IF(Blad1!H541=\"\",\"\",Blad1!H541)","v":""},{"$f":"IF(Blad1!I541=\"\",\"\",Blad1!I541)","v":""},{"$f":"IF(Blad1!M541=\"\",\"\",Blad1!M541)","v":""},{"$f":"IF(Blad1!F541=\"\",\"\",Blad1!F541)","v":""},{"$f":"IF(Blad1!Q541=\"\",\"\",Blad1!Q541)","v":""}]
[{"$f":"IF(Blad1!D542=\"\",\"\",Blad1!D542)","v":""},{"$f":"IF(Blad1!E542=\"\",\"\",Blad1!E542)","v":""},{"$f":"IF(Blad1!B542=\"\",\"\",Blad1!B542)","v":""},{"$f":"IF(Blad1!H542=\"\",\"\",Blad1!H542)","v":""},{"$f":"IF(Blad1!I542=\"\",\"\",Blad1!I542)","v":""},{"$f":"IF(Blad1!M542=\"\",\"\",Blad1!M542)","v":""},{"$f":"IF(Blad1!F542=\"\",\"\",Blad1!F542)","v":""},{"$f":"IF(Blad1!Q542=\"\",\"\",Blad1!Q542)","v":""}]
[{"$f":"IF(Blad1!D543=\"\",\"\",Blad1!D543)","v":""},{"$f":"IF(Blad1!E543=\"\",\"\",Blad1!E543)","v":""},{"$f":"IF(Blad1!B543=\"\",\"\",Blad1!B543)","v":""},{"$f":"IF(Blad1!H543=\"\",\"\",Blad1!H543)","v":""},{"$f":"IF(Blad1!I543=\"\",\"\",Blad1!I543)","v":""},{"$f":"IF(Blad1!M543=\"\",\"\",Blad1!M543)","v":""},{"$f":"IF(Blad1!F543=\"\",\"\",Blad1!F543)","v":""},{"$f":"IF(Blad1!Q543=\"\",\"\",Blad1!Q543)","v":""}]
[{"$f":"IF(Blad1!D544=\"\",\"\",Blad1!D544)","v":""},{"$f":"IF(Blad1!E544=\"\",\"\",Blad1!E544)","v":""},{"$f":"IF(Blad1!B544=\"\",\"\",Blad1!B544)","v":""},{"$f":"IF(Blad1!H544=\"\",\"\",Blad1!H544)","v":""},{"$f":"IF(Blad1!I544=\"\",\"\",Blad1!I544)","v":""},{"$f":"IF(Blad1!M544=\"\",\"\",Blad1!M544)","v":""},{"$f":"IF(Blad1!F544=\"\",\"\",Blad1!F544)","v":""},{"$f":"IF(Blad1!Q544=\"\",\"\",Blad1!Q544)","v":""}]
[{"$f":"IF(Blad1!D545=\"\",\"\",Blad1!D545)","v":""},{"$f":"IF(Blad1!E545=\"\",\"\",Blad1!E545)","v":""},{"$f":"IF(Blad1!B545=\"\",\"\",Blad1!B545)","v":""},{"$f":"IF(Blad1!H545=\"\",\"\",Blad1!H545)","v":""},{"$f":"IF(Blad1!I545=\"\",\"\",Blad1!I545)","v":""},{"$f":"IF(Blad1!M545=\"\",\"\",Blad1!M545)","v":""},{"$f":"IF(Blad1!F545=\"\",\"\",Blad1!F545)","v":""},{"$f":"IF(Blad1!Q545=\"\",\"\",Blad1!Q545)","v":""}]
[{"$f":"IF(Blad1!D546=\"\",\"\",Blad1!D546)","v":""},{"$f":"IF(Blad1!E546=\"\",\"\",Blad1!E546)","v":""},{"$f":"IF(Blad1!B546=\"\",\"\",Blad1!B546)","v":""},{"$f":"IF(Blad1!H546=\"\",\"\",Blad1!H546)","v":""},{"$f":"IF(Blad1!I546=\"\",\"\",Blad1!I546)","v":""},{"$f":"IF(Blad1!M546=\"\",\"\",Blad1!M546)","v":""},{"$f":"IF(Blad1!F546=\"\",\"\",Blad1!F546)","v":""},{"$f":"IF(Blad1!Q546=\"\",\"\",Blad1!Q546)","v":""}]
[{"$f":"IF(Blad1!D547=\"\",\"\",Blad1!D547)","v":""},{"$f":"IF(Blad1!E547=\"\",\"\",Blad1!E547)","v":""},{"$f":"IF(Blad1!B547=\"\",\"\",Blad1!B547)","v":""},{"$f":"IF(Blad1!H547=\"\",\"\",Blad1!H547)","v":""},{"$f":"IF(Blad1!I547=\"\",\"\",Blad1!I547)","v":""},{"$f":"IF(Blad1!M547=\"\",\"\",Blad1!M547)","v":""},{"$f":"IF(Blad1!F547=\"\",\"\",Blad1!F547)","v":""},{"$f":"IF(Blad1!Q547=\"\",\"\",Blad1!Q547)","v":""}]
[{"$f":"IF(Blad1!D548=\"\",\"\",Blad1!D548)","v":""},{"$f":"IF(Blad1!E548=\"\",\"\",Blad1!E548)","v":""},{"$f":"IF(Blad1!B548=\"\",\"\",Blad1!B548)","v":""},{"$f":"IF(Blad1!H548=\"\",\"\",Blad1!H548)","v":""},{"$f":"IF(Blad1!I548=\"\",\"\",Blad1!I548)","v":""},{"$f":"IF(Blad1!M548=\"\",\"\",Blad1!M548)","v":""},{"$f":"IF(Blad1!F548=\"\",\"\",Blad1!F548)","v":""},{"$f":"IF(Blad1!Q548=\"\",\"\",Blad1!Q548)","v":""}]
[{"$f":"IF(Blad1!D549=\"\",\"\",Blad1!D549)","v":""},{"$f":"IF(Blad1!E549=\"\",\"\",Blad1!E549)","v":""},{"$f":"IF(Blad1!B549=\"\",\"\",Blad1!B549)","v":""},{"$f":"IF(Blad1!H549=\"\",\"\",Blad1!H549)","v":""},{"$f":"IF(Blad1!I549=\"\",\"\",Blad1!I549)","v":""},{"$f":"IF(Blad1!M549=\"\",\"\",Blad1!M549)","v":""},{"$f":"IF(Blad1!F549=\"\",\"\",Blad1!F549)","v":""},{"$f":"IF(Blad1!Q549=\"\",\"\",Blad1!Q549)","v":""}]
[{"$f":"IF(Blad1!D550=\"\",\"\",Blad1!D550)","v":""},{"$f":"IF(Blad1!E550=\"\",\"\",Blad1!E550)","v":""},{"$f":"IF(Blad1!B550=\"\",\"\",Blad1!B550)","v":""},{"$f":"IF(Blad1!H550=\"\",\"\",Blad1!H550)","v":""},{"$f":"IF(Blad1!I550=\"\",\"\",Blad1!I550)","v":""},{"$f":"IF(Blad1!M550=\"\",\"\",Blad1!M550)","v":""},{"$f":"IF(Blad1!F550=\"\",\"\",Blad1!F550)","v":""},{"$f":"IF(Blad1!Q550=\"\",\"\",Blad1!Q550)","v":""}]
[{"$f":"IF(Blad1!D551=\"\",\"\",Blad1!D551)","v":""},{"$f":"IF(Blad1!E551=\"\",\"\",Blad1!E551)","v":""},{"$f":"IF(Blad1!B551=\"\",\"\",Blad1!B551)","v":""},{"$f":"IF(Blad1!H551=\"\",\"\",Blad1!H551)","v":""},{"$f":"IF(Blad1!I551=\"\",\"\",Blad1!I551)","v":""},{"$f":"IF(Blad1!M551=\"\",\"\",Blad1!M551)","v":""},{"$f":"IF(Blad1!F551=\"\",\"\",Blad1!F551)","v":""},{"$f":"IF(Blad1!Q551=\"\",\"\",Blad1!Q551)","v":""}]
[{"$f":"IF(Blad1!D552=\"\",\"\",Blad1!D552)","v":""},{"$f":"IF(Blad1!E552=\"\",\"\",Blad1!E552)","v":""},{"$f":"IF(Blad1!B552=\"\",\"\",Blad1!B552)","v":""},{"$f":"IF(Blad1!H552=\"\",\"\",Blad1!H552)","v":""},{"$f":"IF(Blad1!I552=\"\",\"\",Blad1!I552)","v":""},{"$f":"IF(Blad1!M552=\"\",\"\",Blad1!M552)","v":""},{"$f":"IF(Blad1!F552=\"\",\"\",Blad1!F552)","v":""},{"$f":"IF(Blad1!Q552=\"\",\"\",Blad1!Q552)","v":""}]
[{"$f":"IF(Blad1!D553=\"\",\"\",Blad1!D553)","v":""},{"$f":"IF(Blad1!E553=\"\",\"\",Blad1!E553)","v":""},{"$f":"IF(Blad1!B553=\"\",\"\",Blad1!B553)","v":""},{"$f":"IF(Blad1!H553=\"\",\"\",Blad1!H553)","v":""},{"$f":"IF(Blad1!I553=\"\",\"\",Blad1!I553)","v":""},{"$f":"IF(Blad1!M553=\"\",\"\",Blad1!M553)","v":""},{"$f":"IF(Blad1!F553=\"\",\"\",Blad1!F553)","v":""},{"$f":"IF(Blad1!Q553=\"\",\"\",Blad1!Q553)","v":""}]
[{"$f":"IF(Blad1!D554=\"\",\"\",Blad1!D554)","v":""},{"$f":"IF(Blad1!E554=\"\",\"\",Blad1!E554)","v":""},{"$f":"IF(Blad1!B554=\"\",\"\",Blad1!B554)","v":""},{"$f":"IF(Blad1!H554=\"\",\"\",Blad1!H554)","v":""},{"$f":"IF(Blad1!I554=\"\",\"\",Blad1!I554)","v":""},{"$f":"IF(Blad1!M554=\"\",\"\",Blad1!M554)","v":""},{"$f":"IF(Blad1!F554=\"\",\"\",Blad1!F554)","v":""},{"$f":"IF(Blad1!Q554=\"\",\"\",Blad1!Q554)","v":""}]
[{"$f":"IF(Blad1!D555=\"\",\"\",Blad1!D555)","v":""},{"$f":"IF(Blad1!E555=\"\",\"\",Blad1!E555)","v":""},{"$f":"IF(Blad1!B555=\"\",\"\",Blad1!B555)","v":""},{"$f":"IF(Blad1!H555=\"\",\"\",Blad1!H555)","v":""},{"$f":"IF(Blad1!I555=\"\",\"\",Blad1!I555)","v":""},{"$f":"IF(Blad1!M555=\"\",\"\",Blad1!M555)","v":""},{"$f":"IF(Blad1!F555=\"\",\"\",Blad1!F555)","v":""},{"$f":"IF(Blad1!Q555=\"\",\"\",Blad1!Q555)","v":""}]
[{"$f":"IF(Blad1!D556=\"\",\"\",Blad1!D556)","v":""},{"$f":"IF(Blad1!E556=\"\",\"\",Blad1!E556)","v":""},{"$f":"IF(Blad1!B556=\"\",\"\",Blad1!B556)","v":""},{"$f":"IF(Blad1!H556=\"\",\"\",Blad1!H556)","v":""},{"$f":"IF(Blad1!I556=\"\",\"\",Blad1!I556)","v":""},{"$f":"IF(Blad1!M556=\"\",\"\",Blad1!M556)","v":""},{"$f":"IF(Blad1!F556=\"\",\"\",Blad1!F556)","v":""},{"$f":"IF(Blad1!Q556=\"\",\"\",Blad1!Q556)","v":""}]
[{"$f":"IF(Blad1!D557=\"\",\"\",Blad1!D557)","v":""},{"$f":"IF(Blad1!E557=\"\",\"\",Blad1!E557)","v":""},{"$f":"IF(Blad1!B557=\"\",\"\",Blad1!B557)","v":""},{"$f":"IF(Blad1!H557=\"\",\"\",Blad1!H557)","v":""},{"$f":"IF(Blad1!I557=\"\",\"\",Blad1!I557)","v":""},{"$f":"IF(Blad1!M557=\"\",\"\",Blad1!M557)","v":""},{"$f":"IF(Blad1!F557=\"\",\"\",Blad1!F557)","v":""},{"$f":"IF(Blad1!Q557=\"\",\"\",Blad1!Q557)","v":""}]
[{"$f":"IF(Blad1!D558=\"\",\"\",Blad1!D558)","v":""},{"$f":"IF(Blad1!E558=\"\",\"\",Blad1!E558)","v":""},{"$f":"IF(Blad1!B558=\"\",\"\",Blad1!B558)","v":""},{"$f":"IF(Blad1!H558=\"\",\"\",Blad1!H558)","v":""},{"$f":"IF(Blad1!I558=\"\",\"\",Blad1!I558)","v":""},{"$f":"IF(Blad1!M558=\"\",\"\",Blad1!M558)","v":""},{"$f":"IF(Blad1!F558=\"\",\"\",Blad1!F558)","v":""},{"$f":"IF(Blad1!Q558=\"\",\"\",Blad1!Q558)","v":""}]
[{"$f":"IF(Blad1!D559=\"\",\"\",Blad1!D559)","v":""},{"$f":"IF(Blad1!E559=\"\",\"\",Blad1!E559)","v":""},{"$f":"IF(Blad1!B559=\"\",\"\",Blad1!B559)","v":""},{"$f":"IF(Blad1!H559=\"\",\"\",Blad1!H559)","v":""},{"$f":"IF(Blad1!I559=\"\",\"\",Blad1!I559)","v":""},{"$f":"IF(Blad1!M559=\"\",\"\",Blad1!M559)","v":""},{"$f":"IF(Blad1!F559=\"\",\"\",Blad1!F559)","v":""},{"$f":"IF(Blad1!Q559=\"\",\"\",Blad1!Q559)","v":""}]
[{"$f":"IF(Blad1!D560=\"\",\"\",Blad1!D560)","v":""},{"$f":"IF(Blad1!E560=\"\",\"\",Blad1!E560)","v":""},{"$f":"IF(Blad1!B560=\"\",\"\",Blad1!B560)","v":""},{"$f":"IF(Blad1!H560=\"\",\"\",Blad1!H560)","v":""},{"$f":"IF(Blad1!I560=\"\",\"\",Blad1!I560)","v":""},{"$f":"IF(Blad1!M560=\"\",\"\",Blad1!M560)","v":""},{"$f":"IF(Blad1!F560=\"\",\"\",Blad1!F560)","v":""},{"$f":"IF(Blad1!Q560=\"\",\"\",Blad1!Q560)","v":""}]
[{"$f":"IF(Blad1!D561=\"\",\"\",Blad1!D561)","v":""},{"$f":"IF(Blad1!E561=\"\",\"\",Blad1!E561)","v":""},{"$f":"IF(Blad1!B561=\"\",\"\",Blad1!B561)","v":""},{"$f":"IF(Blad1!H561=\"\",\"\",Blad1!H561)","v":""},{"$f":"IF(Blad1!I561=\"\",\"\",Blad1!I561)","v":""},{"$f":"IF(Blad1!M561=\"\",\"\",Blad1!M561)","v":""},{"$f":"IF(Blad1!F561=\"\",\"\",Blad1!F561)","v":""},{"$f":"IF(Blad1!Q561=\"\",\"\",Blad1!Q561)","v":""}]
[{"$f":"IF(Blad1!D562=\"\",\"\",Blad1!D562)","v":""},{"$f":"IF(Blad1!E562=\"\",\"\",Blad1!E562)","v":""},{"$f":"IF(Blad1!B562=\"\",\"\",Blad1!B562)","v":""},{"$f":"IF(Blad1!H562=\"\",\"\",Blad1!H562)","v":""},{"$f":"IF(Blad1!I562=\"\",\"\",Blad1!I562)","v":""},{"$f":"IF(Blad1!M562=\"\",\"\",Blad1!M562)","v":""},{"$f":"IF(Blad1!F562=\"\",\"\",Blad1!F562)","v":""},{"$f":"IF(Blad1!Q562=\"\",\"\",Blad1!Q562)","v":""}]
[{"$f":"IF(Blad1!D563=\"\",\"\",Blad1!D563)","v":""},{"$f":"IF(Blad1!E563=\"\",\"\",Blad1!E563)","v":""},{"$f":"IF(Blad1!B563=\"\",\"\",Blad1!B563)","v":""},{"$f":"IF(Blad1!H563=\"\",\"\",Blad1!H563)","v":""},{"$f":"IF(Blad1!I563=\"\",\"\",Blad1!I563)","v":""},{"$f":"IF(Blad1!M563=\"\",\"\",Blad1!M563)","v":""},{"$f":"IF(Blad1!F563=\"\",\"\",Blad1!F563)","v":""},{"$f":"IF(Blad1!Q563=\"\",\"\",Blad1!Q563)","v":""}]
[{"$f":"IF(Blad1!D564=\"\",\"\",Blad1!D564)","v":""},{"$f":"IF(Blad1!E564=\"\",\"\",Blad1!E564)","v":""},{"$f":"IF(Blad1!B564=\"\",\"\",Blad1!B564)","v":""},{"$f":"IF(Blad1!H564=\"\",\"\",Blad1!H564)","v":""},{"$f":"IF(Blad1!I564=\"\",\"\",Blad1!I564)","v":""},{"$f":"IF(Blad1!M564=\"\",\"\",Blad1!M564)","v":""},{"$f":"IF(Blad1!F564=\"\",\"\",Blad1!F564)","v":""},{"$f":"IF(Blad1!Q564=\"\",\"\",Blad1!Q564)","v":""}]
[{"$f":"IF(Blad1!D565=\"\",\"\",Blad1!D565)","v":""},{"$f":"IF(Blad1!E565=\"\",\"\",Blad1!E565)","v":""},{"$f":"IF(Blad1!B565=\"\",\"\",Blad1!B565)","v":""},{"$f":"IF(Blad1!H565=\"\",\"\",Blad1!H565)","v":""},{"$f":"IF(Blad1!I565=\"\",\"\",Blad1!I565)","v":""},{"$f":"IF(Blad1!M565=\"\",\"\",Blad1!M565)","v":""},{"$f":"IF(Blad1!F565=\"\",\"\",Blad1!F565)","v":""},{"$f":"IF(Blad1!Q565=\"\",\"\",Blad1!Q565)","v":""}]
[{"$f":"IF(Blad1!D566=\"\",\"\",Blad1!D566)","v":""},{"$f":"IF(Blad1!E566=\"\",\"\",Blad1!E566)","v":""},{"$f":"IF(Blad1!B566=\"\",\"\",Blad1!B566)","v":""},{"$f":"IF(Blad1!H566=\"\",\"\",Blad1!H566)","v":""},{"$f":"IF(Blad1!I566=\"\",\"\",Blad1!I566)","v":""},{"$f":"IF(Blad1!M566=\"\",\"\",Blad1!M566)","v":""},{"$f":"IF(Blad1!F566=\"\",\"\",Blad1!F566)","v":""},{"$f":"IF(Blad1!Q566=\"\",\"\",Blad1!Q566)","v":""}]
[{"$f":"IF(Blad1!D567=\"\",\"\",Blad1!D567)","v":""},{"$f":"IF(Blad1!E567=\"\",\"\",Blad1!E567)","v":""},{"$f":"IF(Blad1!B567=\"\",\"\",Blad1!B567)","v":""},{"$f":"IF(Blad1!H567=\"\",\"\",Blad1!H567)","v":""},{"$f":"IF(Blad1!I567=\"\",\"\",Blad1!I567)","v":""},{"$f":"IF(Blad1!M567=\"\",\"\",Blad1!M567)","v":""},{"$f":"IF(Blad1!F567=\"\",\"\",Blad1!F567)","v":""},{"$f":"IF(Blad1!Q567=\"\",\"\",Blad1!Q567)","v":""}]
[{"$f":"IF(Blad1!D568=\"\",\"\",Blad1!D568)","v":""},{"$f":"IF(Blad1!E568=\"\",\"\",Blad1!E568)","v":""},{"$f":"IF(Blad1!B568=\"\",\"\",Blad1!B568)","v":""},{"$f":"IF(Blad1!H568=\"\",\"\",Blad1!H568)","v":""},{"$f":"IF(Blad1!I568=\"\",\"\",Blad1!I568)","v":""},{"$f":"IF(Blad1!M568=\"\",\"\",Blad1!M568)","v":""},{"$f":"IF(Blad1!F568=\"\",\"\",Blad1!F568)","v":""},{"$f":"IF(Blad1!Q568=\"\",\"\",Blad1!Q568)","v":""}]
[{"$f":"IF(Blad1!D569=\"\",\"\",Blad1!D569)","v":""},{"$f":"IF(Blad1!E569=\"\",\"\",Blad1!E569)","v":""},{"$f":"IF(Blad1!B569=\"\",\"\",Blad1!B569)","v":""},{"$f":"IF(Blad1!H569=\"\",\"\",Blad1!H569)","v":""},{"$f":"IF(Blad1!I569=\"\",\"\",Blad1!I569)","v":""},{"$f":"IF(Blad1!M569=\"\",\"\",Blad1!M569)","v":""},{"$f":"IF(Blad1!F569=\"\",\"\",Blad1!F569)","v":""},{"$f":"IF(Blad1!Q569=\"\",\"\",Blad1!Q569)","v":""}]
[{"$f":"IF(Blad1!D570=\"\",\"\",Blad1!D570)","v":""},{"$f":"IF(Blad1!E570=\"\",\"\",Blad1!E570)","v":""},{"$f":"IF(Blad1!B570=\"\",\"\",Blad1!B570)","v":""},{"$f":"IF(Blad1!H570=\"\",\"\",Blad1!H570)","v":""},{"$f":"IF(Blad1!I570=\"\",\"\",Blad1!I570)","v":""},{"$f":"IF(Blad1!M570=\"\",\"\",Blad1!M570)","v":""},{"$f":"IF(Blad1!F570=\"\",\"\",Blad1!F570)","v":""},{"$f":"IF(Blad1!Q570=\"\",\"\",Blad1!Q570)","v":""}]
[{"$f":"IF(Blad1!D571=\"\",\"\",Blad1!D571)","v":""},{"$f":"IF(Blad1!E571=\"\",\"\",Blad1!E571)","v":""},{"$f":"IF(Blad1!B571=\"\",\"\",Blad1!B571)","v":""},{"$f":"IF(Blad1!H571=\"\",\"\",Blad1!H571)","v":""},{"$f":"IF(Blad1!I571=\"\",\"\",Blad1!I571)","v":""},{"$f":"IF(Blad1!M571=\"\",\"\",Blad1!M571)","v":""},{"$f":"IF(Blad1!F571=\"\",\"\",Blad1!F571)","v":""},{"$f":"IF(Blad1!Q571=\"\",\"\",Blad1!Q571)","v":""}]
[{"$f":"IF(Blad1!D572=\"\",\"\",Blad1!D572)","v":""},{"$f":"IF(Blad1!E572=\"\",\"\",Blad1!E572)","v":""},{"$f":"IF(Blad1!B572=\"\",\"\",Blad1!B572)","v":""},{"$f":"IF(Blad1!H572=\"\",\"\",Blad1!H572)","v":""},{"$f":"IF(Blad1!I572=\"\",\"\",Blad1!I572)","v":""},{"$f":"IF(Blad1!M572=\"\",\"\",Blad1!M572)","v":""},{"$f":"IF(Blad1!F572=\"\",\"\",Blad1!F572)","v":""},{"$f":"IF(Blad1!Q572=\"\",\"\",Blad1!Q572)","v":""}]
[{"$f":"IF(Blad1!D573=\"\",\"\",Blad1!D573)","v":""},{"$f":"IF(Blad1!E573=\"\",\"\",Blad1!E573)","v":""},{"$f":"IF(Blad1!B573=\"\",\"\",Blad1!B573)","v":""},{"$f":"IF(Blad1!H573=\"\",\"\",Blad1!H573)","v":""},{"$f":"IF(Blad1!I573=\"\",\"\",Blad1!I573)","v":""},{"$f":"IF(Blad1!M573=\"\",\"\",Blad1!M573)","v":""},{"$f":"IF(Blad1!F573=\"\",\"\",Blad1!F573)","v":""},{"$f":"IF(Blad1!Q573=\"\",\"\",Blad1!Q573)","v":""}]
[{"$f":"IF(Blad1!D574=\"\",\"\",Blad1!D574)","v":""},{"$f":"IF(Blad1!E574=\"\",\"\",Blad1!E574)","v":""},{"$f":"IF(Blad1!B574=\"\",\"\",Blad1!B574)","v":""},{"$f":"IF(Blad1!H574=\"\",\"\",Blad1!H574)","v":""},{"$f":"IF(Blad1!I574=\"\",\"\",Blad1!I574)","v":""},{"$f":"IF(Blad1!M574=\"\",\"\",Blad1!M574)","v":""},{"$f":"IF(Blad1!F574=\"\",\"\",Blad1!F574)","v":""},{"$f":"IF(Blad1!Q574=\"\",\"\",Blad1!Q574)","v":""}]
[{"$f":"IF(Blad1!D575=\"\",\"\",Blad1!D575)","v":""},{"$f":"IF(Blad1!E575=\"\",\"\",Blad1!E575)","v":""},{"$f":"IF(Blad1!B575=\"\",\"\",Blad1!B575)","v":""},{"$f":"IF(Blad1!H575=\"\",\"\",Blad1!H575)","v":""},{"$f":"IF(Blad1!I575=\"\",\"\",Blad1!I575)","v":""},{"$f":"IF(Blad1!M575=\"\",\"\",Blad1!M575)","v":""},{"$f":"IF(Blad1!F575=\"\",\"\",Blad1!F575)","v":""},{"$f":"IF(Blad1!Q575=\"\",\"\",Blad1!Q575)","v":""}]
[{"$f":"IF(Blad1!D576=\"\",\"\",Blad1!D576)","v":""},{"$f":"IF(Blad1!E576=\"\",\"\",Blad1!E576)","v":""},{"$f":"IF(Blad1!B576=\"\",\"\",Blad1!B576)","v":""},{"$f":"IF(Blad1!H576=\"\",\"\",Blad1!H576)","v":""},{"$f":"IF(Blad1!I576=\"\",\"\",Blad1!I576)","v":""},{"$f":"IF(Blad1!M576=\"\",\"\",Blad1!M576)","v":""},{"$f":"IF(Blad1!F576=\"\",\"\",Blad1!F576)","v":""},{"$f":"IF(Blad1!Q576=\"\",\"\",Blad1!Q576)","v":""}]
[{"$f":"IF(Blad1!D577=\"\",\"\",Blad1!D577)","v":""},{"$f":"IF(Blad1!E577=\"\",\"\",Blad1!E577)","v":""},{"$f":"IF(Blad1!B577=\"\",\"\",Blad1!B577)","v":""},{"$f":"IF(Blad1!H577=\"\",\"\",Blad1!H577)","v":""},{"$f":"IF(Blad1!I577=\"\",\"\",Blad1!I577)","v":""},{"$f":"IF(Blad1!M577=\"\",\"\",Blad1!M577)","v":""},{"$f":"IF(Blad1!F577=\"\",\"\",Blad1!F577)","v":""},{"$f":"IF(Blad1!Q577=\"\",\"\",Blad1!Q577)","v":""}]
[{"$f":"IF(Blad1!D578=\"\",\"\",Blad1!D578)","v":""},{"$f":"IF(Blad1!E578=\"\",\"\",Blad1!E578)","v":""},{"$f":"IF(Blad1!B578=\"\",\"\",Blad1!B578)","v":""},{"$f":"IF(Blad1!H578=\"\",\"\",Blad1!H578)","v":""},{"$f":"IF(Blad1!I578=\"\",\"\",Blad1!I578)","v":""},{"$f":"IF(Blad1!M578=\"\",\"\",Blad1!M578)","v":""},{"$f":"IF(Blad1!F578=\"\",\"\",Blad1!F578)","v":""},{"$f":"IF(Blad1!Q578=\"\",\"\",Blad1!Q578)","v":""}]
[{"$f":"IF(Blad1!D579=\"\",\"\",Blad1!D579)","v":""},{"$f":"IF(Blad1!E579=\"\",\"\",Blad1!E579)","v":""},{"$f":"IF(Blad1!B579=\"\",\"\",Blad1!B579)","v":""},{"$f":"IF(Blad1!H579=\"\",\"\",Blad1!H579)","v":""},{"$f":"IF(Blad1!I579=\"\",\"\",Blad1!I579)","v":""},{"$f":"IF(Blad1!M579=\"\",\"\",Blad1!M579)","v":""},{"$f":"IF(Blad1!F579=\"\",\"\",Blad1!F579)","v":""},{"$f":"IF(Blad1!Q579=\"\",\"\",Blad1!Q579)","v":""}]
[{"$f":"IF(Blad1!D580=\"\",\"\",Blad1!D580)","v":""},{"$f":"IF(Blad1!E580=\"\",\"\",Blad1!E580)","v":""},{"$f":"IF(Blad1!B580=\"\",\"\",Blad1!B580)","v":""},{"$f":"IF(Blad1!H580=\"\",\"\",Blad1!H580)","v":""},{"$f":"IF(Blad1!I580=\"\",\"\",Blad1!I580)","v":""},{"$f":"IF(Blad1!M580=\"\",\"\",Blad1!M580)","v":""},{"$f":"IF(Blad1!F580=\"\",\"\",Blad1!F580)","v":""},{"$f":"IF(Blad1!Q580=\"\",\"\",Blad1!Q580)","v":""}]
[{"$f":"IF(Blad1!D581=\"\",\"\",Blad1!D581)","v":""},{"$f":"IF(Blad1!E581=\"\",\"\",Blad1!E581)","v":""},{"$f":"IF(Blad1!B581=\"\",\"\",Blad1!B581)","v":""},{"$f":"IF(Blad1!H581=\"\",\"\",Blad1!H581)","v":""},{"$f":"IF(Blad1!I581=\"\",\"\",Blad1!I581)","v":""},{"$f":"IF(Blad1!M581=\"\",\"\",Blad1!M581)","v":""},{"$f":"IF(Blad1!F581=\"\",\"\",Blad1!F581)","v":""},{"$f":"IF(Blad1!Q581=\"\",\"\",Blad1!Q581)","v":""}]
[{"$f":"IF(Blad1!D582=\"\",\"\",Blad1!D582)","v":""},{"$f":"IF(Blad1!E582=\"\",\"\",Blad1!E582)","v":""},{"$f":"IF(Blad1!B582=\"\",\"\",Blad1!B582)","v":""},{"$f":"IF(Blad1!H582=\"\",\"\",Blad1!H582)","v":""},{"$f":"IF(Blad1!I582=\"\",\"\",Blad1!I582)","v":""},{"$f":"IF(Blad1!M582=\"\",\"\",Blad1!M582)","v":""},{"$f":"IF(Blad1!F582=\"\",\"\",Blad1!F582)","v":""},{"$f":"IF(Blad1!Q582=\"\",\"\",Blad1!Q582)","v":""}]
[{"$f":"IF(Blad1!D583=\"\",\"\",Blad1!D583)","v":""},{"$f":"IF(Blad1!E583=\"\",\"\",Blad1!E583)","v":""},{"$f":"IF(Blad1!B583=\"\",\"\",Blad1!B583)","v":""},{"$f":"IF(Blad1!H583=\"\",\"\",Blad1!H583)","v":""},{"$f":"IF(Blad1!I583=\"\",\"\",Blad1!I583)","v":""},{"$f":"IF(Blad1!M583=\"\",\"\",Blad1!M583)","v":""},{"$f":"IF(Blad1!F583=\"\",\"\",Blad1!F583)","v":""},{"$f":"IF(Blad1!Q583=\"\",\"\",Blad1!Q583)","v":""}]
[{"$f":"IF(Blad1!D584=\"\",\"\",Blad1!D584)","v":""},{"$f":"IF(Blad1!E584=\"\",\"\",Blad1!E584)","v":""},{"$f":"IF(Blad1!B584=\"\",\"\",Blad1!B584)","v":""},{"$f":"IF(Blad1!H584=\"\",\"\",Blad1!H584)","v":""},{"$f":"IF(Blad1!I584=\"\",\"\",Blad1!I584)","v":""},{"$f":"IF(Blad1!M584=\"\",\"\",Blad1!M584)","v":""},{"$f":"IF(Blad1!F584=\"\",\"\",Blad1!F584)","v":""},{"$f":"IF(Blad1!Q584=\"\",\"\",Blad1!Q584)","v":""}]
[{"$f":"IF(Blad1!D585=\"\",\"\",Blad1!D585)","v":""},{"$f":"IF(Blad1!E585=\"\",\"\",Blad1!E585)","v":""},{"$f":"IF(Blad1!B585=\"\",\"\",Blad1!B585)","v":""},{"$f":"IF(Blad1!H585=\"\",\"\",Blad1!H585)","v":""},{"$f":"IF(Blad1!I585=\"\",\"\",Blad1!I585)","v":""},{"$f":"IF(Blad1!M585=\"\",\"\",Blad1!M585)","v":""},{"$f":"IF(Blad1!F585=\"\",\"\",Blad1!F585)","v":""},{"$f":"IF(Blad1!Q585=\"\",\"\",Blad1!Q585)","v":""}]
[{"$f":"IF(Blad1!D586=\"\",\"\",Blad1!D586)","v":""},{"$f":"IF(Blad1!E586=\"\",\"\",Blad1!E586)","v":""},{"$f":"IF(Blad1!B586=\"\",\"\",Blad1!B586)","v":""},{"$f":"IF(Blad1!H586=\"\",\"\",Blad1!H586)","v":""},{"$f":"IF(Blad1!I586=\"\",\"\",Blad1!I586)","v":""},{"$f":"IF(Blad1!M586=\"\",\"\",Blad1!M586)","v":""},{"$f":"IF(Blad1!F586=\"\",\"\",Blad1!F586)","v":""},{"$f":"IF(Blad1!Q586=\"\",\"\",Blad1!Q586)","v":""}]
[{"$f":"IF(Blad1!D587=\"\",\"\",Blad1!D587)","v":""},{"$f":"IF(Blad1!E587=\"\",\"\",Blad1!E587)","v":""},{"$f":"IF(Blad1!B587=\"\",\"\",Blad1!B587)","v":""},{"$f":"IF(Blad1!H587=\"\",\"\",Blad1!H587)","v":""},{"$f":"IF(Blad1!I587=\"\",\"\",Blad1!I587)","v":""},{"$f":"IF(Blad1!M587=\"\",\"\",Blad1!M587)","v":""},{"$f":"IF(Blad1!F587=\"\",\"\",Blad1!F587)","v":""},{"$f":"IF(Blad1!Q587=\"\",\"\",Blad1!Q587)","v":""}]
[{"$f":"IF(Blad1!D588=\"\",\"\",Blad1!D588)","v":""},{"$f":"IF(Blad1!E588=\"\",\"\",Blad1!E588)","v":""},{"$f":"IF(Blad1!B588=\"\",\"\",Blad1!B588)","v":""},{"$f":"IF(Blad1!H588=\"\",\"\",Blad1!H588)","v":""},{"$f":"IF(Blad1!I588=\"\",\"\",Blad1!I588)","v":""},{"$f":"IF(Blad1!M588=\"\",\"\",Blad1!M588)","v":""},{"$f":"IF(Blad1!F588=\"\",\"\",Blad1!F588)","v":""},{"$f":"IF(Blad1!Q588=\"\",\"\",Blad1!Q588)","v":""}]
[{"$f":"IF(Blad1!D589=\"\",\"\",Blad1!D589)","v":""},{"$f":"IF(Blad1!E589=\"\",\"\",Blad1!E589)","v":""},{"$f":"IF(Blad1!B589=\"\",\"\",Blad1!B589)","v":""},{"$f":"IF(Blad1!H589=\"\",\"\",Blad1!H589)","v":""},{"$f":"IF(Blad1!I589=\"\",\"\",Blad1!I589)","v":""},{"$f":"IF(Blad1!M589=\"\",\"\",Blad1!M589)","v":""},{"$f":"IF(Blad1!F589=\"\",\"\",Blad1!F589)","v":""},{"$f":"IF(Blad1!Q589=\"\",\"\",Blad1!Q589)","v":""}]
[{"$f":"IF(Blad1!D590=\"\",\"\",Blad1!D590)","v":""},{"$f":"IF(Blad1!E590=\"\",\"\",Blad1!E590)","v":""},{"$f":"IF(Blad1!B590=\"\",\"\",Blad1!B590)","v":""},{"$f":"IF(Blad1!H590=\"\",\"\",Blad1!H590)","v":""},{"$f":"IF(Blad1!I590=\"\",\"\",Blad1!I590)","v":""},{"$f":"IF(Blad1!M590=\"\",\"\",Blad1!M590)","v":""},{"$f":"IF(Blad1!F590=\"\",\"\",Blad1!F590)","v":""},{"$f":"IF(Blad1!Q590=\"\",\"\",Blad1!Q590)","v":""}]
[{"$f":"IF(Blad1!D591=\"\",\"\",Blad1!D591)","v":""},{"$f":"IF(Blad1!E591=\"\",\"\",Blad1!E591)","v":""},{"$f":"IF(Blad1!B591=\"\",\"\",Blad1!B591)","v":""},{"$f":"IF(Blad1!H591=\"\",\"\",Blad1!H591)","v":""},{"$f":"IF(Blad1!I591=\"\",\"\",Blad1!I591)","v":""},{"$f":"IF(Blad1!M591=\"\",\"\",Blad1!M591)","v":""},{"$f":"IF(Blad1!F591=\"\",\"\",Blad1!F591)","v":""},{"$f":"IF(Blad1!Q591=\"\",\"\",Blad1!Q591)","v":""}]
[{"$f":"IF(Blad1!D592=\"\",\"\",Blad1!D592)","v":""},{"$f":"IF(Blad1!E592=\"\",\"\",Blad1!E592)","v":""},{"$f":"IF(Blad1!B592=\"\",\"\",Blad1!B592)","v":""},{"$f":"IF(Blad1!H592=\"\",\"\",Blad1!H592)","v":""},{"$f":"IF(Blad1!I592=\"\",\"\",Blad1!I592)","v":""},{"$f":"IF(Blad1!M592=\"\",\"\",Blad1!M592)","v":""},{"$f":"IF(Blad1!F592=\"\",\"\",Blad1!F592)","v":""},{"$f":"IF(Blad1!Q592=\"\",\"\",Blad1!Q592)","v":""}]
[{"$f":"IF(Blad1!D593=\"\",\"\",Blad1!D593)","v":""},{"$f":"IF(Blad1!E593=\"\",\"\",Blad1!E593)","v":""},{"$f":"IF(Blad1!B593=\"\",\"\",Blad1!B593)","v":""},{"$f":"IF(Blad1!H593=\"\",\"\",Blad1!H593)","v":""},{"$f":"IF(Blad1!I593=\"\",\"\",Blad1!I593)","v":""},{"$f":"IF(Blad1!M593=\"\",\"\",Blad1!M593)","v":""},{"$f":"IF(Blad1!F593=\"\",\"\",Blad1!F593)","v":""},{"$f":"IF(Blad1!Q593=\"\",\"\",Blad1!Q593)","v":""}]
[{"$f":"IF(Blad1!D594=\"\",\"\",Blad1!D594)","v":""},{"$f":"IF(Blad1!E594=\"\",\"\",Blad1!E594)","v":""},{"$f":"IF(Blad1!B594=\"\",\"\",Blad1!B594)","v":""},{"$f":"IF(Blad1!H594=\"\",\"\",Blad1!H594)","v":""},{"$f":"IF(Blad1!I594=\"\",\"\",Blad1!I594)","v":""},{"$f":"IF(Blad1!M594=\"\",\"\",Blad1!M594)","v":""},{"$f":"IF(Blad1!F594=\"\",\"\",Blad1!F594)","v":""},{"$f":"IF(Blad1!Q594=\"\",\"\",Blad1!Q594)","v":""}]
[{"$f":"IF(Blad1!D595=\"\",\"\",Blad1!D595)","v":""},{"$f":"IF(Blad1!E595=\"\",\"\",Blad1!E595)","v":""},{"$f":"IF(Blad1!B595=\"\",\"\",Blad1!B595)","v":""},{"$f":"IF(Blad1!H595=\"\",\"\",Blad1!H595)","v":""},{"$f":"IF(Blad1!I595=\"\",\"\",Blad1!I595)","v":""},{"$f":"IF(Blad1!M595=\"\",\"\",Blad1!M595)","v":""},{"$f":"IF(Blad1!F595=\"\",\"\",Blad1!F595)","v":""},{"$f":"IF(Blad1!Q595=\"\",\"\",Blad1!Q595)","v":""}]
[{"$f":"IF(Blad1!D596=\"\",\"\",Blad1!D596)","v":""},{"$f":"IF(Blad1!E596=\"\",\"\",Blad1!E596)","v":""},{"$f":"IF(Blad1!B596=\"\",\"\",Blad1!B596)","v":""},{"$f":"IF(Blad1!H596=\"\",\"\",Blad1!H596)","v":""},{"$f":"IF(Blad1!I596=\"\",\"\",Blad1!I596)","v":""},{"$f":"IF(Blad1!M596=\"\",\"\",Blad1!M596)","v":""},{"$f":"IF(Blad1!F596=\"\",\"\",Blad1!F596)","v":""},{"$f":"IF(Blad1!Q596=\"\",\"\",Blad1!Q596)","v":""}]
[{"$f":"IF(Blad1!D597=\"\",\"\",Blad1!D597)","v":""},{"$f":"IF(Blad1!E597=\"\",\"\",Blad1!E597)","v":""},{"$f":"IF(Blad1!B597=\"\",\"\",Blad1!B597)","v":""},{"$f":"IF(Blad1!H597=\"\",\"\",Blad1!H597)","v":""},{"$f":"IF(Blad1!I597=\"\",\"\",Blad1!I597)","v":""},{"$f":"IF(Blad1!M597=\"\",\"\",Blad1!M597)","v":""},{"$f":"IF(Blad1!F597=\"\",\"\",Blad1!F597)","v":""},{"$f":"IF(Blad1!Q597=\"\",\"\",Blad1!Q597)","v":""}]
[{"$f":"IF(Blad1!D598=\"\",\"\",Blad1!D598)","v":""},{"$f":"IF(Blad1!E598=\"\",\"\",Blad1!E598)","v":""},{"$f":"IF(Blad1!B598=\"\",\"\",Blad1!B598)","v":""},{"$f":"IF(Blad1!H598=\"\",\"\",Blad1!H598)","v":""},{"$f":"IF(Blad1!I598=\"\",\"\",Blad1!I598)","v":""},{"$f":"IF(Blad1!M598=\"\",\"\",Blad1!M598)","v":""},{"$f":"IF(Blad1!F598=\"\",\"\",Blad1!F598)","v":""},{"$f":"IF(Blad1!Q598=\"\",\"\",Blad1!Q598)","v":""}]
[{"$f":"IF(Blad1!D599=\"\",\"\",Blad1!D599)","v":""},{"$f":"IF(Blad1!E599=\"\",\"\",Blad1!E599)","v":""},{"$f":"IF(Blad1!B599=\"\",\"\",Blad1!B599)","v":""},{"$f":"IF(Blad1!H599=\"\",\"\",Blad1!H599)","v":""},{"$f":"IF(Blad1!I599=\"\",\"\",Blad1!I599)","v":""},{"$f":"IF(Blad1!M599=\"\",\"\",Blad1!M599)","v":""},{"$f":"IF(Blad1!F599=\"\",\"\",Blad1!F599)","v":""},{"$f":"IF(Blad1!Q599=\"\",\"\",Blad1!Q599)","v":""}]
[{"$f":"IF(Blad1!D600=\"\",\"\",Blad1!D600)","v":""},{"$f":"IF(Blad1!E600=\"\",\"\",Blad1!E600)","v":""},{"$f":"IF(Blad1!B600=\"\",\"\",Blad1!B600)","v":""},{"$f":"IF(Blad1!H600=\"\",\"\",Blad1!H600)","v":""},{"$f":"IF(Blad1!I600=\"\",\"\",Blad1!I600)","v":""},{"$f":"IF(Blad1!M600=\"\",\"\",Blad1!M600)","v":""},{"$f":"IF(Blad1!F600=\"\",\"\",Blad1!F600)","v":""},{"$f":"IF(Blad1!Q600=\"\",\"\",Blad1!Q600)","v":""}]
[{"$f":"IF(Blad1!D601=\"\",\"\",Blad1!D601)","v":""},{"$f":"IF(Blad1!E601=\"\",\"\",Blad1!E601)","v":""},{"$f":"IF(Blad1!B601=\"\",\"\",Blad1!B601)","v":""},{"$f":"IF(Blad1!H601=\"\",\"\",Blad1!H601)","v":""},{"$f":"IF(Blad1!I601=\"\",\"\",Blad1!I601)","v":""},{"$f":"IF(Blad1!M601=\"\",\"\",Blad1!M601)","v":""},{"$f":"IF(Blad1!F601=\"\",\"\",Blad1!F601)","v":""},{"$f":"IF(Blad1!Q601=\"\",\"\",Blad1!Q601)","v":""}]
[{"$f":"IF(Blad1!D602=\"\",\"\",Blad1!D602)","v":""},{"$f":"IF(Blad1!E602=\"\",\"\",Blad1!E602)","v":""},{"$f":"IF(Blad1!B602=\"\",\"\",Blad1!B602)","v":""},{"$f":"IF(Blad1!H602=\"\",\"\",Blad1!H602)","v":""},{"$f":"IF(Blad1!I602=\"\",\"\",Blad1!I602)","v":""},{"$f":"IF(Blad1!M602=\"\",\"\",Blad1!M602)","v":""},{"$f":"IF(Blad1!F602=\"\",\"\",Blad1!F602)","v":""},{"$f":"IF(Blad1!Q602=\"\",\"\",Blad1!Q602)","v":""}]
[{"$f":"IF(Blad1!D603=\"\",\"\",Blad1!D603)","v":""},{"$f":"IF(Blad1!E603=\"\",\"\",Blad1!E603)","v":""},{"$f":"IF(Blad1!B603=\"\",\"\",Blad1!B603)","v":""},{"$f":"IF(Blad1!H603=\"\",\"\",Blad1!H603)","v":""},{"$f":"IF(Blad1!I603=\"\",\"\",Blad1!I603)","v":""},{"$f":"IF(Blad1!M603=\"\",\"\",Blad1!M603)","v":""},{"$f":"IF(Blad1!F603=\"\",\"\",Blad1!F603)","v":""},{"$f":"IF(Blad1!Q603=\"\",\"\",Blad1!Q603)","v":""}]
[{"$f":"IF(Blad1!D604=\"\",\"\",Blad1!D604)","v":""},{"$f":"IF(Blad1!E604=\"\",\"\",Blad1!E604)","v":""},{"$f":"IF(Blad1!B604=\"\",\"\",Blad1!B604)","v":""},{"$f":"IF(Blad1!H604=\"\",\"\",Blad1!H604)","v":""},{"$f":"IF(Blad1!I604=\"\",\"\",Blad1!I604)","v":""},{"$f":"IF(Blad1!M604=\"\",\"\",Blad1!M604)","v":""},{"$f":"IF(Blad1!F604=\"\",\"\",Blad1!F604)","v":""},{"$f":"IF(Blad1!Q604=\"\",\"\",Blad1!Q604)","v":""}]
[{"$f":"IF(Blad1!D605=\"\",\"\",Blad1!D605)","v":""},{"$f":"IF(Blad1!E605=\"\",\"\",Blad1!E605)","v":""},{"$f":"IF(Blad1!B605=\"\",\"\",Blad1!B605)","v":""},{"$f":"IF(Blad1!H605=\"\",\"\",Blad1!H605)","v":""},{"$f":"IF(Blad1!I605=\"\",\"\",Blad1!I605)","v":""},{"$f":"IF(Blad1!M605=\"\",\"\",Blad1!M605)","v":""},{"$f":"IF(Blad1!F605=\"\",\"\",Blad1!F605)","v":""},{"$f":"IF(Blad1!Q605=\"\",\"\",Blad1!Q605)","v":""}]
[{"$f":"IF(Blad1!D606=\"\",\"\",Blad1!D606)","v":""},{"$f":"IF(Blad1!E606=\"\",\"\",Blad1!E606)","v":""},{"$f":"IF(Blad1!B606=\"\",\"\",Blad1!B606)","v":""},{"$f":"IF(Blad1!H606=\"\",\"\",Blad1!H606)","v":""},{"$f":"IF(Blad1!I606=\"\",\"\",Blad1!I606)","v":""},{"$f":"IF(Blad1!M606=\"\",\"\",Blad1!M606)","v":""},{"$f":"IF(Blad1!F606=\"\",\"\",Blad1!F606)","v":""},{"$f":"IF(Blad1!Q606=\"\",\"\",Blad1!Q606)","v":""}]
[{"$f":"IF(Blad1!D607=\"\",\"\",Blad1!D607)","v":""},{"$f":"IF(Blad1!E607=\"\",\"\",Blad1!E607)","v":""},{"$f":"IF(Blad1!B607=\"\",\"\",Blad1!B607)","v":""},{"$f":"IF(Blad1!H607=\"\",\"\",Blad1!H607)","v":""},{"$f":"IF(Blad1!I607=\"\",\"\",Blad1!I607)","v":""},{"$f":"IF(Blad1!M607=\"\",\"\",Blad1!M607)","v":""},{"$f":"IF(Blad1!F607=\"\",\"\",Blad1!F607)","v":""},{"$f":"IF(Blad1!Q607=\"\",\"\",Blad1!Q607)","v":""}]
[{"$f":"IF(Blad1!D608=\"\",\"\",Blad1!D608)","v":""},{"$f":"IF(Blad1!E608=\"\",\"\",Blad1!E608)","v":""},{"$f":"IF(Blad1!B608=\"\",\"\",Blad1!B608)","v":""},{"$f":"IF(Blad1!H608=\"\",\"\",Blad1!H608)","v":""},{"$f":"IF(Blad1!I608=\"\",\"\",Blad1!I608)","v":""},{"$f":"IF(Blad1!M608=\"\",\"\",Blad1!M608)","v":""},{"$f":"IF(Blad1!F608=\"\",\"\",Blad1!F608)","v":""},{"$f":"IF(Blad1!Q608=\"\",\"\",Blad1!Q608)","v":""}]
[{"$f":"IF(Blad1!D609=\"\",\"\",Blad1!D609)","v":""},{"$f":"IF(Blad1!E609=\"\",\"\",Blad1!E609)","v":""},{"$f":"IF(Blad1!B609=\"\",\"\",Blad1!B609)","v":""},{"$f":"IF(Blad1!H609=\"\",\"\",Blad1!H609)","v":""},{"$f":"IF(Blad1!I609=\"\",\"\",Blad1!I609)","v":""},{"$f":"IF(Blad1!M609=\"\",\"\",Blad1!M609)","v":""},{"$f":"IF(Blad1!F609=\"\",\"\",Blad1!F609)","v":""},{"$f":"IF(Blad1!Q609=\"\",\"\",Blad1!Q609)","v":""}]
[{"$f":"IF(Blad1!D610=\"\",\"\",Blad1!D610)","v":""},{"$f":"IF(Blad1!E610=\"\",\"\",Blad1!E610)","v":""},{"$f":"IF(Blad1!B610=\"\",\"\",Blad1!B610)","v":""},{"$f":"IF(Blad1!H610=\"\",\"\",Blad1!H610)","v":""},{"$f":"IF(Blad1!I610=\"\",\"\",Blad1!I610)","v":""},{"$f":"IF(Blad1!M610=\"\",\"\",Blad1!M610)","v":""},{"$f":"IF(Blad1!F610=\"\",\"\",Blad1!F610)","v":""},{"$f":"IF(Blad1!Q610=\"\",\"\",Blad1!Q610)","v":""}]
[{"$f":"IF(Blad1!D611=\"\",\"\",Blad1!D611)","v":""},{"$f":"IF(Blad1!E611=\"\",\"\",Blad1!E611)","v":""},{"$f":"IF(Blad1!B611=\"\",\"\",Blad1!B611)","v":""},{"$f":"IF(Blad1!H611=\"\",\"\",Blad1!H611)","v":""},{"$f":"IF(Blad1!I611=\"\",\"\",Blad1!I611)","v":""},{"$f":"IF(Blad1!M611=\"\",\"\",Blad1!M611)","v":""},{"$f":"IF(Blad1!F611=\"\",\"\",Blad1!F611)","v":""},{"$f":"IF(Blad1!Q611=\"\",\"\",Blad1!Q611)","v":""}]
[{"$f":"IF(Blad1!D612=\"\",\"\",Blad1!D612)","v":""},{"$f":"IF(Blad1!E612=\"\",\"\",Blad1!E612)","v":""},{"$f":"IF(Blad1!B612=\"\",\"\",Blad1!B612)","v":""},{"$f":"IF(Blad1!H612=\"\",\"\",Blad1!H612)","v":""},{"$f":"IF(Blad1!I612=\"\",\"\",Blad1!I612)","v":""},{"$f":"IF(Blad1!M612=\"\",\"\",Blad1!M612)","v":""},{"$f":"IF(Blad1!F612=\"\",\"\",Blad1!F612)","v":""},{"$f":"IF(Blad1!Q612=\"\",\"\",Blad1!Q612)","v":""}]
[{"$f":"IF(Blad1!D613=\"\",\"\",Blad1!D613)","v":""},{"$f":"IF(Blad1!E613=\"\",\"\",Blad1!E613)","v":""},{"$f":"IF(Blad1!B613=\"\",\"\",Blad1!B613)","v":""},{"$f":"IF(Blad1!H613=\"\",\"\",Blad1!H613)","v":""},{"$f":"IF(Blad1!I613=\"\",\"\",Blad1!I613)","v":""},{"$f":"IF(Blad1!M613=\"\",\"\",Blad1!M613)","v":""},{"$f":"IF(Blad1!F613=\"\",\"\",Blad1!F613)","v":""},{"$f":"IF(Blad1!Q613=\"\",\"\",Blad1!Q613)","v":""}]
[{"$f":"IF(Blad1!D614=\"\",\"\",Blad1!D614)","v":""},{"$f":"IF(Blad1!E614=\"\",\"\",Blad1!E614)","v":""},{"$f":"IF(Blad1!B614=\"\",\"\",Blad1!B614)","v":""},{"$f":"IF(Blad1!H614=\"\",\"\",Blad1!H614)","v":""},{"$f":"IF(Blad1!I614=\"\",\"\",Blad1!I614)","v":""},{"$f":"IF(Blad1!M614=\"\",\"\",Blad1!M614)","v":""},{"$f":"IF(Blad1!F614=\"\",\"\",Blad1!F614)","v":""},{"$f":"IF(Blad1!Q614=\"\",\"\",Blad1!Q614)","v":""}]
[{"$f":"IF(Blad1!D615=\"\",\"\",Blad1!D615)","v":""},{"$f":"IF(Blad1!E615=\"\",\"\",Blad1!E615)","v":""},{"$f":"IF(Blad1!B615=\"\",\"\",Blad1!B615)","v":""},{"$f":"IF(Blad1!H615=\"\",\"\",Blad1!H615)","v":""},{"$f":"IF(Blad1!I615=\"\",\"\",Blad1!I615)","v":""},{"$f":"IF(Blad1!M615=\"\",\"\",Blad1!M615)","v":""},{"$f":"IF(Blad1!F615=\"\",\"\",Blad1!F615)","v":""},{"$f":"IF(Blad1!Q615=\"\",\"\",Blad1!Q615)","v":""}]
[{"$f":"IF(Blad1!D616=\"\",\"\",Blad1!D616)","v":""},{"$f":"IF(Blad1!E616=\"\",\"\",Blad1!E616)","v":""},{"$f":"IF(Blad1!B616=\"\",\"\",Blad1!B616)","v":""},{"$f":"IF(Blad1!H616=\"\",\"\",Blad1!H616)","v":""},{"$f":"IF(Blad1!I616=\"\",\"\",Blad1!I616)","v":""},{"$f":"IF(Blad1!M616=\"\",\"\",Blad1!M616)","v":""},{"$f":"IF(Blad1!F616=\"\",\"\",Blad1!F616)","v":""},{"$f":"IF(Blad1!Q616=\"\",\"\",Blad1!Q616)","v":""}]
[{"$f":"IF(Blad1!D617=\"\",\"\",Blad1!D617)","v":""},{"$f":"IF(Blad1!E617=\"\",\"\",Blad1!E617)","v":""},{"$f":"IF(Blad1!B617=\"\",\"\",Blad1!B617)","v":""},{"$f":"IF(Blad1!H617=\"\",\"\",Blad1!H617)","v":""},{"$f":"IF(Blad1!I617=\"\",\"\",Blad1!I617)","v":""},{"$f":"IF(Blad1!M617=\"\",\"\",Blad1!M617)","v":""},{"$f":"IF(Blad1!F617=\"\",\"\",Blad1!F617)","v":""},{"$f":"IF(Blad1!Q617=\"\",\"\",Blad1!Q617)","v":""}]
[{"$f":"IF(Blad1!D618=\"\",\"\",Blad1!D618)","v":""},{"$f":"IF(Blad1!E618=\"\",\"\",Blad1!E618)","v":""},{"$f":"IF(Blad1!B618=\"\",\"\",Blad1!B618)","v":""},{"$f":"IF(Blad1!H618=\"\",\"\",Blad1!H618)","v":""},{"$f":"IF(Blad1!I618=\"\",\"\",Blad1!I618)","v":""},{"$f":"IF(Blad1!M618=\"\",\"\",Blad1!M618)","v":""},{"$f":"IF(Blad1!F618=\"\",\"\",Blad1!F618)","v":""},{"$f":"IF(Blad1!Q618=\"\",\"\",Blad1!Q618)","v":""}]
[{"$f":"IF(Blad1!D619=\"\",\"\",Blad1!D619)","v":""},{"$f":"IF(Blad1!E619=\"\",\"\",Blad1!E619)","v":""},{"$f":"IF(Blad1!B619=\"\",\"\",Blad1!B619)","v":""},{"$f":"IF(Blad1!H619=\"\",\"\",Blad1!H619)","v":""},{"$f":"IF(Blad1!I619=\"\",\"\",Blad1!I619)","v":""},{"$f":"IF(Blad1!M619=\"\",\"\",Blad1!M619)","v":""},{"$f":"IF(Blad1!F619=\"\",\"\",Blad1!F619)","v":""},{"$f":"IF(Blad1!Q619=\"\",\"\",Blad1!Q619)","v":""}]
[{"$f":"IF(Blad1!D620=\"\",\"\",Blad1!D620)","v":""},{"$f":"IF(Blad1!E620=\"\",\"\",Blad1!E620)","v":""},{"$f":"IF(Blad1!B620=\"\",\"\",Blad1!B620)","v":""},{"$f":"IF(Blad1!H620=\"\",\"\",Blad1!H620)","v":""},{"$f":"IF(Blad1!I620=\"\",\"\",Blad1!I620)","v":""},{"$f":"IF(Blad1!M620=\"\",\"\",Blad1!M620)","v":""},{"$f":"IF(Blad1!F620=\"\",\"\",Blad1!F620)","v":""},{"$f":"IF(Blad1!Q620=\"\",\"\",Blad1!Q620)","v":""}]
[{"$f":"IF(Blad1!D621=\"\",\"\",Blad1!D621)","v":""},{"$f":"IF(Blad1!E621=\"\",\"\",Blad1!E621)","v":""},{"$f":"IF(Blad1!B621=\"\",\"\",Blad1!B621)","v":""},{"$f":"IF(Blad1!H621=\"\",\"\",Blad1!H621)","v":""},{"$f":"IF(Blad1!I621=\"\",\"\",Blad1!I621)","v":""},{"$f":"IF(Blad1!M621=\"\",\"\",Blad1!M621)","v":""},{"$f":"IF(Blad1!F621=\"\",\"\",Blad1!F621)","v":""},{"$f":"IF(Blad1!Q621=\"\",\"\",Blad1!Q621)","v":""}]
[{"$f":"IF(Blad1!D622=\"\",\"\",Blad1!D622)","v":""},{"$f":"IF(Blad1!E622=\"\",\"\",Blad1!E622)","v":""},{"$f":"IF(Blad1!B622=\"\",\"\",Blad1!B622)","v":""},{"$f":"IF(Blad1!H622=\"\",\"\",Blad1!H622)","v":""},{"$f":"IF(Blad1!I622=\"\",\"\",Blad1!I622)","v":""},{"$f":"IF(Blad1!M622=\"\",\"\",Blad1!M622)","v":""},{"$f":"IF(Blad1!F622=\"\",\"\",Blad1!F622)","v":""},{"$f":"IF(Blad1!Q622=\"\",\"\",Blad1!Q622)","v":""}]
[{"$f":"IF(Blad1!D623=\"\",\"\",Blad1!D623)","v":""},{"$f":"IF(Blad1!E623=\"\",\"\",Blad1!E623)","v":""},{"$f":"IF(Blad1!B623=\"\",\"\",Blad1!B623)","v":""},{"$f":"IF(Blad1!H623=\"\",\"\",Blad1!H623)","v":""},{"$f":"IF(Blad1!I623=\"\",\"\",Blad1!I623)","v":""},{"$f":"IF(Blad1!M623=\"\",\"\",Blad1!M623)","v":""},{"$f":"IF(Blad1!F623=\"\",\"\",Blad1!F623)","v":""},{"$f":"IF(Blad1!Q623=\"\",\"\",Blad1!Q623)","v":""}]
[{"$f":"IF(Blad1!D624=\"\",\"\",Blad1!D624)","v":""},{"$f":"IF(Blad1!E624=\"\",\"\",Blad1!E624)","v":""},{"$f":"IF(Blad1!B624=\"\",\"\",Blad1!B624)","v":""},{"$f":"IF(Blad1!H624=\"\",\"\",Blad1!H624)","v":""},{"$f":"IF(Blad1!I624=\"\",\"\",Blad1!I624)","v":""},{"$f":"IF(Blad1!M624=\"\",\"\",Blad1!M624)","v":""},{"$f":"IF(Blad1!F624=\"\",\"\",Blad1!F624)","v":""},{"$f":"IF(Blad1!Q624=\"\",\"\",Blad1!Q624)","v":""}]
[{"$f":"IF(Blad1!D625=\"\",\"\",Blad1!D625)","v":""},{"$f":"IF(Blad1!E625=\"\",\"\",Blad1!E625)","v":""},{"$f":"IF(Blad1!B625=\"\",\"\",Blad1!B625)","v":""},{"$f":"IF(Blad1!H625=\"\",\"\",Blad1!H625)","v":""},{"$f":"IF(Blad1!I625=\"\",\"\",Blad1!I625)","v":""},{"$f":"IF(Blad1!M625=\"\",\"\",Blad1!M625)","v":""},{"$f":"IF(Blad1!F625=\"\",\"\",Blad1!F625)","v":""},{"$f":"IF(Blad1!Q625=\"\",\"\",Blad1!Q625)","v":""}]
[{"$f":"IF(Blad1!D626=\"\",\"\",Blad1!D626)","v":""},{"$f":"IF(Blad1!E626=\"\",\"\",Blad1!E626)","v":""},{"$f":"IF(Blad1!B626=\"\",\"\",Blad1!B626)","v":""},{"$f":"IF(Blad1!H626=\"\",\"\",Blad1!H626)","v":""},{"$f":"IF(Blad1!I626=\"\",\"\",Blad1!I626)","v":""},{"$f":"IF(Blad1!M626=\"\",\"\",Blad1!M626)","v":""},{"$f":"IF(Blad1!F626=\"\",\"\",Blad1!F626)","v":""},{"$f":"IF(Blad1!Q626=\"\",\"\",Blad1!Q626)","v":""}]
[{"$f":"IF(Blad1!D627=\"\",\"\",Blad1!D627)","v":""},{"$f":"IF(Blad1!E627=\"\",\"\",Blad1!E627)","v":""},{"$f":"IF(Blad1!B627=\"\",\"\",Blad1!B627)","v":""},{"$f":"IF(Blad1!H627=\"\",\"\",Blad1!H627)","v":""},{"$f":"IF(Blad1!I627=\"\",\"\",Blad1!I627)","v":""},{"$f":"IF(Blad1!M627=\"\",\"\",Blad1!M627)","v":""},{"$f":"IF(Blad1!F627=\"\",\"\",Blad1!F627)","v":""},{"$f":"IF(Blad1!Q627=\"\",\"\",Blad1!Q627)","v":""}]
[{"$f":"IF(Blad1!D628=\"\",\"\",Blad1!D628)","v":""},{"$f":"IF(Blad1!E628=\"\",\"\",Blad1!E628)","v":""},{"$f":"IF(Blad1!B628=\"\",\"\",Blad1!B628)","v":""},{"$f":"IF(Blad1!H628=\"\",\"\",Blad1!H628)","v":""},{"$f":"IF(Blad1!I628=\"\",\"\",Blad1!I628)","v":""},{"$f":"IF(Blad1!M628=\"\",\"\",Blad1!M628)","v":""},{"$f":"IF(Blad1!F628=\"\",\"\",Blad1!F628)","v":""},{"$f":"IF(Blad1!Q628=\"\",\"\",Blad1!Q628)","v":""}]
[{"$f":"IF(Blad1!D629=\"\",\"\",Blad1!D629)","v":""},{"$f":"IF(Blad1!E629=\"\",\"\",Blad1!E629)","v":""},{"$f":"IF(Blad1!B629=\"\",\"\",Blad1!B629)","v":""},{"$f":"IF(Blad1!H629=\"\",\"\",Blad1!H629)","v":""},{"$f":"IF(Blad1!I629=\"\",\"\",Blad1!I629)","v":""},{"$f":"IF(Blad1!M629=\"\",\"\",Blad1!M629)","v":""},{"$f":"IF(Blad1!F629=\"\",\"\",Blad1!F629)","v":""},{"$f":"IF(Blad1!Q629=\"\",\"\",Blad1!Q629)","v":""}]
[{"$f":"IF(Blad1!D630=\"\",\"\",Blad1!D630)","v":""},{"$f":"IF(Blad1!E630=\"\",\"\",Blad1!E630)","v":""},{"$f":"IF(Blad1!B630=\"\",\"\",Blad1!B630)","v":""},{"$f":"IF(Blad1!H630=\"\",\"\",Blad1!H630)","v":""},{"$f":"IF(Blad1!I630=\"\",\"\",Blad1!I630)","v":""},{"$f":"IF(Blad1!M630=\"\",\"\",Blad1!M630)","v":""},{"$f":"IF(Blad1!F630=\"\",\"\",Blad1!F630)","v":""},{"$f":"IF(Blad1!Q630=\"\",\"\",Blad1!Q630)","v":""}]
[{"$f":"IF(Blad1!D631=\"\",\"\",Blad1!D631)","v":""},{"$f":"IF(Blad1!E631=\"\",\"\",Blad1!E631)","v":""},{"$f":"IF(Blad1!B631=\"\",\"\",Blad1!B631)","v":""},{"$f":"IF(Blad1!H631=\"\",\"\",Blad1!H631)","v":""},{"$f":"IF(Blad1!I631=\"\",\"\",Blad1!I631)","v":""},{"$f":"IF(Blad1!M631=\"\",\"\",Blad1!M631)","v":""},{"$f":"IF(Blad1!F631=\"\",\"\",Blad1!F631)","v":""},{"$f":"IF(Blad1!Q631=\"\",\"\",Blad1!Q631)","v":""}]
[{"$f":"IF(Blad1!D632=\"\",\"\",Blad1!D632)","v":""},{"$f":"IF(Blad1!E632=\"\",\"\",Blad1!E632)","v":""},{"$f":"IF(Blad1!B632=\"\",\"\",Blad1!B632)","v":""},{"$f":"IF(Blad1!H632=\"\",\"\",Blad1!H632)","v":""},{"$f":"IF(Blad1!I632=\"\",\"\",Blad1!I632)","v":""},{"$f":"IF(Blad1!M632=\"\",\"\",Blad1!M632)","v":""},{"$f":"IF(Blad1!F632=\"\",\"\",Blad1!F632)","v":""},{"$f":"IF(Blad1!Q632=\"\",\"\",Blad1!Q632)","v":""}]
[{"$f":"IF(Blad1!D633=\"\",\"\",Blad1!D633)","v":""},{"$f":"IF(Blad1!E633=\"\",\"\",Blad1!E633)","v":""},{"$f":"IF(Blad1!B633=\"\",\"\",Blad1!B633)","v":""},{"$f":"IF(Blad1!H633=\"\",\"\",Blad1!H633)","v":""},{"$f":"IF(Blad1!I633=\"\",\"\",Blad1!I633)","v":""},{"$f":"IF(Blad1!M633=\"\",\"\",Blad1!M633)","v":""},{"$f":"IF(Blad1!F633=\"\",\"\",Blad1!F633)","v":""},{"$f":"IF(Blad1!Q633=\"\",\"\",Blad1!Q633)","v":""}]
[{"$f":"IF(Blad1!D634=\"\",\"\",Blad1!D634)","v":""},{"$f":"IF(Blad1!E634=\"\",\"\",Blad1!E634)","v":""},{"$f":"IF(Blad1!B634=\"\",\"\",Blad1!B634)","v":""},{"$f":"IF(Blad1!H634=\"\",\"\",Blad1!H634)","v":""},{"$f":"IF(Blad1!I634=\"\",\"\",Blad1!I634)","v":""},{"$f":"IF(Blad1!M634=\"\",\"\",Blad1!M634)","v":""},{"$f":"IF(Blad1!F634=\"\",\"\",Blad1!F634)","v":""},{"$f":"IF(Blad1!Q634=\"\",\"\",Blad1!Q634)","v":""}]
[{"$f":"IF(Blad1!D635=\"\",\"\",Blad1!D635)","v":""},{"$f":"IF(Blad1!E635=\"\",\"\",Blad1!E635)","v":""},{"$f":"IF(Blad1!B635=\"\",\"\",Blad1!B635)","v":""},{"$f":"IF(Blad1!H635=\"\",\"\",Blad1!H635)","v":""},{"$f":"IF(Blad1!I635=\"\",\"\",Blad1!I635)","v":""},{"$f":"IF(Blad1!M635=\"\",\"\",Blad1!M635)","v":""},{"$f":"IF(Blad1!F635=\"\",\"\",Blad1!F635)","v":""},{"$f":"IF(Blad1!Q635=\"\",\"\",Blad1!Q635)","v":""}]
[{"$f":"IF(Blad1!D636=\"\",\"\",Blad1!D636)","v":""},{"$f":"IF(Blad1!E636=\"\",\"\",Blad1!E636)","v":""},{"$f":"IF(Blad1!B636=\"\",\"\",Blad1!B636)","v":""},{"$f":"IF(Blad1!H636=\"\",\"\",Blad1!H636)","v":""},{"$f":"IF(Blad1!I636=\"\",\"\",Blad1!I636)","v":""},{"$f":"IF(Blad1!M636=\"\",\"\",Blad1!M636)","v":""},{"$f":"IF(Blad1!F636=\"\",\"\",Blad1!F636)","v":""},{"$f":"IF(Blad1!Q636=\"\",\"\",Blad1!Q636)","v":""}]
[{"$f":"IF(Blad1!D637=\"\",\"\",Blad1!D637)","v":""},{"$f":"IF(Blad1!E637=\"\",\"\",Blad1!E637)","v":""},{"$f":"IF(Blad1!B637=\"\",\"\",Blad1!B637)","v":""},{"$f":"IF(Blad1!H637=\"\",\"\",Blad1!H637)","v":""},{"$f":"IF(Blad1!I637=\"\",\"\",Blad1!I637)","v":""},{"$f":"IF(Blad1!M637=\"\",\"\",Blad1!M637)","v":""},{"$f":"IF(Blad1!F637=\"\",\"\",Blad1!F637)","v":""},{"$f":"IF(Blad1!Q637=\"\",\"\",Blad1!Q637)","v":""}]
[{"$f":"IF(Blad1!D638=\"\",\"\",Blad1!D638)","v":""},{"$f":"IF(Blad1!E638=\"\",\"\",Blad1!E638)","v":""},{"$f":"IF(Blad1!B638=\"\",\"\",Blad1!B638)","v":""},{"$f":"IF(Blad1!H638=\"\",\"\",Blad1!H638)","v":""},{"$f":"IF(Blad1!I638=\"\",\"\",Blad1!I638)","v":""},{"$f":"IF(Blad1!M638=\"\",\"\",Blad1!M638)","v":""},{"$f":"IF(Blad1!F638=\"\",\"\",Blad1!F638)","v":""},{"$f":"IF(Blad1!Q638=\"\",\"\",Blad1!Q638)","v":""}]
[{"$f":"IF(Blad1!D639=\"\",\"\",Blad1!D639)","v":""},{"$f":"IF(Blad1!E639=\"\",\"\",Blad1!E639)","v":""},{"$f":"IF(Blad1!B639=\"\",\"\",Blad1!B639)","v":""},{"$f":"IF(Blad1!H639=\"\",\"\",Blad1!H639)","v":""},{"$f":"IF(Blad1!I639=\"\",\"\",Blad1!I639)","v":""},{"$f":"IF(Blad1!M639=\"\",\"\",Blad1!M639)","v":""},{"$f":"IF(Blad1!F639=\"\",\"\",Blad1!F639)","v":""},{"$f":"IF(Blad1!Q639=\"\",\"\",Blad1!Q639)","v":""}]
[{"$f":"IF(Blad1!D640=\"\",\"\",Blad1!D640)","v":""},{"$f":"IF(Blad1!E640=\"\",\"\",Blad1!E640)","v":""},{"$f":"IF(Blad1!B640=\"\",\"\",Blad1!B640)","v":""},{"$f":"IF(Blad1!H640=\"\",\"\",Blad1!H640)","v":""},{"$f":"IF(Blad1!I640=\"\",\"\",Blad1!I640)","v":""},{"$f":"IF(Blad1!M640=\"\",\"\",Blad1!M640)","v":""},{"$f":"IF(Blad1!F640=\"\",\"\",Blad1!F640)","v":""},{"$f":"IF(Blad1!Q640=\"\",\"\",Blad1!Q640)","v":""}]
[{"$f":"IF(Blad1!D641=\"\",\"\",Blad1!D641)","v":""},{"$f":"IF(Blad1!E641=\"\",\"\",Blad1!E641)","v":""},{"$f":"IF(Blad1!B641=\"\",\"\",Blad1!B641)","v":""},{"$f":"IF(Blad1!H641=\"\",\"\",Blad1!H641)","v":""},{"$f":"IF(Blad1!I641=\"\",\"\",Blad1!I641)","v":""},{"$f":"IF(Blad1!M641=\"\",\"\",Blad1!M641)","v":""},{"$f":"IF(Blad1!F641=\"\",\"\",Blad1!F641)","v":""},{"$f":"IF(Blad1!Q641=\"\",\"\",Blad1!Q641)","v":""}]
[{"$f":"IF(Blad1!D642=\"\",\"\",Blad1!D642)","v":""},{"$f":"IF(Blad1!E642=\"\",\"\",Blad1!E642)","v":""},{"$f":"IF(Blad1!B642=\"\",\"\",Blad1!B642)","v":""},{"$f":"IF(Blad1!H642=\"\",\"\",Blad1!H642)","v":""},{"$f":"IF(Blad1!I642=\"\",\"\",Blad1!I642)","v":""},{"$f":"IF(Blad1!M642=\"\",\"\",Blad1!M642)","v":""},{"$f":"IF(Blad1!F642=\"\",\"\",Blad1!F642)","v":""},{"$f":"IF(Blad1!Q642=\"\",\"\",Blad1!Q642)","v":""}]
[{"$f":"IF(Blad1!D643=\"\",\"\",Blad1!D643)","v":""},{"$f":"IF(Blad1!E643=\"\",\"\",Blad1!E643)","v":""},{"$f":"IF(Blad1!B643=\"\",\"\",Blad1!B643)","v":""},{"$f":"IF(Blad1!H643=\"\",\"\",Blad1!H643)","v":""},{"$f":"IF(Blad1!I643=\"\",\"\",Blad1!I643)","v":""},{"$f":"IF(Blad1!M643=\"\",\"\",Blad1!M643)","v":""},{"$f":"IF(Blad1!F643=\"\",\"\",Blad1!F643)","v":""},{"$f":"IF(Blad1!Q643=\"\",\"\",Blad1!Q643)","v":""}]
[{"$f":"IF(Blad1!D644=\"\",\"\",Blad1!D644)","v":""},{"$f":"IF(Blad1!E644=\"\",\"\",Blad1!E644)","v":""},{"$f":"IF(Blad1!B644=\"\",\"\",Blad1!B644)","v":""},{"$f":"IF(Blad1!H644=\"\",\"\",Blad1!H644)","v":""},{"$f":"IF(Blad1!I644=\"\",\"\",Blad1!I644)","v":""},{"$f":"IF(Blad1!M644=\"\",\"\",Blad1!M644)","v":""},{"$f":"IF(Blad1!F644=\"\",\"\",Blad1!F644)","v":""},{"$f":"IF(Blad1!Q644=\"\",\"\",Blad1!Q644)","v":""}]
[{"$f":"IF(Blad1!D645=\"\",\"\",Blad1!D645)","v":""},{"$f":"IF(Blad1!E645=\"\",\"\",Blad1!E645)","v":""},{"$f":"IF(Blad1!B645=\"\",\"\",Blad1!B645)","v":""},{"$f":"IF(Blad1!H645=\"\",\"\",Blad1!H645)","v":""},{"$f":"IF(Blad1!I645=\"\",\"\",Blad1!I645)","v":""},{"$f":"IF(Blad1!M645=\"\",\"\",Blad1!M645)","v":""},{"$f":"IF(Blad1!F645=\"\",\"\",Blad1!F645)","v":""},{"$f":"IF(Blad1!Q645=\"\",\"\",Blad1!Q645)","v":""}]
[{"$f":"IF(Blad1!D646=\"\",\"\",Blad1!D646)","v":""},{"$f":"IF(Blad1!E646=\"\",\"\",Blad1!E646)","v":""},{"$f":"IF(Blad1!B646=\"\",\"\",Blad1!B646)","v":""},{"$f":"IF(Blad1!H646=\"\",\"\",Blad1!H646)","v":""},{"$f":"IF(Blad1!I646=\"\",\"\",Blad1!I646)","v":""},{"$f":"IF(Blad1!M646=\"\",\"\",Blad1!M646)","v":""},{"$f":"IF(Blad1!F646=\"\",\"\",Blad1!F646)","v":""},{"$f":"IF(Blad1!Q646=\"\",\"\",Blad1!Q646)","v":""}]
[{"$f":"IF(Blad1!D647=\"\",\"\",Blad1!D647)","v":""},{"$f":"IF(Blad1!E647=\"\",\"\",Blad1!E647)","v":""},{"$f":"IF(Blad1!B647=\"\",\"\",Blad1!B647)","v":""},{"$f":"IF(Blad1!H647=\"\",\"\",Blad1!H647)","v":""},{"$f":"IF(Blad1!I647=\"\",\"\",Blad1!I647)","v":""},{"$f":"IF(Blad1!M647=\"\",\"\",Blad1!M647)","v":""},{"$f":"IF(Blad1!F647=\"\",\"\",Blad1!F647)","v":""},{"$f":"IF(Blad1!Q647=\"\",\"\",Blad1!Q647)","v":""}]
[{"$f":"IF(Blad1!D648=\"\",\"\",Blad1!D648)","v":""},{"$f":"IF(Blad1!E648=\"\",\"\",Blad1!E648)","v":""},{"$f":"IF(Blad1!B648=\"\",\"\",Blad1!B648)","v":""},{"$f":"IF(Blad1!H648=\"\",\"\",Blad1!H648)","v":""},{"$f":"IF(Blad1!I648=\"\",\"\",Blad1!I648)","v":""},{"$f":"IF(Blad1!M648=\"\",\"\",Blad1!M648)","v":""},{"$f":"IF(Blad1!F648=\"\",\"\",Blad1!F648)","v":""},{"$f":"IF(Blad1!Q648=\"\",\"\",Blad1!Q648)","v":""}]
[{"$f":"IF(Blad1!D649=\"\",\"\",Blad1!D649)","v":""},{"$f":"IF(Blad1!E649=\"\",\"\",Blad1!E649)","v":""},{"$f":"IF(Blad1!B649=\"\",\"\",Blad1!B649)","v":""},{"$f":"IF(Blad1!H649=\"\",\"\",Blad1!H649)","v":""},{"$f":"IF(Blad1!I649=\"\",\"\",Blad1!I649)","v":""},{"$f":"IF(Blad1!M649=\"\",\"\",Blad1!M649)","v":""},{"$f":"IF(Blad1!F649=\"\",\"\",Blad1!F649)","v":""},{"$f":"IF(Blad1!Q649=\"\",\"\",Blad1!Q649)","v":""}]
[{"$f":"IF(Blad1!D650=\"\",\"\",Blad1!D650)","v":""},{"$f":"IF(Blad1!E650=\"\",\"\",Blad1!E650)","v":""},{"$f":"IF(Blad1!B650=\"\",\"\",Blad1!B650)","v":""},{"$f":"IF(Blad1!H650=\"\",\"\",Blad1!H650)","v":""},{"$f":"IF(Blad1!I650=\"\",\"\",Blad1!I650)","v":""},{"$f":"IF(Blad1!M650=\"\",\"\",Blad1!M650)","v":""},{"$f":"IF(Blad1!F650=\"\",\"\",Blad1!F650)","v":""},{"$f":"IF(Blad1!Q650=\"\",\"\",Blad1!Q650)","v":""}]
[{"$f":"IF(Blad1!D651=\"\",\"\",Blad1!D651)","v":""},{"$f":"IF(Blad1!E651=\"\",\"\",Blad1!E651)","v":""},{"$f":"IF(Blad1!B651=\"\",\"\",Blad1!B651)","v":""},{"$f":"IF(Blad1!H651=\"\",\"\",Blad1!H651)","v":""},{"$f":"IF(Blad1!I651=\"\",\"\",Blad1!I651)","v":""},{"$f":"IF(Blad1!M651=\"\",\"\",Blad1!M651)","v":""},{"$f":"IF(Blad1!F651=\"\",\"\",Blad1!F651)","v":""},{"$f":"IF(Blad1!Q651=\"\",\"\",Blad1!Q651)","v":""}]
[{"$f":"IF(Blad1!D652=\"\",\"\",Blad1!D652)","v":""},{"$f":"IF(Blad1!E652=\"\",\"\",Blad1!E652)","v":""},{"$f":"IF(Blad1!B652=\"\",\"\",Blad1!B652)","v":""},{"$f":"IF(Blad1!H652=\"\",\"\",Blad1!H652)","v":""},{"$f":"IF(Blad1!I652=\"\",\"\",Blad1!I652)","v":""},{"$f":"IF(Blad1!M652=\"\",\"\",Blad1!M652)","v":""},{"$f":"IF(Blad1!F652=\"\",\"\",Blad1!F652)","v":""},{"$f":"IF(Blad1!Q652=\"\",\"\",Blad1!Q652)","v":""}]
[{"$f":"IF(Blad1!D653=\"\",\"\",Blad1!D653)","v":""},{"$f":"IF(Blad1!E653=\"\",\"\",Blad1!E653)","v":""},{"$f":"IF(Blad1!B653=\"\",\"\",Blad1!B653)","v":""},{"$f":"IF(Blad1!H653=\"\",\"\",Blad1!H653)","v":""},{"$f":"IF(Blad1!I653=\"\",\"\",Blad1!I653)","v":""},{"$f":"IF(Blad1!M653=\"\",\"\",Blad1!M653)","v":""},{"$f":"IF(Blad1!F653=\"\",\"\",Blad1!F653)","v":""},{"$f":"IF(Blad1!Q653=\"\",\"\",Blad1!Q653)","v":""}]
[{"$f":"IF(Blad1!D654=\"\",\"\",Blad1!D654)","v":""},{"$f":"IF(Blad1!E654=\"\",\"\",Blad1!E654)","v":""},{"$f":"IF(Blad1!B654=\"\",\"\",Blad1!B654)","v":""},{"$f":"IF(Blad1!H654=\"\",\"\",Blad1!H654)","v":""},{"$f":"IF(Blad1!I654=\"\",\"\",Blad1!I654)","v":""},{"$f":"IF(Blad1!M654=\"\",\"\",Blad1!M654)","v":""},{"$f":"IF(Blad1!F654=\"\",\"\",Blad1!F654)","v":""},{"$f":"IF(Blad1!Q654=\"\",\"\",Blad1!Q654)","v":""}]
[{"$f":"IF(Blad1!D655=\"\",\"\",Blad1!D655)","v":""},{"$f":"IF(Blad1!E655=\"\",\"\",Blad1!E655)","v":""},{"$f":"IF(Blad1!B655=\"\",\"\",Blad1!B655)","v":""},{"$f":"IF(Blad1!H655=\"\",\"\",Blad1!H655)","v":""},{"$f":"IF(Blad1!I655=\"\",\"\",Blad1!I655)","v":""},{"$f":"IF(Blad1!M655=\"\",\"\",Blad1!M655)","v":""},{"$f":"IF(Blad1!F655=\"\",\"\",Blad1!F655)","v":""},{"$f":"IF(Blad1!Q655=\"\",\"\",Blad1!Q655)","v":""}]
[{"$f":"IF(Blad1!D656=\"\",\"\",Blad1!D656)","v":""},{"$f":"IF(Blad1!E656=\"\",\"\",Blad1!E656)","v":""},{"$f":"IF(Blad1!B656=\"\",\"\",Blad1!B656)","v":""},{"$f":"IF(Blad1!H656=\"\",\"\",Blad1!H656)","v":""},{"$f":"IF(Blad1!I656=\"\",\"\",Blad1!I656)","v":""},{"$f":"IF(Blad1!M656=\"\",\"\",Blad1!M656)","v":""},{"$f":"IF(Blad1!F656=\"\",\"\",Blad1!F656)","v":""},{"$f":"IF(Blad1!Q656=\"\",\"\",Blad1!Q656)","v":""}]
[{"$f":"IF(Blad1!D657=\"\",\"\",Blad1!D657)","v":""},{"$f":"IF(Blad1!E657=\"\",\"\",Blad1!E657)","v":""},{"$f":"IF(Blad1!B657=\"\",\"\",Blad1!B657)","v":""},{"$f":"IF(Blad1!H657=\"\",\"\",Blad1!H657)","v":""},{"$f":"IF(Blad1!I657=\"\",\"\",Blad1!I657)","v":""},{"$f":"IF(Blad1!M657=\"\",\"\",Blad1!M657)","v":""},{"$f":"IF(Blad1!F657=\"\",\"\",Blad1!F657)","v":""},{"$f":"IF(Blad1!Q657=\"\",\"\",Blad1!Q657)","v":""}]
[{"$f":"IF(Blad1!D658=\"\",\"\",Blad1!D658)","v":""},{"$f":"IF(Blad1!E658=\"\",\"\",Blad1!E658)","v":""},{"$f":"IF(Blad1!B658=\"\",\"\",Blad1!B658)","v":""},{"$f":"IF(Blad1!H658=\"\",\"\",Blad1!H658)","v":""},{"$f":"IF(Blad1!I658=\"\",\"\",Blad1!I658)","v":""},{"$f":"IF(Blad1!M658=\"\",\"\",Blad1!M658)","v":""},{"$f":"IF(Blad1!F658=\"\",\"\",Blad1!F658)","v":""},{"$f":"IF(Blad1!Q658=\"\",\"\",Blad1!Q658)","v":""}]
[{"$f":"IF(Blad1!D659=\"\",\"\",Blad1!D659)","v":""},{"$f":"IF(Blad1!E659=\"\",\"\",Blad1!E659)","v":""},{"$f":"IF(Blad1!B659=\"\",\"\",Blad1!B659)","v":""},{"$f":"IF(Blad1!H659=\"\",\"\",Blad1!H659)","v":""},{"$f":"IF(Blad1!I659=\"\",\"\",Blad1!I659)","v":""},{"$f":"IF(Blad1!M659=\"\",\"\",Blad1!M659)","v":""},{"$f":"IF(Blad1!F659=\"\",\"\",Blad1!F659)","v":""},{"$f":"IF(Blad1!Q659=\"\",\"\",Blad1!Q659)","v":""}]
[{"$f":"IF(Blad1!D660=\"\",\"\",Blad1!D660)","v":""},{"$f":"IF(Blad1!E660=\"\",\"\",Blad1!E660)","v":""},{"$f":"IF(Blad1!B660=\"\",\"\",Blad1!B660)","v":""},{"$f":"IF(Blad1!H660=\"\",\"\",Blad1!H660)","v":""},{"$f":"IF(Blad1!I660=\"\",\"\",Blad1!I660)","v":""},{"$f":"IF(Blad1!M660=\"\",\"\",Blad1!M660)","v":""},{"$f":"IF(Blad1!F660=\"\",\"\",Blad1!F660)","v":""},{"$f":"IF(Blad1!Q660=\"\",\"\",Blad1!Q660)","v":""}]
[{"$f":"IF(Blad1!D661=\"\",\"\",Blad1!D661)","v":""},{"$f":"IF(Blad1!E661=\"\",\"\",Blad1!E661)","v":""},{"$f":"IF(Blad1!B661=\"\",\"\",Blad1!B661)","v":""},{"$f":"IF(Blad1!H661=\"\",\"\",Blad1!H661)","v":""},{"$f":"IF(Blad1!I661=\"\",\"\",Blad1!I661)","v":""},{"$f":"IF(Blad1!M661=\"\",\"\",Blad1!M661)","v":""},{"$f":"IF(Blad1!F661=\"\",\"\",Blad1!F661)","v":""},{"$f":"IF(Blad1!Q661=\"\",\"\",Blad1!Q661)","v":""}]
[{"$f":"IF(Blad1!D662=\"\",\"\",Blad1!D662)","v":""},{"$f":"IF(Blad1!E662=\"\",\"\",Blad1!E662)","v":""},{"$f":"IF(Blad1!B662=\"\",\"\",Blad1!B662)","v":""},{"$f":"IF(Blad1!H662=\"\",\"\",Blad1!H662)","v":""},{"$f":"IF(Blad1!I662=\"\",\"\",Blad1!I662)","v":""},{"$f":"IF(Blad1!M662=\"\",\"\",Blad1!M662)","v":""},{"$f":"IF(Blad1!F662=\"\",\"\",Blad1!F662)","v":""},{"$f":"IF(Blad1!Q662=\"\",\"\",Blad1!Q662)","v":""}]
[{"$f":"IF(Blad1!D663=\"\",\"\",Blad1!D663)","v":""},{"$f":"IF(Blad1!E663=\"\",\"\",Blad1!E663)","v":""},{"$f":"IF(Blad1!B663=\"\",\"\",Blad1!B663)","v":""},{"$f":"IF(Blad1!H663=\"\",\"\",Blad1!H663)","v":""},{"$f":"IF(Blad1!I663=\"\",\"\",Blad1!I663)","v":""},{"$f":"IF(Blad1!M663=\"\",\"\",Blad1!M663)","v":""},{"$f":"IF(Blad1!F663=\"\",\"\",Blad1!F663)","v":""},{"$f":"IF(Blad1!Q663=\"\",\"\",Blad1!Q663)","v":""}]
[{"$f":"IF(Blad1!D664=\"\",\"\",Blad1!D664)","v":""},{"$f":"IF(Blad1!E664=\"\",\"\",Blad1!E664)","v":""},{"$f":"IF(Blad1!B664=\"\",\"\",Blad1!B664)","v":""},{"$f":"IF(Blad1!H664=\"\",\"\",Blad1!H664)","v":""},{"$f":"IF(Blad1!I664=\"\",\"\",Blad1!I664)","v":""},{"$f":"IF(Blad1!M664=\"\",\"\",Blad1!M664)","v":""},{"$f":"IF(Blad1!F664=\"\",\"\",Blad1!F664)","v":""},{"$f":"IF(Blad1!Q664=\"\",\"\",Blad1!Q664)","v":""}]
[{"$f":"IF(Blad1!D665=\"\",\"\",Blad1!D665)","v":""},{"$f":"IF(Blad1!E665=\"\",\"\",Blad1!E665)","v":""},{"$f":"IF(Blad1!B665=\"\",\"\",Blad1!B665)","v":""},{"$f":"IF(Blad1!H665=\"\",\"\",Blad1!H665)","v":""},{"$f":"IF(Blad1!I665=\"\",\"\",Blad1!I665)","v":""},{"$f":"IF(Blad1!M665=\"\",\"\",Blad1!M665)","v":""},{"$f":"IF(Blad1!F665=\"\",\"\",Blad1!F665)","v":""},{"$f":"IF(Blad1!Q665=\"\",\"\",Blad1!Q665)","v":""}]
[{"$f":"IF(Blad1!D666=\"\",\"\",Blad1!D666)","v":""},{"$f":"IF(Blad1!E666=\"\",\"\",Blad1!E666)","v":""},{"$f":"IF(Blad1!B666=\"\",\"\",Blad1!B666)","v":""},{"$f":"IF(Blad1!H666=\"\",\"\",Blad1!H666)","v":""},{"$f":"IF(Blad1!I666=\"\",\"\",Blad1!I666)","v":""},{"$f":"IF(Blad1!M666=\"\",\"\",Blad1!M666)","v":""},{"$f":"IF(Blad1!F666=\"\",\"\",Blad1!F666)","v":""},{"$f":"IF(Blad1!Q666=\"\",\"\",Blad1!Q666)","v":""}]
[{"$f":"IF(Blad1!D667=\"\",\"\",Blad1!D667)","v":""},{"$f":"IF(Blad1!E667=\"\",\"\",Blad1!E667)","v":""},{"$f":"IF(Blad1!B667=\"\",\"\",Blad1!B667)","v":""},{"$f":"IF(Blad1!H667=\"\",\"\",Blad1!H667)","v":""},{"$f":"IF(Blad1!I667=\"\",\"\",Blad1!I667)","v":""},{"$f":"IF(Blad1!M667=\"\",\"\",Blad1!M667)","v":""},{"$f":"IF(Blad1!F667=\"\",\"\",Blad1!F667)","v":""},{"$f":"IF(Blad1!Q667=\"\",\"\",Blad1!Q667)","v":""}]
[{"$f":"IF(Blad1!D668=\"\",\"\",Blad1!D668)","v":""},{"$f":"IF(Blad1!E668=\"\",\"\",Blad1!E668)","v":""},{"$f":"IF(Blad1!B668=\"\",\"\",Blad1!B668)","v":""},{"$f":"IF(Blad1!H668=\"\",\"\",Blad1!H668)","v":""},{"$f":"IF(Blad1!I668=\"\",\"\",Blad1!I668)","v":""},{"$f":"IF(Blad1!M668=\"\",\"\",Blad1!M668)","v":""},{"$f":"IF(Blad1!F668=\"\",\"\",Blad1!F668)","v":""},{"$f":"IF(Blad1!Q668=\"\",\"\",Blad1!Q668)","v":""}]
[{"$f":"IF(Blad1!D669=\"\",\"\",Blad1!D669)","v":""},{"$f":"IF(Blad1!E669=\"\",\"\",Blad1!E669)","v":""},{"$f":"IF(Blad1!B669=\"\",\"\",Blad1!B669)","v":""},{"$f":"IF(Blad1!H669=\"\",\"\",Blad1!H669)","v":""},{"$f":"IF(Blad1!I669=\"\",\"\",Blad1!I669)","v":""},{"$f":"IF(Blad1!M669=\"\",\"\",Blad1!M669)","v":""},{"$f":"IF(Blad1!F669=\"\",\"\",Blad1!F669)","v":""},{"$f":"IF(Blad1!Q669=\"\",\"\",Blad1!Q669)","v":""}]
[{"$f":"IF(Blad1!D670=\"\",\"\",Blad1!D670)","v":""},{"$f":"IF(Blad1!E670=\"\",\"\",Blad1!E670)","v":""},{"$f":"IF(Blad1!B670=\"\",\"\",Blad1!B670)","v":""},{"$f":"IF(Blad1!H670=\"\",\"\",Blad1!H670)","v":""},{"$f":"IF(Blad1!I670=\"\",\"\",Blad1!I670)","v":""},{"$f":"IF(Blad1!M670=\"\",\"\",Blad1!M670)","v":""},{"$f":"IF(Blad1!F670=\"\",\"\",Blad1!F670)","v":""},{"$f":"IF(Blad1!Q670=\"\",\"\",Blad1!Q670)","v":""}]
[{"$f":"IF(Blad1!D671=\"\",\"\",Blad1!D671)","v":""},{"$f":"IF(Blad1!E671=\"\",\"\",Blad1!E671)","v":""},{"$f":"IF(Blad1!B671=\"\",\"\",Blad1!B671)","v":""},{"$f":"IF(Blad1!H671=\"\",\"\",Blad1!H671)","v":""},{"$f":"IF(Blad1!I671=\"\",\"\",Blad1!I671)","v":""},{"$f":"IF(Blad1!M671=\"\",\"\",Blad1!M671)","v":""},{"$f":"IF(Blad1!F671=\"\",\"\",Blad1!F671)","v":""},{"$f":"IF(Blad1!Q671=\"\",\"\",Blad1!Q671)","v":""}]
[{"$f":"IF(Blad1!D672=\"\",\"\",Blad1!D672)","v":""},{"$f":"IF(Blad1!E672=\"\",\"\",Blad1!E672)","v":""},{"$f":"IF(Blad1!B672=\"\",\"\",Blad1!B672)","v":""},{"$f":"IF(Blad1!H672=\"\",\"\",Blad1!H672)","v":""},{"$f":"IF(Blad1!I672=\"\",\"\",Blad1!I672)","v":""},{"$f":"IF(Blad1!M672=\"\",\"\",Blad1!M672)","v":""},{"$f":"IF(Blad1!F672=\"\",\"\",Blad1!F672)","v":""},{"$f":"IF(Blad1!Q672=\"\",\"\",Blad1!Q672)","v":""}]
[{"$f":"IF(Blad1!D673=\"\",\"\",Blad1!D673)","v":""},{"$f":"IF(Blad1!E673=\"\",\"\",Blad1!E673)","v":""},{"$f":"IF(Blad1!B673=\"\",\"\",Blad1!B673)","v":""},{"$f":"IF(Blad1!H673=\"\",\"\",Blad1!H673)","v":""},{"$f":"IF(Blad1!I673=\"\",\"\",Blad1!I673)","v":""},{"$f":"IF(Blad1!M673=\"\",\"\",Blad1!M673)","v":""},{"$f":"IF(Blad1!F673=\"\",\"\",Blad1!F673)","v":""},{"$f":"IF(Blad1!Q673=\"\",\"\",Blad1!Q673)","v":""}]
[{"$f":"IF(Blad1!D674=\"\",\"\",Blad1!D674)","v":""},{"$f":"IF(Blad1!E674=\"\",\"\",Blad1!E674)","v":""},{"$f":"IF(Blad1!B674=\"\",\"\",Blad1!B674)","v":""},{"$f":"IF(Blad1!H674=\"\",\"\",Blad1!H674)","v":""},{"$f":"IF(Blad1!I674=\"\",\"\",Blad1!I674)","v":""},{"$f":"IF(Blad1!M674=\"\",\"\",Blad1!M674)","v":""},{"$f":"IF(Blad1!F674=\"\",\"\",Blad1!F674)","v":""},{"$f":"IF(Blad1!Q674=\"\",\"\",Blad1!Q674)","v":""}]
[{"$f":"IF(Blad1!D675=\"\",\"\",Blad1!D675)","v":""},{"$f":"IF(Blad1!E675=\"\",\"\",Blad1!E675)","v":""},{"$f":"IF(Blad1!B675=\"\",\"\",Blad1!B675)","v":""},{"$f":"IF(Blad1!H675=\"\",\"\",Blad1!H675)","v":""},{"$f":"IF(Blad1!I675=\"\",\"\",Blad1!I675)","v":""},{"$f":"IF(Blad1!M675=\"\",\"\",Blad1!M675)","v":""},{"$f":"IF(Blad1!F675=\"\",\"\",Blad1!F675)","v":""},{"$f":"IF(Blad1!Q675=\"\",\"\",Blad1!Q675)","v":""}]
[{"$f":"IF(Blad1!D676=\"\",\"\",Blad1!D676)","v":""},{"$f":"IF(Blad1!E676=\"\",\"\",Blad1!E676)","v":""},{"$f":"IF(Blad1!B676=\"\",\"\",Blad1!B676)","v":""},{"$f":"IF(Blad1!H676=\"\",\"\",Blad1!H676)","v":""},{"$f":"IF(Blad1!I676=\"\",\"\",Blad1!I676)","v":""},{"$f":"IF(Blad1!M676=\"\",\"\",Blad1!M676)","v":""},{"$f":"IF(Blad1!F676=\"\",\"\",Blad1!F676)","v":""},{"$f":"IF(Blad1!Q676=\"\",\"\",Blad1!Q676)","v":""}]
[{"$f":"IF(Blad1!D677=\"\",\"\",Blad1!D677)","v":""},{"$f":"IF(Blad1!E677=\"\",\"\",Blad1!E677)","v":""},{"$f":"IF(Blad1!B677=\"\",\"\",Blad1!B677)","v":""},{"$f":"IF(Blad1!H677=\"\",\"\",Blad1!H677)","v":""},{"$f":"IF(Blad1!I677=\"\",\"\",Blad1!I677)","v":""},{"$f":"IF(Blad1!M677=\"\",\"\",Blad1!M677)","v":""},{"$f":"IF(Blad1!F677=\"\",\"\",Blad1!F677)","v":""},{"$f":"IF(Blad1!Q677=\"\",\"\",Blad1!Q677)","v":""}]
[{"$f":"IF(Blad1!D678=\"\",\"\",Blad1!D678)","v":""},{"$f":"IF(Blad1!E678=\"\",\"\",Blad1!E678)","v":""},{"$f":"IF(Blad1!B678=\"\",\"\",Blad1!B678)","v":""},{"$f":"IF(Blad1!H678=\"\",\"\",Blad1!H678)","v":""},{"$f":"IF(Blad1!I678=\"\",\"\",Blad1!I678)","v":""},{"$f":"IF(Blad1!M678=\"\",\"\",Blad1!M678)","v":""},{"$f":"IF(Blad1!F678=\"\",\"\",Blad1!F678)","v":""},{"$f":"IF(Blad1!Q678=\"\",\"\",Blad1!Q678)","v":""}]
[{"$f":"IF(Blad1!D679=\"\",\"\",Blad1!D679)","v":""},{"$f":"IF(Blad1!E679=\"\",\"\",Blad1!E679)","v":""},{"$f":"IF(Blad1!B679=\"\",\"\",Blad1!B679)","v":""},{"$f":"IF(Blad1!H679=\"\",\"\",Blad1!H679)","v":""},{"$f":"IF(Blad1!I679=\"\",\"\",Blad1!I679)","v":""},{"$f":"IF(Blad1!M679=\"\",\"\",Blad1!M679)","v":""},{"$f":"IF(Blad1!F679=\"\",\"\",Blad1!F679)","v":""},{"$f":"IF(Blad1!Q679=\"\",\"\",Blad1!Q679)","v":""}]
[{"$f":"IF(Blad1!D680=\"\",\"\",Blad1!D680)","v":""},{"$f":"IF(Blad1!E680=\"\",\"\",Blad1!E680)","v":""},{"$f":"IF(Blad1!B680=\"\",\"\",Blad1!B680)","v":""},{"$f":"IF(Blad1!H680=\"\",\"\",Blad1!H680)","v":""},{"$f":"IF(Blad1!I680=\"\",\"\",Blad1!I680)","v":""},{"$f":"IF(Blad1!M680=\"\",\"\",Blad1!M680)","v":""},{"$f":"IF(Blad1!F680=\"\",\"\",Blad1!F680)","v":""},{"$f":"IF(Blad1!Q680=\"\",\"\",Blad1!Q680)","v":""}]
[{"$f":"IF(Blad1!D681=\"\",\"\",Blad1!D681)","v":""},{"$f":"IF(Blad1!E681=\"\",\"\",Blad1!E681)","v":""},{"$f":"IF(Blad1!B681=\"\",\"\",Blad1!B681)","v":""},{"$f":"IF(Blad1!H681=\"\",\"\",Blad1!H681)","v":""},{"$f":"IF(Blad1!I681=\"\",\"\",Blad1!I681)","v":""},{"$f":"IF(Blad1!M681=\"\",\"\",Blad1!M681)","v":""},{"$f":"IF(Blad1!F681=\"\",\"\",Blad1!F681)","v":""},{"$f":"IF(Blad1!Q681=\"\",\"\",Blad1!Q681)","v":""}]
[{"$f":"IF(Blad1!D682=\"\",\"\",Blad1!D682)","v":""},{"$f":"IF(Blad1!E682=\"\",\"\",Blad1!E682)","v":""},{"$f":"IF(Blad1!B682=\"\",\"\",Blad1!B682)","v":""},{"$f":"IF(Blad1!H682=\"\",\"\",Blad1!H682)","v":""},{"$f":"IF(Blad1!I682=\"\",\"\",Blad1!I682)","v":""},{"$f":"IF(Blad1!M682=\"\",\"\",Blad1!M682)","v":""},{"$f":"IF(Blad1!F682=\"\",\"\",Blad1!F682)","v":""},{"$f":"IF(Blad1!Q682=\"\",\"\",Blad1!Q682)","v":""}]
[{"$f":"IF(Blad1!D683=\"\",\"\",Blad1!D683)","v":""},{"$f":"IF(Blad1!E683=\"\",\"\",Blad1!E683)","v":""},{"$f":"IF(Blad1!B683=\"\",\"\",Blad1!B683)","v":""},{"$f":"IF(Blad1!H683=\"\",\"\",Blad1!H683)","v":""},{"$f":"IF(Blad1!I683=\"\",\"\",Blad1!I683)","v":""},{"$f":"IF(Blad1!M683=\"\",\"\",Blad1!M683)","v":""},{"$f":"IF(Blad1!F683=\"\",\"\",Blad1!F683)","v":""},{"$f":"IF(Blad1!Q683=\"\",\"\",Blad1!Q683)","v":""}]
[{"$f":"IF(Blad1!D684=\"\",\"\",Blad1!D684)","v":""},{"$f":"IF(Blad1!E684=\"\",\"\",Blad1!E684)","v":""},{"$f":"IF(Blad1!B684=\"\",\"\",Blad1!B684)","v":""},{"$f":"IF(Blad1!H684=\"\",\"\",Blad1!H684)","v":""},{"$f":"IF(Blad1!I684=\"\",\"\",Blad1!I684)","v":""},{"$f":"IF(Blad1!M684=\"\",\"\",Blad1!M684)","v":""},{"$f":"IF(Blad1!F684=\"\",\"\",Blad1!F684)","v":""},{"$f":"IF(Blad1!Q684=\"\",\"\",Blad1!Q684)","v":""}]
[{"$f":"IF(Blad1!D685=\"\",\"\",Blad1!D685)","v":""},{"$f":"IF(Blad1!E685=\"\",\"\",Blad1!E685)","v":""},{"$f":"IF(Blad1!B685=\"\",\"\",Blad1!B685)","v":""},{"$f":"IF(Blad1!H685=\"\",\"\",Blad1!H685)","v":""},{"$f":"IF(Blad1!I685=\"\",\"\",Blad1!I685)","v":""},{"$f":"IF(Blad1!M685=\"\",\"\",Blad1!M685)","v":""},{"$f":"IF(Blad1!F685=\"\",\"\",Blad1!F685)","v":""},{"$f":"IF(Blad1!Q685=\"\",\"\",Blad1!Q685)","v":""}]
[{"$f":"IF(Blad1!D686=\"\",\"\",Blad1!D686)","v":""},{"$f":"IF(Blad1!E686=\"\",\"\",Blad1!E686)","v":""},{"$f":"IF(Blad1!B686=\"\",\"\",Blad1!B686)","v":""},{"$f":"IF(Blad1!H686=\"\",\"\",Blad1!H686)","v":""},{"$f":"IF(Blad1!I686=\"\",\"\",Blad1!I686)","v":""},{"$f":"IF(Blad1!M686=\"\",\"\",Blad1!M686)","v":""},{"$f":"IF(Blad1!F686=\"\",\"\",Blad1!F686)","v":""},{"$f":"IF(Blad1!Q686=\"\",\"\",Blad1!Q686)","v":""}]
[{"$f":"IF(Blad1!D687=\"\",\"\",Blad1!D687)","v":""},{"$f":"IF(Blad1!E687=\"\",\"\",Blad1!E687)","v":""},{"$f":"IF(Blad1!B687=\"\",\"\",Blad1!B687)","v":""},{"$f":"IF(Blad1!H687=\"\",\"\",Blad1!H687)","v":""},{"$f":"IF(Blad1!I687=\"\",\"\",Blad1!I687)","v":""},{"$f":"IF(Blad1!M687=\"\",\"\",Blad1!M687)","v":""},{"$f":"IF(Blad1!F687=\"\",\"\",Blad1!F687)","v":""},{"$f":"IF(Blad1!Q687=\"\",\"\",Blad1!Q687)","v":""}]
[{"$f":"IF(Blad1!D688=\"\",\"\",Blad1!D688)","v":""},{"$f":"IF(Blad1!E688=\"\",\"\",Blad1!E688)","v":""},{"$f":"IF(Blad1!B688=\"\",\"\",Blad1!B688)","v":""},{"$f":"IF(Blad1!H688=\"\",\"\",Blad1!H688)","v":""},{"$f":"IF(Blad1!I688=\"\",\"\",Blad1!I688)","v":""},{"$f":"IF(Blad1!M688=\"\",\"\",Blad1!M688)","v":""},{"$f":"IF(Blad1!F688=\"\",\"\",Blad1!F688)","v":""},{"$f":"IF(Blad1!Q688=\"\",\"\",Blad1!Q688)","v":""}]
[{"$f":"IF(Blad1!D689=\"\",\"\",Blad1!D689)","v":""},{"$f":"IF(Blad1!E689=\"\",\"\",Blad1!E689)","v":""},{"$f":"IF(Blad1!B689=\"\",\"\",Blad1!B689)","v":""},{"$f":"IF(Blad1!H689=\"\",\"\",Blad1!H689)","v":""},{"$f":"IF(Blad1!I689=\"\",\"\",Blad1!I689)","v":""},{"$f":"IF(Blad1!M689=\"\",\"\",Blad1!M689)","v":""},{"$f":"IF(Blad1!F689=\"\",\"\",Blad1!F689)","v":""},{"$f":"IF(Blad1!Q689=\"\",\"\",Blad1!Q689)","v":""}]
[{"$f":"IF(Blad1!D690=\"\",\"\",Blad1!D690)","v":""},{"$f":"IF(Blad1!E690=\"\",\"\",Blad1!E690)","v":""},{"$f":"IF(Blad1!B690=\"\",\"\",Blad1!B690)","v":""},{"$f":"IF(Blad1!H690=\"\",\"\",Blad1!H690)","v":""},{"$f":"IF(Blad1!I690=\"\",\"\",Blad1!I690)","v":""},{"$f":"IF(Blad1!M690=\"\",\"\",Blad1!M690)","v":""},{"$f":"IF(Blad1!F690=\"\",\"\",Blad1!F690)","v":""},{"$f":"IF(Blad1!Q690=\"\",\"\",Blad1!Q690)","v":""}]
[{"$f":"IF(Blad1!D691=\"\",\"\",Blad1!D691)","v":""},{"$f":"IF(Blad1!E691=\"\",\"\",Blad1!E691)","v":""},{"$f":"IF(Blad1!B691=\"\",\"\",Blad1!B691)","v":""},{"$f":"IF(Blad1!H691=\"\",\"\",Blad1!H691)","v":""},{"$f":"IF(Blad1!I691=\"\",\"\",Blad1!I691)","v":""},{"$f":"IF(Blad1!M691=\"\",\"\",Blad1!M691)","v":""},{"$f":"IF(Blad1!F691=\"\",\"\",Blad1!F691)","v":""},{"$f":"IF(Blad1!Q691=\"\",\"\",Blad1!Q691)","v":""}]
[{"$f":"IF(Blad1!D692=\"\",\"\",Blad1!D692)","v":""},{"$f":"IF(Blad1!E692=\"\",\"\",Blad1!E692)","v":""},{"$f":"IF(Blad1!B692=\"\",\"\",Blad1!B692)","v":""},{"$f":"IF(Blad1!H692=\"\",\"\",Blad1!H692)","v":""},{"$f":"IF(Blad1!I692=\"\",\"\",Blad1!I692)","v":""},{"$f":"IF(Blad1!M692=\"\",\"\",Blad1!M692)","v":""},{"$f":"IF(Blad1!F692=\"\",\"\",Blad1!F692)","v":""},{"$f":"IF(Blad1!Q692=\"\",\"\",Blad1!Q692)","v":""}]
[{"$f":"IF(Blad1!D693=\"\",\"\",Blad1!D693)","v":""},{"$f":"IF(Blad1!E693=\"\",\"\",Blad1!E693)","v":""},{"$f":"IF(Blad1!B693=\"\",\"\",Blad1!B693)","v":""},{"$f":"IF(Blad1!H693=\"\",\"\",Blad1!H693)","v":""},{"$f":"IF(Blad1!I693=\"\",\"\",Blad1!I693)","v":""},{"$f":"IF(Blad1!M693=\"\",\"\",Blad1!M693)","v":""},{"$f":"IF(Blad1!F693=\"\",\"\",Blad1!F693)","v":""},{"$f":"IF(Blad1!Q693=\"\",\"\",Blad1!Q693)","v":""}]
[{"$f":"IF(Blad1!D694=\"\",\"\",Blad1!D694)","v":""},{"$f":"IF(Blad1!E694=\"\",\"\",Blad1!E694)","v":""},{"$f":"IF(Blad1!B694=\"\",\"\",Blad1!B694)","v":""},{"$f":"IF(Blad1!H694=\"\",\"\",Blad1!H694)","v":""},{"$f":"IF(Blad1!I694=\"\",\"\",Blad1!I694)","v":""},{"$f":"IF(Blad1!M694=\"\",\"\",Blad1!M694)","v":""},{"$f":"IF(Blad1!F694=\"\",\"\",Blad1!F694)","v":""},{"$f":"IF(Blad1!Q694=\"\",\"\",Blad1!Q694)","v":""}]
[{"$f":"IF(Blad1!D695=\"\",\"\",Blad1!D695)","v":""},{"$f":"IF(Blad1!E695=\"\",\"\",Blad1!E695)","v":""},{"$f":"IF(Blad1!B695=\"\",\"\",Blad1!B695)","v":""},{"$f":"IF(Blad1!H695=\"\",\"\",Blad1!H695)","v":""},{"$f":"IF(Blad1!I695=\"\",\"\",Blad1!I695)","v":""},{"$f":"IF(Blad1!M695=\"\",\"\",Blad1!M695)","v":""},{"$f":"IF(Blad1!F695=\"\",\"\",Blad1!F695)","v":""},{"$f":"IF(Blad1!Q695=\"\",\"\",Blad1!Q695)","v":""}]
[{"$f":"IF(Blad1!D696=\"\",\"\",Blad1!D696)","v":""},{"$f":"IF(Blad1!E696=\"\",\"\",Blad1!E696)","v":""},{"$f":"IF(Blad1!B696=\"\",\"\",Blad1!B696)","v":""},{"$f":"IF(Blad1!H696=\"\",\"\",Blad1!H696)","v":""},{"$f":"IF(Blad1!I696=\"\",\"\",Blad1!I696)","v":""},{"$f":"IF(Blad1!M696=\"\",\"\",Blad1!M696)","v":""},{"$f":"IF(Blad1!F696=\"\",\"\",Blad1!F696)","v":""},{"$f":"IF(Blad1!Q696=\"\",\"\",Blad1!Q696)","v":""}]
[{"$f":"IF(Blad1!D697=\"\",\"\",Blad1!D697)","v":""},{"$f":"IF(Blad1!E697=\"\",\"\",Blad1!E697)","v":""},{"$f":"IF(Blad1!B697=\"\",\"\",Blad1!B697)","v":""},{"$f":"IF(Blad1!H697=\"\",\"\",Blad1!H697)","v":""},{"$f":"IF(Blad1!I697=\"\",\"\",Blad1!I697)","v":""},{"$f":"IF(Blad1!M697=\"\",\"\",Blad1!M697)","v":""},{"$f":"IF(Blad1!F697=\"\",\"\",Blad1!F697)","v":""},{"$f":"IF(Blad1!Q697=\"\",\"\",Blad1!Q697)","v":""}]
[{"$f":"IF(Blad1!D698=\"\",\"\",Blad1!D698)","v":""},{"$f":"IF(Blad1!E698=\"\",\"\",Blad1!E698)","v":""},{"$f":"IF(Blad1!B698=\"\",\"\",Blad1!B698)","v":""},{"$f":"IF(Blad1!H698=\"\",\"\",Blad1!H698)","v":""},{"$f":"IF(Blad1!I698=\"\",\"\",Blad1!I698)","v":""},{"$f":"IF(Blad1!M698=\"\",\"\",Blad1!M698)","v":""},{"$f":"IF(Blad1!F698=\"\",\"\",Blad1!F698)","v":""},{"$f":"IF(Blad1!Q698=\"\",\"\",Blad1!Q698)","v":""}]
[{"$f":"IF(Blad1!D699=\"\",\"\",Blad1!D699)","v":""},{"$f":"IF(Blad1!E699=\"\",\"\",Blad1!E699)","v":""},{"$f":"IF(Blad1!B699=\"\",\"\",Blad1!B699)","v":""},{"$f":"IF(Blad1!H699=\"\",\"\",Blad1!H699)","v":""},{"$f":"IF(Blad1!I699=\"\",\"\",Blad1!I699)","v":""},{"$f":"IF(Blad1!M699=\"\",\"\",Blad1!M699)","v":""},{"$f":"IF(Blad1!F699=\"\",\"\",Blad1!F699)","v":""},{"$f":"IF(Blad1!Q699=\"\",\"\",Blad1!Q699)","v":""}]
[{"$f":"IF(Blad1!D700=\"\",\"\",Blad1!D700)","v":""},{"$f":"IF(Blad1!E700=\"\",\"\",Blad1!E700)","v":""},{"$f":"IF(Blad1!B700=\"\",\"\",Blad1!B700)","v":""},{"$f":"IF(Blad1!H700=\"\",\"\",Blad1!H700)","v":""},{"$f":"IF(Blad1!I700=\"\",\"\",Blad1!I700)","v":""},{"$f":"IF(Blad1!M700=\"\",\"\",Blad1!M700)","v":""},{"$f":"IF(Blad1!F700=\"\",\"\",Blad1!F700)","v":""},{"$f":"IF(Blad1!Q700=\"\",\"\",Blad1!Q700)","v":""}]
[{"$f":"IF(Blad1!D701=\"\",\"\",Blad1!D701)","v":""},{"$f":"IF(Blad1!E701=\"\",\"\",Blad1!E701)","v":""},{"$f":"IF(Blad1!B701=\"\",\"\",Blad1!B701)","v":""},{"$f":"IF(Blad1!H701=\"\",\"\",Blad1!H701)","v":""},{"$f":"IF(Blad1!I701=\"\",\"\",Blad1!I701)","v":""},{"$f":"IF(Blad1!M701=\"\",\"\",Blad1!M701)","v":""},{"$f":"IF(Blad1!F701=\"\",\"\",Blad1!F701)","v":""},{"$f":"IF(Blad1!Q701=\"\",\"\",Blad1!Q701)","v":""}]
[{"$f":"IF(Blad1!D702=\"\",\"\",Blad1!D702)","v":""},{"$f":"IF(Blad1!E702=\"\",\"\",Blad1!E702)","v":""},{"$f":"IF(Blad1!B702=\"\",\"\",Blad1!B702)","v":""},{"$f":"IF(Blad1!H702=\"\",\"\",Blad1!H702)","v":""},{"$f":"IF(Blad1!I702=\"\",\"\",Blad1!I702)","v":""},{"$f":"IF(Blad1!M702=\"\",\"\",Blad1!M702)","v":""},{"$f":"IF(Blad1!F702=\"\",\"\",Blad1!F702)","v":""},{"$f":"IF(Blad1!Q702=\"\",\"\",Blad1!Q702)","v":""}]
[{"$f":"IF(Blad1!D703=\"\",\"\",Blad1!D703)","v":""},{"$f":"IF(Blad1!E703=\"\",\"\",Blad1!E703)","v":""},{"$f":"IF(Blad1!B703=\"\",\"\",Blad1!B703)","v":""},{"$f":"IF(Blad1!H703=\"\",\"\",Blad1!H703)","v":""},{"$f":"IF(Blad1!I703=\"\",\"\",Blad1!I703)","v":""},{"$f":"IF(Blad1!M703=\"\",\"\",Blad1!M703)","v":""},{"$f":"IF(Blad1!F703=\"\",\"\",Blad1!F703)","v":""},{"$f":"IF(Blad1!Q703=\"\",\"\",Blad1!Q703)","v":""}]
[{"$f":"IF(Blad1!D704=\"\",\"\",Blad1!D704)","v":""},{"$f":"IF(Blad1!E704=\"\",\"\",Blad1!E704)","v":""},{"$f":"IF(Blad1!B704=\"\",\"\",Blad1!B704)","v":""},{"$f":"IF(Blad1!H704=\"\",\"\",Blad1!H704)","v":""},{"$f":"IF(Blad1!I704=\"\",\"\",Blad1!I704)","v":""},{"$f":"IF(Blad1!M704=\"\",\"\",Blad1!M704)","v":""},{"$f":"IF(Blad1!F704=\"\",\"\",Blad1!F704)","v":""},{"$f":"IF(Blad1!Q704=\"\",\"\",Blad1!Q704)","v":""}]
[{"$f":"IF(Blad1!D705=\"\",\"\",Blad1!D705)","v":""},{"$f":"IF(Blad1!E705=\"\",\"\",Blad1!E705)","v":""},{"$f":"IF(Blad1!B705=\"\",\"\",Blad1!B705)","v":""},{"$f":"IF(Blad1!H705=\"\",\"\",Blad1!H705)","v":""},{"$f":"IF(Blad1!I705=\"\",\"\",Blad1!I705)","v":""},{"$f":"IF(Blad1!M705=\"\",\"\",Blad1!M705)","v":""},{"$f":"IF(Blad1!F705=\"\",\"\",Blad1!F705)","v":""},{"$f":"IF(Blad1!Q705=\"\",\"\",Blad1!Q705)","v":""}]
[{"$f":"IF(Blad1!D706=\"\",\"\",Blad1!D706)","v":""},{"$f":"IF(Blad1!E706=\"\",\"\",Blad1!E706)","v":""},{"$f":"IF(Blad1!B706=\"\",\"\",Blad1!B706)","v":""},{"$f":"IF(Blad1!H706=\"\",\"\",Blad1!H706)","v":""},{"$f":"IF(Blad1!I706=\"\",\"\",Blad1!I706)","v":""},{"$f":"IF(Blad1!M706=\"\",\"\",Blad1!M706)","v":""},{"$f":"IF(Blad1!F706=\"\",\"\",Blad1!F706)","v":""},{"$f":"IF(Blad1!Q706=\"\",\"\",Blad1!Q706)","v":""}]
[{"$f":"IF(Blad1!D707=\"\",\"\",Blad1!D707)","v":""},{"$f":"IF(Blad1!E707=\"\",\"\",Blad1!E707)","v":""},{"$f":"IF(Blad1!B707=\"\",\"\",Blad1!B707)","v":""},{"$f":"IF(Blad1!H707=\"\",\"\",Blad1!H707)","v":""},{"$f":"IF(Blad1!I707=\"\",\"\",Blad1!I707)","v":""},{"$f":"IF(Blad1!M707=\"\",\"\",Blad1!M707)","v":""},{"$f":"IF(Blad1!F707=\"\",\"\",Blad1!F707)","v":""},{"$f":"IF(Blad1!Q707=\"\",\"\",Blad1!Q707)","v":""}]
[{"$f":"IF(Blad1!D708=\"\",\"\",Blad1!D708)","v":""},{"$f":"IF(Blad1!E708=\"\",\"\",Blad1!E708)","v":""},{"$f":"IF(Blad1!B708=\"\",\"\",Blad1!B708)","v":""},{"$f":"IF(Blad1!H708=\"\",\"\",Blad1!H708)","v":""},{"$f":"IF(Blad1!I708=\"\",\"\",Blad1!I708)","v":""},{"$f":"IF(Blad1!M708=\"\",\"\",Blad1!M708)","v":""},{"$f":"IF(Blad1!F708=\"\",\"\",Blad1!F708)","v":""},{"$f":"IF(Blad1!Q708=\"\",\"\",Blad1!Q708)","v":""}]
[{"$f":"IF(Blad1!D709=\"\",\"\",Blad1!D709)","v":""},{"$f":"IF(Blad1!E709=\"\",\"\",Blad1!E709)","v":""},{"$f":"IF(Blad1!B709=\"\",\"\",Blad1!B709)","v":""},{"$f":"IF(Blad1!H709=\"\",\"\",Blad1!H709)","v":""},{"$f":"IF(Blad1!I709=\"\",\"\",Blad1!I709)","v":""},{"$f":"IF(Blad1!M709=\"\",\"\",Blad1!M709)","v":""},{"$f":"IF(Blad1!F709=\"\",\"\",Blad1!F709)","v":""},{"$f":"IF(Blad1!Q709=\"\",\"\",Blad1!Q709)","v":""}]
[{"$f":"IF(Blad1!D710=\"\",\"\",Blad1!D710)","v":""},{"$f":"IF(Blad1!E710=\"\",\"\",Blad1!E710)","v":""},{"$f":"IF(Blad1!B710=\"\",\"\",Blad1!B710)","v":""},{"$f":"IF(Blad1!H710=\"\",\"\",Blad1!H710)","v":""},{"$f":"IF(Blad1!I710=\"\",\"\",Blad1!I710)","v":""},{"$f":"IF(Blad1!M710=\"\",\"\",Blad1!M710)","v":""},{"$f":"IF(Blad1!F710=\"\",\"\",Blad1!F710)","v":""},{"$f":"IF(Blad1!Q710=\"\",\"\",Blad1!Q710)","v":""}]
[{"$f":"IF(Blad1!D711=\"\",\"\",Blad1!D711)","v":""},{"$f":"IF(Blad1!E711=\"\",\"\",Blad1!E711)","v":""},{"$f":"IF(Blad1!B711=\"\",\"\",Blad1!B711)","v":""},{"$f":"IF(Blad1!H711=\"\",\"\",Blad1!H711)","v":""},{"$f":"IF(Blad1!I711=\"\",\"\",Blad1!I711)","v":""},{"$f":"IF(Blad1!M711=\"\",\"\",Blad1!M711)","v":""},{"$f":"IF(Blad1!F711=\"\",\"\",Blad1!F711)","v":""},{"$f":"IF(Blad1!Q711=\"\",\"\",Blad1!Q711)","v":""}]
[{"$f":"IF(Blad1!D712=\"\",\"\",Blad1!D712)","v":""},{"$f":"IF(Blad1!E712=\"\",\"\",Blad1!E712)","v":""},{"$f":"IF(Blad1!B712=\"\",\"\",Blad1!B712)","v":""},{"$f":"IF(Blad1!H712=\"\",\"\",Blad1!H712)","v":""},{"$f":"IF(Blad1!I712=\"\",\"\",Blad1!I712)","v":""},{"$f":"IF(Blad1!M712=\"\",\"\",Blad1!M712)","v":""},{"$f":"IF(Blad1!F712=\"\",\"\",Blad1!F712)","v":""},{"$f":"IF(Blad1!Q712=\"\",\"\",Blad1!Q712)","v":""}]
[{"$f":"IF(Blad1!D713=\"\",\"\",Blad1!D713)","v":""},{"$f":"IF(Blad1!E713=\"\",\"\",Blad1!E713)","v":""},{"$f":"IF(Blad1!B713=\"\",\"\",Blad1!B713)","v":""},{"$f":"IF(Blad1!H713=\"\",\"\",Blad1!H713)","v":""},{"$f":"IF(Blad1!I713=\"\",\"\",Blad1!I713)","v":""},{"$f":"IF(Blad1!M713=\"\",\"\",Blad1!M713)","v":""},{"$f":"IF(Blad1!F713=\"\",\"\",Blad1!F713)","v":""},{"$f":"IF(Blad1!Q713=\"\",\"\",Blad1!Q713)","v":""}]
[{"$f":"IF(Blad1!D714=\"\",\"\",Blad1!D714)","v":""},{"$f":"IF(Blad1!E714=\"\",\"\",Blad1!E714)","v":""},{"$f":"IF(Blad1!B714=\"\",\"\",Blad1!B714)","v":""},{"$f":"IF(Blad1!H714=\"\",\"\",Blad1!H714)","v":""},{"$f":"IF(Blad1!I714=\"\",\"\",Blad1!I714)","v":""},{"$f":"IF(Blad1!M714=\"\",\"\",Blad1!M714)","v":""},{"$f":"IF(Blad1!F714=\"\",\"\",Blad1!F714)","v":""},{"$f":"IF(Blad1!Q714=\"\",\"\",Blad1!Q714)","v":""}]
[{"$f":"IF(Blad1!D715=\"\",\"\",Blad1!D715)","v":""},{"$f":"IF(Blad1!E715=\"\",\"\",Blad1!E715)","v":""},{"$f":"IF(Blad1!B715=\"\",\"\",Blad1!B715)","v":""},{"$f":"IF(Blad1!H715=\"\",\"\",Blad1!H715)","v":""},{"$f":"IF(Blad1!I715=\"\",\"\",Blad1!I715)","v":""},{"$f":"IF(Blad1!M715=\"\",\"\",Blad1!M715)","v":""},{"$f":"IF(Blad1!F715=\"\",\"\",Blad1!F715)","v":""},{"$f":"IF(Blad1!Q715=\"\",\"\",Blad1!Q715)","v":""}]
[{"$f":"IF(Blad1!D716=\"\",\"\",Blad1!D716)","v":""},{"$f":"IF(Blad1!E716=\"\",\"\",Blad1!E716)","v":""},{"$f":"IF(Blad1!B716=\"\",\"\",Blad1!B716)","v":""},{"$f":"IF(Blad1!H716=\"\",\"\",Blad1!H716)","v":""},{"$f":"IF(Blad1!I716=\"\",\"\",Blad1!I716)","v":""},{"$f":"IF(Blad1!M716=\"\",\"\",Blad1!M716)","v":""},{"$f":"IF(Blad1!F716=\"\",\"\",Blad1!F716)","v":""},{"$f":"IF(Blad1!Q716=\"\",\"\",Blad1!Q716)","v":""}]
[{"$f":"IF(Blad1!D717=\"\",\"\",Blad1!D717)","v":""},{"$f":"IF(Blad1!E717=\"\",\"\",Blad1!E717)","v":""},{"$f":"IF(Blad1!B717=\"\",\"\",Blad1!B717)","v":""},{"$f":"IF(Blad1!H717=\"\",\"\",Blad1!H717)","v":""},{"$f":"IF(Blad1!I717=\"\",\"\",Blad1!I717)","v":""},{"$f":"IF(Blad1!M717=\"\",\"\",Blad1!M717)","v":""},{"$f":"IF(Blad1!F717=\"\",\"\",Blad1!F717)","v":""},{"$f":"IF(Blad1!Q717=\"\",\"\",Blad1!Q717)","v":""}]
[{"$f":"IF(Blad1!D718=\"\",\"\",Blad1!D718)","v":""},{"$f":"IF(Blad1!E718=\"\",\"\",Blad1!E718)","v":""},{"$f":"IF(Blad1!B718=\"\",\"\",Blad1!B718)","v":""},{"$f":"IF(Blad1!H718=\"\",\"\",Blad1!H718)","v":""},{"$f":"IF(Blad1!I718=\"\",\"\",Blad1!I718)","v":""},{"$f":"IF(Blad1!M718=\"\",\"\",Blad1!M718)","v":""},{"$f":"IF(Blad1!F718=\"\",\"\",Blad1!F718)","v":""},{"$f":"IF(Blad1!Q718=\"\",\"\",Blad1!Q718)","v":""}]
[{"$f":"IF(Blad1!D719=\"\",\"\",Blad1!D719)","v":""},{"$f":"IF(Blad1!E719=\"\",\"\",Blad1!E719)","v":""},{"$f":"IF(Blad1!B719=\"\",\"\",Blad1!B719)","v":""},{"$f":"IF(Blad1!H719=\"\",\"\",Blad1!H719)","v":""},{"$f":"IF(Blad1!I719=\"\",\"\",Blad1!I719)","v":""},{"$f":"IF(Blad1!M719=\"\",\"\",Blad1!M719)","v":""},{"$f":"IF(Blad1!F719=\"\",\"\",Blad1!F719)","v":""},{"$f":"IF(Blad1!Q719=\"\",\"\",Blad1!Q719)","v":""}]
[{"$f":"IF(Blad1!D720=\"\",\"\",Blad1!D720)","v":""},{"$f":"IF(Blad1!E720=\"\",\"\",Blad1!E720)","v":""},{"$f":"IF(Blad1!B720=\"\",\"\",Blad1!B720)","v":""},{"$f":"IF(Blad1!H720=\"\",\"\",Blad1!H720)","v":""},{"$f":"IF(Blad1!I720=\"\",\"\",Blad1!I720)","v":""},{"$f":"IF(Blad1!M720=\"\",\"\",Blad1!M720)","v":""},{"$f":"IF(Blad1!F720=\"\",\"\",Blad1!F720)","v":""},{"$f":"IF(Blad1!Q720=\"\",\"\",Blad1!Q720)","v":""}]
[{"$f":"IF(Blad1!D721=\"\",\"\",Blad1!D721)","v":""},{"$f":"IF(Blad1!E721=\"\",\"\",Blad1!E721)","v":""},{"$f":"IF(Blad1!B721=\"\",\"\",Blad1!B721)","v":""},{"$f":"IF(Blad1!H721=\"\",\"\",Blad1!H721)","v":""},{"$f":"IF(Blad1!I721=\"\",\"\",Blad1!I721)","v":""},{"$f":"IF(Blad1!M721=\"\",\"\",Blad1!M721)","v":""},{"$f":"IF(Blad1!F721=\"\",\"\",Blad1!F721)","v":""},{"$f":"IF(Blad1!Q721=\"\",\"\",Blad1!Q721)","v":""}]
[{"$f":"IF(Blad1!D722=\"\",\"\",Blad1!D722)","v":""},{"$f":"IF(Blad1!E722=\"\",\"\",Blad1!E722)","v":""},{"$f":"IF(Blad1!B722=\"\",\"\",Blad1!B722)","v":""},{"$f":"IF(Blad1!H722=\"\",\"\",Blad1!H722)","v":""},{"$f":"IF(Blad1!I722=\"\",\"\",Blad1!I722)","v":""},{"$f":"IF(Blad1!M722=\"\",\"\",Blad1!M722)","v":""},{"$f":"IF(Blad1!F722=\"\",\"\",Blad1!F722)","v":""},{"$f":"IF(Blad1!Q722=\"\",\"\",Blad1!Q722)","v":""}]
[{"$f":"IF(Blad1!D723=\"\",\"\",Blad1!D723)","v":""},{"$f":"IF(Blad1!E723=\"\",\"\",Blad1!E723)","v":""},{"$f":"IF(Blad1!B723=\"\",\"\",Blad1!B723)","v":""},{"$f":"IF(Blad1!H723=\"\",\"\",Blad1!H723)","v":""},{"$f":"IF(Blad1!I723=\"\",\"\",Blad1!I723)","v":""},{"$f":"IF(Blad1!M723=\"\",\"\",Blad1!M723)","v":""},{"$f":"IF(Blad1!F723=\"\",\"\",Blad1!F723)","v":""},{"$f":"IF(Blad1!Q723=\"\",\"\",Blad1!Q723)","v":""}]
[{"$f":"IF(Blad1!D724=\"\",\"\",Blad1!D724)","v":""},{"$f":"IF(Blad1!E724=\"\",\"\",Blad1!E724)","v":""},{"$f":"IF(Blad1!B724=\"\",\"\",Blad1!B724)","v":""},{"$f":"IF(Blad1!H724=\"\",\"\",Blad1!H724)","v":""},{"$f":"IF(Blad1!I724=\"\",\"\",Blad1!I724)","v":""},{"$f":"IF(Blad1!M724=\"\",\"\",Blad1!M724)","v":""},{"$f":"IF(Blad1!F724=\"\",\"\",Blad1!F724)","v":""},{"$f":"IF(Blad1!Q724=\"\",\"\",Blad1!Q724)","v":""}]
[{"$f":"IF(Blad1!D725=\"\",\"\",Blad1!D725)","v":""},{"$f":"IF(Blad1!E725=\"\",\"\",Blad1!E725)","v":""},{"$f":"IF(Blad1!B725=\"\",\"\",Blad1!B725)","v":""},{"$f":"IF(Blad1!H725=\"\",\"\",Blad1!H725)","v":""},{"$f":"IF(Blad1!I725=\"\",\"\",Blad1!I725)","v":""},{"$f":"IF(Blad1!M725=\"\",\"\",Blad1!M725)","v":""},{"$f":"IF(Blad1!F725=\"\",\"\",Blad1!F725)","v":""},{"$f":"IF(Blad1!Q725=\"\",\"\",Blad1!Q725)","v":""}]
[{"$f":"IF(Blad1!D726=\"\",\"\",Blad1!D726)","v":""},{"$f":"IF(Blad1!E726=\"\",\"\",Blad1!E726)","v":""},{"$f":"IF(Blad1!B726=\"\",\"\",Blad1!B726)","v":""},{"$f":"IF(Blad1!H726=\"\",\"\",Blad1!H726)","v":""},{"$f":"IF(Blad1!I726=\"\",\"\",Blad1!I726)","v":""},{"$f":"IF(Blad1!M726=\"\",\"\",Blad1!M726)","v":""},{"$f":"IF(Blad1!F726=\"\",\"\",Blad1!F726)","v":""},{"$f":"IF(Blad1!Q726=\"\",\"\",Blad1!Q726)","v":""}]
[{"$f":"IF(Blad1!D727=\"\",\"\",Blad1!D727)","v":""},{"$f":"IF(Blad1!E727=\"\",\"\",Blad1!E727)","v":""},{"$f":"IF(Blad1!B727=\"\",\"\",Blad1!B727)","v":""},{"$f":"IF(Blad1!H727=\"\",\"\",Blad1!H727)","v":""},{"$f":"IF(Blad1!I727=\"\",\"\",Blad1!I727)","v":""},{"$f":"IF(Blad1!M727=\"\",\"\",Blad1!M727)","v":""},{"$f":"IF(Blad1!F727=\"\",\"\",Blad1!F727)","v":""},{"$f":"IF(Blad1!Q727=\"\",\"\",Blad1!Q727)","v":""}]
[{"$f":"IF(Blad1!D728=\"\",\"\",Blad1!D728)","v":""},{"$f":"IF(Blad1!E728=\"\",\"\",Blad1!E728)","v":""},{"$f":"IF(Blad1!B728=\"\",\"\",Blad1!B728)","v":""},{"$f":"IF(Blad1!H728=\"\",\"\",Blad1!H728)","v":""},{"$f":"IF(Blad1!I728=\"\",\"\",Blad1!I728)","v":""},{"$f":"IF(Blad1!M728=\"\",\"\",Blad1!M728)","v":""},{"$f":"IF(Blad1!F728=\"\",\"\",Blad1!F728)","v":""},{"$f":"IF(Blad1!Q728=\"\",\"\",Blad1!Q728)","v":""}]
[{"$f":"IF(Blad1!D729=\"\",\"\",Blad1!D729)","v":""},{"$f":"IF(Blad1!E729=\"\",\"\",Blad1!E729)","v":""},{"$f":"IF(Blad1!B729=\"\",\"\",Blad1!B729)","v":""},{"$f":"IF(Blad1!H729=\"\",\"\",Blad1!H729)","v":""},{"$f":"IF(Blad1!I729=\"\",\"\",Blad1!I729)","v":""},{"$f":"IF(Blad1!M729=\"\",\"\",Blad1!M729)","v":""},{"$f":"IF(Blad1!F729=\"\",\"\",Blad1!F729)","v":""},{"$f":"IF(Blad1!Q729=\"\",\"\",Blad1!Q729)","v":""}]
[{"$f":"IF(Blad1!D730=\"\",\"\",Blad1!D730)","v":""},{"$f":"IF(Blad1!E730=\"\",\"\",Blad1!E730)","v":""},{"$f":"IF(Blad1!B730=\"\",\"\",Blad1!B730)","v":""},{"$f":"IF(Blad1!H730=\"\",\"\",Blad1!H730)","v":""},{"$f":"IF(Blad1!I730=\"\",\"\",Blad1!I730)","v":""},{"$f":"IF(Blad1!M730=\"\",\"\",Blad1!M730)","v":""},{"$f":"IF(Blad1!F730=\"\",\"\",Blad1!F730)","v":""},{"$f":"IF(Blad1!Q730=\"\",\"\",Blad1!Q730)","v":""}]
[{"$f":"IF(Blad1!D731=\"\",\"\",Blad1!D731)","v":""},{"$f":"IF(Blad1!E731=\"\",\"\",Blad1!E731)","v":""},{"$f":"IF(Blad1!B731=\"\",\"\",Blad1!B731)","v":""},{"$f":"IF(Blad1!H731=\"\",\"\",Blad1!H731)","v":""},{"$f":"IF(Blad1!I731=\"\",\"\",Blad1!I731)","v":""},{"$f":"IF(Blad1!M731=\"\",\"\",Blad1!M731)","v":""},{"$f":"IF(Blad1!F731=\"\",\"\",Blad1!F731)","v":""},{"$f":"IF(Blad1!Q731=\"\",\"\",Blad1!Q731)","v":""}]
[{"$f":"IF(Blad1!D732=\"\",\"\",Blad1!D732)","v":""},{"$f":"IF(Blad1!E732=\"\",\"\",Blad1!E732)","v":""},{"$f":"IF(Blad1!B732=\"\",\"\",Blad1!B732)","v":""},{"$f":"IF(Blad1!H732=\"\",\"\",Blad1!H732)","v":""},{"$f":"IF(Blad1!I732=\"\",\"\",Blad1!I732)","v":""},{"$f":"IF(Blad1!M732=\"\",\"\",Blad1!M732)","v":""},{"$f":"IF(Blad1!F732=\"\",\"\",Blad1!F732)","v":""},{"$f":"IF(Blad1!Q732=\"\",\"\",Blad1!Q732)","v":""}]
[{"$f":"IF(Blad1!D733=\"\",\"\",Blad1!D733)","v":""},{"$f":"IF(Blad1!E733=\"\",\"\",Blad1!E733)","v":""},{"$f":"IF(Blad1!B733=\"\",\"\",Blad1!B733)","v":""},{"$f":"IF(Blad1!H733=\"\",\"\",Blad1!H733)","v":""},{"$f":"IF(Blad1!I733=\"\",\"\",Blad1!I733)","v":""},{"$f":"IF(Blad1!M733=\"\",\"\",Blad1!M733)","v":""},{"$f":"IF(Blad1!F733=\"\",\"\",Blad1!F733)","v":""},{"$f":"IF(Blad1!Q733=\"\",\"\",Blad1!Q733)","v":""}]
[{"$f":"IF(Blad1!D734=\"\",\"\",Blad1!D734)","v":""},{"$f":"IF(Blad1!E734=\"\",\"\",Blad1!E734)","v":""},{"$f":"IF(Blad1!B734=\"\",\"\",Blad1!B734)","v":""},{"$f":"IF(Blad1!H734=\"\",\"\",Blad1!H734)","v":""},{"$f":"IF(Blad1!I734=\"\",\"\",Blad1!I734)","v":""},{"$f":"IF(Blad1!M734=\"\",\"\",Blad1!M734)","v":""},{"$f":"IF(Blad1!F734=\"\",\"\",Blad1!F734)","v":""},{"$f":"IF(Blad1!Q734=\"\",\"\",Blad1!Q734)","v":""}]
[{"$f":"IF(Blad1!D735=\"\",\"\",Blad1!D735)","v":""},{"$f":"IF(Blad1!E735=\"\",\"\",Blad1!E735)","v":""},{"$f":"IF(Blad1!B735=\"\",\"\",Blad1!B735)","v":""},{"$f":"IF(Blad1!H735=\"\",\"\",Blad1!H735)","v":""},{"$f":"IF(Blad1!I735=\"\",\"\",Blad1!I735)","v":""},{"$f":"IF(Blad1!M735=\"\",\"\",Blad1!M735)","v":""},{"$f":"IF(Blad1!F735=\"\",\"\",Blad1!F735)","v":""},{"$f":"IF(Blad1!Q735=\"\",\"\",Blad1!Q735)","v":""}]
[{"$f":"IF(Blad1!D736=\"\",\"\",Blad1!D736)","v":""},{"$f":"IF(Blad1!E736=\"\",\"\",Blad1!E736)","v":""},{"$f":"IF(Blad1!B736=\"\",\"\",Blad1!B736)","v":""},{"$f":"IF(Blad1!H736=\"\",\"\",Blad1!H736)","v":""},{"$f":"IF(Blad1!I736=\"\",\"\",Blad1!I736)","v":""},{"$f":"IF(Blad1!M736=\"\",\"\",Blad1!M736)","v":""},{"$f":"IF(Blad1!F736=\"\",\"\",Blad1!F736)","v":""},{"$f":"IF(Blad1!Q736=\"\",\"\",Blad1!Q736)","v":""}]
[{"$f":"IF(Blad1!D737=\"\",\"\",Blad1!D737)","v":""},{"$f":"IF(Blad1!E737=\"\",\"\",Blad1!E737)","v":""},{"$f":"IF(Blad1!B737=\"\",\"\",Blad1!B737)","v":""},{"$f":"IF(Blad1!H737=\"\",\"\",Blad1!H737)","v":""},{"$f":"IF(Blad1!I737=\"\",\"\",Blad1!I737)","v":""},{"$f":"IF(Blad1!M737=\"\",\"\",Blad1!M737)","v":""},{"$f":"IF(Blad1!F737=\"\",\"\",Blad1!F737)","v":""},{"$f":"IF(Blad1!Q737=\"\",\"\",Blad1!Q737)","v":""}]
[{"$f":"IF(Blad1!D738=\"\",\"\",Blad1!D738)","v":""},{"$f":"IF(Blad1!E738=\"\",\"\",Blad1!E738)","v":""},{"$f":"IF(Blad1!B738=\"\",\"\",Blad1!B738)","v":""},{"$f":"IF(Blad1!H738=\"\",\"\",Blad1!H738)","v":""},{"$f":"IF(Blad1!I738=\"\",\"\",Blad1!I738)","v":""},{"$f":"IF(Blad1!M738=\"\",\"\",Blad1!M738)","v":""},{"$f":"IF(Blad1!F738=\"\",\"\",Blad1!F738)","v":""},{"$f":"IF(Blad1!Q738=\"\",\"\",Blad1!Q738)","v":""}]
[{"$f":"IF(Blad1!D739=\"\",\"\",Blad1!D739)","v":""},{"$f":"IF(Blad1!E739=\"\",\"\",Blad1!E739)","v":""},{"$f":"IF(Blad1!B739=\"\",\"\",Blad1!B739)","v":""},{"$f":"IF(Blad1!H739=\"\",\"\",Blad1!H739)","v":""},{"$f":"IF(Blad1!I739=\"\",\"\",Blad1!I739)","v":""},{"$f":"IF(Blad1!M739=\"\",\"\",Blad1!M739)","v":""},{"$f":"IF(Blad1!F739=\"\",\"\",Blad1!F739)","v":""},{"$f":"IF(Blad1!Q739=\"\",\"\",Blad1!Q739)","v":""}]
[{"$f":"IF(Blad1!D740=\"\",\"\",Blad1!D740)","v":""},{"$f":"IF(Blad1!E740=\"\",\"\",Blad1!E740)","v":""},{"$f":"IF(Blad1!B740=\"\",\"\",Blad1!B740)","v":""},{"$f":"IF(Blad1!H740=\"\",\"\",Blad1!H740)","v":""},{"$f":"IF(Blad1!I740=\"\",\"\",Blad1!I740)","v":""},{"$f":"IF(Blad1!M740=\"\",\"\",Blad1!M740)","v":""},{"$f":"IF(Blad1!F740=\"\",\"\",Blad1!F740)","v":""},{"$f":"IF(Blad1!Q740=\"\",\"\",Blad1!Q740)","v":""}]
[{"$f":"IF(Blad1!D741=\"\",\"\",Blad1!D741)","v":""},{"$f":"IF(Blad1!E741=\"\",\"\",Blad1!E741)","v":""},{"$f":"IF(Blad1!B741=\"\",\"\",Blad1!B741)","v":""},{"$f":"IF(Blad1!H741=\"\",\"\",Blad1!H741)","v":""},{"$f":"IF(Blad1!I741=\"\",\"\",Blad1!I741)","v":""},{"$f":"IF(Blad1!M741=\"\",\"\",Blad1!M741)","v":""},{"$f":"IF(Blad1!F741=\"\",\"\",Blad1!F741)","v":""},{"$f":"IF(Blad1!Q741=\"\",\"\",Blad1!Q741)","v":""}]
[{"$f":"IF(Blad1!D742=\"\",\"\",Blad1!D742)","v":""},{"$f":"IF(Blad1!E742=\"\",\"\",Blad1!E742)","v":""},{"$f":"IF(Blad1!B742=\"\",\"\",Blad1!B742)","v":""},{"$f":"IF(Blad1!H742=\"\",\"\",Blad1!H742)","v":""},{"$f":"IF(Blad1!I742=\"\",\"\",Blad1!I742)","v":""},{"$f":"IF(Blad1!M742=\"\",\"\",Blad1!M742)","v":""},{"$f":"IF(Blad1!F742=\"\",\"\",Blad1!F742)","v":""},{"$f":"IF(Blad1!Q742=\"\",\"\",Blad1!Q742)","v":""}]
[{"$f":"IF(Blad1!D743=\"\",\"\",Blad1!D743)","v":""},{"$f":"IF(Blad1!E743=\"\",\"\",Blad1!E743)","v":""},{"$f":"IF(Blad1!B743=\"\",\"\",Blad1!B743)","v":""},{"$f":"IF(Blad1!H743=\"\",\"\",Blad1!H743)","v":""},{"$f":"IF(Blad1!I743=\"\",\"\",Blad1!I743)","v":""},{"$f":"IF(Blad1!M743=\"\",\"\",Blad1!M743)","v":""},{"$f":"IF(Blad1!F743=\"\",\"\",Blad1!F743)","v":""},{"$f":"IF(Blad1!Q743=\"\",\"\",Blad1!Q743)","v":""}]
[{"$f":"IF(Blad1!D744=\"\",\"\",Blad1!D744)","v":""},{"$f":"IF(Blad1!E744=\"\",\"\",Blad1!E744)","v":""},{"$f":"IF(Blad1!B744=\"\",\"\",Blad1!B744)","v":""},{"$f":"IF(Blad1!H744=\"\",\"\",Blad1!H744)","v":""},{"$f":"IF(Blad1!I744=\"\",\"\",Blad1!I744)","v":""},{"$f":"IF(Blad1!M744=\"\",\"\",Blad1!M744)","v":""},{"$f":"IF(Blad1!F744=\"\",\"\",Blad1!F744)","v":""},{"$f":"IF(Blad1!Q744=\"\",\"\",Blad1!Q744)","v":""}]
[{"$f":"IF(Blad1!D745=\"\",\"\",Blad1!D745)","v":""},{"$f":"IF(Blad1!E745=\"\",\"\",Blad1!E745)","v":""},{"$f":"IF(Blad1!B745=\"\",\"\",Blad1!B745)","v":""},{"$f":"IF(Blad1!H745=\"\",\"\",Blad1!H745)","v":""},{"$f":"IF(Blad1!I745=\"\",\"\",Blad1!I745)","v":""},{"$f":"IF(Blad1!M745=\"\",\"\",Blad1!M745)","v":""},{"$f":"IF(Blad1!F745=\"\",\"\",Blad1!F745)","v":""},{"$f":"IF(Blad1!Q745=\"\",\"\",Blad1!Q745)","v":""}]
[{"$f":"IF(Blad1!D746=\"\",\"\",Blad1!D746)","v":""},{"$f":"IF(Blad1!E746=\"\",\"\",Blad1!E746)","v":""},{"$f":"IF(Blad1!B746=\"\",\"\",Blad1!B746)","v":""},{"$f":"IF(Blad1!H746=\"\",\"\",Blad1!H746)","v":""},{"$f":"IF(Blad1!I746=\"\",\"\",Blad1!I746)","v":""},{"$f":"IF(Blad1!M746=\"\",\"\",Blad1!M746)","v":""},{"$f":"IF(Blad1!F746=\"\",\"\",Blad1!F746)","v":""},{"$f":"IF(Blad1!Q746=\"\",\"\",Blad1!Q746)","v":""}]
[{"$f":"IF(Blad1!D747=\"\",\"\",Blad1!D747)","v":""},{"$f":"IF(Blad1!E747=\"\",\"\",Blad1!E747)","v":""},{"$f":"IF(Blad1!B747=\"\",\"\",Blad1!B747)","v":""},{"$f":"IF(Blad1!H747=\"\",\"\",Blad1!H747)","v":""},{"$f":"IF(Blad1!I747=\"\",\"\",Blad1!I747)","v":""},{"$f":"IF(Blad1!M747=\"\",\"\",Blad1!M747)","v":""},{"$f":"IF(Blad1!F747=\"\",\"\",Blad1!F747)","v":""},{"$f":"IF(Blad1!Q747=\"\",\"\",Blad1!Q747)","v":""}]
[{"$f":"IF(Blad1!D748=\"\",\"\",Blad1!D748)","v":""},{"$f":"IF(Blad1!E748=\"\",\"\",Blad1!E748)","v":""},{"$f":"IF(Blad1!B748=\"\",\"\",Blad1!B748)","v":""},{"$f":"IF(Blad1!H748=\"\",\"\",Blad1!H748)","v":""},{"$f":"IF(Blad1!I748=\"\",\"\",Blad1!I748)","v":""},{"$f":"IF(Blad1!M748=\"\",\"\",Blad1!M748)","v":""},{"$f":"IF(Blad1!F748=\"\",\"\",Blad1!F748)","v":""},{"$f":"IF(Blad1!Q748=\"\",\"\",Blad1!Q748)","v":""}]
[{"$f":"IF(Blad1!D749=\"\",\"\",Blad1!D749)","v":""},{"$f":"IF(Blad1!E749=\"\",\"\",Blad1!E749)","v":""},{"$f":"IF(Blad1!B749=\"\",\"\",Blad1!B749)","v":""},{"$f":"IF(Blad1!H749=\"\",\"\",Blad1!H749)","v":""},{"$f":"IF(Blad1!I749=\"\",\"\",Blad1!I749)","v":""},{"$f":"IF(Blad1!M749=\"\",\"\",Blad1!M749)","v":""},{"$f":"IF(Blad1!F749=\"\",\"\",Blad1!F749)","v":""},{"$f":"IF(Blad1!Q749=\"\",\"\",Blad1!Q749)","v":""}]
[{"$f":"IF(Blad1!D750=\"\",\"\",Blad1!D750)","v":""},{"$f":"IF(Blad1!E750=\"\",\"\",Blad1!E750)","v":""},{"$f":"IF(Blad1!B750=\"\",\"\",Blad1!B750)","v":""},{"$f":"IF(Blad1!H750=\"\",\"\",Blad1!H750)","v":""},{"$f":"IF(Blad1!I750=\"\",\"\",Blad1!I750)","v":""},{"$f":"IF(Blad1!M750=\"\",\"\",Blad1!M750)","v":""},{"$f":"IF(Blad1!F750=\"\",\"\",Blad1!F750)","v":""},{"$f":"IF(Blad1!Q750=\"\",\"\",Blad1!Q750)","v":""}]
[{"$f":"IF(Blad1!D751=\"\",\"\",Blad1!D751)","v":""},{"$f":"IF(Blad1!E751=\"\",\"\",Blad1!E751)","v":""},{"$f":"IF(Blad1!B751=\"\",\"\",Blad1!B751)","v":""},{"$f":"IF(Blad1!H751=\"\",\"\",Blad1!H751)","v":""},{"$f":"IF(Blad1!I751=\"\",\"\",Blad1!I751)","v":""},{"$f":"IF(Blad1!M751=\"\",\"\",Blad1!M751)","v":""},{"$f":"IF(Blad1!F751=\"\",\"\",Blad1!F751)","v":""},{"$f":"IF(Blad1!Q751=\"\",\"\",Blad1!Q751)","v":""}]
[{"$f":"IF(Blad1!D752=\"\",\"\",Blad1!D752)","v":""},{"$f":"IF(Blad1!E752=\"\",\"\",Blad1!E752)","v":""},{"$f":"IF(Blad1!B752=\"\",\"\",Blad1!B752)","v":""},{"$f":"IF(Blad1!H752=\"\",\"\",Blad1!H752)","v":""},{"$f":"IF(Blad1!I752=\"\",\"\",Blad1!I752)","v":""},{"$f":"IF(Blad1!M752=\"\",\"\",Blad1!M752)","v":""},{"$f":"IF(Blad1!F752=\"\",\"\",Blad1!F752)","v":""},{"$f":"IF(Blad1!Q752=\"\",\"\",Blad1!Q752)","v":""}]
[{"$f":"IF(Blad1!D753=\"\",\"\",Blad1!D753)","v":""},{"$f":"IF(Blad1!E753=\"\",\"\",Blad1!E753)","v":""},{"$f":"IF(Blad1!B753=\"\",\"\",Blad1!B753)","v":""},{"$f":"IF(Blad1!H753=\"\",\"\",Blad1!H753)","v":""},{"$f":"IF(Blad1!I753=\"\",\"\",Blad1!I753)","v":""},{"$f":"IF(Blad1!M753=\"\",\"\",Blad1!M753)","v":""},{"$f":"IF(Blad1!F753=\"\",\"\",Blad1!F753)","v":""},{"$f":"IF(Blad1!Q753=\"\",\"\",Blad1!Q753)","v":""}]
[{"$f":"IF(Blad1!D754=\"\",\"\",Blad1!D754)","v":""},{"$f":"IF(Blad1!E754=\"\",\"\",Blad1!E754)","v":""},{"$f":"IF(Blad1!B754=\"\",\"\",Blad1!B754)","v":""},{"$f":"IF(Blad1!H754=\"\",\"\",Blad1!H754)","v":""},{"$f":"IF(Blad1!I754=\"\",\"\",Blad1!I754)","v":""},{"$f":"IF(Blad1!M754=\"\",\"\",Blad1!M754)","v":""},{"$f":"IF(Blad1!F754=\"\",\"\",Blad1!F754)","v":""},{"$f":"IF(Blad1!Q754=\"\",\"\",Blad1!Q754)","v":""}]
[{"$f":"IF(Blad1!D755=\"\",\"\",Blad1!D755)","v":""},{"$f":"IF(Blad1!E755=\"\",\"\",Blad1!E755)","v":""},{"$f":"IF(Blad1!B755=\"\",\"\",Blad1!B755)","v":""},{"$f":"IF(Blad1!H755=\"\",\"\",Blad1!H755)","v":""},{"$f":"IF(Blad1!I755=\"\",\"\",Blad1!I755)","v":""},{"$f":"IF(Blad1!M755=\"\",\"\",Blad1!M755)","v":""},{"$f":"IF(Blad1!F755=\"\",\"\",Blad1!F755)","v":""},{"$f":"IF(Blad1!Q755=\"\",\"\",Blad1!Q755)","v":""}]
[{"$f":"IF(Blad1!D756=\"\",\"\",Blad1!D756)","v":""},{"$f":"IF(Blad1!E756=\"\",\"\",Blad1!E756)","v":""},{"$f":"IF(Blad1!B756=\"\",\"\",Blad1!B756)","v":""},{"$f":"IF(Blad1!H756=\"\",\"\",Blad1!H756)","v":""},{"$f":"IF(Blad1!I756=\"\",\"\",Blad1!I756)","v":""},{"$f":"IF(Blad1!M756=\"\",\"\",Blad1!M756)","v":""},{"$f":"IF(Blad1!F756=\"\",\"\",Blad1!F756)","v":""},{"$f":"IF(Blad1!Q756=\"\",\"\",Blad1!Q756)","v":""}]
[{"$f":"IF(Blad1!D757=\"\",\"\",Blad1!D757)","v":""},{"$f":"IF(Blad1!E757=\"\",\"\",Blad1!E757)","v":""},{"$f":"IF(Blad1!B757=\"\",\"\",Blad1!B757)","v":""},{"$f":"IF(Blad1!H757=\"\",\"\",Blad1!H757)","v":""},{"$f":"IF(Blad1!I757=\"\",\"\",Blad1!I757)","v":""},{"$f":"IF(Blad1!M757=\"\",\"\",Blad1!M757)","v":""},{"$f":"IF(Blad1!F757=\"\",\"\",Blad1!F757)","v":""},{"$f":"IF(Blad1!Q757=\"\",\"\",Blad1!Q757)","v":""}]
[{"$f":"IF(Blad1!D758=\"\",\"\",Blad1!D758)","v":""},{"$f":"IF(Blad1!E758=\"\",\"\",Blad1!E758)","v":""},{"$f":"IF(Blad1!B758=\"\",\"\",Blad1!B758)","v":""},{"$f":"IF(Blad1!H758=\"\",\"\",Blad1!H758)","v":""},{"$f":"IF(Blad1!I758=\"\",\"\",Blad1!I758)","v":""},{"$f":"IF(Blad1!M758=\"\",\"\",Blad1!M758)","v":""},{"$f":"IF(Blad1!F758=\"\",\"\",Blad1!F758)","v":""},{"$f":"IF(Blad1!Q758=\"\",\"\",Blad1!Q758)","v":""}]
[{"$f":"IF(Blad1!D759=\"\",\"\",Blad1!D759)","v":""},{"$f":"IF(Blad1!E759=\"\",\"\",Blad1!E759)","v":""},{"$f":"IF(Blad1!B759=\"\",\"\",Blad1!B759)","v":""},{"$f":"IF(Blad1!H759=\"\",\"\",Blad1!H759)","v":""},{"$f":"IF(Blad1!I759=\"\",\"\",Blad1!I759)","v":""},{"$f":"IF(Blad1!M759=\"\",\"\",Blad1!M759)","v":""},{"$f":"IF(Blad1!F759=\"\",\"\",Blad1!F759)","v":""},{"$f":"IF(Blad1!Q759=\"\",\"\",Blad1!Q759)","v":""}]
[{"$f":"IF(Blad1!D760=\"\",\"\",Blad1!D760)","v":""},{"$f":"IF(Blad1!E760=\"\",\"\",Blad1!E760)","v":""},{"$f":"IF(Blad1!B760=\"\",\"\",Blad1!B760)","v":""},{"$f":"IF(Blad1!H760=\"\",\"\",Blad1!H760)","v":""},{"$f":"IF(Blad1!I760=\"\",\"\",Blad1!I760)","v":""},{"$f":"IF(Blad1!M760=\"\",\"\",Blad1!M760)","v":""},{"$f":"IF(Blad1!F760=\"\",\"\",Blad1!F760)","v":""},{"$f":"IF(Blad1!Q760=\"\",\"\",Blad1!Q760)","v":""}]
[{"$f":"IF(Blad1!D761=\"\",\"\",Blad1!D761)","v":""},{"$f":"IF(Blad1!E761=\"\",\"\",Blad1!E761)","v":""},{"$f":"IF(Blad1!B761=\"\",\"\",Blad1!B761)","v":""},{"$f":"IF(Blad1!H761=\"\",\"\",Blad1!H761)","v":""},{"$f":"IF(Blad1!I761=\"\",\"\",Blad1!I761)","v":""},{"$f":"IF(Blad1!M761=\"\",\"\",Blad1!M761)","v":""},{"$f":"IF(Blad1!F761=\"\",\"\",Blad1!F761)","v":""},{"$f":"IF(Blad1!Q761=\"\",\"\",Blad1!Q761)","v":""}]
[{"$f":"IF(Blad1!D762=\"\",\"\",Blad1!D762)","v":""},{"$f":"IF(Blad1!E762=\"\",\"\",Blad1!E762)","v":""},{"$f":"IF(Blad1!B762=\"\",\"\",Blad1!B762)","v":""},{"$f":"IF(Blad1!H762=\"\",\"\",Blad1!H762)","v":""},{"$f":"IF(Blad1!I762=\"\",\"\",Blad1!I762)","v":""},{"$f":"IF(Blad1!M762=\"\",\"\",Blad1!M762)","v":""},{"$f":"IF(Blad1!F762=\"\",\"\",Blad1!F762)","v":""},{"$f":"IF(Blad1!Q762=\"\",\"\",Blad1!Q762)","v":""}]
[{"$f":"IF(Blad1!D763=\"\",\"\",Blad1!D763)","v":""},{"$f":"IF(Blad1!E763=\"\",\"\",Blad1!E763)","v":""},{"$f":"IF(Blad1!B763=\"\",\"\",Blad1!B763)","v":""},{"$f":"IF(Blad1!H763=\"\",\"\",Blad1!H763)","v":""},{"$f":"IF(Blad1!I763=\"\",\"\",Blad1!I763)","v":""},{"$f":"IF(Blad1!M763=\"\",\"\",Blad1!M763)","v":""},{"$f":"IF(Blad1!F763=\"\",\"\",Blad1!F763)","v":""},{"$f":"IF(Blad1!Q763=\"\",\"\",Blad1!Q763)","v":""}]
[{"$f":"IF(Blad1!D764=\"\",\"\",Blad1!D764)","v":""},{"$f":"IF(Blad1!E764=\"\",\"\",Blad1!E764)","v":""},{"$f":"IF(Blad1!B764=\"\",\"\",Blad1!B764)","v":""},{"$f":"IF(Blad1!H764=\"\",\"\",Blad1!H764)","v":""},{"$f":"IF(Blad1!I764=\"\",\"\",Blad1!I764)","v":""},{"$f":"IF(Blad1!M764=\"\",\"\",Blad1!M764)","v":""},{"$f":"IF(Blad1!F764=\"\",\"\",Blad1!F764)","v":""},{"$f":"IF(Blad1!Q764=\"\",\"\",Blad1!Q764)","v":""}]
[{"$f":"IF(Blad1!D765=\"\",\"\",Blad1!D765)","v":""},{"$f":"IF(Blad1!E765=\"\",\"\",Blad1!E765)","v":""},{"$f":"IF(Blad1!B765=\"\",\"\",Blad1!B765)","v":""},{"$f":"IF(Blad1!H765=\"\",\"\",Blad1!H765)","v":""},{"$f":"IF(Blad1!I765=\"\",\"\",Blad1!I765)","v":""},{"$f":"IF(Blad1!M765=\"\",\"\",Blad1!M765)","v":""},{"$f":"IF(Blad1!F765=\"\",\"\",Blad1!F765)","v":""},{"$f":"IF(Blad1!Q765=\"\",\"\",Blad1!Q765)","v":""}]
[{"$f":"IF(Blad1!D766=\"\",\"\",Blad1!D766)","v":""},{"$f":"IF(Blad1!E766=\"\",\"\",Blad1!E766)","v":""},{"$f":"IF(Blad1!B766=\"\",\"\",Blad1!B766)","v":""},{"$f":"IF(Blad1!H766=\"\",\"\",Blad1!H766)","v":""},{"$f":"IF(Blad1!I766=\"\",\"\",Blad1!I766)","v":""},{"$f":"IF(Blad1!M766=\"\",\"\",Blad1!M766)","v":""},{"$f":"IF(Blad1!F766=\"\",\"\",Blad1!F766)","v":""},{"$f":"IF(Blad1!Q766=\"\",\"\",Blad1!Q766)","v":""}]
[{"$f":"IF(Blad1!D767=\"\",\"\",Blad1!D767)","v":""},{"$f":"IF(Blad1!E767=\"\",\"\",Blad1!E767)","v":""},{"$f":"IF(Blad1!B767=\"\",\"\",Blad1!B767)","v":""},{"$f":"IF(Blad1!H767=\"\",\"\",Blad1!H767)","v":""},{"$f":"IF(Blad1!I767=\"\",\"\",Blad1!I767)","v":""},{"$f":"IF(Blad1!M767=\"\",\"\",Blad1!M767)","v":""},{"$f":"IF(Blad1!F767=\"\",\"\",Blad1!F767)","v":""},{"$f":"IF(Blad1!Q767=\"\",\"\",Blad1!Q767)","v":""}]
[{"$f":"IF(Blad1!D768=\"\",\"\",Blad1!D768)","v":""},{"$f":"IF(Blad1!E768=\"\",\"\",Blad1!E768)","v":""},{"$f":"IF(Blad1!B768=\"\",\"\",Blad1!B768)","v":""},{"$f":"IF(Blad1!H768=\"\",\"\",Blad1!H768)","v":""},{"$f":"IF(Blad1!I768=\"\",\"\",Blad1!I768)","v":""},{"$f":"IF(Blad1!M768=\"\",\"\",Blad1!M768)","v":""},{"$f":"IF(Blad1!F768=\"\",\"\",Blad1!F768)","v":""},{"$f":"IF(Blad1!Q768=\"\",\"\",Blad1!Q768)","v":""}]
[{"$f":"IF(Blad1!D769=\"\",\"\",Blad1!D769)","v":""},{"$f":"IF(Blad1!E769=\"\",\"\",Blad1!E769)","v":""},{"$f":"IF(Blad1!B769=\"\",\"\",Blad1!B769)","v":""},{"$f":"IF(Blad1!H769=\"\",\"\",Blad1!H769)","v":""},{"$f":"IF(Blad1!I769=\"\",\"\",Blad1!I769)","v":""},{"$f":"IF(Blad1!M769=\"\",\"\",Blad1!M769)","v":""},{"$f":"IF(Blad1!F769=\"\",\"\",Blad1!F769)","v":""},{"$f":"IF(Blad1!Q769=\"\",\"\",Blad1!Q769)","v":""}]
[{"$f":"IF(Blad1!D770=\"\",\"\",Blad1!D770)","v":""},{"$f":"IF(Blad1!E770=\"\",\"\",Blad1!E770)","v":""},{"$f":"IF(Blad1!B770=\"\",\"\",Blad1!B770)","v":""},{"$f":"IF(Blad1!H770=\"\",\"\",Blad1!H770)","v":""},{"$f":"IF(Blad1!I770=\"\",\"\",Blad1!I770)","v":""},{"$f":"IF(Blad1!M770=\"\",\"\",Blad1!M770)","v":""},{"$f":"IF(Blad1!F770=\"\",\"\",Blad1!F770)","v":""},{"$f":"IF(Blad1!Q770=\"\",\"\",Blad1!Q770)","v":""}]
[{"$f":"IF(Blad1!D771=\"\",\"\",Blad1!D771)","v":""},{"$f":"IF(Blad1!E771=\"\",\"\",Blad1!E771)","v":""},{"$f":"IF(Blad1!B771=\"\",\"\",Blad1!B771)","v":""},{"$f":"IF(Blad1!H771=\"\",\"\",Blad1!H771)","v":""},{"$f":"IF(Blad1!I771=\"\",\"\",Blad1!I771)","v":""},{"$f":"IF(Blad1!M771=\"\",\"\",Blad1!M771)","v":""},{"$f":"IF(Blad1!F771=\"\",\"\",Blad1!F771)","v":""},{"$f":"IF(Blad1!Q771=\"\",\"\",Blad1!Q771)","v":""}]
[{"$f":"IF(Blad1!D772=\"\",\"\",Blad1!D772)","v":""},{"$f":"IF(Blad1!E772=\"\",\"\",Blad1!E772)","v":""},{"$f":"IF(Blad1!B772=\"\",\"\",Blad1!B772)","v":""},{"$f":"IF(Blad1!H772=\"\",\"\",Blad1!H772)","v":""},{"$f":"IF(Blad1!I772=\"\",\"\",Blad1!I772)","v":""},{"$f":"IF(Blad1!M772=\"\",\"\",Blad1!M772)","v":""},{"$f":"IF(Blad1!F772=\"\",\"\",Blad1!F772)","v":""},{"$f":"IF(Blad1!Q772=\"\",\"\",Blad1!Q772)","v":""}]
[{"$f":"IF(Blad1!D773=\"\",\"\",Blad1!D773)","v":""},{"$f":"IF(Blad1!E773=\"\",\"\",Blad1!E773)","v":""},{"$f":"IF(Blad1!B773=\"\",\"\",Blad1!B773)","v":""},{"$f":"IF(Blad1!H773=\"\",\"\",Blad1!H773)","v":""},{"$f":"IF(Blad1!I773=\"\",\"\",Blad1!I773)","v":""},{"$f":"IF(Blad1!M773=\"\",\"\",Blad1!M773)","v":""},{"$f":"IF(Blad1!F773=\"\",\"\",Blad1!F773)","v":""},{"$f":"IF(Blad1!Q773=\"\",\"\",Blad1!Q773)","v":""}]
[{"$f":"IF(Blad1!D774=\"\",\"\",Blad1!D774)","v":""},{"$f":"IF(Blad1!E774=\"\",\"\",Blad1!E774)","v":""},{"$f":"IF(Blad1!B774=\"\",\"\",Blad1!B774)","v":""},{"$f":"IF(Blad1!H774=\"\",\"\",Blad1!H774)","v":""},{"$f":"IF(Blad1!I774=\"\",\"\",Blad1!I774)","v":""},{"$f":"IF(Blad1!M774=\"\",\"\",Blad1!M774)","v":""},{"$f":"IF(Blad1!F774=\"\",\"\",Blad1!F774)","v":""},{"$f":"IF(Blad1!Q774=\"\",\"\",Blad1!Q774)","v":""}]
[{"$f":"IF(Blad1!D775=\"\",\"\",Blad1!D775)","v":""},{"$f":"IF(Blad1!E775=\"\",\"\",Blad1!E775)","v":""},{"$f":"IF(Blad1!B775=\"\",\"\",Blad1!B775)","v":""},{"$f":"IF(Blad1!H775=\"\",\"\",Blad1!H775)","v":""},{"$f":"IF(Blad1!I775=\"\",\"\",Blad1!I775)","v":""},{"$f":"IF(Blad1!M775=\"\",\"\",Blad1!M775)","v":""},{"$f":"IF(Blad1!F775=\"\",\"\",Blad1!F775)","v":""},{"$f":"IF(Blad1!Q775=\"\",\"\",Blad1!Q775)","v":""}]
[{"$f":"IF(Blad1!D776=\"\",\"\",Blad1!D776)","v":""},{"$f":"IF(Blad1!E776=\"\",\"\",Blad1!E776)","v":""},{"$f":"IF(Blad1!B776=\"\",\"\",Blad1!B776)","v":""},{"$f":"IF(Blad1!H776=\"\",\"\",Blad1!H776)","v":""},{"$f":"IF(Blad1!I776=\"\",\"\",Blad1!I776)","v":""},{"$f":"IF(Blad1!M776=\"\",\"\",Blad1!M776)","v":""},{"$f":"IF(Blad1!F776=\"\",\"\",Blad1!F776)","v":""},{"$f":"IF(Blad1!Q776=\"\",\"\",Blad1!Q776)","v":""}]
[{"$f":"IF(Blad1!D777=\"\",\"\",Blad1!D777)","v":""},{"$f":"IF(Blad1!E777=\"\",\"\",Blad1!E777)","v":""},{"$f":"IF(Blad1!B777=\"\",\"\",Blad1!B777)","v":""},{"$f":"IF(Blad1!H777=\"\",\"\",Blad1!H777)","v":""},{"$f":"IF(Blad1!I777=\"\",\"\",Blad1!I777)","v":""},{"$f":"IF(Blad1!M777=\"\",\"\",Blad1!M777)","v":""},{"$f":"IF(Blad1!F777=\"\",\"\",Blad1!F777)","v":""},{"$f":"IF(Blad1!Q777=\"\",\"\",Blad1!Q777)","v":""}]
[{"$f":"IF(Blad1!D778=\"\",\"\",Blad1!D778)","v":""},{"$f":"IF(Blad1!E778=\"\",\"\",Blad1!E778)","v":""},{"$f":"IF(Blad1!B778=\"\",\"\",Blad1!B778)","v":""},{"$f":"IF(Blad1!H778=\"\",\"\",Blad1!H778)","v":""},{"$f":"IF(Blad1!I778=\"\",\"\",Blad1!I778)","v":""},{"$f":"IF(Blad1!M778=\"\",\"\",Blad1!M778)","v":""},{"$f":"IF(Blad1!F778=\"\",\"\",Blad1!F778)","v":""},{"$f":"IF(Blad1!Q778=\"\",\"\",Blad1!Q778)","v":""}]
[{"$f":"IF(Blad1!D779=\"\",\"\",Blad1!D779)","v":""},{"$f":"IF(Blad1!E779=\"\",\"\",Blad1!E779)","v":""},{"$f":"IF(Blad1!B779=\"\",\"\",Blad1!B779)","v":""},{"$f":"IF(Blad1!H779=\"\",\"\",Blad1!H779)","v":""},{"$f":"IF(Blad1!I779=\"\",\"\",Blad1!I779)","v":""},{"$f":"IF(Blad1!M779=\"\",\"\",Blad1!M779)","v":""},{"$f":"IF(Blad1!F779=\"\",\"\",Blad1!F779)","v":""},{"$f":"IF(Blad1!Q779=\"\",\"\",Blad1!Q779)","v":""}]
[{"$f":"IF(Blad1!D780=\"\",\"\",Blad1!D780)","v":""},{"$f":"IF(Blad1!E780=\"\",\"\",Blad1!E780)","v":""},{"$f":"IF(Blad1!B780=\"\",\"\",Blad1!B780)","v":""},{"$f":"IF(Blad1!H780=\"\",\"\",Blad1!H780)","v":""},{"$f":"IF(Blad1!I780=\"\",\"\",Blad1!I780)","v":""},{"$f":"IF(Blad1!M780=\"\",\"\",Blad1!M780)","v":""},{"$f":"IF(Blad1!F780=\"\",\"\",Blad1!F780)","v":""},{"$f":"IF(Blad1!Q780=\"\",\"\",Blad1!Q780)","v":""}]
[{"$f":"IF(Blad1!D781=\"\",\"\",Blad1!D781)","v":""},{"$f":"IF(Blad1!E781=\"\",\"\",Blad1!E781)","v":""},{"$f":"IF(Blad1!B781=\"\",\"\",Blad1!B781)","v":""},{"$f":"IF(Blad1!H781=\"\",\"\",Blad1!H781)","v":""},{"$f":"IF(Blad1!I781=\"\",\"\",Blad1!I781)","v":""},{"$f":"IF(Blad1!M781=\"\",\"\",Blad1!M781)","v":""},{"$f":"IF(Blad1!F781=\"\",\"\",Blad1!F781)","v":""},{"$f":"IF(Blad1!Q781=\"\",\"\",Blad1!Q781)","v":""}]
[{"$f":"IF(Blad1!D782=\"\",\"\",Blad1!D782)","v":""},{"$f":"IF(Blad1!E782=\"\",\"\",Blad1!E782)","v":""},{"$f":"IF(Blad1!B782=\"\",\"\",Blad1!B782)","v":""},{"$f":"IF(Blad1!H782=\"\",\"\",Blad1!H782)","v":""},{"$f":"IF(Blad1!I782=\"\",\"\",Blad1!I782)","v":""},{"$f":"IF(Blad1!M782=\"\",\"\",Blad1!M782)","v":""},{"$f":"IF(Blad1!F782=\"\",\"\",Blad1!F782)","v":""},{"$f":"IF(Blad1!Q782=\"\",\"\",Blad1!Q782)","v":""}]
[{"$f":"IF(Blad1!D783=\"\",\"\",Blad1!D783)","v":""},{"$f":"IF(Blad1!E783=\"\",\"\",Blad1!E783)","v":""},{"$f":"IF(Blad1!B783=\"\",\"\",Blad1!B783)","v":""},{"$f":"IF(Blad1!H783=\"\",\"\",Blad1!H783)","v":""},{"$f":"IF(Blad1!I783=\"\",\"\",Blad1!I783)","v":""},{"$f":"IF(Blad1!M783=\"\",\"\",Blad1!M783)","v":""},{"$f":"IF(Blad1!F783=\"\",\"\",Blad1!F783)","v":""},{"$f":"IF(Blad1!Q783=\"\",\"\",Blad1!Q783)","v":""}]
[{"$f":"IF(Blad1!D784=\"\",\"\",Blad1!D784)","v":""},{"$f":"IF(Blad1!E784=\"\",\"\",Blad1!E784)","v":""},{"$f":"IF(Blad1!B784=\"\",\"\",Blad1!B784)","v":""},{"$f":"IF(Blad1!H784=\"\",\"\",Blad1!H784)","v":""},{"$f":"IF(Blad1!I784=\"\",\"\",Blad1!I784)","v":""},{"$f":"IF(Blad1!M784=\"\",\"\",Blad1!M784)","v":""},{"$f":"IF(Blad1!F784=\"\",\"\",Blad1!F784)","v":""},{"$f":"IF(Blad1!Q784=\"\",\"\",Blad1!Q784)","v":""}]
[{"$f":"IF(Blad1!D785=\"\",\"\",Blad1!D785)","v":""},{"$f":"IF(Blad1!E785=\"\",\"\",Blad1!E785)","v":""},{"$f":"IF(Blad1!B785=\"\",\"\",Blad1!B785)","v":""},{"$f":"IF(Blad1!H785=\"\",\"\",Blad1!H785)","v":""},{"$f":"IF(Blad1!I785=\"\",\"\",Blad1!I785)","v":""},{"$f":"IF(Blad1!M785=\"\",\"\",Blad1!M785)","v":""},{"$f":"IF(Blad1!F785=\"\",\"\",Blad1!F785)","v":""},{"$f":"IF(Blad1!Q785=\"\",\"\",Blad1!Q785)","v":""}]
[{"$f":"IF(Blad1!D786=\"\",\"\",Blad1!D786)","v":""},{"$f":"IF(Blad1!E786=\"\",\"\",Blad1!E786)","v":""},{"$f":"IF(Blad1!B786=\"\",\"\",Blad1!B786)","v":""},{"$f":"IF(Blad1!H786=\"\",\"\",Blad1!H786)","v":""},{"$f":"IF(Blad1!I786=\"\",\"\",Blad1!I786)","v":""},{"$f":"IF(Blad1!M786=\"\",\"\",Blad1!M786)","v":""},{"$f":"IF(Blad1!F786=\"\",\"\",Blad1!F786)","v":""},{"$f":"IF(Blad1!Q786=\"\",\"\",Blad1!Q786)","v":""}]
[{"$f":"IF(Blad1!D787=\"\",\"\",Blad1!D787)","v":""},{"$f":"IF(Blad1!E787=\"\",\"\",Blad1!E787)","v":""},{"$f":"IF(Blad1!B787=\"\",\"\",Blad1!B787)","v":""},{"$f":"IF(Blad1!H787=\"\",\"\",Blad1!H787)","v":""},{"$f":"IF(Blad1!I787=\"\",\"\",Blad1!I787)","v":""},{"$f":"IF(Blad1!M787=\"\",\"\",Blad1!M787)","v":""},{"$f":"IF(Blad1!F787=\"\",\"\",Blad1!F787)","v":""},{"$f":"IF(Blad1!Q787=\"\",\"\",Blad1!Q787)","v":""}]
[{"$f":"IF(Blad1!D788=\"\",\"\",Blad1!D788)","v":""},{"$f":"IF(Blad1!E788=\"\",\"\",Blad1!E788)","v":""},{"$f":"IF(Blad1!B788=\"\",\"\",Blad1!B788)","v":""},{"$f":"IF(Blad1!H788=\"\",\"\",Blad1!H788)","v":""},{"$f":"IF(Blad1!I788=\"\",\"\",Blad1!I788)","v":""},{"$f":"IF(Blad1!M788=\"\",\"\",Blad1!M788)","v":""},{"$f":"IF(Blad1!F788=\"\",\"\",Blad1!F788)","v":""},{"$f":"IF(Blad1!Q788=\"\",\"\",Blad1!Q788)","v":""}]
[{"$f":"IF(Blad1!D789=\"\",\"\",Blad1!D789)","v":""},{"$f":"IF(Blad1!E789=\"\",\"\",Blad1!E789)","v":""},{"$f":"IF(Blad1!B789=\"\",\"\",Blad1!B789)","v":""},{"$f":"IF(Blad1!H789=\"\",\"\",Blad1!H789)","v":""},{"$f":"IF(Blad1!I789=\"\",\"\",Blad1!I789)","v":""},{"$f":"IF(Blad1!M789=\"\",\"\",Blad1!M789)","v":""},{"$f":"IF(Blad1!F789=\"\",\"\",Blad1!F789)","v":""},{"$f":"IF(Blad1!Q789=\"\",\"\",Blad1!Q789)","v":""}]
[{"$f":"IF(Blad1!D790=\"\",\"\",Blad1!D790)","v":""},{"$f":"IF(Blad1!E790=\"\",\"\",Blad1!E790)","v":""},{"$f":"IF(Blad1!B790=\"\",\"\",Blad1!B790)","v":""},{"$f":"IF(Blad1!H790=\"\",\"\",Blad1!H790)","v":""},{"$f":"IF(Blad1!I790=\"\",\"\",Blad1!I790)","v":""},{"$f":"IF(Blad1!M790=\"\",\"\",Blad1!M790)","v":""},{"$f":"IF(Blad1!F790=\"\",\"\",Blad1!F790)","v":""},{"$f":"IF(Blad1!Q790=\"\",\"\",Blad1!Q790)","v":""}]
[{"$f":"IF(Blad1!D791=\"\",\"\",Blad1!D791)","v":""},{"$f":"IF(Blad1!E791=\"\",\"\",Blad1!E791)","v":""},{"$f":"IF(Blad1!B791=\"\",\"\",Blad1!B791)","v":""},{"$f":"IF(Blad1!H791=\"\",\"\",Blad1!H791)","v":""},{"$f":"IF(Blad1!I791=\"\",\"\",Blad1!I791)","v":""},{"$f":"IF(Blad1!M791=\"\",\"\",Blad1!M791)","v":""},{"$f":"IF(Blad1!F791=\"\",\"\",Blad1!F791)","v":""},{"$f":"IF(Blad1!Q791=\"\",\"\",Blad1!Q791)","v":""}]
[{"$f":"IF(Blad1!D792=\"\",\"\",Blad1!D792)","v":""},{"$f":"IF(Blad1!E792=\"\",\"\",Blad1!E792)","v":""},{"$f":"IF(Blad1!B792=\"\",\"\",Blad1!B792)","v":""},{"$f":"IF(Blad1!H792=\"\",\"\",Blad1!H792)","v":""},{"$f":"IF(Blad1!I792=\"\",\"\",Blad1!I792)","v":""},{"$f":"IF(Blad1!M792=\"\",\"\",Blad1!M792)","v":""},{"$f":"IF(Blad1!F792=\"\",\"\",Blad1!F792)","v":""},{"$f":"IF(Blad1!Q792=\"\",\"\",Blad1!Q792)","v":""}]
[{"$f":"IF(Blad1!D793=\"\",\"\",Blad1!D793)","v":""},{"$f":"IF(Blad1!E793=\"\",\"\",Blad1!E793)","v":""},{"$f":"IF(Blad1!B793=\"\",\"\",Blad1!B793)","v":""},{"$f":"IF(Blad1!H793=\"\",\"\",Blad1!H793)","v":""},{"$f":"IF(Blad1!I793=\"\",\"\",Blad1!I793)","v":""},{"$f":"IF(Blad1!M793=\"\",\"\",Blad1!M793)","v":""},{"$f":"IF(Blad1!F793=\"\",\"\",Blad1!F793)","v":""},{"$f":"IF(Blad1!Q793=\"\",\"\",Blad1!Q793)","v":""}]
[{"$f":"IF(Blad1!D794=\"\",\"\",Blad1!D794)","v":""},{"$f":"IF(Blad1!E794=\"\",\"\",Blad1!E794)","v":""},{"$f":"IF(Blad1!B794=\"\",\"\",Blad1!B794)","v":""},{"$f":"IF(Blad1!H794=\"\",\"\",Blad1!H794)","v":""},{"$f":"IF(Blad1!I794=\"\",\"\",Blad1!I794)","v":""},{"$f":"IF(Blad1!M794=\"\",\"\",Blad1!M794)","v":""},{"$f":"IF(Blad1!F794=\"\",\"\",Blad1!F794)","v":""},{"$f":"IF(Blad1!Q794=\"\",\"\",Blad1!Q794)","v":""}]
[{"$f":"IF(Blad1!D795=\"\",\"\",Blad1!D795)","v":""},{"$f":"IF(Blad1!E795=\"\",\"\",Blad1!E795)","v":""},{"$f":"IF(Blad1!B795=\"\",\"\",Blad1!B795)","v":""},{"$f":"IF(Blad1!H795=\"\",\"\",Blad1!H795)","v":""},{"$f":"IF(Blad1!I795=\"\",\"\",Blad1!I795)","v":""},{"$f":"IF(Blad1!M795=\"\",\"\",Blad1!M795)","v":""},{"$f":"IF(Blad1!F795=\"\",\"\",Blad1!F795)","v":""},{"$f":"IF(Blad1!Q795=\"\",\"\",Blad1!Q795)","v":""}]
[{"$f":"IF(Blad1!D796=\"\",\"\",Blad1!D796)","v":""},{"$f":"IF(Blad1!E796=\"\",\"\",Blad1!E796)","v":""},{"$f":"IF(Blad1!B796=\"\",\"\",Blad1!B796)","v":""},{"$f":"IF(Blad1!H796=\"\",\"\",Blad1!H796)","v":""},{"$f":"IF(Blad1!I796=\"\",\"\",Blad1!I796)","v":""},{"$f":"IF(Blad1!M796=\"\",\"\",Blad1!M796)","v":""},{"$f":"IF(Blad1!F796=\"\",\"\",Blad1!F796)","v":""},{"$f":"IF(Blad1!Q796=\"\",\"\",Blad1!Q796)","v":""}]
[{"$f":"IF(Blad1!D797=\"\",\"\",Blad1!D797)","v":""},{"$f":"IF(Blad1!E797=\"\",\"\",Blad1!E797)","v":""},{"$f":"IF(Blad1!B797=\"\",\"\",Blad1!B797)","v":""},{"$f":"IF(Blad1!H797=\"\",\"\",Blad1!H797)","v":""},{"$f":"IF(Blad1!I797=\"\",\"\",Blad1!I797)","v":""},{"$f":"IF(Blad1!M797=\"\",\"\",Blad1!M797)","v":""},{"$f":"IF(Blad1!F797=\"\",\"\",Blad1!F797)","v":""},{"$f":"IF(Blad1!Q797=\"\",\"\",Blad1!Q797)","v":""}]
[{"$f":"IF(Blad1!D798=\"\",\"\",Blad1!D798)","v":""},{"$f":"IF(Blad1!E798=\"\",\"\",Blad1!E798)","v":""},{"$f":"IF(Blad1!B798=\"\",\"\",Blad1!B798)","v":""},{"$f":"IF(Blad1!H798=\"\",\"\",Blad1!H798)","v":""},{"$f":"IF(Blad1!I798=\"\",\"\",Blad1!I798)","v":""},{"$f":"IF(Blad1!M798=\"\",\"\",Blad1!M798)","v":""},{"$f":"IF(Blad1!F798=\"\",\"\",Blad1!F798)","v":""},{"$f":"IF(Blad1!Q798=\"\",\"\",Blad1!Q798)","v":""}]
[{"$f":"IF(Blad1!D799=\"\",\"\",Blad1!D799)","v":""},{"$f":"IF(Blad1!E799=\"\",\"\",Blad1!E799)","v":""},{"$f":"IF(Blad1!B799=\"\",\"\",Blad1!B799)","v":""},{"$f":"IF(Blad1!H799=\"\",\"\",Blad1!H799)","v":""},{"$f":"IF(Blad1!I799=\"\",\"\",Blad1!I799)","v":""},{"$f":"IF(Blad1!M799=\"\",\"\",Blad1!M799)","v":""},{"$f":"IF(Blad1!F799=\"\",\"\",Blad1!F799)","v":""},{"$f":"IF(Blad1!Q799=\"\",\"\",Blad1!Q799)","v":""}]
[{"$f":"IF(Blad1!D800=\"\",\"\",Blad1!D800)","v":""},{"$f":"IF(Blad1!E800=\"\",\"\",Blad1!E800)","v":""},{"$f":"IF(Blad1!B800=\"\",\"\",Blad1!B800)","v":""},{"$f":"IF(Blad1!H800=\"\",\"\",Blad1!H800)","v":""},{"$f":"IF(Blad1!I800=\"\",\"\",Blad1!I800)","v":""},{"$f":"IF(Blad1!M800=\"\",\"\",Blad1!M800)","v":""},{"$f":"IF(Blad1!F800=\"\",\"\",Blad1!F800)","v":""},{"$f":"IF(Blad1!Q800=\"\",\"\",Blad1!Q800)","v":""}]
[{"$f":"IF(Blad1!D801=\"\",\"\",Blad1!D801)","v":""},{"$f":"IF(Blad1!E801=\"\",\"\",Blad1!E801)","v":""},{"$f":"IF(Blad1!B801=\"\",\"\",Blad1!B801)","v":""},{"$f":"IF(Blad1!H801=\"\",\"\",Blad1!H801)","v":""},{"$f":"IF(Blad1!I801=\"\",\"\",Blad1!I801)","v":""},{"$f":"IF(Blad1!M801=\"\",\"\",Blad1!M801)","v":""},{"$f":"IF(Blad1!F801=\"\",\"\",Blad1!F801)","v":""},{"$f":"IF(Blad1!Q801=\"\",\"\",Blad1!Q801)","v":""}]
[{"$f":"IF(Blad1!D802=\"\",\"\",Blad1!D802)","v":""},{"$f":"IF(Blad1!E802=\"\",\"\",Blad1!E802)","v":""},{"$f":"IF(Blad1!B802=\"\",\"\",Blad1!B802)","v":""},{"$f":"IF(Blad1!H802=\"\",\"\",Blad1!H802)","v":""},{"$f":"IF(Blad1!I802=\"\",\"\",Blad1!I802)","v":""},{"$f":"IF(Blad1!M802=\"\",\"\",Blad1!M802)","v":""},{"$f":"IF(Blad1!F802=\"\",\"\",Blad1!F802)","v":""},{"$f":"IF(Blad1!Q802=\"\",\"\",Blad1!Q802)","v":""}]
[{"$f":"IF(Blad1!D803=\"\",\"\",Blad1!D803)","v":""},{"$f":"IF(Blad1!E803=\"\",\"\",Blad1!E803)","v":""},{"$f":"IF(Blad1!B803=\"\",\"\",Blad1!B803)","v":""},{"$f":"IF(Blad1!H803=\"\",\"\",Blad1!H803)","v":""},{"$f":"IF(Blad1!I803=\"\",\"\",Blad1!I803)","v":""},{"$f":"IF(Blad1!M803=\"\",\"\",Blad1!M803)","v":""},{"$f":"IF(Blad1!F803=\"\",\"\",Blad1!F803)","v":""},{"$f":"IF(Blad1!Q803=\"\",\"\",Blad1!Q803)","v":""}]
[{"$f":"IF(Blad1!D804=\"\",\"\",Blad1!D804)","v":""},{"$f":"IF(Blad1!E804=\"\",\"\",Blad1!E804)","v":""},{"$f":"IF(Blad1!B804=\"\",\"\",Blad1!B804)","v":""},{"$f":"IF(Blad1!H804=\"\",\"\",Blad1!H804)","v":""},{"$f":"IF(Blad1!I804=\"\",\"\",Blad1!I804)","v":""},{"$f":"IF(Blad1!M804=\"\",\"\",Blad1!M804)","v":""},{"$f":"IF(Blad1!F804=\"\",\"\",Blad1!F804)","v":""},{"$f":"IF(Blad1!Q804=\"\",\"\",Blad1!Q804)","v":""}]
[{"$f":"IF(Blad1!D805=\"\",\"\",Blad1!D805)","v":""},{"$f":"IF(Blad1!E805=\"\",\"\",Blad1!E805)","v":""},{"$f":"IF(Blad1!B805=\"\",\"\",Blad1!B805)","v":""},{"$f":"IF(Blad1!H805=\"\",\"\",Blad1!H805)","v":""},{"$f":"IF(Blad1!I805=\"\",\"\",Blad1!I805)","v":""},{"$f":"IF(Blad1!M805=\"\",\"\",Blad1!M805)","v":""},{"$f":"IF(Blad1!F805=\"\",\"\",Blad1!F805)","v":""},{"$f":"IF(Blad1!Q805=\"\",\"\",Blad1!Q805)","v":""}]
[{"$f":"IF(Blad1!D806=\"\",\"\",Blad1!D806)","v":""},{"$f":"IF(Blad1!E806=\"\",\"\",Blad1!E806)","v":""},{"$f":"IF(Blad1!B806=\"\",\"\",Blad1!B806)","v":""},{"$f":"IF(Blad1!H806=\"\",\"\",Blad1!H806)","v":""},{"$f":"IF(Blad1!I806=\"\",\"\",Blad1!I806)","v":""},{"$f":"IF(Blad1!M806=\"\",\"\",Blad1!M806)","v":""},{"$f":"IF(Blad1!F806=\"\",\"\",Blad1!F806)","v":""},{"$f":"IF(Blad1!Q806=\"\",\"\",Blad1!Q806)","v":""}]
[{"$f":"IF(Blad1!D807=\"\",\"\",Blad1!D807)","v":""},{"$f":"IF(Blad1!E807=\"\",\"\",Blad1!E807)","v":""},{"$f":"IF(Blad1!B807=\"\",\"\",Blad1!B807)","v":""},{"$f":"IF(Blad1!H807=\"\",\"\",Blad1!H807)","v":""},{"$f":"IF(Blad1!I807=\"\",\"\",Blad1!I807)","v":""},{"$f":"IF(Blad1!M807=\"\",\"\",Blad1!M807)","v":""},{"$f":"IF(Blad1!F807=\"\",\"\",Blad1!F807)","v":""},{"$f":"IF(Blad1!Q807=\"\",\"\",Blad1!Q807)","v":""}]
[{"$f":"IF(Blad1!D808=\"\",\"\",Blad1!D808)","v":""},{"$f":"IF(Blad1!E808=\"\",\"\",Blad1!E808)","v":""},{"$f":"IF(Blad1!B808=\"\",\"\",Blad1!B808)","v":""},{"$f":"IF(Blad1!H808=\"\",\"\",Blad1!H808)","v":""},{"$f":"IF(Blad1!I808=\"\",\"\",Blad1!I808)","v":""},{"$f":"IF(Blad1!M808=\"\",\"\",Blad1!M808)","v":""},{"$f":"IF(Blad1!F808=\"\",\"\",Blad1!F808)","v":""},{"$f":"IF(Blad1!Q808=\"\",\"\",Blad1!Q808)","v":""}]
[{"$f":"IF(Blad1!D809=\"\",\"\",Blad1!D809)","v":""},{"$f":"IF(Blad1!E809=\"\",\"\",Blad1!E809)","v":""},{"$f":"IF(Blad1!B809=\"\",\"\",Blad1!B809)","v":""},{"$f":"IF(Blad1!H809=\"\",\"\",Blad1!H809)","v":""},{"$f":"IF(Blad1!I809=\"\",\"\",Blad1!I809)","v":""},{"$f":"IF(Blad1!M809=\"\",\"\",Blad1!M809)","v":""},{"$f":"IF(Blad1!F809=\"\",\"\",Blad1!F809)","v":""},{"$f":"IF(Blad1!Q809=\"\",\"\",Blad1!Q809)","v":""}]
[{"$f":"IF(Blad1!D810=\"\",\"\",Blad1!D810)","v":""},{"$f":"IF(Blad1!E810=\"\",\"\",Blad1!E810)","v":""},{"$f":"IF(Blad1!B810=\"\",\"\",Blad1!B810)","v":""},{"$f":"IF(Blad1!H810=\"\",\"\",Blad1!H810)","v":""},{"$f":"IF(Blad1!I810=\"\",\"\",Blad1!I810)","v":""},{"$f":"IF(Blad1!M810=\"\",\"\",Blad1!M810)","v":""},{"$f":"IF(Blad1!F810=\"\",\"\",Blad1!F810)","v":""},{"$f":"IF(Blad1!Q810=\"\",\"\",Blad1!Q810)","v":""}]
[{"$f":"IF(Blad1!D811=\"\",\"\",Blad1!D811)","v":""},{"$f":"IF(Blad1!E811=\"\",\"\",Blad1!E811)","v":""},{"$f":"IF(Blad1!B811=\"\",\"\",Blad1!B811)","v":""},{"$f":"IF(Blad1!H811=\"\",\"\",Blad1!H811)","v":""},{"$f":"IF(Blad1!I811=\"\",\"\",Blad1!I811)","v":""},{"$f":"IF(Blad1!M811=\"\",\"\",Blad1!M811)","v":""},{"$f":"IF(Blad1!F811=\"\",\"\",Blad1!F811)","v":""},{"$f":"IF(Blad1!Q811=\"\",\"\",Blad1!Q811)","v":""}]
[{"$f":"IF(Blad1!D812=\"\",\"\",Blad1!D812)","v":""},{"$f":"IF(Blad1!E812=\"\",\"\",Blad1!E812)","v":""},{"$f":"IF(Blad1!B812=\"\",\"\",Blad1!B812)","v":""},{"$f":"IF(Blad1!H812=\"\",\"\",Blad1!H812)","v":""},{"$f":"IF(Blad1!I812=\"\",\"\",Blad1!I812)","v":""},{"$f":"IF(Blad1!M812=\"\",\"\",Blad1!M812)","v":""},{"$f":"IF(Blad1!F812=\"\",\"\",Blad1!F812)","v":""},{"$f":"IF(Blad1!Q812=\"\",\"\",Blad1!Q812)","v":""}]
[{"$f":"IF(Blad1!D813=\"\",\"\",Blad1!D813)","v":""},{"$f":"IF(Blad1!E813=\"\",\"\",Blad1!E813)","v":""},{"$f":"IF(Blad1!B813=\"\",\"\",Blad1!B813)","v":""},{"$f":"IF(Blad1!H813=\"\",\"\",Blad1!H813)","v":""},{"$f":"IF(Blad1!I813=\"\",\"\",Blad1!I813)","v":""},{"$f":"IF(Blad1!M813=\"\",\"\",Blad1!M813)","v":""},{"$f":"IF(Blad1!F813=\"\",\"\",Blad1!F813)","v":""},{"$f":"IF(Blad1!Q813=\"\",\"\",Blad1!Q813)","v":""}]
[{"$f":"IF(Blad1!D814=\"\",\"\",Blad1!D814)","v":""},{"$f":"IF(Blad1!E814=\"\",\"\",Blad1!E814)","v":""},{"$f":"IF(Blad1!B814=\"\",\"\",Blad1!B814)","v":""},{"$f":"IF(Blad1!H814=\"\",\"\",Blad1!H814)","v":""},{"$f":"IF(Blad1!I814=\"\",\"\",Blad1!I814)","v":""},{"$f":"IF(Blad1!M814=\"\",\"\",Blad1!M814)","v":""},{"$f":"IF(Blad1!F814=\"\",\"\",Blad1!F814)","v":""},{"$f":"IF(Blad1!Q814=\"\",\"\",Blad1!Q814)","v":""}]
[{"$f":"IF(Blad1!D815=\"\",\"\",Blad1!D815)","v":""},{"$f":"IF(Blad1!E815=\"\",\"\",Blad1!E815)","v":""},{"$f":"IF(Blad1!B815=\"\",\"\",Blad1!B815)","v":""},{"$f":"IF(Blad1!H815=\"\",\"\",Blad1!H815)","v":""},{"$f":"IF(Blad1!I815=\"\",\"\",Blad1!I815)","v":""},{"$f":"IF(Blad1!M815=\"\",\"\",Blad1!M815)","v":""},{"$f":"IF(Blad1!F815=\"\",\"\",Blad1!F815)","v":""},{"$f":"IF(Blad1!Q815=\"\",\"\",Blad1!Q815)","v":""}]
[{"$f":"IF(Blad1!D816=\"\",\"\",Blad1!D816)","v":""},{"$f":"IF(Blad1!E816=\"\",\"\",Blad1!E816)","v":""},{"$f":"IF(Blad1!B816=\"\",\"\",Blad1!B816)","v":""},{"$f":"IF(Blad1!H816=\"\",\"\",Blad1!H816)","v":""},{"$f":"IF(Blad1!I816=\"\",\"\",Blad1!I816)","v":""},{"$f":"IF(Blad1!M816=\"\",\"\",Blad1!M816)","v":""},{"$f":"IF(Blad1!F816=\"\",\"\",Blad1!F816)","v":""},{"$f":"IF(Blad1!Q816=\"\",\"\",Blad1!Q816)","v":""}]
[{"$f":"IF(Blad1!D817=\"\",\"\",Blad1!D817)","v":""},{"$f":"IF(Blad1!E817=\"\",\"\",Blad1!E817)","v":""},{"$f":"IF(Blad1!B817=\"\",\"\",Blad1!B817)","v":""},{"$f":"IF(Blad1!H817=\"\",\"\",Blad1!H817)","v":""},{"$f":"IF(Blad1!I817=\"\",\"\",Blad1!I817)","v":""},{"$f":"IF(Blad1!M817=\"\",\"\",Blad1!M817)","v":""},{"$f":"IF(Blad1!F817=\"\",\"\",Blad1!F817)","v":""},{"$f":"IF(Blad1!Q817=\"\",\"\",Blad1!Q817)","v":""}]
[{"$f":"IF(Blad1!D818=\"\",\"\",Blad1!D818)","v":""},{"$f":"IF(Blad1!E818=\"\",\"\",Blad1!E818)","v":""},{"$f":"IF(Blad1!B818=\"\",\"\",Blad1!B818)","v":""},{"$f":"IF(Blad1!H818=\"\",\"\",Blad1!H818)","v":""},{"$f":"IF(Blad1!I818=\"\",\"\",Blad1!I818)","v":""},{"$f":"IF(Blad1!M818=\"\",\"\",Blad1!M818)","v":""},{"$f":"IF(Blad1!F818=\"\",\"\",Blad1!F818)","v":""},{"$f":"IF(Blad1!Q818=\"\",\"\",Blad1!Q818)","v":""}]
[{"$f":"IF(Blad1!D819=\"\",\"\",Blad1!D819)","v":""},{"$f":"IF(Blad1!E819=\"\",\"\",Blad1!E819)","v":""},{"$f":"IF(Blad1!B819=\"\",\"\",Blad1!B819)","v":""},{"$f":"IF(Blad1!H819=\"\",\"\",Blad1!H819)","v":""},{"$f":"IF(Blad1!I819=\"\",\"\",Blad1!I819)","v":""},{"$f":"IF(Blad1!M819=\"\",\"\",Blad1!M819)","v":""},{"$f":"IF(Blad1!F819=\"\",\"\",Blad1!F819)","v":""},{"$f":"IF(Blad1!Q819=\"\",\"\",Blad1!Q819)","v":""}]
[{"$f":"IF(Blad1!D820=\"\",\"\",Blad1!D820)","v":""},{"$f":"IF(Blad1!E820=\"\",\"\",Blad1!E820)","v":""},{"$f":"IF(Blad1!B820=\"\",\"\",Blad1!B820)","v":""},{"$f":"IF(Blad1!H820=\"\",\"\",Blad1!H820)","v":""},{"$f":"IF(Blad1!I820=\"\",\"\",Blad1!I820)","v":""},{"$f":"IF(Blad1!M820=\"\",\"\",Blad1!M820)","v":""},{"$f":"IF(Blad1!F820=\"\",\"\",Blad1!F820)","v":""},{"$f":"IF(Blad1!Q820=\"\",\"\",Blad1!Q820)","v":""}]
[{"$f":"IF(Blad1!D821=\"\",\"\",Blad1!D821)","v":""},{"$f":"IF(Blad1!E821=\"\",\"\",Blad1!E821)","v":""},{"$f":"IF(Blad1!B821=\"\",\"\",Blad1!B821)","v":""},{"$f":"IF(Blad1!H821=\"\",\"\",Blad1!H821)","v":""},{"$f":"IF(Blad1!I821=\"\",\"\",Blad1!I821)","v":""},{"$f":"IF(Blad1!M821=\"\",\"\",Blad1!M821)","v":""},{"$f":"IF(Blad1!F821=\"\",\"\",Blad1!F821)","v":""},{"$f":"IF(Blad1!Q821=\"\",\"\",Blad1!Q821)","v":""}]
[{"$f":"IF(Blad1!D822=\"\",\"\",Blad1!D822)","v":""},{"$f":"IF(Blad1!E822=\"\",\"\",Blad1!E822)","v":""},{"$f":"IF(Blad1!B822=\"\",\"\",Blad1!B822)","v":""},{"$f":"IF(Blad1!H822=\"\",\"\",Blad1!H822)","v":""},{"$f":"IF(Blad1!I822=\"\",\"\",Blad1!I822)","v":""},{"$f":"IF(Blad1!M822=\"\",\"\",Blad1!M822)","v":""},{"$f":"IF(Blad1!F822=\"\",\"\",Blad1!F822)","v":""},{"$f":"IF(Blad1!Q822=\"\",\"\",Blad1!Q822)","v":""}]
[{"$f":"IF(Blad1!D823=\"\",\"\",Blad1!D823)","v":""},{"$f":"IF(Blad1!E823=\"\",\"\",Blad1!E823)","v":""},{"$f":"IF(Blad1!B823=\"\",\"\",Blad1!B823)","v":""},{"$f":"IF(Blad1!H823=\"\",\"\",Blad1!H823)","v":""},{"$f":"IF(Blad1!I823=\"\",\"\",Blad1!I823)","v":""},{"$f":"IF(Blad1!M823=\"\",\"\",Blad1!M823)","v":""},{"$f":"IF(Blad1!F823=\"\",\"\",Blad1!F823)","v":""},{"$f":"IF(Blad1!Q823=\"\",\"\",Blad1!Q823)","v":""}]
[{"$f":"IF(Blad1!D824=\"\",\"\",Blad1!D824)","v":""},{"$f":"IF(Blad1!E824=\"\",\"\",Blad1!E824)","v":""},{"$f":"IF(Blad1!B824=\"\",\"\",Blad1!B824)","v":""},{"$f":"IF(Blad1!H824=\"\",\"\",Blad1!H824)","v":""},{"$f":"IF(Blad1!I824=\"\",\"\",Blad1!I824)","v":""},{"$f":"IF(Blad1!M824=\"\",\"\",Blad1!M824)","v":""},{"$f":"IF(Blad1!F824=\"\",\"\",Blad1!F824)","v":""},{"$f":"IF(Blad1!Q824=\"\",\"\",Blad1!Q824)","v":""}]
[{"$f":"IF(Blad1!D825=\"\",\"\",Blad1!D825)","v":""},{"$f":"IF(Blad1!E825=\"\",\"\",Blad1!E825)","v":""},{"$f":"IF(Blad1!B825=\"\",\"\",Blad1!B825)","v":""},{"$f":"IF(Blad1!H825=\"\",\"\",Blad1!H825)","v":""},{"$f":"IF(Blad1!I825=\"\",\"\",Blad1!I825)","v":""},{"$f":"IF(Blad1!M825=\"\",\"\",Blad1!M825)","v":""},{"$f":"IF(Blad1!F825=\"\",\"\",Blad1!F825)","v":""},{"$f":"IF(Blad1!Q825=\"\",\"\",Blad1!Q825)","v":""}]
[{"$f":"IF(Blad1!D826=\"\",\"\",Blad1!D826)","v":""},{"$f":"IF(Blad1!E826=\"\",\"\",Blad1!E826)","v":""},{"$f":"IF(Blad1!B826=\"\",\"\",Blad1!B826)","v":""},{"$f":"IF(Blad1!H826=\"\",\"\",Blad1!H826)","v":""},{"$f":"IF(Blad1!I826=\"\",\"\",Blad1!I826)","v":""},{"$f":"IF(Blad1!M826=\"\",\"\",Blad1!M826)","v":""},{"$f":"IF(Blad1!F826=\"\",\"\",Blad1!F826)","v":""},{"$f":"IF(Blad1!Q826=\"\",\"\",Blad1!Q826)","v":""}]
[{"$f":"IF(Blad1!D827=\"\",\"\",Blad1!D827)","v":""},{"$f":"IF(Blad1!E827=\"\",\"\",Blad1!E827)","v":""},{"$f":"IF(Blad1!B827=\"\",\"\",Blad1!B827)","v":""},{"$f":"IF(Blad1!H827=\"\",\"\",Blad1!H827)","v":""},{"$f":"IF(Blad1!I827=\"\",\"\",Blad1!I827)","v":""},{"$f":"IF(Blad1!M827=\"\",\"\",Blad1!M827)","v":""},{"$f":"IF(Blad1!F827=\"\",\"\",Blad1!F827)","v":""},{"$f":"IF(Blad1!Q827=\"\",\"\",Blad1!Q827)","v":""}]
[{"$f":"IF(Blad1!D828=\"\",\"\",Blad1!D828)","v":""},{"$f":"IF(Blad1!E828=\"\",\"\",Blad1!E828)","v":""},{"$f":"IF(Blad1!B828=\"\",\"\",Blad1!B828)","v":""},{"$f":"IF(Blad1!H828=\"\",\"\",Blad1!H828)","v":""},{"$f":"IF(Blad1!I828=\"\",\"\",Blad1!I828)","v":""},{"$f":"IF(Blad1!M828=\"\",\"\",Blad1!M828)","v":""},{"$f":"IF(Blad1!F828=\"\",\"\",Blad1!F828)","v":""},{"$f":"IF(Blad1!Q828=\"\",\"\",Blad1!Q828)","v":""}]
[{"$f":"IF(Blad1!D829=\"\",\"\",Blad1!D829)","v":""},{"$f":"IF(Blad1!E829=\"\",\"\",Blad1!E829)","v":""},{"$f":"IF(Blad1!B829=\"\",\"\",Blad1!B829)","v":""},{"$f":"IF(Blad1!H829=\"\",\"\",Blad1!H829)","v":""},{"$f":"IF(Blad1!I829=\"\",\"\",Blad1!I829)","v":""},{"$f":"IF(Blad1!M829=\"\",\"\",Blad1!M829)","v":""},{"$f":"IF(Blad1!F829=\"\",\"\",Blad1!F829)","v":""},{"$f":"IF(Blad1!Q829=\"\",\"\",Blad1!Q829)","v":""}]
[{"$f":"IF(Blad1!D830=\"\",\"\",Blad1!D830)","v":""},{"$f":"IF(Blad1!E830=\"\",\"\",Blad1!E830)","v":""},{"$f":"IF(Blad1!B830=\"\",\"\",Blad1!B830)","v":""},{"$f":"IF(Blad1!H830=\"\",\"\",Blad1!H830)","v":""},{"$f":"IF(Blad1!I830=\"\",\"\",Blad1!I830)","v":""},{"$f":"IF(Blad1!M830=\"\",\"\",Blad1!M830)","v":""},{"$f":"IF(Blad1!F830=\"\",\"\",Blad1!F830)","v":""},{"$f":"IF(Blad1!Q830=\"\",\"\",Blad1!Q830)","v":""}]
[{"$f":"IF(Blad1!D831=\"\",\"\",Blad1!D831)","v":""},{"$f":"IF(Blad1!E831=\"\",\"\",Blad1!E831)","v":""},{"$f":"IF(Blad1!B831=\"\",\"\",Blad1!B831)","v":""},{"$f":"IF(Blad1!H831=\"\",\"\",Blad1!H831)","v":""},{"$f":"IF(Blad1!I831=\"\",\"\",Blad1!I831)","v":""},{"$f":"IF(Blad1!M831=\"\",\"\",Blad1!M831)","v":""},{"$f":"IF(Blad1!F831=\"\",\"\",Blad1!F831)","v":""},{"$f":"IF(Blad1!Q831=\"\",\"\",Blad1!Q831)","v":""}]
[{"$f":"IF(Blad1!D832=\"\",\"\",Blad1!D832)","v":""},{"$f":"IF(Blad1!E832=\"\",\"\",Blad1!E832)","v":""},{"$f":"IF(Blad1!B832=\"\",\"\",Blad1!B832)","v":""},{"$f":"IF(Blad1!H832=\"\",\"\",Blad1!H832)","v":""},{"$f":"IF(Blad1!I832=\"\",\"\",Blad1!I832)","v":""},{"$f":"IF(Blad1!M832=\"\",\"\",Blad1!M832)","v":""},{"$f":"IF(Blad1!F832=\"\",\"\",Blad1!F832)","v":""},{"$f":"IF(Blad1!Q832=\"\",\"\",Blad1!Q832)","v":""}]
[{"$f":"IF(Blad1!D833=\"\",\"\",Blad1!D833)","v":""},{"$f":"IF(Blad1!E833=\"\",\"\",Blad1!E833)","v":""},{"$f":"IF(Blad1!B833=\"\",\"\",Blad1!B833)","v":""},{"$f":"IF(Blad1!H833=\"\",\"\",Blad1!H833)","v":""},{"$f":"IF(Blad1!I833=\"\",\"\",Blad1!I833)","v":""},{"$f":"IF(Blad1!M833=\"\",\"\",Blad1!M833)","v":""},{"$f":"IF(Blad1!F833=\"\",\"\",Blad1!F833)","v":""},{"$f":"IF(Blad1!Q833=\"\",\"\",Blad1!Q833)","v":""}]
[{"$f":"IF(Blad1!D834=\"\",\"\",Blad1!D834)","v":""},{"$f":"IF(Blad1!E834=\"\",\"\",Blad1!E834)","v":""},{"$f":"IF(Blad1!B834=\"\",\"\",Blad1!B834)","v":""},{"$f":"IF(Blad1!H834=\"\",\"\",Blad1!H834)","v":""},{"$f":"IF(Blad1!I834=\"\",\"\",Blad1!I834)","v":""},{"$f":"IF(Blad1!M834=\"\",\"\",Blad1!M834)","v":""},{"$f":"IF(Blad1!F834=\"\",\"\",Blad1!F834)","v":""},{"$f":"IF(Blad1!Q834=\"\",\"\",Blad1!Q834)","v":""}]
[{"$f":"IF(Blad1!D835=\"\",\"\",Blad1!D835)","v":""},{"$f":"IF(Blad1!E835=\"\",\"\",Blad1!E835)","v":""},{"$f":"IF(Blad1!B835=\"\",\"\",Blad1!B835)","v":""},{"$f":"IF(Blad1!H835=\"\",\"\",Blad1!H835)","v":""},{"$f":"IF(Blad1!I835=\"\",\"\",Blad1!I835)","v":""},{"$f":"IF(Blad1!M835=\"\",\"\",Blad1!M835)","v":""},{"$f":"IF(Blad1!F835=\"\",\"\",Blad1!F835)","v":""},{"$f":"IF(Blad1!Q835=\"\",\"\",Blad1!Q835)","v":""}]
[{"$f":"IF(Blad1!D836=\"\",\"\",Blad1!D836)","v":""},{"$f":"IF(Blad1!E836=\"\",\"\",Blad1!E836)","v":""},{"$f":"IF(Blad1!B836=\"\",\"\",Blad1!B836)","v":""},{"$f":"IF(Blad1!H836=\"\",\"\",Blad1!H836)","v":""},{"$f":"IF(Blad1!I836=\"\",\"\",Blad1!I836)","v":""},{"$f":"IF(Blad1!M836=\"\",\"\",Blad1!M836)","v":""},{"$f":"IF(Blad1!F836=\"\",\"\",Blad1!F836)","v":""},{"$f":"IF(Blad1!Q836=\"\",\"\",Blad1!Q836)","v":""}]
[{"$f":"IF(Blad1!D837=\"\",\"\",Blad1!D837)","v":""},{"$f":"IF(Blad1!E837=\"\",\"\",Blad1!E837)","v":""},{"$f":"IF(Blad1!B837=\"\",\"\",Blad1!B837)","v":""},{"$f":"IF(Blad1!H837=\"\",\"\",Blad1!H837)","v":""},{"$f":"IF(Blad1!I837=\"\",\"\",Blad1!I837)","v":""},{"$f":"IF(Blad1!M837=\"\",\"\",Blad1!M837)","v":""},{"$f":"IF(Blad1!F837=\"\",\"\",Blad1!F837)","v":""},{"$f":"IF(Blad1!Q837=\"\",\"\",Blad1!Q837)","v":""}]
[{"$f":"IF(Blad1!D838=\"\",\"\",Blad1!D838)","v":""},{"$f":"IF(Blad1!E838=\"\",\"\",Blad1!E838)","v":""},{"$f":"IF(Blad1!B838=\"\",\"\",Blad1!B838)","v":""},{"$f":"IF(Blad1!H838=\"\",\"\",Blad1!H838)","v":""},{"$f":"IF(Blad1!I838=\"\",\"\",Blad1!I838)","v":""},{"$f":"IF(Blad1!M838=\"\",\"\",Blad1!M838)","v":""},{"$f":"IF(Blad1!F838=\"\",\"\",Blad1!F838)","v":""},{"$f":"IF(Blad1!Q838=\"\",\"\",Blad1!Q838)","v":""}]
[{"$f":"IF(Blad1!D839=\"\",\"\",Blad1!D839)","v":""},{"$f":"IF(Blad1!E839=\"\",\"\",Blad1!E839)","v":""},{"$f":"IF(Blad1!B839=\"\",\"\",Blad1!B839)","v":""},{"$f":"IF(Blad1!H839=\"\",\"\",Blad1!H839)","v":""},{"$f":"IF(Blad1!I839=\"\",\"\",Blad1!I839)","v":""},{"$f":"IF(Blad1!M839=\"\",\"\",Blad1!M839)","v":""},{"$f":"IF(Blad1!F839=\"\",\"\",Blad1!F839)","v":""},{"$f":"IF(Blad1!Q839=\"\",\"\",Blad1!Q839)","v":""}]
[{"$f":"IF(Blad1!D840=\"\",\"\",Blad1!D840)","v":""},{"$f":"IF(Blad1!E840=\"\",\"\",Blad1!E840)","v":""},{"$f":"IF(Blad1!B840=\"\",\"\",Blad1!B840)","v":""},{"$f":"IF(Blad1!H840=\"\",\"\",Blad1!H840)","v":""},{"$f":"IF(Blad1!I840=\"\",\"\",Blad1!I840)","v":""},{"$f":"IF(Blad1!M840=\"\",\"\",Blad1!M840)","v":""},{"$f":"IF(Blad1!F840=\"\",\"\",Blad1!F840)","v":""},{"$f":"IF(Blad1!Q840=\"\",\"\",Blad1!Q840)","v":""}]
[{"$f":"IF(Blad1!D841=\"\",\"\",Blad1!D841)","v":""},{"$f":"IF(Blad1!E841=\"\",\"\",Blad1!E841)","v":""},{"$f":"IF(Blad1!B841=\"\",\"\",Blad1!B841)","v":""},{"$f":"IF(Blad1!H841=\"\",\"\",Blad1!H841)","v":""},{"$f":"IF(Blad1!I841=\"\",\"\",Blad1!I841)","v":""},{"$f":"IF(Blad1!M841=\"\",\"\",Blad1!M841)","v":""},{"$f":"IF(Blad1!F841=\"\",\"\",Blad1!F841)","v":""},{"$f":"IF(Blad1!Q841=\"\",\"\",Blad1!Q841)","v":""}]
[{"$f":"IF(Blad1!D842=\"\",\"\",Blad1!D842)","v":""},{"$f":"IF(Blad1!E842=\"\",\"\",Blad1!E842)","v":""},{"$f":"IF(Blad1!B842=\"\",\"\",Blad1!B842)","v":""},{"$f":"IF(Blad1!H842=\"\",\"\",Blad1!H842)","v":""},{"$f":"IF(Blad1!I842=\"\",\"\",Blad1!I842)","v":""},{"$f":"IF(Blad1!M842=\"\",\"\",Blad1!M842)","v":""},{"$f":"IF(Blad1!F842=\"\",\"\",Blad1!F842)","v":""},{"$f":"IF(Blad1!Q842=\"\",\"\",Blad1!Q842)","v":""}]
[{"$f":"IF(Blad1!D843=\"\",\"\",Blad1!D843)","v":""},{"$f":"IF(Blad1!E843=\"\",\"\",Blad1!E843)","v":""},{"$f":"IF(Blad1!B843=\"\",\"\",Blad1!B843)","v":""},{"$f":"IF(Blad1!H843=\"\",\"\",Blad1!H843)","v":""},{"$f":"IF(Blad1!I843=\"\",\"\",Blad1!I843)","v":""},{"$f":"IF(Blad1!M843=\"\",\"\",Blad1!M843)","v":""},{"$f":"IF(Blad1!F843=\"\",\"\",Blad1!F843)","v":""},{"$f":"IF(Blad1!Q843=\"\",\"\",Blad1!Q843)","v":""}]
[{"$f":"IF(Blad1!D844=\"\",\"\",Blad1!D844)","v":""},{"$f":"IF(Blad1!E844=\"\",\"\",Blad1!E844)","v":""},{"$f":"IF(Blad1!B844=\"\",\"\",Blad1!B844)","v":""},{"$f":"IF(Blad1!H844=\"\",\"\",Blad1!H844)","v":""},{"$f":"IF(Blad1!I844=\"\",\"\",Blad1!I844)","v":""},{"$f":"IF(Blad1!M844=\"\",\"\",Blad1!M844)","v":""},{"$f":"IF(Blad1!F844=\"\",\"\",Blad1!F844)","v":""},{"$f":"IF(Blad1!Q844=\"\",\"\",Blad1!Q844)","v":""}]
[{"$f":"IF(Blad1!D845=\"\",\"\",Blad1!D845)","v":""},{"$f":"IF(Blad1!E845=\"\",\"\",Blad1!E845)","v":""},{"$f":"IF(Blad1!B845=\"\",\"\",Blad1!B845)","v":""},{"$f":"IF(Blad1!H845=\"\",\"\",Blad1!H845)","v":""},{"$f":"IF(Blad1!I845=\"\",\"\",Blad1!I845)","v":""},{"$f":"IF(Blad1!M845=\"\",\"\",Blad1!M845)","v":""},{"$f":"IF(Blad1!F845=\"\",\"\",Blad1!F845)","v":""},{"$f":"IF(Blad1!Q845=\"\",\"\",Blad1!Q845)","v":""}]
[{"$f":"IF(Blad1!D846=\"\",\"\",Blad1!D846)","v":""},{"$f":"IF(Blad1!E846=\"\",\"\",Blad1!E846)","v":""},{"$f":"IF(Blad1!B846=\"\",\"\",Blad1!B846)","v":""},{"$f":"IF(Blad1!H846=\"\",\"\",Blad1!H846)","v":""},{"$f":"IF(Blad1!I846=\"\",\"\",Blad1!I846)","v":""},{"$f":"IF(Blad1!M846=\"\",\"\",Blad1!M846)","v":""},{"$f":"IF(Blad1!F846=\"\",\"\",Blad1!F846)","v":""},{"$f":"IF(Blad1!Q846=\"\",\"\",Blad1!Q846)","v":""}]
[{"$f":"IF(Blad1!D847=\"\",\"\",Blad1!D847)","v":""},{"$f":"IF(Blad1!E847=\"\",\"\",Blad1!E847)","v":""},{"$f":"IF(Blad1!B847=\"\",\"\",Blad1!B847)","v":""},{"$f":"IF(Blad1!H847=\"\",\"\",Blad1!H847)","v":""},{"$f":"IF(Blad1!I847=\"\",\"\",Blad1!I847)","v":""},{"$f":"IF(Blad1!M847=\"\",\"\",Blad1!M847)","v":""},{"$f":"IF(Blad1!F847=\"\",\"\",Blad1!F847)","v":""},{"$f":"IF(Blad1!Q847=\"\",\"\",Blad1!Q847)","v":""}]
[{"$f":"IF(Blad1!D848=\"\",\"\",Blad1!D848)","v":""},{"$f":"IF(Blad1!E848=\"\",\"\",Blad1!E848)","v":""},{"$f":"IF(Blad1!B848=\"\",\"\",Blad1!B848)","v":""},{"$f":"IF(Blad1!H848=\"\",\"\",Blad1!H848)","v":""},{"$f":"IF(Blad1!I848=\"\",\"\",Blad1!I848)","v":""},{"$f":"IF(Blad1!M848=\"\",\"\",Blad1!M848)","v":""},{"$f":"IF(Blad1!F848=\"\",\"\",Blad1!F848)","v":""},{"$f":"IF(Blad1!Q848=\"\",\"\",Blad1!Q848)","v":""}]
[{"$f":"IF(Blad1!D849=\"\",\"\",Blad1!D849)","v":""},{"$f":"IF(Blad1!E849=\"\",\"\",Blad1!E849)","v":""},{"$f":"IF(Blad1!B849=\"\",\"\",Blad1!B849)","v":""},{"$f":"IF(Blad1!H849=\"\",\"\",Blad1!H849)","v":""},{"$f":"IF(Blad1!I849=\"\",\"\",Blad1!I849)","v":""},{"$f":"IF(Blad1!M849=\"\",\"\",Blad1!M849)","v":""},{"$f":"IF(Blad1!F849=\"\",\"\",Blad1!F849)","v":""},{"$f":"IF(Blad1!Q849=\"\",\"\",Blad1!Q849)","v":""}]
[{"$f":"IF(Blad1!D850=\"\",\"\",Blad1!D850)","v":""},{"$f":"IF(Blad1!E850=\"\",\"\",Blad1!E850)","v":""},{"$f":"IF(Blad1!B850=\"\",\"\",Blad1!B850)","v":""},{"$f":"IF(Blad1!H850=\"\",\"\",Blad1!H850)","v":""},{"$f":"IF(Blad1!I850=\"\",\"\",Blad1!I850)","v":""},{"$f":"IF(Blad1!M850=\"\",\"\",Blad1!M850)","v":""},{"$f":"IF(Blad1!F850=\"\",\"\",Blad1!F850)","v":""},{"$f":"IF(Blad1!Q850=\"\",\"\",Blad1!Q850)","v":""}]
[{"$f":"IF(Blad1!D851=\"\",\"\",Blad1!D851)","v":""},{"$f":"IF(Blad1!E851=\"\",\"\",Blad1!E851)","v":""},{"$f":"IF(Blad1!B851=\"\",\"\",Blad1!B851)","v":""},{"$f":"IF(Blad1!H851=\"\",\"\",Blad1!H851)","v":""},{"$f":"IF(Blad1!I851=\"\",\"\",Blad1!I851)","v":""},{"$f":"IF(Blad1!M851=\"\",\"\",Blad1!M851)","v":""},{"$f":"IF(Blad1!F851=\"\",\"\",Blad1!F851)","v":""},{"$f":"IF(Blad1!Q851=\"\",\"\",Blad1!Q851)","v":""}]
[{"$f":"IF(Blad1!D852=\"\",\"\",Blad1!D852)","v":""},{"$f":"IF(Blad1!E852=\"\",\"\",Blad1!E852)","v":""},{"$f":"IF(Blad1!B852=\"\",\"\",Blad1!B852)","v":""},{"$f":"IF(Blad1!H852=\"\",\"\",Blad1!H852)","v":""},{"$f":"IF(Blad1!I852=\"\",\"\",Blad1!I852)","v":""},{"$f":"IF(Blad1!M852=\"\",\"\",Blad1!M852)","v":""},{"$f":"IF(Blad1!F852=\"\",\"\",Blad1!F852)","v":""},{"$f":"IF(Blad1!Q852=\"\",\"\",Blad1!Q852)","v":""}]
[{"$f":"IF(Blad1!D853=\"\",\"\",Blad1!D853)","v":""},{"$f":"IF(Blad1!E853=\"\",\"\",Blad1!E853)","v":""},{"$f":"IF(Blad1!B853=\"\",\"\",Blad1!B853)","v":""},{"$f":"IF(Blad1!H853=\"\",\"\",Blad1!H853)","v":""},{"$f":"IF(Blad1!I853=\"\",\"\",Blad1!I853)","v":""},{"$f":"IF(Blad1!M853=\"\",\"\",Blad1!M853)","v":""},{"$f":"IF(Blad1!F853=\"\",\"\",Blad1!F853)","v":""},{"$f":"IF(Blad1!Q853=\"\",\"\",Blad1!Q853)","v":""}]
[{"$f":"IF(Blad1!D854=\"\",\"\",Blad1!D854)","v":""},{"$f":"IF(Blad1!E854=\"\",\"\",Blad1!E854)","v":""},{"$f":"IF(Blad1!B854=\"\",\"\",Blad1!B854)","v":""},{"$f":"IF(Blad1!H854=\"\",\"\",Blad1!H854)","v":""},{"$f":"IF(Blad1!I854=\"\",\"\",Blad1!I854)","v":""},{"$f":"IF(Blad1!M854=\"\",\"\",Blad1!M854)","v":""},{"$f":"IF(Blad1!F854=\"\",\"\",Blad1!F854)","v":""},{"$f":"IF(Blad1!Q854=\"\",\"\",Blad1!Q854)","v":""}]
[{"$f":"IF(Blad1!D855=\"\",\"\",Blad1!D855)","v":""},{"$f":"IF(Blad1!E855=\"\",\"\",Blad1!E855)","v":""},{"$f":"IF(Blad1!B855=\"\",\"\",Blad1!B855)","v":""},{"$f":"IF(Blad1!H855=\"\",\"\",Blad1!H855)","v":""},{"$f":"IF(Blad1!I855=\"\",\"\",Blad1!I855)","v":""},{"$f":"IF(Blad1!M855=\"\",\"\",Blad1!M855)","v":""},{"$f":"IF(Blad1!F855=\"\",\"\",Blad1!F855)","v":""},{"$f":"IF(Blad1!Q855=\"\",\"\",Blad1!Q855)","v":""}]
[{"$f":"IF(Blad1!D856=\"\",\"\",Blad1!D856)","v":""},{"$f":"IF(Blad1!E856=\"\",\"\",Blad1!E856)","v":""},{"$f":"IF(Blad1!B856=\"\",\"\",Blad1!B856)","v":""},{"$f":"IF(Blad1!H856=\"\",\"\",Blad1!H856)","v":""},{"$f":"IF(Blad1!I856=\"\",\"\",Blad1!I856)","v":""},{"$f":"IF(Blad1!M856=\"\",\"\",Blad1!M856)","v":""},{"$f":"IF(Blad1!F856=\"\",\"\",Blad1!F856)","v":""},{"$f":"IF(Blad1!Q856=\"\",\"\",Blad1!Q856)","v":""}]
[{"$f":"IF(Blad1!D857=\"\",\"\",Blad1!D857)","v":""},{"$f":"IF(Blad1!E857=\"\",\"\",Blad1!E857)","v":""},{"$f":"IF(Blad1!B857=\"\",\"\",Blad1!B857)","v":""},{"$f":"IF(Blad1!H857=\"\",\"\",Blad1!H857)","v":""},{"$f":"IF(Blad1!I857=\"\",\"\",Blad1!I857)","v":""},{"$f":"IF(Blad1!M857=\"\",\"\",Blad1!M857)","v":""},{"$f":"IF(Blad1!F857=\"\",\"\",Blad1!F857)","v":""},{"$f":"IF(Blad1!Q857=\"\",\"\",Blad1!Q857)","v":""}]
[{"$f":"IF(Blad1!D858=\"\",\"\",Blad1!D858)","v":""},{"$f":"IF(Blad1!E858=\"\",\"\",Blad1!E858)","v":""},{"$f":"IF(Blad1!B858=\"\",\"\",Blad1!B858)","v":""},{"$f":"IF(Blad1!H858=\"\",\"\",Blad1!H858)","v":""},{"$f":"IF(Blad1!I858=\"\",\"\",Blad1!I858)","v":""},{"$f":"IF(Blad1!M858=\"\",\"\",Blad1!M858)","v":""},{"$f":"IF(Blad1!F858=\"\",\"\",Blad1!F858)","v":""},{"$f":"IF(Blad1!Q858=\"\",\"\",Blad1!Q858)","v":""}]
[{"$f":"IF(Blad1!D859=\"\",\"\",Blad1!D859)","v":""},{"$f":"IF(Blad1!E859=\"\",\"\",Blad1!E859)","v":""},{"$f":"IF(Blad1!B859=\"\",\"\",Blad1!B859)","v":""},{"$f":"IF(Blad1!H859=\"\",\"\",Blad1!H859)","v":""},{"$f":"IF(Blad1!I859=\"\",\"\",Blad1!I859)","v":""},{"$f":"IF(Blad1!M859=\"\",\"\",Blad1!M859)","v":""},{"$f":"IF(Blad1!F859=\"\",\"\",Blad1!F859)","v":""},{"$f":"IF(Blad1!Q859=\"\",\"\",Blad1!Q859)","v":""}]
[{"$f":"IF(Blad1!D860=\"\",\"\",Blad1!D860)","v":""},{"$f":"IF(Blad1!E860=\"\",\"\",Blad1!E860)","v":""},{"$f":"IF(Blad1!B860=\"\",\"\",Blad1!B860)","v":""},{"$f":"IF(Blad1!H860=\"\",\"\",Blad1!H860)","v":""},{"$f":"IF(Blad1!I860=\"\",\"\",Blad1!I860)","v":""},{"$f":"IF(Blad1!M860=\"\",\"\",Blad1!M860)","v":""},{"$f":"IF(Blad1!F860=\"\",\"\",Blad1!F860)","v":""},{"$f":"IF(Blad1!Q860=\"\",\"\",Blad1!Q860)","v":""}]
[{"$f":"IF(Blad1!D861=\"\",\"\",Blad1!D861)","v":""},{"$f":"IF(Blad1!E861=\"\",\"\",Blad1!E861)","v":""},{"$f":"IF(Blad1!B861=\"\",\"\",Blad1!B861)","v":""},{"$f":"IF(Blad1!H861=\"\",\"\",Blad1!H861)","v":""},{"$f":"IF(Blad1!I861=\"\",\"\",Blad1!I861)","v":""},{"$f":"IF(Blad1!M861=\"\",\"\",Blad1!M861)","v":""},{"$f":"IF(Blad1!F861=\"\",\"\",Blad1!F861)","v":""},{"$f":"IF(Blad1!Q861=\"\",\"\",Blad1!Q861)","v":""}]
[{"$f":"IF(Blad1!D862=\"\",\"\",Blad1!D862)","v":""},{"$f":"IF(Blad1!E862=\"\",\"\",Blad1!E862)","v":""},{"$f":"IF(Blad1!B862=\"\",\"\",Blad1!B862)","v":""},{"$f":"IF(Blad1!H862=\"\",\"\",Blad1!H862)","v":""},{"$f":"IF(Blad1!I862=\"\",\"\",Blad1!I862)","v":""},{"$f":"IF(Blad1!M862=\"\",\"\",Blad1!M862)","v":""},{"$f":"IF(Blad1!F862=\"\",\"\",Blad1!F862)","v":""},{"$f":"IF(Blad1!Q862=\"\",\"\",Blad1!Q862)","v":""}]
[{"$f":"IF(Blad1!D863=\"\",\"\",Blad1!D863)","v":""},{"$f":"IF(Blad1!E863=\"\",\"\",Blad1!E863)","v":""},{"$f":"IF(Blad1!B863=\"\",\"\",Blad1!B863)","v":""},{"$f":"IF(Blad1!H863=\"\",\"\",Blad1!H863)","v":""},{"$f":"IF(Blad1!I863=\"\",\"\",Blad1!I863)","v":""},{"$f":"IF(Blad1!M863=\"\",\"\",Blad1!M863)","v":""},{"$f":"IF(Blad1!F863=\"\",\"\",Blad1!F863)","v":""},{"$f":"IF(Blad1!Q863=\"\",\"\",Blad1!Q863)","v":""}]
[{"$f":"IF(Blad1!D864=\"\",\"\",Blad1!D864)","v":""},{"$f":"IF(Blad1!E864=\"\",\"\",Blad1!E864)","v":""},{"$f":"IF(Blad1!B864=\"\",\"\",Blad1!B864)","v":""},{"$f":"IF(Blad1!H864=\"\",\"\",Blad1!H864)","v":""},{"$f":"IF(Blad1!I864=\"\",\"\",Blad1!I864)","v":""},{"$f":"IF(Blad1!M864=\"\",\"\",Blad1!M864)","v":""},{"$f":"IF(Blad1!F864=\"\",\"\",Blad1!F864)","v":""},{"$f":"IF(Blad1!Q864=\"\",\"\",Blad1!Q864)","v":""}]
[{"$f":"IF(Blad1!D865=\"\",\"\",Blad1!D865)","v":""},{"$f":"IF(Blad1!E865=\"\",\"\",Blad1!E865)","v":""},{"$f":"IF(Blad1!B865=\"\",\"\",Blad1!B865)","v":""},{"$f":"IF(Blad1!H865=\"\",\"\",Blad1!H865)","v":""},{"$f":"IF(Blad1!I865=\"\",\"\",Blad1!I865)","v":""},{"$f":"IF(Blad1!M865=\"\",\"\",Blad1!M865)","v":""},{"$f":"IF(Blad1!F865=\"\",\"\",Blad1!F865)","v":""},{"$f":"IF(Blad1!Q865=\"\",\"\",Blad1!Q865)","v":""}]
[{"$f":"IF(Blad1!D866=\"\",\"\",Blad1!D866)","v":""},{"$f":"IF(Blad1!E866=\"\",\"\",Blad1!E866)","v":""},{"$f":"IF(Blad1!B866=\"\",\"\",Blad1!B866)","v":""},{"$f":"IF(Blad1!H866=\"\",\"\",Blad1!H866)","v":""},{"$f":"IF(Blad1!I866=\"\",\"\",Blad1!I866)","v":""},{"$f":"IF(Blad1!M866=\"\",\"\",Blad1!M866)","v":""},{"$f":"IF(Blad1!F866=\"\",\"\",Blad1!F866)","v":""},{"$f":"IF(Blad1!Q866=\"\",\"\",Blad1!Q866)","v":""}]
[{"$f":"IF(Blad1!D867=\"\",\"\",Blad1!D867)","v":""},{"$f":"IF(Blad1!E867=\"\",\"\",Blad1!E867)","v":""},{"$f":"IF(Blad1!B867=\"\",\"\",Blad1!B867)","v":""},{"$f":"IF(Blad1!H867=\"\",\"\",Blad1!H867)","v":""},{"$f":"IF(Blad1!I867=\"\",\"\",Blad1!I867)","v":""},{"$f":"IF(Blad1!M867=\"\",\"\",Blad1!M867)","v":""},{"$f":"IF(Blad1!F867=\"\",\"\",Blad1!F867)","v":""},{"$f":"IF(Blad1!Q867=\"\",\"\",Blad1!Q867)","v":""}]
[{"$f":"IF(Blad1!D868=\"\",\"\",Blad1!D868)","v":""},{"$f":"IF(Blad1!E868=\"\",\"\",Blad1!E868)","v":""},{"$f":"IF(Blad1!B868=\"\",\"\",Blad1!B868)","v":""},{"$f":"IF(Blad1!H868=\"\",\"\",Blad1!H868)","v":""},{"$f":"IF(Blad1!I868=\"\",\"\",Blad1!I868)","v":""},{"$f":"IF(Blad1!M868=\"\",\"\",Blad1!M868)","v":""},{"$f":"IF(Blad1!F868=\"\",\"\",Blad1!F868)","v":""},{"$f":"IF(Blad1!Q868=\"\",\"\",Blad1!Q868)","v":""}]
[{"$f":"IF(Blad1!D869=\"\",\"\",Blad1!D869)","v":""},{"$f":"IF(Blad1!E869=\"\",\"\",Blad1!E869)","v":""},{"$f":"IF(Blad1!B869=\"\",\"\",Blad1!B869)","v":""},{"$f":"IF(Blad1!H869=\"\",\"\",Blad1!H869)","v":""},{"$f":"IF(Blad1!I869=\"\",\"\",Blad1!I869)","v":""},{"$f":"IF(Blad1!M869=\"\",\"\",Blad1!M869)","v":""},{"$f":"IF(Blad1!F869=\"\",\"\",Blad1!F869)","v":""},{"$f":"IF(Blad1!Q869=\"\",\"\",Blad1!Q869)","v":""}]
[{"$f":"IF(Blad1!D870=\"\",\"\",Blad1!D870)","v":""},{"$f":"IF(Blad1!E870=\"\",\"\",Blad1!E870)","v":""},{"$f":"IF(Blad1!B870=\"\",\"\",Blad1!B870)","v":""},{"$f":"IF(Blad1!H870=\"\",\"\",Blad1!H870)","v":""},{"$f":"IF(Blad1!I870=\"\",\"\",Blad1!I870)","v":""},{"$f":"IF(Blad1!M870=\"\",\"\",Blad1!M870)","v":""},{"$f":"IF(Blad1!F870=\"\",\"\",Blad1!F870)","v":""},{"$f":"IF(Blad1!Q870=\"\",\"\",Blad1!Q870)","v":""}]
[{"$f":"IF(Blad1!D871=\"\",\"\",Blad1!D871)","v":""},{"$f":"IF(Blad1!E871=\"\",\"\",Blad1!E871)","v":""},{"$f":"IF(Blad1!B871=\"\",\"\",Blad1!B871)","v":""},{"$f":"IF(Blad1!H871=\"\",\"\",Blad1!H871)","v":""},{"$f":"IF(Blad1!I871=\"\",\"\",Blad1!I871)","v":""},{"$f":"IF(Blad1!M871=\"\",\"\",Blad1!M871)","v":""},{"$f":"IF(Blad1!F871=\"\",\"\",Blad1!F871)","v":""},{"$f":"IF(Blad1!Q871=\"\",\"\",Blad1!Q871)","v":""}]
[{"$f":"IF(Blad1!D872=\"\",\"\",Blad1!D872)","v":""},{"$f":"IF(Blad1!E872=\"\",\"\",Blad1!E872)","v":""},{"$f":"IF(Blad1!B872=\"\",\"\",Blad1!B872)","v":""},{"$f":"IF(Blad1!H872=\"\",\"\",Blad1!H872)","v":""},{"$f":"IF(Blad1!I872=\"\",\"\",Blad1!I872)","v":""},{"$f":"IF(Blad1!M872=\"\",\"\",Blad1!M872)","v":""},{"$f":"IF(Blad1!F872=\"\",\"\",Blad1!F872)","v":""},{"$f":"IF(Blad1!Q872=\"\",\"\",Blad1!Q872)","v":""}]
[{"$f":"IF(Blad1!D873=\"\",\"\",Blad1!D873)","v":""},{"$f":"IF(Blad1!E873=\"\",\"\",Blad1!E873)","v":""},{"$f":"IF(Blad1!B873=\"\",\"\",Blad1!B873)","v":""},{"$f":"IF(Blad1!H873=\"\",\"\",Blad1!H873)","v":""},{"$f":"IF(Blad1!I873=\"\",\"\",Blad1!I873)","v":""},{"$f":"IF(Blad1!M873=\"\",\"\",Blad1!M873)","v":""},{"$f":"IF(Blad1!F873=\"\",\"\",Blad1!F873)","v":""},{"$f":"IF(Blad1!Q873=\"\",\"\",Blad1!Q873)","v":""}]
[{"$f":"IF(Blad1!D874=\"\",\"\",Blad1!D874)","v":""},{"$f":"IF(Blad1!E874=\"\",\"\",Blad1!E874)","v":""},{"$f":"IF(Blad1!B874=\"\",\"\",Blad1!B874)","v":""},{"$f":"IF(Blad1!H874=\"\",\"\",Blad1!H874)","v":""},{"$f":"IF(Blad1!I874=\"\",\"\",Blad1!I874)","v":""},{"$f":"IF(Blad1!M874=\"\",\"\",Blad1!M874)","v":""},{"$f":"IF(Blad1!F874=\"\",\"\",Blad1!F874)","v":""},{"$f":"IF(Blad1!Q874=\"\",\"\",Blad1!Q874)","v":""}]
[{"$f":"IF(Blad1!D875=\"\",\"\",Blad1!D875)","v":""},{"$f":"IF(Blad1!E875=\"\",\"\",Blad1!E875)","v":""},{"$f":"IF(Blad1!B875=\"\",\"\",Blad1!B875)","v":""},{"$f":"IF(Blad1!H875=\"\",\"\",Blad1!H875)","v":""},{"$f":"IF(Blad1!I875=\"\",\"\",Blad1!I875)","v":""},{"$f":"IF(Blad1!M875=\"\",\"\",Blad1!M875)","v":""},{"$f":"IF(Blad1!F875=\"\",\"\",Blad1!F875)","v":""},{"$f":"IF(Blad1!Q875=\"\",\"\",Blad1!Q875)","v":""}]
[{"$f":"IF(Blad1!D876=\"\",\"\",Blad1!D876)","v":""},{"$f":"IF(Blad1!E876=\"\",\"\",Blad1!E876)","v":""},{"$f":"IF(Blad1!B876=\"\",\"\",Blad1!B876)","v":""},{"$f":"IF(Blad1!H876=\"\",\"\",Blad1!H876)","v":""},{"$f":"IF(Blad1!I876=\"\",\"\",Blad1!I876)","v":""},{"$f":"IF(Blad1!M876=\"\",\"\",Blad1!M876)","v":""},{"$f":"IF(Blad1!F876=\"\",\"\",Blad1!F876)","v":""},{"$f":"IF(Blad1!Q876=\"\",\"\",Blad1!Q876)","v":""}]
[{"$f":"IF(Blad1!D877=\"\",\"\",Blad1!D877)","v":""},{"$f":"IF(Blad1!E877=\"\",\"\",Blad1!E877)","v":""},{"$f":"IF(Blad1!B877=\"\",\"\",Blad1!B877)","v":""},{"$f":"IF(Blad1!H877=\"\",\"\",Blad1!H877)","v":""},{"$f":"IF(Blad1!I877=\"\",\"\",Blad1!I877)","v":""},{"$f":"IF(Blad1!M877=\"\",\"\",Blad1!M877)","v":""},{"$f":"IF(Blad1!F877=\"\",\"\",Blad1!F877)","v":""},{"$f":"IF(Blad1!Q877=\"\",\"\",Blad1!Q877)","v":""}]
[{"$f":"IF(Blad1!D878=\"\",\"\",Blad1!D878)","v":""},{"$f":"IF(Blad1!E878=\"\",\"\",Blad1!E878)","v":""},{"$f":"IF(Blad1!B878=\"\",\"\",Blad1!B878)","v":""},{"$f":"IF(Blad1!H878=\"\",\"\",Blad1!H878)","v":""},{"$f":"IF(Blad1!I878=\"\",\"\",Blad1!I878)","v":""},{"$f":"IF(Blad1!M878=\"\",\"\",Blad1!M878)","v":""},{"$f":"IF(Blad1!F878=\"\",\"\",Blad1!F878)","v":""},{"$f":"IF(Blad1!Q878=\"\",\"\",Blad1!Q878)","v":""}]
[{"$f":"IF(Blad1!D879=\"\",\"\",Blad1!D879)","v":""},{"$f":"IF(Blad1!E879=\"\",\"\",Blad1!E879)","v":""},{"$f":"IF(Blad1!B879=\"\",\"\",Blad1!B879)","v":""},{"$f":"IF(Blad1!H879=\"\",\"\",Blad1!H879)","v":""},{"$f":"IF(Blad1!I879=\"\",\"\",Blad1!I879)","v":""},{"$f":"IF(Blad1!M879=\"\",\"\",Blad1!M879)","v":""},{"$f":"IF(Blad1!F879=\"\",\"\",Blad1!F879)","v":""},{"$f":"IF(Blad1!Q879=\"\",\"\",Blad1!Q879)","v":""}]
[{"$f":"IF(Blad1!D880=\"\",\"\",Blad1!D880)","v":""},{"$f":"IF(Blad1!E880=\"\",\"\",Blad1!E880)","v":""},{"$f":"IF(Blad1!B880=\"\",\"\",Blad1!B880)","v":""},{"$f":"IF(Blad1!H880=\"\",\"\",Blad1!H880)","v":""},{"$f":"IF(Blad1!I880=\"\",\"\",Blad1!I880)","v":""},{"$f":"IF(Blad1!M880=\"\",\"\",Blad1!M880)","v":""},{"$f":"IF(Blad1!F880=\"\",\"\",Blad1!F880)","v":""},{"$f":"IF(Blad1!Q880=\"\",\"\",Blad1!Q880)","v":""}]
[{"$f":"IF(Blad1!D881=\"\",\"\",Blad1!D881)","v":""},{"$f":"IF(Blad1!E881=\"\",\"\",Blad1!E881)","v":""},{"$f":"IF(Blad1!B881=\"\",\"\",Blad1!B881)","v":""},{"$f":"IF(Blad1!H881=\"\",\"\",Blad1!H881)","v":""},{"$f":"IF(Blad1!I881=\"\",\"\",Blad1!I881)","v":""},{"$f":"IF(Blad1!M881=\"\",\"\",Blad1!M881)","v":""},{"$f":"IF(Blad1!F881=\"\",\"\",Blad1!F881)","v":""},{"$f":"IF(Blad1!Q881=\"\",\"\",Blad1!Q881)","v":""}]
[{"$f":"IF(Blad1!D882=\"\",\"\",Blad1!D882)","v":""},{"$f":"IF(Blad1!E882=\"\",\"\",Blad1!E882)","v":""},{"$f":"IF(Blad1!B882=\"\",\"\",Blad1!B882)","v":""},{"$f":"IF(Blad1!H882=\"\",\"\",Blad1!H882)","v":""},{"$f":"IF(Blad1!I882=\"\",\"\",Blad1!I882)","v":""},{"$f":"IF(Blad1!M882=\"\",\"\",Blad1!M882)","v":""},{"$f":"IF(Blad1!F882=\"\",\"\",Blad1!F882)","v":""},{"$f":"IF(Blad1!Q882=\"\",\"\",Blad1!Q882)","v":""}]
[{"$f":"IF(Blad1!D883=\"\",\"\",Blad1!D883)","v":""},{"$f":"IF(Blad1!E883=\"\",\"\",Blad1!E883)","v":""},{"$f":"IF(Blad1!B883=\"\",\"\",Blad1!B883)","v":""},{"$f":"IF(Blad1!H883=\"\",\"\",Blad1!H883)","v":""},{"$f":"IF(Blad1!I883=\"\",\"\",Blad1!I883)","v":""},{"$f":"IF(Blad1!M883=\"\",\"\",Blad1!M883)","v":""},{"$f":"IF(Blad1!F883=\"\",\"\",Blad1!F883)","v":""},{"$f":"IF(Blad1!Q883=\"\",\"\",Blad1!Q883)","v":""}]
[{"$f":"IF(Blad1!D884=\"\",\"\",Blad1!D884)","v":""},{"$f":"IF(Blad1!E884=\"\",\"\",Blad1!E884)","v":""},{"$f":"IF(Blad1!B884=\"\",\"\",Blad1!B884)","v":""},{"$f":"IF(Blad1!H884=\"\",\"\",Blad1!H884)","v":""},{"$f":"IF(Blad1!I884=\"\",\"\",Blad1!I884)","v":""},{"$f":"IF(Blad1!M884=\"\",\"\",Blad1!M884)","v":""},{"$f":"IF(Blad1!F884=\"\",\"\",Blad1!F884)","v":""},{"$f":"IF(Blad1!Q884=\"\",\"\",Blad1!Q884)","v":""}]
[{"$f":"IF(Blad1!D885=\"\",\"\",Blad1!D885)","v":""},{"$f":"IF(Blad1!E885=\"\",\"\",Blad1!E885)","v":""},{"$f":"IF(Blad1!B885=\"\",\"\",Blad1!B885)","v":""},{"$f":"IF(Blad1!H885=\"\",\"\",Blad1!H885)","v":""},{"$f":"IF(Blad1!I885=\"\",\"\",Blad1!I885)","v":""},{"$f":"IF(Blad1!M885=\"\",\"\",Blad1!M885)","v":""},{"$f":"IF(Blad1!F885=\"\",\"\",Blad1!F885)","v":""},{"$f":"IF(Blad1!Q885=\"\",\"\",Blad1!Q885)","v":""}]
[{"$f":"IF(Blad1!D886=\"\",\"\",Blad1!D886)","v":""},{"$f":"IF(Blad1!E886=\"\",\"\",Blad1!E886)","v":""},{"$f":"IF(Blad1!B886=\"\",\"\",Blad1!B886)","v":""},{"$f":"IF(Blad1!H886=\"\",\"\",Blad1!H886)","v":""},{"$f":"IF(Blad1!I886=\"\",\"\",Blad1!I886)","v":""},{"$f":"IF(Blad1!M886=\"\",\"\",Blad1!M886)","v":""},{"$f":"IF(Blad1!F886=\"\",\"\",Blad1!F886)","v":""},{"$f":"IF(Blad1!Q886=\"\",\"\",Blad1!Q886)","v":""}]
[{"$f":"IF(Blad1!D887=\"\",\"\",Blad1!D887)","v":""},{"$f":"IF(Blad1!E887=\"\",\"\",Blad1!E887)","v":""},{"$f":"IF(Blad1!B887=\"\",\"\",Blad1!B887)","v":""},{"$f":"IF(Blad1!H887=\"\",\"\",Blad1!H887)","v":""},{"$f":"IF(Blad1!I887=\"\",\"\",Blad1!I887)","v":""},{"$f":"IF(Blad1!M887=\"\",\"\",Blad1!M887)","v":""},{"$f":"IF(Blad1!F887=\"\",\"\",Blad1!F887)","v":""},{"$f":"IF(Blad1!Q887=\"\",\"\",Blad1!Q887)","v":""}]
[{"$f":"IF(Blad1!D888=\"\",\"\",Blad1!D888)","v":""},{"$f":"IF(Blad1!E888=\"\",\"\",Blad1!E888)","v":""},{"$f":"IF(Blad1!B888=\"\",\"\",Blad1!B888)","v":""},{"$f":"IF(Blad1!H888=\"\",\"\",Blad1!H888)","v":""},{"$f":"IF(Blad1!I888=\"\",\"\",Blad1!I888)","v":""},{"$f":"IF(Blad1!M888=\"\",\"\",Blad1!M888)","v":""},{"$f":"IF(Blad1!F888=\"\",\"\",Blad1!F888)","v":""},{"$f":"IF(Blad1!Q888=\"\",\"\",Blad1!Q888)","v":""}]
[{"$f":"IF(Blad1!D889=\"\",\"\",Blad1!D889)","v":""},{"$f":"IF(Blad1!E889=\"\",\"\",Blad1!E889)","v":""},{"$f":"IF(Blad1!B889=\"\",\"\",Blad1!B889)","v":""},{"$f":"IF(Blad1!H889=\"\",\"\",Blad1!H889)","v":""},{"$f":"IF(Blad1!I889=\"\",\"\",Blad1!I889)","v":""},{"$f":"IF(Blad1!M889=\"\",\"\",Blad1!M889)","v":""},{"$f":"IF(Blad1!F889=\"\",\"\",Blad1!F889)","v":""},{"$f":"IF(Blad1!Q889=\"\",\"\",Blad1!Q889)","v":""}]
[{"$f":"IF(Blad1!D890=\"\",\"\",Blad1!D890)","v":""},{"$f":"IF(Blad1!E890=\"\",\"\",Blad1!E890)","v":""},{"$f":"IF(Blad1!B890=\"\",\"\",Blad1!B890)","v":""},{"$f":"IF(Blad1!H890=\"\",\"\",Blad1!H890)","v":""},{"$f":"IF(Blad1!I890=\"\",\"\",Blad1!I890)","v":""},{"$f":"IF(Blad1!M890=\"\",\"\",Blad1!M890)","v":""},{"$f":"IF(Blad1!F890=\"\",\"\",Blad1!F890)","v":""},{"$f":"IF(Blad1!Q890=\"\",\"\",Blad1!Q890)","v":""}]
[{"$f":"IF(Blad1!D891=\"\",\"\",Blad1!D891)","v":""},{"$f":"IF(Blad1!E891=\"\",\"\",Blad1!E891)","v":""},{"$f":"IF(Blad1!B891=\"\",\"\",Blad1!B891)","v":""},{"$f":"IF(Blad1!H891=\"\",\"\",Blad1!H891)","v":""},{"$f":"IF(Blad1!I891=\"\",\"\",Blad1!I891)","v":""},{"$f":"IF(Blad1!M891=\"\",\"\",Blad1!M891)","v":""},{"$f":"IF(Blad1!F891=\"\",\"\",Blad1!F891)","v":""},{"$f":"IF(Blad1!Q891=\"\",\"\",Blad1!Q891)","v":""}]
[{"$f":"IF(Blad1!D892=\"\",\"\",Blad1!D892)","v":""},{"$f":"IF(Blad1!E892=\"\",\"\",Blad1!E892)","v":""},{"$f":"IF(Blad1!B892=\"\",\"\",Blad1!B892)","v":""},{"$f":"IF(Blad1!H892=\"\",\"\",Blad1!H892)","v":""},{"$f":"IF(Blad1!I892=\"\",\"\",Blad1!I892)","v":""},{"$f":"IF(Blad1!M892=\"\",\"\",Blad1!M892)","v":""},{"$f":"IF(Blad1!F892=\"\",\"\",Blad1!F892)","v":""},{"$f":"IF(Blad1!Q892=\"\",\"\",Blad1!Q892)","v":""}]
[{"$f":"IF(Blad1!D893=\"\",\"\",Blad1!D893)","v":""},{"$f":"IF(Blad1!E893=\"\",\"\",Blad1!E893)","v":""},{"$f":"IF(Blad1!B893=\"\",\"\",Blad1!B893)","v":""},{"$f":"IF(Blad1!H893=\"\",\"\",Blad1!H893)","v":""},{"$f":"IF(Blad1!I893=\"\",\"\",Blad1!I893)","v":""},{"$f":"IF(Blad1!M893=\"\",\"\",Blad1!M893)","v":""},{"$f":"IF(Blad1!F893=\"\",\"\",Blad1!F893)","v":""},{"$f":"IF(Blad1!Q893=\"\",\"\",Blad1!Q893)","v":""}]
[{"$f":"IF(Blad1!D894=\"\",\"\",Blad1!D894)","v":""},{"$f":"IF(Blad1!E894=\"\",\"\",Blad1!E894)","v":""},{"$f":"IF(Blad1!B894=\"\",\"\",Blad1!B894)","v":""},{"$f":"IF(Blad1!H894=\"\",\"\",Blad1!H894)","v":""},{"$f":"IF(Blad1!I894=\"\",\"\",Blad1!I894)","v":""},{"$f":"IF(Blad1!M894=\"\",\"\",Blad1!M894)","v":""},{"$f":"IF(Blad1!F894=\"\",\"\",Blad1!F894)","v":""},{"$f":"IF(Blad1!Q894=\"\",\"\",Blad1!Q894)","v":""}]
[{"$f":"IF(Blad1!D895=\"\",\"\",Blad1!D895)","v":""},{"$f":"IF(Blad1!E895=\"\",\"\",Blad1!E895)","v":""},{"$f":"IF(Blad1!B895=\"\",\"\",Blad1!B895)","v":""},{"$f":"IF(Blad1!H895=\"\",\"\",Blad1!H895)","v":""},{"$f":"IF(Blad1!I895=\"\",\"\",Blad1!I895)","v":""},{"$f":"IF(Blad1!M895=\"\",\"\",Blad1!M895)","v":""},{"$f":"IF(Blad1!F895=\"\",\"\",Blad1!F895)","v":""},{"$f":"IF(Blad1!Q895=\"\",\"\",Blad1!Q895)","v":""}]
[{"$f":"IF(Blad1!D896=\"\",\"\",Blad1!D896)","v":""},{"$f":"IF(Blad1!E896=\"\",\"\",Blad1!E896)","v":""},{"$f":"IF(Blad1!B896=\"\",\"\",Blad1!B896)","v":""},{"$f":"IF(Blad1!H896=\"\",\"\",Blad1!H896)","v":""},{"$f":"IF(Blad1!I896=\"\",\"\",Blad1!I896)","v":""},{"$f":"IF(Blad1!M896=\"\",\"\",Blad1!M896)","v":""},{"$f":"IF(Blad1!F896=\"\",\"\",Blad1!F896)","v":""},{"$f":"IF(Blad1!Q896=\"\",\"\",Blad1!Q896)","v":""}]
[{"$f":"IF(Blad1!D897=\"\",\"\",Blad1!D897)","v":""},{"$f":"IF(Blad1!E897=\"\",\"\",Blad1!E897)","v":""},{"$f":"IF(Blad1!B897=\"\",\"\",Blad1!B897)","v":""},{"$f":"IF(Blad1!H897=\"\",\"\",Blad1!H897)","v":""},{"$f":"IF(Blad1!I897=\"\",\"\",Blad1!I897)","v":""},{"$f":"IF(Blad1!M897=\"\",\"\",Blad1!M897)","v":""},{"$f":"IF(Blad1!F897=\"\",\"\",Blad1!F897)","v":""},{"$f":"IF(Blad1!Q897=\"\",\"\",Blad1!Q897)","v":""}]
[{"$f":"IF(Blad1!D898=\"\",\"\",Blad1!D898)","v":""},{"$f":"IF(Blad1!E898=\"\",\"\",Blad1!E898)","v":""},{"$f":"IF(Blad1!B898=\"\",\"\",Blad1!B898)","v":""},{"$f":"IF(Blad1!H898=\"\",\"\",Blad1!H898)","v":""},{"$f":"IF(Blad1!I898=\"\",\"\",Blad1!I898)","v":""},{"$f":"IF(Blad1!M898=\"\",\"\",Blad1!M898)","v":""},{"$f":"IF(Blad1!F898=\"\",\"\",Blad1!F898)","v":""},{"$f":"IF(Blad1!Q898=\"\",\"\",Blad1!Q898)","v":""}]
[{"$f":"IF(Blad1!D899=\"\",\"\",Blad1!D899)","v":""},{"$f":"IF(Blad1!E899=\"\",\"\",Blad1!E899)","v":""},{"$f":"IF(Blad1!B899=\"\",\"\",Blad1!B899)","v":""},{"$f":"IF(Blad1!H899=\"\",\"\",Blad1!H899)","v":""},{"$f":"IF(Blad1!I899=\"\",\"\",Blad1!I899)","v":""},{"$f":"IF(Blad1!M899=\"\",\"\",Blad1!M899)","v":""},{"$f":"IF(Blad1!F899=\"\",\"\",Blad1!F899)","v":""},{"$f":"IF(Blad1!Q899=\"\",\"\",Blad1!Q899)","v":""}]
[{"$f":"IF(Blad1!D900=\"\",\"\",Blad1!D900)","v":""},{"$f":"IF(Blad1!E900=\"\",\"\",Blad1!E900)","v":""},{"$f":"IF(Blad1!B900=\"\",\"\",Blad1!B900)","v":""},{"$f":"IF(Blad1!H900=\"\",\"\",Blad1!H900)","v":""},{"$f":"IF(Blad1!I900=\"\",\"\",Blad1!I900)","v":""},{"$f":"IF(Blad1!M900=\"\",\"\",Blad1!M900)","v":""},{"$f":"IF(Blad1!F900=\"\",\"\",Blad1!F900)","v":""},{"$f":"IF(Blad1!Q900=\"\",\"\",Blad1!Q900)","v":""}]
[{"$f":"IF(Blad1!D901=\"\",\"\",Blad1!D901)","v":""},{"$f":"IF(Blad1!E901=\"\",\"\",Blad1!E901)","v":""},{"$f":"IF(Blad1!B901=\"\",\"\",Blad1!B901)","v":""},{"$f":"IF(Blad1!H901=\"\",\"\",Blad1!H901)","v":""},{"$f":"IF(Blad1!I901=\"\",\"\",Blad1!I901)","v":""},{"$f":"IF(Blad1!M901=\"\",\"\",Blad1!M901)","v":""},{"$f":"IF(Blad1!F901=\"\",\"\",Blad1!F901)","v":""},{"$f":"IF(Blad1!Q901=\"\",\"\",Blad1!Q901)","v":""}]
[{"$f":"IF(Blad1!D902=\"\",\"\",Blad1!D902)","v":""},{"$f":"IF(Blad1!E902=\"\",\"\",Blad1!E902)","v":""},{"$f":"IF(Blad1!B902=\"\",\"\",Blad1!B902)","v":""},{"$f":"IF(Blad1!H902=\"\",\"\",Blad1!H902)","v":""},{"$f":"IF(Blad1!I902=\"\",\"\",Blad1!I902)","v":""},{"$f":"IF(Blad1!M902=\"\",\"\",Blad1!M902)","v":""},{"$f":"IF(Blad1!F902=\"\",\"\",Blad1!F902)","v":""},{"$f":"IF(Blad1!Q902=\"\",\"\",Blad1!Q902)","v":""}]
[{"$f":"IF(Blad1!D903=\"\",\"\",Blad1!D903)","v":""},{"$f":"IF(Blad1!E903=\"\",\"\",Blad1!E903)","v":""},{"$f":"IF(Blad1!B903=\"\",\"\",Blad1!B903)","v":""},{"$f":"IF(Blad1!H903=\"\",\"\",Blad1!H903)","v":""},{"$f":"IF(Blad1!I903=\"\",\"\",Blad1!I903)","v":""},{"$f":"IF(Blad1!M903=\"\",\"\",Blad1!M903)","v":""},{"$f":"IF(Blad1!F903=\"\",\"\",Blad1!F903)","v":""},{"$f":"IF(Blad1!Q903=\"\",\"\",Blad1!Q903)","v":""}]
[{"$f":"IF(Blad1!D904=\"\",\"\",Blad1!D904)","v":""},{"$f":"IF(Blad1!E904=\"\",\"\",Blad1!E904)","v":""},{"$f":"IF(Blad1!B904=\"\",\"\",Blad1!B904)","v":""},{"$f":"IF(Blad1!H904=\"\",\"\",Blad1!H904)","v":""},{"$f":"IF(Blad1!I904=\"\",\"\",Blad1!I904)","v":""},{"$f":"IF(Blad1!M904=\"\",\"\",Blad1!M904)","v":""},{"$f":"IF(Blad1!F904=\"\",\"\",Blad1!F904)","v":""},{"$f":"IF(Blad1!Q904=\"\",\"\",Blad1!Q904)","v":""}]
[{"$f":"IF(Blad1!D905=\"\",\"\",Blad1!D905)","v":""},{"$f":"IF(Blad1!E905=\"\",\"\",Blad1!E905)","v":""},{"$f":"IF(Blad1!B905=\"\",\"\",Blad1!B905)","v":""},{"$f":"IF(Blad1!H905=\"\",\"\",Blad1!H905)","v":""},{"$f":"IF(Blad1!I905=\"\",\"\",Blad1!I905)","v":""},{"$f":"IF(Blad1!M905=\"\",\"\",Blad1!M905)","v":""},{"$f":"IF(Blad1!F905=\"\",\"\",Blad1!F905)","v":""},{"$f":"IF(Blad1!Q905=\"\",\"\",Blad1!Q905)","v":""}]
[{"$f":"IF(Blad1!D906=\"\",\"\",Blad1!D906)","v":""},{"$f":"IF(Blad1!E906=\"\",\"\",Blad1!E906)","v":""},{"$f":"IF(Blad1!B906=\"\",\"\",Blad1!B906)","v":""},{"$f":"IF(Blad1!H906=\"\",\"\",Blad1!H906)","v":""},{"$f":"IF(Blad1!I906=\"\",\"\",Blad1!I906)","v":""},{"$f":"IF(Blad1!M906=\"\",\"\",Blad1!M906)","v":""},{"$f":"IF(Blad1!F906=\"\",\"\",Blad1!F906)","v":""},{"$f":"IF(Blad1!Q906=\"\",\"\",Blad1!Q906)","v":""}]
[{"$f":"IF(Blad1!D907=\"\",\"\",Blad1!D907)","v":""},{"$f":"IF(Blad1!E907=\"\",\"\",Blad1!E907)","v":""},{"$f":"IF(Blad1!B907=\"\",\"\",Blad1!B907)","v":""},{"$f":"IF(Blad1!H907=\"\",\"\",Blad1!H907)","v":""},{"$f":"IF(Blad1!I907=\"\",\"\",Blad1!I907)","v":""},{"$f":"IF(Blad1!M907=\"\",\"\",Blad1!M907)","v":""},{"$f":"IF(Blad1!F907=\"\",\"\",Blad1!F907)","v":""},{"$f":"IF(Blad1!Q907=\"\",\"\",Blad1!Q907)","v":""}]
[{"$f":"IF(Blad1!D908=\"\",\"\",Blad1!D908)","v":""},{"$f":"IF(Blad1!E908=\"\",\"\",Blad1!E908)","v":""},{"$f":"IF(Blad1!B908=\"\",\"\",Blad1!B908)","v":""},{"$f":"IF(Blad1!H908=\"\",\"\",Blad1!H908)","v":""},{"$f":"IF(Blad1!I908=\"\",\"\",Blad1!I908)","v":""},{"$f":"IF(Blad1!M908=\"\",\"\",Blad1!M908)","v":""},{"$f":"IF(Blad1!F908=\"\",\"\",Blad1!F908)","v":""},{"$f":"IF(Blad1!Q908=\"\",\"\",Blad1!Q908)","v":""}]
[{"$f":"IF(Blad1!D909=\"\",\"\",Blad1!D909)","v":""},{"$f":"IF(Blad1!E909=\"\",\"\",Blad1!E909)","v":""},{"$f":"IF(Blad1!B909=\"\",\"\",Blad1!B909)","v":""},{"$f":"IF(Blad1!H909=\"\",\"\",Blad1!H909)","v":""},{"$f":"IF(Blad1!I909=\"\",\"\",Blad1!I909)","v":""},{"$f":"IF(Blad1!M909=\"\",\"\",Blad1!M909)","v":""},{"$f":"IF(Blad1!F909=\"\",\"\",Blad1!F909)","v":""},{"$f":"IF(Blad1!Q909=\"\",\"\",Blad1!Q909)","v":""}]
[{"$f":"IF(Blad1!D910=\"\",\"\",Blad1!D910)","v":""},{"$f":"IF(Blad1!E910=\"\",\"\",Blad1!E910)","v":""},{"$f":"IF(Blad1!B910=\"\",\"\",Blad1!B910)","v":""},{"$f":"IF(Blad1!H910=\"\",\"\",Blad1!H910)","v":""},{"$f":"IF(Blad1!I910=\"\",\"\",Blad1!I910)","v":""},{"$f":"IF(Blad1!M910=\"\",\"\",Blad1!M910)","v":""},{"$f":"IF(Blad1!F910=\"\",\"\",Blad1!F910)","v":""},{"$f":"IF(Blad1!Q910=\"\",\"\",Blad1!Q910)","v":""}]
[{"$f":"IF(Blad1!D911=\"\",\"\",Blad1!D911)","v":""},{"$f":"IF(Blad1!E911=\"\",\"\",Blad1!E911)","v":""},{"$f":"IF(Blad1!B911=\"\",\"\",Blad1!B911)","v":""},{"$f":"IF(Blad1!H911=\"\",\"\",Blad1!H911)","v":""},{"$f":"IF(Blad1!I911=\"\",\"\",Blad1!I911)","v":""},{"$f":"IF(Blad1!M911=\"\",\"\",Blad1!M911)","v":""},{"$f":"IF(Blad1!F911=\"\",\"\",Blad1!F911)","v":""},{"$f":"IF(Blad1!Q911=\"\",\"\",Blad1!Q911)","v":""}]
[{"$f":"IF(Blad1!D912=\"\",\"\",Blad1!D912)","v":""},{"$f":"IF(Blad1!E912=\"\",\"\",Blad1!E912)","v":""},{"$f":"IF(Blad1!B912=\"\",\"\",Blad1!B912)","v":""},{"$f":"IF(Blad1!H912=\"\",\"\",Blad1!H912)","v":""},{"$f":"IF(Blad1!I912=\"\",\"\",Blad1!I912)","v":""},{"$f":"IF(Blad1!M912=\"\",\"\",Blad1!M912)","v":""},{"$f":"IF(Blad1!F912=\"\",\"\",Blad1!F912)","v":""},{"$f":"IF(Blad1!Q912=\"\",\"\",Blad1!Q912)","v":""}]
[{"$f":"IF(Blad1!D913=\"\",\"\",Blad1!D913)","v":""},{"$f":"IF(Blad1!E913=\"\",\"\",Blad1!E913)","v":""},{"$f":"IF(Blad1!B913=\"\",\"\",Blad1!B913)","v":""},{"$f":"IF(Blad1!H913=\"\",\"\",Blad1!H913)","v":""},{"$f":"IF(Blad1!I913=\"\",\"\",Blad1!I913)","v":""},{"$f":"IF(Blad1!M913=\"\",\"\",Blad1!M913)","v":""},{"$f":"IF(Blad1!F913=\"\",\"\",Blad1!F913)","v":""},{"$f":"IF(Blad1!Q913=\"\",\"\",Blad1!Q913)","v":""}]
[{"$f":"IF(Blad1!D914=\"\",\"\",Blad1!D914)","v":""},{"$f":"IF(Blad1!E914=\"\",\"\",Blad1!E914)","v":""},{"$f":"IF(Blad1!B914=\"\",\"\",Blad1!B914)","v":""},{"$f":"IF(Blad1!H914=\"\",\"\",Blad1!H914)","v":""},{"$f":"IF(Blad1!I914=\"\",\"\",Blad1!I914)","v":""},{"$f":"IF(Blad1!M914=\"\",\"\",Blad1!M914)","v":""},{"$f":"IF(Blad1!F914=\"\",\"\",Blad1!F914)","v":""},{"$f":"IF(Blad1!Q914=\"\",\"\",Blad1!Q914)","v":""}]
[{"$f":"IF(Blad1!D915=\"\",\"\",Blad1!D915)","v":""},{"$f":"IF(Blad1!E915=\"\",\"\",Blad1!E915)","v":""},{"$f":"IF(Blad1!B915=\"\",\"\",Blad1!B915)","v":""},{"$f":"IF(Blad1!H915=\"\",\"\",Blad1!H915)","v":""},{"$f":"IF(Blad1!I915=\"\",\"\",Blad1!I915)","v":""},{"$f":"IF(Blad1!M915=\"\",\"\",Blad1!M915)","v":""},{"$f":"IF(Blad1!F915=\"\",\"\",Blad1!F915)","v":""},{"$f":"IF(Blad1!Q915=\"\",\"\",Blad1!Q915)","v":""}]
[{"$f":"IF(Blad1!D916=\"\",\"\",Blad1!D916)","v":""},{"$f":"IF(Blad1!E916=\"\",\"\",Blad1!E916)","v":""},{"$f":"IF(Blad1!B916=\"\",\"\",Blad1!B916)","v":""},{"$f":"IF(Blad1!H916=\"\",\"\",Blad1!H916)","v":""},{"$f":"IF(Blad1!I916=\"\",\"\",Blad1!I916)","v":""},{"$f":"IF(Blad1!M916=\"\",\"\",Blad1!M916)","v":""},{"$f":"IF(Blad1!F916=\"\",\"\",Blad1!F916)","v":""},{"$f":"IF(Blad1!Q916=\"\",\"\",Blad1!Q916)","v":""}]
[{"$f":"IF(Blad1!D917=\"\",\"\",Blad1!D917)","v":""},{"$f":"IF(Blad1!E917=\"\",\"\",Blad1!E917)","v":""},{"$f":"IF(Blad1!B917=\"\",\"\",Blad1!B917)","v":""},{"$f":"IF(Blad1!H917=\"\",\"\",Blad1!H917)","v":""},{"$f":"IF(Blad1!I917=\"\",\"\",Blad1!I917)","v":""},{"$f":"IF(Blad1!M917=\"\",\"\",Blad1!M917)","v":""},{"$f":"IF(Blad1!F917=\"\",\"\",Blad1!F917)","v":""},{"$f":"IF(Blad1!Q917=\"\",\"\",Blad1!Q917)","v":""}]
[{"$f":"IF(Blad1!D918=\"\",\"\",Blad1!D918)","v":""},{"$f":"IF(Blad1!E918=\"\",\"\",Blad1!E918)","v":""},{"$f":"IF(Blad1!B918=\"\",\"\",Blad1!B918)","v":""},{"$f":"IF(Blad1!H918=\"\",\"\",Blad1!H918)","v":""},{"$f":"IF(Blad1!I918=\"\",\"\",Blad1!I918)","v":""},{"$f":"IF(Blad1!M918=\"\",\"\",Blad1!M918)","v":""},{"$f":"IF(Blad1!F918=\"\",\"\",Blad1!F918)","v":""},{"$f":"IF(Blad1!Q918=\"\",\"\",Blad1!Q918)","v":""}]
[{"$f":"IF(Blad1!D919=\"\",\"\",Blad1!D919)","v":""},{"$f":"IF(Blad1!E919=\"\",\"\",Blad1!E919)","v":""},{"$f":"IF(Blad1!B919=\"\",\"\",Blad1!B919)","v":""},{"$f":"IF(Blad1!H919=\"\",\"\",Blad1!H919)","v":""},{"$f":"IF(Blad1!I919=\"\",\"\",Blad1!I919)","v":""},{"$f":"IF(Blad1!M919=\"\",\"\",Blad1!M919)","v":""},{"$f":"IF(Blad1!F919=\"\",\"\",Blad1!F919)","v":""},{"$f":"IF(Blad1!Q919=\"\",\"\",Blad1!Q919)","v":""}]
[{"$f":"IF(Blad1!D920=\"\",\"\",Blad1!D920)","v":""},{"$f":"IF(Blad1!E920=\"\",\"\",Blad1!E920)","v":""},{"$f":"IF(Blad1!B920=\"\",\"\",Blad1!B920)","v":""},{"$f":"IF(Blad1!H920=\"\",\"\",Blad1!H920)","v":""},{"$f":"IF(Blad1!I920=\"\",\"\",Blad1!I920)","v":""},{"$f":"IF(Blad1!M920=\"\",\"\",Blad1!M920)","v":""},{"$f":"IF(Blad1!F920=\"\",\"\",Blad1!F920)","v":""},{"$f":"IF(Blad1!Q920=\"\",\"\",Blad1!Q920)","v":""}]
[{"$f":"IF(Blad1!D921=\"\",\"\",Blad1!D921)","v":""},{"$f":"IF(Blad1!E921=\"\",\"\",Blad1!E921)","v":""},{"$f":"IF(Blad1!B921=\"\",\"\",Blad1!B921)","v":""},{"$f":"IF(Blad1!H921=\"\",\"\",Blad1!H921)","v":""},{"$f":"IF(Blad1!I921=\"\",\"\",Blad1!I921)","v":""},{"$f":"IF(Blad1!M921=\"\",\"\",Blad1!M921)","v":""},{"$f":"IF(Blad1!F921=\"\",\"\",Blad1!F921)","v":""},{"$f":"IF(Blad1!Q921=\"\",\"\",Blad1!Q921)","v":""}]
[{"$f":"IF(Blad1!D922=\"\",\"\",Blad1!D922)","v":""},{"$f":"IF(Blad1!E922=\"\",\"\",Blad1!E922)","v":""},{"$f":"IF(Blad1!B922=\"\",\"\",Blad1!B922)","v":""},{"$f":"IF(Blad1!H922=\"\",\"\",Blad1!H922)","v":""},{"$f":"IF(Blad1!I922=\"\",\"\",Blad1!I922)","v":""},{"$f":"IF(Blad1!M922=\"\",\"\",Blad1!M922)","v":""},{"$f":"IF(Blad1!F922=\"\",\"\",Blad1!F922)","v":""},{"$f":"IF(Blad1!Q922=\"\",\"\",Blad1!Q922)","v":""}]
[{"$f":"IF(Blad1!D923=\"\",\"\",Blad1!D923)","v":""},{"$f":"IF(Blad1!E923=\"\",\"\",Blad1!E923)","v":""},{"$f":"IF(Blad1!B923=\"\",\"\",Blad1!B923)","v":""},{"$f":"IF(Blad1!H923=\"\",\"\",Blad1!H923)","v":""},{"$f":"IF(Blad1!I923=\"\",\"\",Blad1!I923)","v":""},{"$f":"IF(Blad1!M923=\"\",\"\",Blad1!M923)","v":""},{"$f":"IF(Blad1!F923=\"\",\"\",Blad1!F923)","v":""},{"$f":"IF(Blad1!Q923=\"\",\"\",Blad1!Q923)","v":""}]
[{"$f":"IF(Blad1!D924=\"\",\"\",Blad1!D924)","v":""},{"$f":"IF(Blad1!E924=\"\",\"\",Blad1!E924)","v":""},{"$f":"IF(Blad1!B924=\"\",\"\",Blad1!B924)","v":""},{"$f":"IF(Blad1!H924=\"\",\"\",Blad1!H924)","v":""},{"$f":"IF(Blad1!I924=\"\",\"\",Blad1!I924)","v":""},{"$f":"IF(Blad1!M924=\"\",\"\",Blad1!M924)","v":""},{"$f":"IF(Blad1!F924=\"\",\"\",Blad1!F924)","v":""},{"$f":"IF(Blad1!Q924=\"\",\"\",Blad1!Q924)","v":""}]
[{"$f":"IF(Blad1!D925=\"\",\"\",Blad1!D925)","v":""},{"$f":"IF(Blad1!E925=\"\",\"\",Blad1!E925)","v":""},{"$f":"IF(Blad1!B925=\"\",\"\",Blad1!B925)","v":""},{"$f":"IF(Blad1!H925=\"\",\"\",Blad1!H925)","v":""},{"$f":"IF(Blad1!I925=\"\",\"\",Blad1!I925)","v":""},{"$f":"IF(Blad1!M925=\"\",\"\",Blad1!M925)","v":""},{"$f":"IF(Blad1!F925=\"\",\"\",Blad1!F925)","v":""},{"$f":"IF(Blad1!Q925=\"\",\"\",Blad1!Q925)","v":""}]
[{"$f":"IF(Blad1!D926=\"\",\"\",Blad1!D926)","v":""},{"$f":"IF(Blad1!E926=\"\",\"\",Blad1!E926)","v":""},{"$f":"IF(Blad1!B926=\"\",\"\",Blad1!B926)","v":""},{"$f":"IF(Blad1!H926=\"\",\"\",Blad1!H926)","v":""},{"$f":"IF(Blad1!I926=\"\",\"\",Blad1!I926)","v":""},{"$f":"IF(Blad1!M926=\"\",\"\",Blad1!M926)","v":""},{"$f":"IF(Blad1!F926=\"\",\"\",Blad1!F926)","v":""},{"$f":"IF(Blad1!Q926=\"\",\"\",Blad1!Q926)","v":""}]
[{"$f":"IF(Blad1!D927=\"\",\"\",Blad1!D927)","v":""},{"$f":"IF(Blad1!E927=\"\",\"\",Blad1!E927)","v":""},{"$f":"IF(Blad1!B927=\"\",\"\",Blad1!B927)","v":""},{"$f":"IF(Blad1!H927=\"\",\"\",Blad1!H927)","v":""},{"$f":"IF(Blad1!I927=\"\",\"\",Blad1!I927)","v":""},{"$f":"IF(Blad1!M927=\"\",\"\",Blad1!M927)","v":""},{"$f":"IF(Blad1!F927=\"\",\"\",Blad1!F927)","v":""},{"$f":"IF(Blad1!Q927=\"\",\"\",Blad1!Q927)","v":""}]
[{"$f":"IF(Blad1!D928=\"\",\"\",Blad1!D928)","v":""},{"$f":"IF(Blad1!E928=\"\",\"\",Blad1!E928)","v":""},{"$f":"IF(Blad1!B928=\"\",\"\",Blad1!B928)","v":""},{"$f":"IF(Blad1!H928=\"\",\"\",Blad1!H928)","v":""},{"$f":"IF(Blad1!I928=\"\",\"\",Blad1!I928)","v":""},{"$f":"IF(Blad1!M928=\"\",\"\",Blad1!M928)","v":""},{"$f":"IF(Blad1!F928=\"\",\"\",Blad1!F928)","v":""},{"$f":"IF(Blad1!Q928=\"\",\"\",Blad1!Q928)","v":""}]
[{"$f":"IF(Blad1!D929=\"\",\"\",Blad1!D929)","v":""},{"$f":"IF(Blad1!E929=\"\",\"\",Blad1!E929)","v":""},{"$f":"IF(Blad1!B929=\"\",\"\",Blad1!B929)","v":""},{"$f":"IF(Blad1!H929=\"\",\"\",Blad1!H929)","v":""},{"$f":"IF(Blad1!I929=\"\",\"\",Blad1!I929)","v":""},{"$f":"IF(Blad1!M929=\"\",\"\",Blad1!M929)","v":""},{"$f":"IF(Blad1!F929=\"\",\"\",Blad1!F929)","v":""},{"$f":"IF(Blad1!Q929=\"\",\"\",Blad1!Q929)","v":""}]
[{"$f":"IF(Blad1!D930=\"\",\"\",Blad1!D930)","v":""},{"$f":"IF(Blad1!E930=\"\",\"\",Blad1!E930)","v":""},{"$f":"IF(Blad1!B930=\"\",\"\",Blad1!B930)","v":""},{"$f":"IF(Blad1!H930=\"\",\"\",Blad1!H930)","v":""},{"$f":"IF(Blad1!I930=\"\",\"\",Blad1!I930)","v":""},{"$f":"IF(Blad1!M930=\"\",\"\",Blad1!M930)","v":""},{"$f":"IF(Blad1!F930=\"\",\"\",Blad1!F930)","v":""},{"$f":"IF(Blad1!Q930=\"\",\"\",Blad1!Q930)","v":""}]
[{"$f":"IF(Blad1!D931=\"\",\"\",Blad1!D931)","v":""},{"$f":"IF(Blad1!E931=\"\",\"\",Blad1!E931)","v":""},{"$f":"IF(Blad1!B931=\"\",\"\",Blad1!B931)","v":""},{"$f":"IF(Blad1!H931=\"\",\"\",Blad1!H931)","v":""},{"$f":"IF(Blad1!I931=\"\",\"\",Blad1!I931)","v":""},{"$f":"IF(Blad1!M931=\"\",\"\",Blad1!M931)","v":""},{"$f":"IF(Blad1!F931=\"\",\"\",Blad1!F931)","v":""},{"$f":"IF(Blad1!Q931=\"\",\"\",Blad1!Q931)","v":""}]
[{"$f":"IF(Blad1!D932=\"\",\"\",Blad1!D932)","v":""},{"$f":"IF(Blad1!E932=\"\",\"\",Blad1!E932)","v":""},{"$f":"IF(Blad1!B932=\"\",\"\",Blad1!B932)","v":""},{"$f":"IF(Blad1!H932=\"\",\"\",Blad1!H932)","v":""},{"$f":"IF(Blad1!I932=\"\",\"\",Blad1!I932)","v":""},{"$f":"IF(Blad1!M932=\"\",\"\",Blad1!M932)","v":""},{"$f":"IF(Blad1!F932=\"\",\"\",Blad1!F932)","v":""},{"$f":"IF(Blad1!Q932=\"\",\"\",Blad1!Q932)","v":""}]
[{"$f":"IF(Blad1!D933=\"\",\"\",Blad1!D933)","v":""},{"$f":"IF(Blad1!E933=\"\",\"\",Blad1!E933)","v":""},{"$f":"IF(Blad1!B933=\"\",\"\",Blad1!B933)","v":""},{"$f":"IF(Blad1!H933=\"\",\"\",Blad1!H933)","v":""},{"$f":"IF(Blad1!I933=\"\",\"\",Blad1!I933)","v":""},{"$f":"IF(Blad1!M933=\"\",\"\",Blad1!M933)","v":""},{"$f":"IF(Blad1!F933=\"\",\"\",Blad1!F933)","v":""},{"$f":"IF(Blad1!Q933=\"\",\"\",Blad1!Q933)","v":""}]
[{"$f":"IF(Blad1!D934=\"\",\"\",Blad1!D934)","v":""},{"$f":"IF(Blad1!E934=\"\",\"\",Blad1!E934)","v":""},{"$f":"IF(Blad1!B934=\"\",\"\",Blad1!B934)","v":""},{"$f":"IF(Blad1!H934=\"\",\"\",Blad1!H934)","v":""},{"$f":"IF(Blad1!I934=\"\",\"\",Blad1!I934)","v":""},{"$f":"IF(Blad1!M934=\"\",\"\",Blad1!M934)","v":""},{"$f":"IF(Blad1!F934=\"\",\"\",Blad1!F934)","v":""},{"$f":"IF(Blad1!Q934=\"\",\"\",Blad1!Q934)","v":""}]
[{"$f":"IF(Blad1!D935=\"\",\"\",Blad1!D935)","v":""},{"$f":"IF(Blad1!E935=\"\",\"\",Blad1!E935)","v":""},{"$f":"IF(Blad1!B935=\"\",\"\",Blad1!B935)","v":""},{"$f":"IF(Blad1!H935=\"\",\"\",Blad1!H935)","v":""},{"$f":"IF(Blad1!I935=\"\",\"\",Blad1!I935)","v":""},{"$f":"IF(Blad1!M935=\"\",\"\",Blad1!M935)","v":""},{"$f":"IF(Blad1!F935=\"\",\"\",Blad1!F935)","v":""},{"$f":"IF(Blad1!Q935=\"\",\"\",Blad1!Q935)","v":""}]
[{"$f":"IF(Blad1!D936=\"\",\"\",Blad1!D936)","v":""},{"$f":"IF(Blad1!E936=\"\",\"\",Blad1!E936)","v":""},{"$f":"IF(Blad1!B936=\"\",\"\",Blad1!B936)","v":""},{"$f":"IF(Blad1!H936=\"\",\"\",Blad1!H936)","v":""},{"$f":"IF(Blad1!I936=\"\",\"\",Blad1!I936)","v":""},{"$f":"IF(Blad1!M936=\"\",\"\",Blad1!M936)","v":""},{"$f":"IF(Blad1!F936=\"\",\"\",Blad1!F936)","v":""},{"$f":"IF(Blad1!Q936=\"\",\"\",Blad1!Q936)","v":""}]
[{"$f":"IF(Blad1!D937=\"\",\"\",Blad1!D937)","v":""},{"$f":"IF(Blad1!E937=\"\",\"\",Blad1!E937)","v":""},{"$f":"IF(Blad1!B937=\"\",\"\",Blad1!B937)","v":""},{"$f":"IF(Blad1!H937=\"\",\"\",Blad1!H937)","v":""},{"$f":"IF(Blad1!I937=\"\",\"\",Blad1!I937)","v":""},{"$f":"IF(Blad1!M937=\"\",\"\",Blad1!M937)","v":""},{"$f":"IF(Blad1!F937=\"\",\"\",Blad1!F937)","v":""},{"$f":"IF(Blad1!Q937=\"\",\"\",Blad1!Q937)","v":""}]
[{"$f":"IF(Blad1!D938=\"\",\"\",Blad1!D938)","v":""},{"$f":"IF(Blad1!E938=\"\",\"\",Blad1!E938)","v":""},{"$f":"IF(Blad1!B938=\"\",\"\",Blad1!B938)","v":""},{"$f":"IF(Blad1!H938=\"\",\"\",Blad1!H938)","v":""},{"$f":"IF(Blad1!I938=\"\",\"\",Blad1!I938)","v":""},{"$f":"IF(Blad1!M938=\"\",\"\",Blad1!M938)","v":""},{"$f":"IF(Blad1!F938=\"\",\"\",Blad1!F938)","v":""},{"$f":"IF(Blad1!Q938=\"\",\"\",Blad1!Q938)","v":""}]
[{"$f":"IF(Blad1!D939=\"\",\"\",Blad1!D939)","v":""},{"$f":"IF(Blad1!E939=\"\",\"\",Blad1!E939)","v":""},{"$f":"IF(Blad1!B939=\"\",\"\",Blad1!B939)","v":""},{"$f":"IF(Blad1!H939=\"\",\"\",Blad1!H939)","v":""},{"$f":"IF(Blad1!I939=\"\",\"\",Blad1!I939)","v":""},{"$f":"IF(Blad1!M939=\"\",\"\",Blad1!M939)","v":""},{"$f":"IF(Blad1!F939=\"\",\"\",Blad1!F939)","v":""},{"$f":"IF(Blad1!Q939=\"\",\"\",Blad1!Q939)","v":""}]
[{"$f":"IF(Blad1!D940=\"\",\"\",Blad1!D940)","v":""},{"$f":"IF(Blad1!E940=\"\",\"\",Blad1!E940)","v":""},{"$f":"IF(Blad1!B940=\"\",\"\",Blad1!B940)","v":""},{"$f":"IF(Blad1!H940=\"\",\"\",Blad1!H940)","v":""},{"$f":"IF(Blad1!I940=\"\",\"\",Blad1!I940)","v":""},{"$f":"IF(Blad1!M940=\"\",\"\",Blad1!M940)","v":""},{"$f":"IF(Blad1!F940=\"\",\"\",Blad1!F940)","v":""},{"$f":"IF(Blad1!Q940=\"\",\"\",Blad1!Q940)","v":""}]
[{"$f":"IF(Blad1!D941=\"\",\"\",Blad1!D941)","v":""},{"$f":"IF(Blad1!E941=\"\",\"\",Blad1!E941)","v":""},{"$f":"IF(Blad1!B941=\"\",\"\",Blad1!B941)","v":""},{"$f":"IF(Blad1!H941=\"\",\"\",Blad1!H941)","v":""},{"$f":"IF(Blad1!I941=\"\",\"\",Blad1!I941)","v":""},{"$f":"IF(Blad1!M941=\"\",\"\",Blad1!M941)","v":""},{"$f":"IF(Blad1!F941=\"\",\"\",Blad1!F941)","v":""},{"$f":"IF(Blad1!Q941=\"\",\"\",Blad1!Q941)","v":""}]
[{"$f":"IF(Blad1!D942=\"\",\"\",Blad1!D942)","v":""},{"$f":"IF(Blad1!E942=\"\",\"\",Blad1!E942)","v":""},{"$f":"IF(Blad1!B942=\"\",\"\",Blad1!B942)","v":""},{"$f":"IF(Blad1!H942=\"\",\"\",Blad1!H942)","v":""},{"$f":"IF(Blad1!I942=\"\",\"\",Blad1!I942)","v":""},{"$f":"IF(Blad1!M942=\"\",\"\",Blad1!M942)","v":""},{"$f":"IF(Blad1!F942=\"\",\"\",Blad1!F942)","v":""},{"$f":"IF(Blad1!Q942=\"\",\"\",Blad1!Q942)","v":""}]
[{"$f":"IF(Blad1!D943=\"\",\"\",Blad1!D943)","v":""},{"$f":"IF(Blad1!E943=\"\",\"\",Blad1!E943)","v":""},{"$f":"IF(Blad1!B943=\"\",\"\",Blad1!B943)","v":""},{"$f":"IF(Blad1!H943=\"\",\"\",Blad1!H943)","v":""},{"$f":"IF(Blad1!I943=\"\",\"\",Blad1!I943)","v":""},{"$f":"IF(Blad1!M943=\"\",\"\",Blad1!M943)","v":""},{"$f":"IF(Blad1!F943=\"\",\"\",Blad1!F943)","v":""},{"$f":"IF(Blad1!Q943=\"\",\"\",Blad1!Q943)","v":""}]
[{"$f":"IF(Blad1!D944=\"\",\"\",Blad1!D944)","v":""},{"$f":"IF(Blad1!E944=\"\",\"\",Blad1!E944)","v":""},{"$f":"IF(Blad1!B944=\"\",\"\",Blad1!B944)","v":""},{"$f":"IF(Blad1!H944=\"\",\"\",Blad1!H944)","v":""},{"$f":"IF(Blad1!I944=\"\",\"\",Blad1!I944)","v":""},{"$f":"IF(Blad1!M944=\"\",\"\",Blad1!M944)","v":""},{"$f":"IF(Blad1!F944=\"\",\"\",Blad1!F944)","v":""},{"$f":"IF(Blad1!Q944=\"\",\"\",Blad1!Q944)","v":""}]
[{"$f":"IF(Blad1!D945=\"\",\"\",Blad1!D945)","v":""},{"$f":"IF(Blad1!E945=\"\",\"\",Blad1!E945)","v":""},{"$f":"IF(Blad1!B945=\"\",\"\",Blad1!B945)","v":""},{"$f":"IF(Blad1!H945=\"\",\"\",Blad1!H945)","v":""},{"$f":"IF(Blad1!I945=\"\",\"\",Blad1!I945)","v":""},{"$f":"IF(Blad1!M945=\"\",\"\",Blad1!M945)","v":""},{"$f":"IF(Blad1!F945=\"\",\"\",Blad1!F945)","v":""},{"$f":"IF(Blad1!Q945=\"\",\"\",Blad1!Q945)","v":""}]
[{"$f":"IF(Blad1!D946=\"\",\"\",Blad1!D946)","v":""},{"$f":"IF(Blad1!E946=\"\",\"\",Blad1!E946)","v":""},{"$f":"IF(Blad1!B946=\"\",\"\",Blad1!B946)","v":""},{"$f":"IF(Blad1!H946=\"\",\"\",Blad1!H946)","v":""},{"$f":"IF(Blad1!I946=\"\",\"\",Blad1!I946)","v":""},{"$f":"IF(Blad1!M946=\"\",\"\",Blad1!M946)","v":""},{"$f":"IF(Blad1!F946=\"\",\"\",Blad1!F946)","v":""},{"$f":"IF(Blad1!Q946=\"\",\"\",Blad1!Q946)","v":""}]
[{"$f":"IF(Blad1!D947=\"\",\"\",Blad1!D947)","v":""},{"$f":"IF(Blad1!E947=\"\",\"\",Blad1!E947)","v":""},{"$f":"IF(Blad1!B947=\"\",\"\",Blad1!B947)","v":""},{"$f":"IF(Blad1!H947=\"\",\"\",Blad1!H947)","v":""},{"$f":"IF(Blad1!I947=\"\",\"\",Blad1!I947)","v":""},{"$f":"IF(Blad1!M947=\"\",\"\",Blad1!M947)","v":""},{"$f":"IF(Blad1!F947=\"\",\"\",Blad1!F947)","v":""},{"$f":"IF(Blad1!Q947=\"\",\"\",Blad1!Q947)","v":""}]
[{"$f":"IF(Blad1!D948=\"\",\"\",Blad1!D948)","v":""},{"$f":"IF(Blad1!E948=\"\",\"\",Blad1!E948)","v":""},{"$f":"IF(Blad1!B948=\"\",\"\",Blad1!B948)","v":""},{"$f":"IF(Blad1!H948=\"\",\"\",Blad1!H948)","v":""},{"$f":"IF(Blad1!I948=\"\",\"\",Blad1!I948)","v":""},{"$f":"IF(Blad1!M948=\"\",\"\",Blad1!M948)","v":""},{"$f":"IF(Blad1!F948=\"\",\"\",Blad1!F948)","v":""},{"$f":"IF(Blad1!Q948=\"\",\"\",Blad1!Q948)","v":""}]
[{"$f":"IF(Blad1!D949=\"\",\"\",Blad1!D949)","v":""},{"$f":"IF(Blad1!E949=\"\",\"\",Blad1!E949)","v":""},{"$f":"IF(Blad1!B949=\"\",\"\",Blad1!B949)","v":""},{"$f":"IF(Blad1!H949=\"\",\"\",Blad1!H949)","v":""},{"$f":"IF(Blad1!I949=\"\",\"\",Blad1!I949)","v":""},{"$f":"IF(Blad1!M949=\"\",\"\",Blad1!M949)","v":""},{"$f":"IF(Blad1!F949=\"\",\"\",Blad1!F949)","v":""},{"$f":"IF(Blad1!Q949=\"\",\"\",Blad1!Q949)","v":""}]
[{"$f":"IF(Blad1!D950=\"\",\"\",Blad1!D950)","v":""},{"$f":"IF(Blad1!E950=\"\",\"\",Blad1!E950)","v":""},{"$f":"IF(Blad1!B950=\"\",\"\",Blad1!B950)","v":""},{"$f":"IF(Blad1!H950=\"\",\"\",Blad1!H950)","v":""},{"$f":"IF(Blad1!I950=\"\",\"\",Blad1!I950)","v":""},{"$f":"IF(Blad1!M950=\"\",\"\",Blad1!M950)","v":""},{"$f":"IF(Blad1!F950=\"\",\"\",Blad1!F950)","v":""},{"$f":"IF(Blad1!Q950=\"\",\"\",Blad1!Q950)","v":""}]
[{"$f":"IF(Blad1!D951=\"\",\"\",Blad1!D951)","v":""},{"$f":"IF(Blad1!E951=\"\",\"\",Blad1!E951)","v":""},{"$f":"IF(Blad1!B951=\"\",\"\",Blad1!B951)","v":""},{"$f":"IF(Blad1!H951=\"\",\"\",Blad1!H951)","v":""},{"$f":"IF(Blad1!I951=\"\",\"\",Blad1!I951)","v":""},{"$f":"IF(Blad1!M951=\"\",\"\",Blad1!M951)","v":""},{"$f":"IF(Blad1!F951=\"\",\"\",Blad1!F951)","v":""},{"$f":"IF(Blad1!Q951=\"\",\"\",Blad1!Q951)","v":""}]
[{"$f":"IF(Blad1!D952=\"\",\"\",Blad1!D952)","v":""},{"$f":"IF(Blad1!E952=\"\",\"\",Blad1!E952)","v":""},{"$f":"IF(Blad1!B952=\"\",\"\",Blad1!B952)","v":""},{"$f":"IF(Blad1!H952=\"\",\"\",Blad1!H952)","v":""},{"$f":"IF(Blad1!I952=\"\",\"\",Blad1!I952)","v":""},{"$f":"IF(Blad1!M952=\"\",\"\",Blad1!M952)","v":""},{"$f":"IF(Blad1!F952=\"\",\"\",Blad1!F952)","v":""},{"$f":"IF(Blad1!Q952=\"\",\"\",Blad1!Q952)","v":""}]
[{"$f":"IF(Blad1!D953=\"\",\"\",Blad1!D953)","v":""},{"$f":"IF(Blad1!E953=\"\",\"\",Blad1!E953)","v":""},{"$f":"IF(Blad1!B953=\"\",\"\",Blad1!B953)","v":""},{"$f":"IF(Blad1!H953=\"\",\"\",Blad1!H953)","v":""},{"$f":"IF(Blad1!I953=\"\",\"\",Blad1!I953)","v":""},{"$f":"IF(Blad1!M953=\"\",\"\",Blad1!M953)","v":""},{"$f":"IF(Blad1!F953=\"\",\"\",Blad1!F953)","v":""},{"$f":"IF(Blad1!Q953=\"\",\"\",Blad1!Q953)","v":""}]
[{"$f":"IF(Blad1!D954=\"\",\"\",Blad1!D954)","v":""},{"$f":"IF(Blad1!E954=\"\",\"\",Blad1!E954)","v":""},{"$f":"IF(Blad1!B954=\"\",\"\",Blad1!B954)","v":""},{"$f":"IF(Blad1!H954=\"\",\"\",Blad1!H954)","v":""},{"$f":"IF(Blad1!I954=\"\",\"\",Blad1!I954)","v":""},{"$f":"IF(Blad1!M954=\"\",\"\",Blad1!M954)","v":""},{"$f":"IF(Blad1!F954=\"\",\"\",Blad1!F954)","v":""},{"$f":"IF(Blad1!Q954=\"\",\"\",Blad1!Q954)","v":""}]
[{"$f":"IF(Blad1!D955=\"\",\"\",Blad1!D955)","v":""},{"$f":"IF(Blad1!E955=\"\",\"\",Blad1!E955)","v":""},{"$f":"IF(Blad1!B955=\"\",\"\",Blad1!B955)","v":""},{"$f":"IF(Blad1!H955=\"\",\"\",Blad1!H955)","v":""},{"$f":"IF(Blad1!I955=\"\",\"\",Blad1!I955)","v":""},{"$f":"IF(Blad1!M955=\"\",\"\",Blad1!M955)","v":""},{"$f":"IF(Blad1!F955=\"\",\"\",Blad1!F955)","v":""},{"$f":"IF(Blad1!Q955=\"\",\"\",Blad1!Q955)","v":""}]
[{"$f":"IF(Blad1!D956=\"\",\"\",Blad1!D956)","v":""},{"$f":"IF(Blad1!E956=\"\",\"\",Blad1!E956)","v":""},{"$f":"IF(Blad1!B956=\"\",\"\",Blad1!B956)","v":""},{"$f":"IF(Blad1!H956=\"\",\"\",Blad1!H956)","v":""},{"$f":"IF(Blad1!I956=\"\",\"\",Blad1!I956)","v":""},{"$f":"IF(Blad1!M956=\"\",\"\",Blad1!M956)","v":""},{"$f":"IF(Blad1!F956=\"\",\"\",Blad1!F956)","v":""},{"$f":"IF(Blad1!Q956=\"\",\"\",Blad1!Q956)","v":""}]
[{"$f":"IF(Blad1!D957=\"\",\"\",Blad1!D957)","v":""},{"$f":"IF(Blad1!E957=\"\",\"\",Blad1!E957)","v":""},{"$f":"IF(Blad1!B957=\"\",\"\",Blad1!B957)","v":""},{"$f":"IF(Blad1!H957=\"\",\"\",Blad1!H957)","v":""},{"$f":"IF(Blad1!I957=\"\",\"\",Blad1!I957)","v":""},{"$f":"IF(Blad1!M957=\"\",\"\",Blad1!M957)","v":""},{"$f":"IF(Blad1!F957=\"\",\"\",Blad1!F957)","v":""},{"$f":"IF(Blad1!Q957=\"\",\"\",Blad1!Q957)","v":""}]
[{"$f":"IF(Blad1!D958=\"\",\"\",Blad1!D958)","v":""},{"$f":"IF(Blad1!E958=\"\",\"\",Blad1!E958)","v":""},{"$f":"IF(Blad1!B958=\"\",\"\",Blad1!B958)","v":""},{"$f":"IF(Blad1!H958=\"\",\"\",Blad1!H958)","v":""},{"$f":"IF(Blad1!I958=\"\",\"\",Blad1!I958)","v":""},{"$f":"IF(Blad1!M958=\"\",\"\",Blad1!M958)","v":""},{"$f":"IF(Blad1!F958=\"\",\"\",Blad1!F958)","v":""},{"$f":"IF(Blad1!Q958=\"\",\"\",Blad1!Q958)","v":""}]
[{"$f":"IF(Blad1!D959=\"\",\"\",Blad1!D959)","v":""},{"$f":"IF(Blad1!E959=\"\",\"\",Blad1!E959)","v":""},{"$f":"IF(Blad1!B959=\"\",\"\",Blad1!B959)","v":""},{"$f":"IF(Blad1!H959=\"\",\"\",Blad1!H959)","v":""},{"$f":"IF(Blad1!I959=\"\",\"\",Blad1!I959)","v":""},{"$f":"IF(Blad1!M959=\"\",\"\",Blad1!M959)","v":""},{"$f":"IF(Blad1!F959=\"\",\"\",Blad1!F959)","v":""},{"$f":"IF(Blad1!Q959=\"\",\"\",Blad1!Q959)","v":""}]
[{"$f":"IF(Blad1!D960=\"\",\"\",Blad1!D960)","v":""},{"$f":"IF(Blad1!E960=\"\",\"\",Blad1!E960)","v":""},{"$f":"IF(Blad1!B960=\"\",\"\",Blad1!B960)","v":""},{"$f":"IF(Blad1!H960=\"\",\"\",Blad1!H960)","v":""},{"$f":"IF(Blad1!I960=\"\",\"\",Blad1!I960)","v":""},{"$f":"IF(Blad1!M960=\"\",\"\",Blad1!M960)","v":""},{"$f":"IF(Blad1!F960=\"\",\"\",Blad1!F960)","v":""},{"$f":"IF(Blad1!Q960=\"\",\"\",Blad1!Q960)","v":""}]
[{"$f":"IF(Blad1!D961=\"\",\"\",Blad1!D961)","v":""},{"$f":"IF(Blad1!E961=\"\",\"\",Blad1!E961)","v":""},{"$f":"IF(Blad1!B961=\"\",\"\",Blad1!B961)","v":""},{"$f":"IF(Blad1!H961=\"\",\"\",Blad1!H961)","v":""},{"$f":"IF(Blad1!I961=\"\",\"\",Blad1!I961)","v":""},{"$f":"IF(Blad1!M961=\"\",\"\",Blad1!M961)","v":""},{"$f":"IF(Blad1!F961=\"\",\"\",Blad1!F961)","v":""},{"$f":"IF(Blad1!Q961=\"\",\"\",Blad1!Q961)","v":""}]
[{"$f":"IF(Blad1!D962=\"\",\"\",Blad1!D962)","v":""},{"$f":"IF(Blad1!E962=\"\",\"\",Blad1!E962)","v":""},{"$f":"IF(Blad1!B962=\"\",\"\",Blad1!B962)","v":""},{"$f":"IF(Blad1!H962=\"\",\"\",Blad1!H962)","v":""},{"$f":"IF(Blad1!I962=\"\",\"\",Blad1!I962)","v":""},{"$f":"IF(Blad1!M962=\"\",\"\",Blad1!M962)","v":""},{"$f":"IF(Blad1!F962=\"\",\"\",Blad1!F962)","v":""},{"$f":"IF(Blad1!Q962=\"\",\"\",Blad1!Q962)","v":""}]
[{"$f":"IF(Blad1!D963=\"\",\"\",Blad1!D963)","v":""},{"$f":"IF(Blad1!E963=\"\",\"\",Blad1!E963)","v":""},{"$f":"IF(Blad1!B963=\"\",\"\",Blad1!B963)","v":""},{"$f":"IF(Blad1!H963=\"\",\"\",Blad1!H963)","v":""},{"$f":"IF(Blad1!I963=\"\",\"\",Blad1!I963)","v":""},{"$f":"IF(Blad1!M963=\"\",\"\",Blad1!M963)","v":""},{"$f":"IF(Blad1!F963=\"\",\"\",Blad1!F963)","v":""},{"$f":"IF(Blad1!Q963=\"\",\"\",Blad1!Q963)","v":""}]
[{"$f":"IF(Blad1!D964=\"\",\"\",Blad1!D964)","v":""},{"$f":"IF(Blad1!E964=\"\",\"\",Blad1!E964)","v":""},{"$f":"IF(Blad1!B964=\"\",\"\",Blad1!B964)","v":""},{"$f":"IF(Blad1!H964=\"\",\"\",Blad1!H964)","v":""},{"$f":"IF(Blad1!I964=\"\",\"\",Blad1!I964)","v":""},{"$f":"IF(Blad1!M964=\"\",\"\",Blad1!M964)","v":""},{"$f":"IF(Blad1!F964=\"\",\"\",Blad1!F964)","v":""},{"$f":"IF(Blad1!Q964=\"\",\"\",Blad1!Q964)","v":""}]
[{"$f":"IF(Blad1!D965=\"\",\"\",Blad1!D965)","v":""},{"$f":"IF(Blad1!E965=\"\",\"\",Blad1!E965)","v":""},{"$f":"IF(Blad1!B965=\"\",\"\",Blad1!B965)","v":""},{"$f":"IF(Blad1!H965=\"\",\"\",Blad1!H965)","v":""},{"$f":"IF(Blad1!I965=\"\",\"\",Blad1!I965)","v":""},{"$f":"IF(Blad1!M965=\"\",\"\",Blad1!M965)","v":""},{"$f":"IF(Blad1!F965=\"\",\"\",Blad1!F965)","v":""},{"$f":"IF(Blad1!Q965=\"\",\"\",Blad1!Q965)","v":""}]
[{"$f":"IF(Blad1!D966=\"\",\"\",Blad1!D966)","v":""},{"$f":"IF(Blad1!E966=\"\",\"\",Blad1!E966)","v":""},{"$f":"IF(Blad1!B966=\"\",\"\",Blad1!B966)","v":""},{"$f":"IF(Blad1!H966=\"\",\"\",Blad1!H966)","v":""},{"$f":"IF(Blad1!I966=\"\",\"\",Blad1!I966)","v":""},{"$f":"IF(Blad1!M966=\"\",\"\",Blad1!M966)","v":""},{"$f":"IF(Blad1!F966=\"\",\"\",Blad1!F966)","v":""},{"$f":"IF(Blad1!Q966=\"\",\"\",Blad1!Q966)","v":""}]
[{"$f":"IF(Blad1!D967=\"\",\"\",Blad1!D967)","v":""},{"$f":"IF(Blad1!E967=\"\",\"\",Blad1!E967)","v":""},{"$f":"IF(Blad1!B967=\"\",\"\",Blad1!B967)","v":""},{"$f":"IF(Blad1!H967=\"\",\"\",Blad1!H967)","v":""},{"$f":"IF(Blad1!I967=\"\",\"\",Blad1!I967)","v":""},{"$f":"IF(Blad1!M967=\"\",\"\",Blad1!M967)","v":""},{"$f":"IF(Blad1!F967=\"\",\"\",Blad1!F967)","v":""},{"$f":"IF(Blad1!Q967=\"\",\"\",Blad1!Q967)","v":""}]
[{"$f":"IF(Blad1!D968=\"\",\"\",Blad1!D968)","v":""},{"$f":"IF(Blad1!E968=\"\",\"\",Blad1!E968)","v":""},{"$f":"IF(Blad1!B968=\"\",\"\",Blad1!B968)","v":""},{"$f":"IF(Blad1!H968=\"\",\"\",Blad1!H968)","v":""},{"$f":"IF(Blad1!I968=\"\",\"\",Blad1!I968)","v":""},{"$f":"IF(Blad1!M968=\"\",\"\",Blad1!M968)","v":""},{"$f":"IF(Blad1!F968=\"\",\"\",Blad1!F968)","v":""},{"$f":"IF(Blad1!Q968=\"\",\"\",Blad1!Q968)","v":""}]
[{"$f":"IF(Blad1!D969=\"\",\"\",Blad1!D969)","v":""},{"$f":"IF(Blad1!E969=\"\",\"\",Blad1!E969)","v":""},{"$f":"IF(Blad1!B969=\"\",\"\",Blad1!B969)","v":""},{"$f":"IF(Blad1!H969=\"\",\"\",Blad1!H969)","v":""},{"$f":"IF(Blad1!I969=\"\",\"\",Blad1!I969)","v":""},{"$f":"IF(Blad1!M969=\"\",\"\",Blad1!M969)","v":""},{"$f":"IF(Blad1!F969=\"\",\"\",Blad1!F969)","v":""},{"$f":"IF(Blad1!Q969=\"\",\"\",Blad1!Q969)","v":""}]
[{"$f":"IF(Blad1!D970=\"\",\"\",Blad1!D970)","v":""},{"$f":"IF(Blad1!E970=\"\",\"\",Blad1!E970)","v":""},{"$f":"IF(Blad1!B970=\"\",\"\",Blad1!B970)","v":""},{"$f":"IF(Blad1!H970=\"\",\"\",Blad1!H970)","v":""},{"$f":"IF(Blad1!I970=\"\",\"\",Blad1!I970)","v":""},{"$f":"IF(Blad1!M970=\"\",\"\",Blad1!M970)","v":""},{"$f":"IF(Blad1!F970=\"\",\"\",Blad1!F970)","v":""},{"$f":"IF(Blad1!Q970=\"\",\"\",Blad1!Q970)","v":""}]
[{"$f":"IF(Blad1!D971=\"\",\"\",Blad1!D971)","v":""},{"$f":"IF(Blad1!E971=\"\",\"\",Blad1!E971)","v":""},{"$f":"IF(Blad1!B971=\"\",\"\",Blad1!B971)","v":""},{"$f":"IF(Blad1!H971=\"\",\"\",Blad1!H971)","v":""},{"$f":"IF(Blad1!I971=\"\",\"\",Blad1!I971)","v":""},{"$f":"IF(Blad1!M971=\"\",\"\",Blad1!M971)","v":""},{"$f":"IF(Blad1!F971=\"\",\"\",Blad1!F971)","v":""},{"$f":"IF(Blad1!Q971=\"\",\"\",Blad1!Q971)","v":""}]
[{"$f":"IF(Blad1!D972=\"\",\"\",Blad1!D972)","v":""},{"$f":"IF(Blad1!E972=\"\",\"\",Blad1!E972)","v":""},{"$f":"IF(Blad1!B972=\"\",\"\",Blad1!B972)","v":""},{"$f":"IF(Blad1!H972=\"\",\"\",Blad1!H972)","v":""},{"$f":"IF(Blad1!I972=\"\",\"\",Blad1!I972)","v":""},{"$f":"IF(Blad1!M972=\"\",\"\",Blad1!M972)","v":""},{"$f":"IF(Blad1!F972=\"\",\"\",Blad1!F972)","v":""},{"$f":"IF(Blad1!Q972=\"\",\"\",Blad1!Q972)","v":""}]
[{"$f":"IF(Blad1!D973=\"\",\"\",Blad1!D973)","v":""},{"$f":"IF(Blad1!E973=\"\",\"\",Blad1!E973)","v":""},{"$f":"IF(Blad1!B973=\"\",\"\",Blad1!B973)","v":""},{"$f":"IF(Blad1!H973=\"\",\"\",Blad1!H973)","v":""},{"$f":"IF(Blad1!I973=\"\",\"\",Blad1!I973)","v":""},{"$f":"IF(Blad1!M973=\"\",\"\",Blad1!M973)","v":""},{"$f":"IF(Blad1!F973=\"\",\"\",Blad1!F973)","v":""},{"$f":"IF(Blad1!Q973=\"\",\"\",Blad1!Q973)","v":""}]
[{"$f":"IF(Blad1!D974=\"\",\"\",Blad1!D974)","v":""},{"$f":"IF(Blad1!E974=\"\",\"\",Blad1!E974)","v":""},{"$f":"IF(Blad1!B974=\"\",\"\",Blad1!B974)","v":""},{"$f":"IF(Blad1!H974=\"\",\"\",Blad1!H974)","v":""},{"$f":"IF(Blad1!I974=\"\",\"\",Blad1!I974)","v":""},{"$f":"IF(Blad1!M974=\"\",\"\",Blad1!M974)","v":""},{"$f":"IF(Blad1!F974=\"\",\"\",Blad1!F974)","v":""},{"$f":"IF(Blad1!Q974=\"\",\"\",Blad1!Q974)","v":""}]
[{"$f":"IF(Blad1!D975=\"\",\"\",Blad1!D975)","v":""},{"$f":"IF(Blad1!E975=\"\",\"\",Blad1!E975)","v":""},{"$f":"IF(Blad1!B975=\"\",\"\",Blad1!B975)","v":""},{"$f":"IF(Blad1!H975=\"\",\"\",Blad1!H975)","v":""},{"$f":"IF(Blad1!I975=\"\",\"\",Blad1!I975)","v":""},{"$f":"IF(Blad1!M975=\"\",\"\",Blad1!M975)","v":""},{"$f":"IF(Blad1!F975=\"\",\"\",Blad1!F975)","v":""},{"$f":"IF(Blad1!Q975=\"\",\"\",Blad1!Q975)","v":""}]
[{"$f":"IF(Blad1!D976=\"\",\"\",Blad1!D976)","v":""},{"$f":"IF(Blad1!E976=\"\",\"\",Blad1!E976)","v":""},{"$f":"IF(Blad1!B976=\"\",\"\",Blad1!B976)","v":""},{"$f":"IF(Blad1!H976=\"\",\"\",Blad1!H976)","v":""},{"$f":"IF(Blad1!I976=\"\",\"\",Blad1!I976)","v":""},{"$f":"IF(Blad1!M976=\"\",\"\",Blad1!M976)","v":""},{"$f":"IF(Blad1!F976=\"\",\"\",Blad1!F976)","v":""},{"$f":"IF(Blad1!Q976=\"\",\"\",Blad1!Q976)","v":""}]
[{"$f":"IF(Blad1!D977=\"\",\"\",Blad1!D977)","v":""},{"$f":"IF(Blad1!E977=\"\",\"\",Blad1!E977)","v":""},{"$f":"IF(Blad1!B977=\"\",\"\",Blad1!B977)","v":""},{"$f":"IF(Blad1!H977=\"\",\"\",Blad1!H977)","v":""},{"$f":"IF(Blad1!I977=\"\",\"\",Blad1!I977)","v":""},{"$f":"IF(Blad1!M977=\"\",\"\",Blad1!M977)","v":""},{"$f":"IF(Blad1!F977=\"\",\"\",Blad1!F977)","v":""},{"$f":"IF(Blad1!Q977=\"\",\"\",Blad1!Q977)","v":""}]
[{"$f":"IF(Blad1!D978=\"\",\"\",Blad1!D978)","v":""},{"$f":"IF(Blad1!E978=\"\",\"\",Blad1!E978)","v":""},{"$f":"IF(Blad1!B978=\"\",\"\",Blad1!B978)","v":""},{"$f":"IF(Blad1!H978=\"\",\"\",Blad1!H978)","v":""},{"$f":"IF(Blad1!I978=\"\",\"\",Blad1!I978)","v":""},{"$f":"IF(Blad1!M978=\"\",\"\",Blad1!M978)","v":""},{"$f":"IF(Blad1!F978=\"\",\"\",Blad1!F978)","v":""},{"$f":"IF(Blad1!Q978=\"\",\"\",Blad1!Q978)","v":""}]
[{"$f":"IF(Blad1!D979=\"\",\"\",Blad1!D979)","v":""},{"$f":"IF(Blad1!E979=\"\",\"\",Blad1!E979)","v":""},{"$f":"IF(Blad1!B979=\"\",\"\",Blad1!B979)","v":""},{"$f":"IF(Blad1!H979=\"\",\"\",Blad1!H979)","v":""},{"$f":"IF(Blad1!I979=\"\",\"\",Blad1!I979)","v":""},{"$f":"IF(Blad1!M979=\"\",\"\",Blad1!M979)","v":""},{"$f":"IF(Blad1!F979=\"\",\"\",Blad1!F979)","v":""},{"$f":"IF(Blad1!Q979=\"\",\"\",Blad1!Q979)","v":""}]
[{"$f":"IF(Blad1!D980=\"\",\"\",Blad1!D980)","v":""},{"$f":"IF(Blad1!E980=\"\",\"\",Blad1!E980)","v":""},{"$f":"IF(Blad1!B980=\"\",\"\",Blad1!B980)","v":""},{"$f":"IF(Blad1!H980=\"\",\"\",Blad1!H980)","v":""},{"$f":"IF(Blad1!I980=\"\",\"\",Blad1!I980)","v":""},{"$f":"IF(Blad1!M980=\"\",\"\",Blad1!M980)","v":""},{"$f":"IF(Blad1!F980=\"\",\"\",Blad1!F980)","v":""},{"$f":"IF(Blad1!Q980=\"\",\"\",Blad1!Q980)","v":""}]
[{"$f":"IF(Blad1!D981=\"\",\"\",Blad1!D981)","v":""},{"$f":"IF(Blad1!E981=\"\",\"\",Blad1!E981)","v":""},{"$f":"IF(Blad1!B981=\"\",\"\",Blad1!B981)","v":""},{"$f":"IF(Blad1!H981=\"\",\"\",Blad1!H981)","v":""},{"$f":"IF(Blad1!I981=\"\",\"\",Blad1!I981)","v":""},{"$f":"IF(Blad1!M981=\"\",\"\",Blad1!M981)","v":""},{"$f":"IF(Blad1!F981=\"\",\"\",Blad1!F981)","v":""},{"$f":"IF(Blad1!Q981=\"\",\"\",Blad1!Q981)","v":""}]
[{"$f":"IF(Blad1!D982=\"\",\"\",Blad1!D982)","v":""},{"$f":"IF(Blad1!E982=\"\",\"\",Blad1!E982)","v":""},{"$f":"IF(Blad1!B982=\"\",\"\",Blad1!B982)","v":""},{"$f":"IF(Blad1!H982=\"\",\"\",Blad1!H982)","v":""},{"$f":"IF(Blad1!I982=\"\",\"\",Blad1!I982)","v":""},{"$f":"IF(Blad1!M982=\"\",\"\",Blad1!M982)","v":""},{"$f":"IF(Blad1!F982=\"\",\"\",Blad1!F982)","v":""},{"$f":"IF(Blad1!Q982=\"\",\"\",Blad1!Q982)","v":""}]
[{"$f":"IF(Blad1!D983=\"\",\"\",Blad1!D983)","v":""},{"$f":"IF(Blad1!E983=\"\",\"\",Blad1!E983)","v":""},{"$f":"IF(Blad1!B983=\"\",\"\",Blad1!B983)","v":""},{"$f":"IF(Blad1!H983=\"\",\"\",Blad1!H983)","v":""},{"$f":"IF(Blad1!I983=\"\",\"\",Blad1!I983)","v":""},{"$f":"IF(Blad1!M983=\"\",\"\",Blad1!M983)","v":""},{"$f":"IF(Blad1!F983=\"\",\"\",Blad1!F983)","v":""},{"$f":"IF(Blad1!Q983=\"\",\"\",Blad1!Q983)","v":""}]
[{"$f":"IF(Blad1!D984=\"\",\"\",Blad1!D984)","v":""},{"$f":"IF(Blad1!E984=\"\",\"\",Blad1!E984)","v":""},{"$f":"IF(Blad1!B984=\"\",\"\",Blad1!B984)","v":""},{"$f":"IF(Blad1!H984=\"\",\"\",Blad1!H984)","v":""},{"$f":"IF(Blad1!I984=\"\",\"\",Blad1!I984)","v":""},{"$f":"IF(Blad1!M984=\"\",\"\",Blad1!M984)","v":""},{"$f":"IF(Blad1!F984=\"\",\"\",Blad1!F984)","v":""},{"$f":"IF(Blad1!Q984=\"\",\"\",Blad1!Q984)","v":""}]
[{"$f":"IF(Blad1!D985=\"\",\"\",Blad1!D985)","v":""},{"$f":"IF(Blad1!E985=\"\",\"\",Blad1!E985)","v":""},{"$f":"IF(Blad1!B985=\"\",\"\",Blad1!B985)","v":""},{"$f":"IF(Blad1!H985=\"\",\"\",Blad1!H985)","v":""},{"$f":"IF(Blad1!I985=\"\",\"\",Blad1!I985)","v":""},{"$f":"IF(Blad1!M985=\"\",\"\",Blad1!M985)","v":""},{"$f":"IF(Blad1!F985=\"\",\"\",Blad1!F985)","v":""},{"$f":"IF(Blad1!Q985=\"\",\"\",Blad1!Q985)","v":""}]
[{"$f":"IF(Blad1!D986=\"\",\"\",Blad1!D986)","v":""},{"$f":"IF(Blad1!E986=\"\",\"\",Blad1!E986)","v":""},{"$f":"IF(Blad1!B986=\"\",\"\",Blad1!B986)","v":""},{"$f":"IF(Blad1!H986=\"\",\"\",Blad1!H986)","v":""},{"$f":"IF(Blad1!I986=\"\",\"\",Blad1!I986)","v":""},{"$f":"IF(Blad1!M986=\"\",\"\",Blad1!M986)","v":""},{"$f":"IF(Blad1!F986=\"\",\"\",Blad1!F986)","v":""},{"$f":"IF(Blad1!Q986=\"\",\"\",Blad1!Q986)","v":""}]
[{"$f":"IF(Blad1!D987=\"\",\"\",Blad1!D987)","v":""},{"$f":"IF(Blad1!E987=\"\",\"\",Blad1!E987)","v":""},{"$f":"IF(Blad1!B987=\"\",\"\",Blad1!B987)","v":""},{"$f":"IF(Blad1!H987=\"\",\"\",Blad1!H987)","v":""},{"$f":"IF(Blad1!I987=\"\",\"\",Blad1!I987)","v":""},{"$f":"IF(Blad1!M987=\"\",\"\",Blad1!M987)","v":""},{"$f":"IF(Blad1!F987=\"\",\"\",Blad1!F987)","v":""},{"$f":"IF(Blad1!Q987=\"\",\"\",Blad1!Q987)","v":""}]
[{"$f":"IF(Blad1!D988=\"\",\"\",Blad1!D988)","v":""},{"$f":"IF(Blad1!E988=\"\",\"\",Blad1!E988)","v":""},{"$f":"IF(Blad1!B988=\"\",\"\",Blad1!B988)","v":""},{"$f":"IF(Blad1!H988=\"\",\"\",Blad1!H988)","v":""},{"$f":"IF(Blad1!I988=\"\",\"\",Blad1!I988)","v":""},{"$f":"IF(Blad1!M988=\"\",\"\",Blad1!M988)","v":""},{"$f":"IF(Blad1!F988=\"\",\"\",Blad1!F988)","v":""},{"$f":"IF(Blad1!Q988=\"\",\"\",Blad1!Q988)","v":""}]
[{"$f":"IF(Blad1!D989=\"\",\"\",Blad1!D989)","v":""},{"$f":"IF(Blad1!E989=\"\",\"\",Blad1!E989)","v":""},{"$f":"IF(Blad1!B989=\"\",\"\",Blad1!B989)","v":""},{"$f":"IF(Blad1!H989=\"\",\"\",Blad1!H989)","v":""},{"$f":"IF(Blad1!I989=\"\",\"\",Blad1!I989)","v":""},{"$f":"IF(Blad1!M989=\"\",\"\",Blad1!M989)","v":""},{"$f":"IF(Blad1!F989=\"\",\"\",Blad1!F989)","v":""},{"$f":"IF(Blad1!Q989=\"\",\"\",Blad1!Q989)","v":""}]
[{"$f":"IF(Blad1!D990=\"\",\"\",Blad1!D990)","v":""},{"$f":"IF(Blad1!E990=\"\",\"\",Blad1!E990)","v":""},{"$f":"IF(Blad1!B990=\"\",\"\",Blad1!B990)","v":""},{"$f":"IF(Blad1!H990=\"\",\"\",Blad1!H990)","v":""},{"$f":"IF(Blad1!I990=\"\",\"\",Blad1!I990)","v":""},{"$f":"IF(Blad1!M990=\"\",\"\",Blad1!M990)","v":""},{"$f":"IF(Blad1!F990=\"\",\"\",Blad1!F990)","v":""},{"$f":"IF(Blad1!Q990=\"\",\"\",Blad1!Q990)","v":""}]
[{"$f":"IF(Blad1!D991=\"\",\"\",Blad1!D991)","v":""},{"$f":"IF(Blad1!E991=\"\",\"\",Blad1!E991)","v":""},{"$f":"IF(Blad1!B991=\"\",\"\",Blad1!B991)","v":""},{"$f":"IF(Blad1!H991=\"\",\"\",Blad1!H991)","v":""},{"$f":"IF(Blad1!I991=\"\",\"\",Blad1!I991)","v":""},{"$f":"IF(Blad1!M991=\"\",\"\",Blad1!M991)","v":""},{"$f":"IF(Blad1!F991=\"\",\"\",Blad1!F991)","v":""},{"$f":"IF(Blad1!Q991=\"\",\"\",Blad1!Q991)","v":""}]
[{"$f":"IF(Blad1!D992=\"\",\"\",Blad1!D992)","v":""},{"$f":"IF(Blad1!E992=\"\",\"\",Blad1!E992)","v":""},{"$f":"IF(Blad1!B992=\"\",\"\",Blad1!B992)","v":""},{"$f":"IF(Blad1!H992=\"\",\"\",Blad1!H992)","v":""},{"$f":"IF(Blad1!I992=\"\",\"\",Blad1!I992)","v":""},{"$f":"IF(Blad1!M992=\"\",\"\",Blad1!M992)","v":""},{"$f":"IF(Blad1!F992=\"\",\"\",Blad1!F992)","v":""},{"$f":"IF(Blad1!Q992=\"\",\"\",Blad1!Q992)","v":""}]
[{"$f":"IF(Blad1!D993=\"\",\"\",Blad1!D993)","v":""},{"$f":"IF(Blad1!E993=\"\",\"\",Blad1!E993)","v":""},{"$f":"IF(Blad1!B993=\"\",\"\",Blad1!B993)","v":""},{"$f":"IF(Blad1!H993=\"\",\"\",Blad1!H993)","v":""},{"$f":"IF(Blad1!I993=\"\",\"\",Blad1!I993)","v":""},{"$f":"IF(Blad1!M993=\"\",\"\",Blad1!M993)","v":""},{"$f":"IF(Blad1!F993=\"\",\"\",Blad1!F993)","v":""},{"$f":"IF(Blad1!Q993=\"\",\"\",Blad1!Q993)","v":""}]
[{"$f":"IF(Blad1!D994=\"\",\"\",Blad1!D994)","v":""},{"$f":"IF(Blad1!E994=\"\",\"\",Blad1!E994)","v":""},{"$f":"IF(Blad1!B994=\"\",\"\",Blad1!B994)","v":""},{"$f":"IF(Blad1!H994=\"\",\"\",Blad1!H994)","v":""},{"$f":"IF(Blad1!I994=\"\",\"\",Blad1!I994)","v":""},{"$f":"IF(Blad1!M994=\"\",\"\",Blad1!M994)","v":""},{"$f":"IF(Blad1!F994=\"\",\"\",Blad1!F994)","v":""},{"$f":"IF(Blad1!Q994=\"\",\"\",Blad1!Q994)","v":""}]
[{"$f":"IF(Blad1!D995=\"\",\"\",Blad1!D995)","v":""},{"$f":"IF(Blad1!E995=\"\",\"\",Blad1!E995)","v":""},{"$f":"IF(Blad1!B995=\"\",\"\",Blad1!B995)","v":""},{"$f":"IF(Blad1!H995=\"\",\"\",Blad1!H995)","v":""},{"$f":"IF(Blad1!I995=\"\",\"\",Blad1!I995)","v":""},{"$f":"IF(Blad1!M995=\"\",\"\",Blad1!M995)","v":""},{"$f":"IF(Blad1!F995=\"\",\"\",Blad1!F995)","v":""},{"$f":"IF(Blad1!Q995=\"\",\"\",Blad1!Q995)","v":""}]
[{"$f":"IF(Blad1!D996=\"\",\"\",Blad1!D996)","v":""},{"$f":"IF(Blad1!E996=\"\",\"\",Blad1!E996)","v":""},{"$f":"IF(Blad1!B996=\"\",\"\",Blad1!B996)","v":""},{"$f":"IF(Blad1!H996=\"\",\"\",Blad1!H996)","v":""},{"$f":"IF(Blad1!I996=\"\",\"\",Blad1!I996)","v":""},{"$f":"IF(Blad1!M996=\"\",\"\",Blad1!M996)","v":""},{"$f":"IF(Blad1!F996=\"\",\"\",Blad1!F996)","v":""},{"$f":"IF(Blad1!Q996=\"\",\"\",Blad1!Q996)","v":""}]
[{"$f":"IF(Blad1!D997=\"\",\"\",Blad1!D997)","v":""},{"$f":"IF(Blad1!E997=\"\",\"\",Blad1!E997)","v":""},{"$f":"IF(Blad1!B997=\"\",\"\",Blad1!B997)","v":""},{"$f":"IF(Blad1!H997=\"\",\"\",Blad1!H997)","v":""},{"$f":"IF(Blad1!I997=\"\",\"\",Blad1!I997)","v":""},{"$f":"IF(Blad1!M997=\"\",\"\",Blad1!M997)","v":""},{"$f":"IF(Blad1!F997=\"\",\"\",Blad1!F997)","v":""},{"$f":"IF(Blad1!Q997=\"\",\"\",Blad1!Q997)","v":""}]
[{"$f":"IF(Blad1!D998=\"\",\"\",Blad1!D998)","v":""},{"$f":"IF(Blad1!E998=\"\",\"\",Blad1!E998)","v":""},{"$f":"IF(Blad1!B998=\"\",\"\",Blad1!B998)","v":""},{"$f":"IF(Blad1!H998=\"\",\"\",Blad1!H998)","v":""},{"$f":"IF(Blad1!I998=\"\",\"\",Blad1!I998)","v":""},{"$f":"IF(Blad1!M998=\"\",\"\",Blad1!M998)","v":""},{"$f":"IF(Blad1!F998=\"\",\"\",Blad1!F998)","v":""},{"$f":"IF(Blad1!Q998=\"\",\"\",Blad1!Q998)","v":""}]
[{"$f":"IF(Blad1!D999=\"\",\"\",Blad1!D999)","v":""},{"$f":"IF(Blad1!E999=\"\",\"\",Blad1!E999)","v":""},{"$f":"IF(Blad1!B999=\"\",\"\",Blad1!B999)","v":""},{"$f":"IF(Blad1!H999=\"\",\"\",Blad1!H999)","v":""},{"$f":"IF(Blad1!I999=\"\",\"\",Blad1!I999)","v":""},{"$f":"IF(Blad1!M999=\"\",\"\",Blad1!M999)","v":""},{"$f":"IF(Blad1!F999=\"\",\"\",Blad1!F999)","v":""},{"$f":"IF(Blad1!Q999=\"\",\"\",Blad1!Q999)","v":""}]
[{"$f":"IF(Blad1!D1000=\"\",\"\",Blad1!D1000)","v":""},{"$f":"IF(Blad1!E1000=\"\",\"\",Blad1!E1000)","v":""},{"$f":"IF(Blad1!B1000=\"\",\"\",Blad1!B1000)","v":""},{"$f":"IF(Blad1!H1000=\"\",\"\",Blad1!H1000)","v":""},{"$f":"IF(Blad1!I1000=\"\",\"\",Blad1!I1000)","v":""},{"$f":"IF(Blad1!M1000=\"\",\"\",Blad1!M1000)","v":""},{"$f":"IF(Blad1!F1000=\"\",\"\",Blad1!F1000)","v":""},{"$f":"IF(Blad1!Q1000=\"\",\"\",Blad1!Q1000)","v":""}]
[{"$f":"IF(Blad1!D1001=\"\",\"\",Blad1!D1001)","v":""},{"$f":"IF(Blad1!E1001=\"\",\"\",Blad1!E1001)","v":""},{"$f":"IF(Blad1!B1001=\"\",\"\",Blad1!B1001)","v":""},{"$f":"IF(Blad1!H1001=\"\",\"\",Blad1!H1001)","v":""},{"$f":"IF(Blad1!I1001=\"\",\"\",Blad1!I1001)","v":""},{"$f":"IF(Blad1!M1001=\"\",\"\",Blad1!M1001)","v":""},{"$f":"IF(Blad1!F1001=\"\",\"\",Blad1!F1001)","v":""},{"$f":"IF(Blad1!Q1001=\"\",\"\",Blad1!Q1001)","v":""}]
[{"$f":"IF(Blad1!D1002=\"\",\"\",Blad1!D1002)","v":""},{"$f":"IF(Blad1!E1002=\"\",\"\",Blad1!E1002)","v":""},{"$f":"IF(Blad1!B1002=\"\",\"\",Blad1!B1002)","v":""},{"$f":"IF(Blad1!H1002=\"\",\"\",Blad1!H1002)","v":""},{"$f":"IF(Blad1!I1002=\"\",\"\",Blad1!I1002)","v":""},{"$f":"IF(Blad1!M1002=\"\",\"\",Blad1!M1002)","v":""},{"$f":"IF(Blad1!F1002=\"\",\"\",Blad1!F1002)","v":""},{"$f":"IF(Blad1!Q1002=\"\",\"\",Blad1!Q1002)","v":""}]
[{"$f":"IF(Blad1!D1003=\"\",\"\",Blad1!D1003)","v":""},{"$f":"IF(Blad1!E1003=\"\",\"\",Blad1!E1003)","v":""},{"$f":"IF(Blad1!B1003=\"\",\"\",Blad1!B1003)","v":""},{"$f":"IF(Blad1!H1003=\"\",\"\",Blad1!H1003)","v":""},{"$f":"IF(Blad1!I1003=\"\",\"\",Blad1!I1003)","v":""},{"$f":"IF(Blad1!M1003=\"\",\"\",Blad1!M1003)","v":""},{"$f":"IF(Blad1!F1003=\"\",\"\",Blad1!F1003)","v":""},{"$f":"IF(Blad1!Q1003=\"\",\"\",Blad1!Q1003)","v":""}]
[{"$f":"IF(Blad1!D1004=\"\",\"\",Blad1!D1004)","v":""},{"$f":"IF(Blad1!E1004=\"\",\"\",Blad1!E1004)","v":""},{"$f":"IF(Blad1!B1004=\"\",\"\",Blad1!B1004)","v":""},{"$f":"IF(Blad1!H1004=\"\",\"\",Blad1!H1004)","v":""},{"$f":"IF(Blad1!I1004=\"\",\"\",Blad1!I1004)","v":""},{"$f":"IF(Blad1!M1004=\"\",\"\",Blad1!M1004)","v":""},{"$f":"IF(Blad1!F1004=\"\",\"\",Blad1!F1004)","v":""},{"$f":"IF(Blad1!Q1004=\"\",\"\",Blad1!Q1004)","v":""}]
[{"$f":"IF(Blad1!D1005=\"\",\"\",Blad1!D1005)","v":""},{"$f":"IF(Blad1!E1005=\"\",\"\",Blad1!E1005)","v":""},{"$f":"IF(Blad1!B1005=\"\",\"\",Blad1!B1005)","v":""},{"$f":"IF(Blad1!H1005=\"\",\"\",Blad1!H1005)","v":""},{"$f":"IF(Blad1!I1005=\"\",\"\",Blad1!I1005)","v":""},{"$f":"IF(Blad1!M1005=\"\",\"\",Blad1!M1005)","v":""},{"$f":"IF(Blad1!F1005=\"\",\"\",Blad1!F1005)","v":""},{"$f":"IF(Blad1!Q1005=\"\",\"\",Blad1!Q1005)","v":""}]
[{"$f":"IF(Blad1!D1006=\"\",\"\",Blad1!D1006)","v":""},{"$f":"IF(Blad1!E1006=\"\",\"\",Blad1!E1006)","v":""},{"$f":"IF(Blad1!B1006=\"\",\"\",Blad1!B1006)","v":""},{"$f":"IF(Blad1!H1006=\"\",\"\",Blad1!H1006)","v":""},{"$f":"IF(Blad1!I1006=\"\",\"\",Blad1!I1006)","v":""},{"$f":"IF(Blad1!M1006=\"\",\"\",Blad1!M1006)","v":""},{"$f":"IF(Blad1!F1006=\"\",\"\",Blad1!F1006)","v":""},{"$f":"IF(Blad1!Q1006=\"\",\"\",Blad1!Q1006)","v":""}]
[{"$f":"IF(Blad1!D1007=\"\",\"\",Blad1!D1007)","v":""},{"$f":"IF(Blad1!E1007=\"\",\"\",Blad1!E1007)","v":""},{"$f":"IF(Blad1!B1007=\"\",\"\",Blad1!B1007)","v":""},{"$f":"IF(Blad1!H1007=\"\",\"\",Blad1!H1007)","v":""},{"$f":"IF(Blad1!I1007=\"\",\"\",Blad1!I1007)","v":""},{"$f":"IF(Blad1!M1007=\"\",\"\",Blad1!M1007)","v":""},{"$f":"IF(Blad1!F1007=\"\",\"\",Blad1!F1007)","v":""},{"$f":"IF(Blad1!Q1007=\"\",\"\",Blad1!Q1007)","v":""}]
[{"$f":"IF(Blad1!D1008=\"\",\"\",Blad1!D1008)","v":""},{"$f":"IF(Blad1!E1008=\"\",\"\",Blad1!E1008)","v":""},{"$f":"IF(Blad1!B1008=\"\",\"\",Blad1!B1008)","v":""},{"$f":"IF(Blad1!H1008=\"\",\"\",Blad1!H1008)","v":""},{"$f":"IF(Blad1!I1008=\"\",\"\",Blad1!I1008)","v":""},{"$f":"IF(Blad1!M1008=\"\",\"\",Blad1!M1008)","v":""},{"$f":"IF(Blad1!F1008=\"\",\"\",Blad1!F1008)","v":""},{"$f":"IF(Blad1!Q1008=\"\",\"\",Blad1!Q1008)","v":""}]
[{"$f":"IF(Blad1!D1009=\"\",\"\",Blad1!D1009)","v":""},{"$f":"IF(Blad1!E1009=\"\",\"\",Blad1!E1009)","v":""},{"$f":"IF(Blad1!B1009=\"\",\"\",Blad1!B1009)","v":""},{"$f":"IF(Blad1!H1009=\"\",\"\",Blad1!H1009)","v":""},{"$f":"IF(Blad1!I1009=\"\",\"\",Blad1!I1009)","v":""},{"$f":"IF(Blad1!M1009=\"\",\"\",Blad1!M1009)","v":""},{"$f":"IF(Blad1!F1009=\"\",\"\",Blad1!F1009)","v":""},{"$f":"IF(Blad1!Q1009=\"\",\"\",Blad1!Q1009)","v":""}]
[{"$f":"IF(Blad1!D1010=\"\",\"\",Blad1!D1010)","v":""},{"$f":"IF(Blad1!E1010=\"\",\"\",Blad1!E1010)","v":""},{"$f":"IF(Blad1!B1010=\"\",\"\",Blad1!B1010)","v":""},{"$f":"IF(Blad1!H1010=\"\",\"\",Blad1!H1010)","v":""},{"$f":"IF(Blad1!I1010=\"\",\"\",Blad1!I1010)","v":""},{"$f":"IF(Blad1!M1010=\"\",\"\",Blad1!M1010)","v":""},{"$f":"IF(Blad1!F1010=\"\",\"\",Blad1!F1010)","v":""},{"$f":"IF(Blad1!Q1010=\"\",\"\",Blad1!Q1010)","v":""}]
[{"$f":"IF(Blad1!D1011=\"\",\"\",Blad1!D1011)","v":""},{"$f":"IF(Blad1!E1011=\"\",\"\",Blad1!E1011)","v":""},{"$f":"IF(Blad1!B1011=\"\",\"\",Blad1!B1011)","v":""},{"$f":"IF(Blad1!H1011=\"\",\"\",Blad1!H1011)","v":""},{"$f":"IF(Blad1!I1011=\"\",\"\",Blad1!I1011)","v":""},{"$f":"IF(Blad1!M1011=\"\",\"\",Blad1!M1011)","v":""},{"$f":"IF(Blad1!F1011=\"\",\"\",Blad1!F1011)","v":""},{"$f":"IF(Blad1!Q1011=\"\",\"\",Blad1!Q1011)","v":""}]
[{"$f":"IF(Blad1!D1012=\"\",\"\",Blad1!D1012)","v":""},{"$f":"IF(Blad1!E1012=\"\",\"\",Blad1!E1012)","v":""},{"$f":"IF(Blad1!B1012=\"\",\"\",Blad1!B1012)","v":""},{"$f":"IF(Blad1!H1012=\"\",\"\",Blad1!H1012)","v":""},{"$f":"IF(Blad1!I1012=\"\",\"\",Blad1!I1012)","v":""},{"$f":"IF(Blad1!M1012=\"\",\"\",Blad1!M1012)","v":""},{"$f":"IF(Blad1!F1012=\"\",\"\",Blad1!F1012)","v":""},{"$f":"IF(Blad1!Q1012=\"\",\"\",Blad1!Q1012)","v":""}]
[{"$f":"IF(Blad1!D1013=\"\",\"\",Blad1!D1013)","v":""},{"$f":"IF(Blad1!E1013=\"\",\"\",Blad1!E1013)","v":""},{"$f":"IF(Blad1!B1013=\"\",\"\",Blad1!B1013)","v":""},{"$f":"IF(Blad1!H1013=\"\",\"\",Blad1!H1013)","v":""},{"$f":"IF(Blad1!I1013=\"\",\"\",Blad1!I1013)","v":""},{"$f":"IF(Blad1!M1013=\"\",\"\",Blad1!M1013)","v":""},{"$f":"IF(Blad1!F1013=\"\",\"\",Blad1!F1013)","v":""},{"$f":"IF(Blad1!Q1013=\"\",\"\",Blad1!Q1013)","v":""}]
[{"$f":"IF(Blad1!D1014=\"\",\"\",Blad1!D1014)","v":""},{"$f":"IF(Blad1!E1014=\"\",\"\",Blad1!E1014)","v":""},{"$f":"IF(Blad1!B1014=\"\",\"\",Blad1!B1014)","v":""},{"$f":"IF(Blad1!H1014=\"\",\"\",Blad1!H1014)","v":""},{"$f":"IF(Blad1!I1014=\"\",\"\",Blad1!I1014)","v":""},{"$f":"IF(Blad1!M1014=\"\",\"\",Blad1!M1014)","v":""},{"$f":"IF(Blad1!F1014=\"\",\"\",Blad1!F1014)","v":""},{"$f":"IF(Blad1!Q1014=\"\",\"\",Blad1!Q1014)","v":""}]
[{"$f":"IF(Blad1!D1015=\"\",\"\",Blad1!D1015)","v":""},{"$f":"IF(Blad1!E1015=\"\",\"\",Blad1!E1015)","v":""},{"$f":"IF(Blad1!B1015=\"\",\"\",Blad1!B1015)","v":""},{"$f":"IF(Blad1!H1015=\"\",\"\",Blad1!H1015)","v":""},{"$f":"IF(Blad1!I1015=\"\",\"\",Blad1!I1015)","v":""},{"$f":"IF(Blad1!M1015=\"\",\"\",Blad1!M1015)","v":""},{"$f":"IF(Blad1!F1015=\"\",\"\",Blad1!F1015)","v":""},{"$f":"IF(Blad1!Q1015=\"\",\"\",Blad1!Q1015)","v":""}]
[{"$f":"IF(Blad1!D1016=\"\",\"\",Blad1!D1016)","v":""},{"$f":"IF(Blad1!E1016=\"\",\"\",Blad1!E1016)","v":""},{"$f":"IF(Blad1!B1016=\"\",\"\",Blad1!B1016)","v":""},{"$f":"IF(Blad1!H1016=\"\",\"\",Blad1!H1016)","v":""},{"$f":"IF(Blad1!I1016=\"\",\"\",Blad1!I1016)","v":""},{"$f":"IF(Blad1!M1016=\"\",\"\",Blad1!M1016)","v":""},{"$f":"IF(Blad1!F1016=\"\",\"\",Blad1!F1016)","v":""},{"$f":"IF(Blad1!Q1016=\"\",\"\",Blad1!Q1016)","v":""}]
[{"$f":"IF(Blad1!D1017=\"\",\"\",Blad1!D1017)","v":""},{"$f":"IF(Blad1!E1017=\"\",\"\",Blad1!E1017)","v":""},{"$f":"IF(Blad1!B1017=\"\",\"\",Blad1!B1017)","v":""},{"$f":"IF(Blad1!H1017=\"\",\"\",Blad1!H1017)","v":""},{"$f":"IF(Blad1!I1017=\"\",\"\",Blad1!I1017)","v":""},{"$f":"IF(Blad1!M1017=\"\",\"\",Blad1!M1017)","v":""},{"$f":"IF(Blad1!F1017=\"\",\"\",Blad1!F1017)","v":""},{"$f":"IF(Blad1!Q1017=\"\",\"\",Blad1!Q1017)","v":""}]
[{"$f":"IF(Blad1!D1018=\"\",\"\",Blad1!D1018)","v":""},{"$f":"IF(Blad1!E1018=\"\",\"\",Blad1!E1018)","v":""},{"$f":"IF(Blad1!B1018=\"\",\"\",Blad1!B1018)","v":""},{"$f":"IF(Blad1!H1018=\"\",\"\",Blad1!H1018)","v":""},{"$f":"IF(Blad1!I1018=\"\",\"\",Blad1!I1018)","v":""},{"$f":"IF(Blad1!M1018=\"\",\"\",Blad1!M1018)","v":""},{"$f":"IF(Blad1!F1018=\"\",\"\",Blad1!F1018)","v":""},{"$f":"IF(Blad1!Q1018=\"\",\"\",Blad1!Q1018)","v":""}]
[{"$f":"IF(Blad1!D1019=\"\",\"\",Blad1!D1019)","v":""},{"$f":"IF(Blad1!E1019=\"\",\"\",Blad1!E1019)","v":""},{"$f":"IF(Blad1!B1019=\"\",\"\",Blad1!B1019)","v":""},{"$f":"IF(Blad1!H1019=\"\",\"\",Blad1!H1019)","v":""},{"$f":"IF(Blad1!I1019=\"\",\"\",Blad1!I1019)","v":""},{"$f":"IF(Blad1!M1019=\"\",\"\",Blad1!M1019)","v":""},{"$f":"IF(Blad1!F1019=\"\",\"\",Blad1!F1019)","v":""},{"$f":"IF(Blad1!Q1019=\"\",\"\",Blad1!Q1019)","v":""}]
[{"$f":"IF(Blad1!D1020=\"\",\"\",Blad1!D1020)","v":""},{"$f":"IF(Blad1!E1020=\"\",\"\",Blad1!E1020)","v":""},{"$f":"IF(Blad1!B1020=\"\",\"\",Blad1!B1020)","v":""},{"$f":"IF(Blad1!H1020=\"\",\"\",Blad1!H1020)","v":""},{"$f":"IF(Blad1!I1020=\"\",\"\",Blad1!I1020)","v":""},{"$f":"IF(Blad1!M1020=\"\",\"\",Blad1!M1020)","v":""},{"$f":"IF(Blad1!F1020=\"\",\"\",Blad1!F1020)","v":""},{"$f":"IF(Blad1!Q1020=\"\",\"\",Blad1!Q1020)","v":""}]
[{"$f":"IF(Blad1!D1021=\"\",\"\",Blad1!D1021)","v":""},{"$f":"IF(Blad1!E1021=\"\",\"\",Blad1!E1021)","v":""},{"$f":"IF(Blad1!B1021=\"\",\"\",Blad1!B1021)","v":""},{"$f":"IF(Blad1!H1021=\"\",\"\",Blad1!H1021)","v":""},{"$f":"IF(Blad1!I1021=\"\",\"\",Blad1!I1021)","v":""},{"$f":"IF(Blad1!M1021=\"\",\"\",Blad1!M1021)","v":""},{"$f":"IF(Blad1!F1021=\"\",\"\",Blad1!F1021)","v":""},{"$f":"IF(Blad1!Q1021=\"\",\"\",Blad1!Q1021)","v":""}]
[{"$f":"IF(Blad1!D1022=\"\",\"\",Blad1!D1022)","v":""},{"$f":"IF(Blad1!E1022=\"\",\"\",Blad1!E1022)","v":""},{"$f":"IF(Blad1!B1022=\"\",\"\",Blad1!B1022)","v":""},{"$f":"IF(Blad1!H1022=\"\",\"\",Blad1!H1022)","v":""},{"$f":"IF(Blad1!I1022=\"\",\"\",Blad1!I1022)","v":""},{"$f":"IF(Blad1!M1022=\"\",\"\",Blad1!M1022)","v":""},{"$f":"IF(Blad1!F1022=\"\",\"\",Blad1!F1022)","v":""},{"$f":"IF(Blad1!Q1022=\"\",\"\",Blad1!Q1022)","v":""}]
[{"$f":"IF(Blad1!D1023=\"\",\"\",Blad1!D1023)","v":""},{"$f":"IF(Blad1!E1023=\"\",\"\",Blad1!E1023)","v":""},{"$f":"IF(Blad1!B1023=\"\",\"\",Blad1!B1023)","v":""},{"$f":"IF(Blad1!H1023=\"\",\"\",Blad1!H1023)","v":""},{"$f":"IF(Blad1!I1023=\"\",\"\",Blad1!I1023)","v":""},{"$f":"IF(Blad1!M1023=\"\",\"\",Blad1!M1023)","v":""},{"$f":"IF(Blad1!F1023=\"\",\"\",Blad1!F1023)","v":""},{"$f":"IF(Blad1!Q1023=\"\",\"\",Blad1!Q1023)","v":""}]
[{"$f":"IF(Blad1!D1024=\"\",\"\",Blad1!D1024)","v":""},{"$f":"IF(Blad1!E1024=\"\",\"\",Blad1!E1024)","v":""},{"$f":"IF(Blad1!B1024=\"\",\"\",Blad1!B1024)","v":""},{"$f":"IF(Blad1!H1024=\"\",\"\",Blad1!H1024)","v":""},{"$f":"IF(Blad1!I1024=\"\",\"\",Blad1!I1024)","v":""},{"$f":"IF(Blad1!M1024=\"\",\"\",Blad1!M1024)","v":""},{"$f":"IF(Blad1!F1024=\"\",\"\",Blad1!F1024)","v":""},{"$f":"IF(Blad1!Q1024=\"\",\"\",Blad1!Q1024)","v":""}]
[{"$f":"IF(Blad1!D1025=\"\",\"\",Blad1!D1025)","v":""},{"$f":"IF(Blad1!E1025=\"\",\"\",Blad1!E1025)","v":""},{"$f":"IF(Blad1!B1025=\"\",\"\",Blad1!B1025)","v":""},{"$f":"IF(Blad1!H1025=\"\",\"\",Blad1!H1025)","v":""},{"$f":"IF(Blad1!I1025=\"\",\"\",Blad1!I1025)","v":""},{"$f":"IF(Blad1!M1025=\"\",\"\",Blad1!M1025)","v":""},{"$f":"IF(Blad1!F1025=\"\",\"\",Blad1!F1025)","v":""},{"$f":"IF(Blad1!Q1025=\"\",\"\",Blad1!Q1025)","v":""}]
[{"$f":"IF(Blad1!D1026=\"\",\"\",Blad1!D1026)","v":""},{"$f":"IF(Blad1!E1026=\"\",\"\",Blad1!E1026)","v":""},{"$f":"IF(Blad1!B1026=\"\",\"\",Blad1!B1026)","v":""},{"$f":"IF(Blad1!H1026=\"\",\"\",Blad1!H1026)","v":""},{"$f":"IF(Blad1!I1026=\"\",\"\",Blad1!I1026)","v":""},{"$f":"IF(Blad1!M1026=\"\",\"\",Blad1!M1026)","v":""},{"$f":"IF(Blad1!F1026=\"\",\"\",Blad1!F1026)","v":""},{"$f":"IF(Blad1!Q1026=\"\",\"\",Blad1!Q1026)","v":""}]
[{"$f":"IF(Blad1!D1027=\"\",\"\",Blad1!D1027)","v":""},{"$f":"IF(Blad1!E1027=\"\",\"\",Blad1!E1027)","v":""},{"$f":"IF(Blad1!B1027=\"\",\"\",Blad1!B1027)","v":""},{"$f":"IF(Blad1!H1027=\"\",\"\",Blad1!H1027)","v":""},{"$f":"IF(Blad1!I1027=\"\",\"\",Blad1!I1027)","v":""},{"$f":"IF(Blad1!M1027=\"\",\"\",Blad1!M1027)","v":""},{"$f":"IF(Blad1!F1027=\"\",\"\",Blad1!F1027)","v":""},{"$f":"IF(Blad1!Q1027=\"\",\"\",Blad1!Q1027)","v":""}]
[{"$f":"IF(Blad1!D1028=\"\",\"\",Blad1!D1028)","v":""},{"$f":"IF(Blad1!E1028=\"\",\"\",Blad1!E1028)","v":""},{"$f":"IF(Blad1!B1028=\"\",\"\",Blad1!B1028)","v":""},{"$f":"IF(Blad1!H1028=\"\",\"\",Blad1!H1028)","v":""},{"$f":"IF(Blad1!I1028=\"\",\"\",Blad1!I1028)","v":""},{"$f":"IF(Blad1!M1028=\"\",\"\",Blad1!M1028)","v":""},{"$f":"IF(Blad1!F1028=\"\",\"\",Blad1!F1028)","v":""},{"$f":"IF(Blad1!Q1028=\"\",\"\",Blad1!Q1028)","v":""}]
[{"$f":"IF(Blad1!D1029=\"\",\"\",Blad1!D1029)","v":""},{"$f":"IF(Blad1!E1029=\"\",\"\",Blad1!E1029)","v":""},{"$f":"IF(Blad1!B1029=\"\",\"\",Blad1!B1029)","v":""},{"$f":"IF(Blad1!H1029=\"\",\"\",Blad1!H1029)","v":""},{"$f":"IF(Blad1!I1029=\"\",\"\",Blad1!I1029)","v":""},{"$f":"IF(Blad1!M1029=\"\",\"\",Blad1!M1029)","v":""},{"$f":"IF(Blad1!F1029=\"\",\"\",Blad1!F1029)","v":""},{"$f":"IF(Blad1!Q1029=\"\",\"\",Blad1!Q1029)","v":""}]
[{"$f":"IF(Blad1!D1030=\"\",\"\",Blad1!D1030)","v":""},{"$f":"IF(Blad1!E1030=\"\",\"\",Blad1!E1030)","v":""},{"$f":"IF(Blad1!B1030=\"\",\"\",Blad1!B1030)","v":""},{"$f":"IF(Blad1!H1030=\"\",\"\",Blad1!H1030)","v":""},{"$f":"IF(Blad1!I1030=\"\",\"\",Blad1!I1030)","v":""},{"$f":"IF(Blad1!M1030=\"\",\"\",Blad1!M1030)","v":""},{"$f":"IF(Blad1!F1030=\"\",\"\",Blad1!F1030)","v":""},{"$f":"IF(Blad1!Q1030=\"\",\"\",Blad1!Q1030)","v":""}]
[{"$f":"IF(Blad1!D1031=\"\",\"\",Blad1!D1031)","v":""},{"$f":"IF(Blad1!E1031=\"\",\"\",Blad1!E1031)","v":""},{"$f":"IF(Blad1!B1031=\"\",\"\",Blad1!B1031)","v":""},{"$f":"IF(Blad1!H1031=\"\",\"\",Blad1!H1031)","v":""},{"$f":"IF(Blad1!I1031=\"\",\"\",Blad1!I1031)","v":""},{"$f":"IF(Blad1!M1031=\"\",\"\",Blad1!M1031)","v":""},{"$f":"IF(Blad1!F1031=\"\",\"\",Blad1!F1031)","v":""},{"$f":"IF(Blad1!Q1031=\"\",\"\",Blad1!Q1031)","v":""}]
[{"$f":"IF(Blad1!D1032=\"\",\"\",Blad1!D1032)","v":""},{"$f":"IF(Blad1!E1032=\"\",\"\",Blad1!E1032)","v":""},{"$f":"IF(Blad1!B1032=\"\",\"\",Blad1!B1032)","v":""},{"$f":"IF(Blad1!H1032=\"\",\"\",Blad1!H1032)","v":""},{"$f":"IF(Blad1!I1032=\"\",\"\",Blad1!I1032)","v":""},{"$f":"IF(Blad1!M1032=\"\",\"\",Blad1!M1032)","v":""},{"$f":"IF(Blad1!F1032=\"\",\"\",Blad1!F1032)","v":""},{"$f":"IF(Blad1!Q1032=\"\",\"\",Blad1!Q1032)","v":""}]
[{"$f":"IF(Blad1!D1033=\"\",\"\",Blad1!D1033)","v":""},{"$f":"IF(Blad1!E1033=\"\",\"\",Blad1!E1033)","v":""},{"$f":"IF(Blad1!B1033=\"\",\"\",Blad1!B1033)","v":""},{"$f":"IF(Blad1!H1033=\"\",\"\",Blad1!H1033)","v":""},{"$f":"IF(Blad1!I1033=\"\",\"\",Blad1!I1033)","v":""},{"$f":"IF(Blad1!M1033=\"\",\"\",Blad1!M1033)","v":""},{"$f":"IF(Blad1!F1033=\"\",\"\",Blad1!F1033)","v":""},{"$f":"IF(Blad1!Q1033=\"\",\"\",Blad1!Q1033)","v":""}]
[{"$f":"IF(Blad1!D1034=\"\",\"\",Blad1!D1034)","v":""},{"$f":"IF(Blad1!E1034=\"\",\"\",Blad1!E1034)","v":""},{"$f":"IF(Blad1!B1034=\"\",\"\",Blad1!B1034)","v":""},{"$f":"IF(Blad1!H1034=\"\",\"\",Blad1!H1034)","v":""},{"$f":"IF(Blad1!I1034=\"\",\"\",Blad1!I1034)","v":""},{"$f":"IF(Blad1!M1034=\"\",\"\",Blad1!M1034)","v":""},{"$f":"IF(Blad1!F1034=\"\",\"\",Blad1!F1034)","v":""},{"$f":"IF(Blad1!Q1034=\"\",\"\",Blad1!Q1034)","v":""}]
[{"$f":"IF(Blad1!D1035=\"\",\"\",Blad1!D1035)","v":""},{"$f":"IF(Blad1!E1035=\"\",\"\",Blad1!E1035)","v":""},{"$f":"IF(Blad1!B1035=\"\",\"\",Blad1!B1035)","v":""},{"$f":"IF(Blad1!H1035=\"\",\"\",Blad1!H1035)","v":""},{"$f":"IF(Blad1!I1035=\"\",\"\",Blad1!I1035)","v":""},{"$f":"IF(Blad1!M1035=\"\",\"\",Blad1!M1035)","v":""},{"$f":"IF(Blad1!F1035=\"\",\"\",Blad1!F1035)","v":""},{"$f":"IF(Blad1!Q1035=\"\",\"\",Blad1!Q1035)","v":""}]
[{"$f":"IF(Blad1!D1036=\"\",\"\",Blad1!D1036)","v":""},{"$f":"IF(Blad1!E1036=\"\",\"\",Blad1!E1036)","v":""},{"$f":"IF(Blad1!B1036=\"\",\"\",Blad1!B1036)","v":""},{"$f":"IF(Blad1!H1036=\"\",\"\",Blad1!H1036)","v":""},{"$f":"IF(Blad1!I1036=\"\",\"\",Blad1!I1036)","v":""},{"$f":"IF(Blad1!M1036=\"\",\"\",Blad1!M1036)","v":""},{"$f":"IF(Blad1!F1036=\"\",\"\",Blad1!F1036)","v":""},{"$f":"IF(Blad1!Q1036=\"\",\"\",Blad1!Q1036)","v":""}]
[{"$f":"IF(Blad1!D1037=\"\",\"\",Blad1!D1037)","v":""},{"$f":"IF(Blad1!E1037=\"\",\"\",Blad1!E1037)","v":""},{"$f":"IF(Blad1!B1037=\"\",\"\",Blad1!B1037)","v":""},{"$f":"IF(Blad1!H1037=\"\",\"\",Blad1!H1037)","v":""},{"$f":"IF(Blad1!I1037=\"\",\"\",Blad1!I1037)","v":""},{"$f":"IF(Blad1!M1037=\"\",\"\",Blad1!M1037)","v":""},{"$f":"IF(Blad1!F1037=\"\",\"\",Blad1!F1037)","v":""},{"$f":"IF(Blad1!Q1037=\"\",\"\",Blad1!Q1037)","v":""}]
[{"$f":"IF(Blad1!D1038=\"\",\"\",Blad1!D1038)","v":""},{"$f":"IF(Blad1!E1038=\"\",\"\",Blad1!E1038)","v":""},{"$f":"IF(Blad1!B1038=\"\",\"\",Blad1!B1038)","v":""},{"$f":"IF(Blad1!H1038=\"\",\"\",Blad1!H1038)","v":""},{"$f":"IF(Blad1!I1038=\"\",\"\",Blad1!I1038)","v":""},{"$f":"IF(Blad1!M1038=\"\",\"\",Blad1!M1038)","v":""},{"$f":"IF(Blad1!F1038=\"\",\"\",Blad1!F1038)","v":""},{"$f":"IF(Blad1!Q1038=\"\",\"\",Blad1!Q1038)","v":""}]
[{"$f":"IF(Blad1!D1039=\"\",\"\",Blad1!D1039)","v":""},{"$f":"IF(Blad1!E1039=\"\",\"\",Blad1!E1039)","v":""},{"$f":"IF(Blad1!B1039=\"\",\"\",Blad1!B1039)","v":""},{"$f":"IF(Blad1!H1039=\"\",\"\",Blad1!H1039)","v":""},{"$f":"IF(Blad1!I1039=\"\",\"\",Blad1!I1039)","v":""},{"$f":"IF(Blad1!M1039=\"\",\"\",Blad1!M1039)","v":""},{"$f":"IF(Blad1!F1039=\"\",\"\",Blad1!F1039)","v":""},{"$f":"IF(Blad1!Q1039=\"\",\"\",Blad1!Q1039)","v":""}]
[{"$f":"IF(Blad1!D1040=\"\",\"\",Blad1!D1040)","v":""},{"$f":"IF(Blad1!E1040=\"\",\"\",Blad1!E1040)","v":""},{"$f":"IF(Blad1!B1040=\"\",\"\",Blad1!B1040)","v":""},{"$f":"IF(Blad1!H1040=\"\",\"\",Blad1!H1040)","v":""},{"$f":"IF(Blad1!I1040=\"\",\"\",Blad1!I1040)","v":""},{"$f":"IF(Blad1!M1040=\"\",\"\",Blad1!M1040)","v":""},{"$f":"IF(Blad1!F1040=\"\",\"\",Blad1!F1040)","v":""},{"$f":"IF(Blad1!Q1040=\"\",\"\",Blad1!Q1040)","v":""}]
[{"$f":"IF(Blad1!D1041=\"\",\"\",Blad1!D1041)","v":""},{"$f":"IF(Blad1!E1041=\"\",\"\",Blad1!E1041)","v":""},{"$f":"IF(Blad1!B1041=\"\",\"\",Blad1!B1041)","v":""},{"$f":"IF(Blad1!H1041=\"\",\"\",Blad1!H1041)","v":""},{"$f":"IF(Blad1!I1041=\"\",\"\",Blad1!I1041)","v":""},{"$f":"IF(Blad1!M1041=\"\",\"\",Blad1!M1041)","v":""},{"$f":"IF(Blad1!F1041=\"\",\"\",Blad1!F1041)","v":""},{"$f":"IF(Blad1!Q1041=\"\",\"\",Blad1!Q1041)","v":""}]
[{"$f":"IF(Blad1!D1042=\"\",\"\",Blad1!D1042)","v":""},{"$f":"IF(Blad1!E1042=\"\",\"\",Blad1!E1042)","v":""},{"$f":"IF(Blad1!B1042=\"\",\"\",Blad1!B1042)","v":""},{"$f":"IF(Blad1!H1042=\"\",\"\",Blad1!H1042)","v":""},{"$f":"IF(Blad1!I1042=\"\",\"\",Blad1!I1042)","v":""},{"$f":"IF(Blad1!M1042=\"\",\"\",Blad1!M1042)","v":""},{"$f":"IF(Blad1!F1042=\"\",\"\",Blad1!F1042)","v":""},{"$f":"IF(Blad1!Q1042=\"\",\"\",Blad1!Q1042)","v":""}]
[{"$f":"IF(Blad1!D1043=\"\",\"\",Blad1!D1043)","v":""},{"$f":"IF(Blad1!E1043=\"\",\"\",Blad1!E1043)","v":""},{"$f":"IF(Blad1!B1043=\"\",\"\",Blad1!B1043)","v":""},{"$f":"IF(Blad1!H1043=\"\",\"\",Blad1!H1043)","v":""},{"$f":"IF(Blad1!I1043=\"\",\"\",Blad1!I1043)","v":""},{"$f":"IF(Blad1!M1043=\"\",\"\",Blad1!M1043)","v":""},{"$f":"IF(Blad1!F1043=\"\",\"\",Blad1!F1043)","v":""},{"$f":"IF(Blad1!Q1043=\"\",\"\",Blad1!Q1043)","v":""}]
[{"$f":"IF(Blad1!D1044=\"\",\"\",Blad1!D1044)","v":""},{"$f":"IF(Blad1!E1044=\"\",\"\",Blad1!E1044)","v":""},{"$f":"IF(Blad1!B1044=\"\",\"\",Blad1!B1044)","v":""},{"$f":"IF(Blad1!H1044=\"\",\"\",Blad1!H1044)","v":""},{"$f":"IF(Blad1!I1044=\"\",\"\",Blad1!I1044)","v":""},{"$f":"IF(Blad1!M1044=\"\",\"\",Blad1!M1044)","v":""},{"$f":"IF(Blad1!F1044=\"\",\"\",Blad1!F1044)","v":""},{"$f":"IF(Blad1!Q1044=\"\",\"\",Blad1!Q1044)","v":""}]
[{"$f":"IF(Blad1!D1045=\"\",\"\",Blad1!D1045)","v":""},{"$f":"IF(Blad1!E1045=\"\",\"\",Blad1!E1045)","v":""},{"$f":"IF(Blad1!B1045=\"\",\"\",Blad1!B1045)","v":""},{"$f":"IF(Blad1!H1045=\"\",\"\",Blad1!H1045)","v":""},{"$f":"IF(Blad1!I1045=\"\",\"\",Blad1!I1045)","v":""},{"$f":"IF(Blad1!M1045=\"\",\"\",Blad1!M1045)","v":""},{"$f":"IF(Blad1!F1045=\"\",\"\",Blad1!F1045)","v":""},{"$f":"IF(Blad1!Q1045=\"\",\"\",Blad1!Q1045)","v":""}]
[{"$f":"IF(Blad1!D1046=\"\",\"\",Blad1!D1046)","v":""},{"$f":"IF(Blad1!E1046=\"\",\"\",Blad1!E1046)","v":""},{"$f":"IF(Blad1!B1046=\"\",\"\",Blad1!B1046)","v":""},{"$f":"IF(Blad1!H1046=\"\",\"\",Blad1!H1046)","v":""},{"$f":"IF(Blad1!I1046=\"\",\"\",Blad1!I1046)","v":""},{"$f":"IF(Blad1!M1046=\"\",\"\",Blad1!M1046)","v":""},{"$f":"IF(Blad1!F1046=\"\",\"\",Blad1!F1046)","v":""},{"$f":"IF(Blad1!Q1046=\"\",\"\",Blad1!Q1046)","v":""}]
[{"$f":"IF(Blad1!D1047=\"\",\"\",Blad1!D1047)","v":""},{"$f":"IF(Blad1!E1047=\"\",\"\",Blad1!E1047)","v":""},{"$f":"IF(Blad1!B1047=\"\",\"\",Blad1!B1047)","v":""},{"$f":"IF(Blad1!H1047=\"\",\"\",Blad1!H1047)","v":""},{"$f":"IF(Blad1!I1047=\"\",\"\",Blad1!I1047)","v":""},{"$f":"IF(Blad1!M1047=\"\",\"\",Blad1!M1047)","v":""},{"$f":"IF(Blad1!F1047=\"\",\"\",Blad1!F1047)","v":""},{"$f":"IF(Blad1!Q1047=\"\",\"\",Blad1!Q1047)","v":""}]
[{"$f":"IF(Blad1!D1048=\"\",\"\",Blad1!D1048)","v":""},{"$f":"IF(Blad1!E1048=\"\",\"\",Blad1!E1048)","v":""},{"$f":"IF(Blad1!B1048=\"\",\"\",Blad1!B1048)","v":""},{"$f":"IF(Blad1!H1048=\"\",\"\",Blad1!H1048)","v":""},{"$f":"IF(Blad1!I1048=\"\",\"\",Blad1!I1048)","v":""},{"$f":"IF(Blad1!M1048=\"\",\"\",Blad1!M1048)","v":""},{"$f":"IF(Blad1!F1048=\"\",\"\",Blad1!F1048)","v":""},{"$f":"IF(Blad1!Q1048=\"\",\"\",Blad1!Q1048)","v":""}]
[{"$f":"IF(Blad1!D1049=\"\",\"\",Blad1!D1049)","v":""},{"$f":"IF(Blad1!E1049=\"\",\"\",Blad1!E1049)","v":""},{"$f":"IF(Blad1!B1049=\"\",\"\",Blad1!B1049)","v":""},{"$f":"IF(Blad1!H1049=\"\",\"\",Blad1!H1049)","v":""},{"$f":"IF(Blad1!I1049=\"\",\"\",Blad1!I1049)","v":""},{"$f":"IF(Blad1!M1049=\"\",\"\",Blad1!M1049)","v":""},{"$f":"IF(Blad1!F1049=\"\",\"\",Blad1!F1049)","v":""},{"$f":"IF(Blad1!Q1049=\"\",\"\",Blad1!Q1049)","v":""}]
[{"$f":"IF(Blad1!D1050=\"\",\"\",Blad1!D1050)","v":""},{"$f":"IF(Blad1!E1050=\"\",\"\",Blad1!E1050)","v":""},{"$f":"IF(Blad1!B1050=\"\",\"\",Blad1!B1050)","v":""},{"$f":"IF(Blad1!H1050=\"\",\"\",Blad1!H1050)","v":""},{"$f":"IF(Blad1!I1050=\"\",\"\",Blad1!I1050)","v":""},{"$f":"IF(Blad1!M1050=\"\",\"\",Blad1!M1050)","v":""},{"$f":"IF(Blad1!F1050=\"\",\"\",Blad1!F1050)","v":""},{"$f":"IF(Blad1!Q1050=\"\",\"\",Blad1!Q1050)","v":""}]
[{"$f":"IF(Blad1!D1051=\"\",\"\",Blad1!D1051)","v":""},{"$f":"IF(Blad1!E1051=\"\",\"\",Blad1!E1051)","v":""},{"$f":"IF(Blad1!B1051=\"\",\"\",Blad1!B1051)","v":""},{"$f":"IF(Blad1!H1051=\"\",\"\",Blad1!H1051)","v":""},{"$f":"IF(Blad1!I1051=\"\",\"\",Blad1!I1051)","v":""},{"$f":"IF(Blad1!M1051=\"\",\"\",Blad1!M1051)","v":""},{"$f":"IF(Blad1!F1051=\"\",\"\",Blad1!F1051)","v":""},{"$f":"IF(Blad1!Q1051=\"\",\"\",Blad1!Q1051)","v":""}]
[{"$f":"IF(Blad1!D1052=\"\",\"\",Blad1!D1052)","v":""},{"$f":"IF(Blad1!E1052=\"\",\"\",Blad1!E1052)","v":""},{"$f":"IF(Blad1!B1052=\"\",\"\",Blad1!B1052)","v":""},{"$f":"IF(Blad1!H1052=\"\",\"\",Blad1!H1052)","v":""},{"$f":"IF(Blad1!I1052=\"\",\"\",Blad1!I1052)","v":""},{"$f":"IF(Blad1!M1052=\"\",\"\",Blad1!M1052)","v":""},{"$f":"IF(Blad1!F1052=\"\",\"\",Blad1!F1052)","v":""},{"$f":"IF(Blad1!Q1052=\"\",\"\",Blad1!Q1052)","v":""}]
[{"$f":"IF(Blad1!D1053=\"\",\"\",Blad1!D1053)","v":""},{"$f":"IF(Blad1!E1053=\"\",\"\",Blad1!E1053)","v":""},{"$f":"IF(Blad1!B1053=\"\",\"\",Blad1!B1053)","v":""},{"$f":"IF(Blad1!H1053=\"\",\"\",Blad1!H1053)","v":""},{"$f":"IF(Blad1!I1053=\"\",\"\",Blad1!I1053)","v":""},{"$f":"IF(Blad1!M1053=\"\",\"\",Blad1!M1053)","v":""},{"$f":"IF(Blad1!F1053=\"\",\"\",Blad1!F1053)","v":""},{"$f":"IF(Blad1!Q1053=\"\",\"\",Blad1!Q1053)","v":""}]
[{"$f":"IF(Blad1!D1054=\"\",\"\",Blad1!D1054)","v":""},{"$f":"IF(Blad1!E1054=\"\",\"\",Blad1!E1054)","v":""},{"$f":"IF(Blad1!B1054=\"\",\"\",Blad1!B1054)","v":""},{"$f":"IF(Blad1!H1054=\"\",\"\",Blad1!H1054)","v":""},{"$f":"IF(Blad1!I1054=\"\",\"\",Blad1!I1054)","v":""},{"$f":"IF(Blad1!M1054=\"\",\"\",Blad1!M1054)","v":""},{"$f":"IF(Blad1!F1054=\"\",\"\",Blad1!F1054)","v":""},{"$f":"IF(Blad1!Q1054=\"\",\"\",Blad1!Q1054)","v":""}]
[{"$f":"IF(Blad1!D1055=\"\",\"\",Blad1!D1055)","v":""},{"$f":"IF(Blad1!E1055=\"\",\"\",Blad1!E1055)","v":""},{"$f":"IF(Blad1!B1055=\"\",\"\",Blad1!B1055)","v":""},{"$f":"IF(Blad1!H1055=\"\",\"\",Blad1!H1055)","v":""},{"$f":"IF(Blad1!I1055=\"\",\"\",Blad1!I1055)","v":""},{"$f":"IF(Blad1!M1055=\"\",\"\",Blad1!M1055)","v":""},{"$f":"IF(Blad1!F1055=\"\",\"\",Blad1!F1055)","v":""},{"$f":"IF(Blad1!Q1055=\"\",\"\",Blad1!Q1055)","v":""}]
[{"$f":"IF(Blad1!D1056=\"\",\"\",Blad1!D1056)","v":""},{"$f":"IF(Blad1!E1056=\"\",\"\",Blad1!E1056)","v":""},{"$f":"IF(Blad1!B1056=\"\",\"\",Blad1!B1056)","v":""},{"$f":"IF(Blad1!H1056=\"\",\"\",Blad1!H1056)","v":""},{"$f":"IF(Blad1!I1056=\"\",\"\",Blad1!I1056)","v":""},{"$f":"IF(Blad1!M1056=\"\",\"\",Blad1!M1056)","v":""},{"$f":"IF(Blad1!F1056=\"\",\"\",Blad1!F1056)","v":""},{"$f":"IF(Blad1!Q1056=\"\",\"\",Blad1!Q1056)","v":""}]
[{"$f":"IF(Blad1!D1057=\"\",\"\",Blad1!D1057)","v":""},{"$f":"IF(Blad1!E1057=\"\",\"\",Blad1!E1057)","v":""},{"$f":"IF(Blad1!B1057=\"\",\"\",Blad1!B1057)","v":""},{"$f":"IF(Blad1!H1057=\"\",\"\",Blad1!H1057)","v":""},{"$f":"IF(Blad1!I1057=\"\",\"\",Blad1!I1057)","v":""},{"$f":"IF(Blad1!M1057=\"\",\"\",Blad1!M1057)","v":""},{"$f":"IF(Blad1!F1057=\"\",\"\",Blad1!F1057)","v":""},{"$f":"IF(Blad1!Q1057=\"\",\"\",Blad1!Q1057)","v":""}]
[{"$f":"IF(Blad1!D1058=\"\",\"\",Blad1!D1058)","v":""},{"$f":"IF(Blad1!E1058=\"\",\"\",Blad1!E1058)","v":""},{"$f":"IF(Blad1!B1058=\"\",\"\",Blad1!B1058)","v":""},{"$f":"IF(Blad1!H1058=\"\",\"\",Blad1!H1058)","v":""},{"$f":"IF(Blad1!I1058=\"\",\"\",Blad1!I1058)","v":""},{"$f":"IF(Blad1!M1058=\"\",\"\",Blad1!M1058)","v":""},{"$f":"IF(Blad1!F1058=\"\",\"\",Blad1!F1058)","v":""},{"$f":"IF(Blad1!Q1058=\"\",\"\",Blad1!Q1058)","v":""}]
[{"$f":"IF(Blad1!D1059=\"\",\"\",Blad1!D1059)","v":""},{"$f":"IF(Blad1!E1059=\"\",\"\",Blad1!E1059)","v":""},{"$f":"IF(Blad1!B1059=\"\",\"\",Blad1!B1059)","v":""},{"$f":"IF(Blad1!H1059=\"\",\"\",Blad1!H1059)","v":""},{"$f":"IF(Blad1!I1059=\"\",\"\",Blad1!I1059)","v":""},{"$f":"IF(Blad1!M1059=\"\",\"\",Blad1!M1059)","v":""},{"$f":"IF(Blad1!F1059=\"\",\"\",Blad1!F1059)","v":""},{"$f":"IF(Blad1!Q1059=\"\",\"\",Blad1!Q1059)","v":""}]
[{"$f":"IF(Blad1!D1060=\"\",\"\",Blad1!D1060)","v":""},{"$f":"IF(Blad1!E1060=\"\",\"\",Blad1!E1060)","v":""},{"$f":"IF(Blad1!B1060=\"\",\"\",Blad1!B1060)","v":""},{"$f":"IF(Blad1!H1060=\"\",\"\",Blad1!H1060)","v":""},{"$f":"IF(Blad1!I1060=\"\",\"\",Blad1!I1060)","v":""},{"$f":"IF(Blad1!M1060=\"\",\"\",Blad1!M1060)","v":""},{"$f":"IF(Blad1!F1060=\"\",\"\",Blad1!F1060)","v":""},{"$f":"IF(Blad1!Q1060=\"\",\"\",Blad1!Q1060)","v":""}]
[{"$f":"IF(Blad1!D1061=\"\",\"\",Blad1!D1061)","v":""},{"$f":"IF(Blad1!E1061=\"\",\"\",Blad1!E1061)","v":""},{"$f":"IF(Blad1!B1061=\"\",\"\",Blad1!B1061)","v":""},{"$f":"IF(Blad1!H1061=\"\",\"\",Blad1!H1061)","v":""},{"$f":"IF(Blad1!I1061=\"\",\"\",Blad1!I1061)","v":""},{"$f":"IF(Blad1!M1061=\"\",\"\",Blad1!M1061)","v":""},{"$f":"IF(Blad1!F1061=\"\",\"\",Blad1!F1061)","v":""},{"$f":"IF(Blad1!Q1061=\"\",\"\",Blad1!Q1061)","v":""}]
[{"$f":"IF(Blad1!D1062=\"\",\"\",Blad1!D1062)","v":""},{"$f":"IF(Blad1!E1062=\"\",\"\",Blad1!E1062)","v":""},{"$f":"IF(Blad1!B1062=\"\",\"\",Blad1!B1062)","v":""},{"$f":"IF(Blad1!H1062=\"\",\"\",Blad1!H1062)","v":""},{"$f":"IF(Blad1!I1062=\"\",\"\",Blad1!I1062)","v":""},{"$f":"IF(Blad1!M1062=\"\",\"\",Blad1!M1062)","v":""},{"$f":"IF(Blad1!F1062=\"\",\"\",Blad1!F1062)","v":""},{"$f":"IF(Blad1!Q1062=\"\",\"\",Blad1!Q1062)","v":""}]
[{"$f":"IF(Blad1!D1063=\"\",\"\",Blad1!D1063)","v":""},{"$f":"IF(Blad1!E1063=\"\",\"\",Blad1!E1063)","v":""},{"$f":"IF(Blad1!B1063=\"\",\"\",Blad1!B1063)","v":""},{"$f":"IF(Blad1!H1063=\"\",\"\",Blad1!H1063)","v":""},{"$f":"IF(Blad1!I1063=\"\",\"\",Blad1!I1063)","v":""},{"$f":"IF(Blad1!M1063=\"\",\"\",Blad1!M1063)","v":""},{"$f":"IF(Blad1!F1063=\"\",\"\",Blad1!F1063)","v":""},{"$f":"IF(Blad1!Q1063=\"\",\"\",Blad1!Q1063)","v":""}]
[{"$f":"IF(Blad1!D1064=\"\",\"\",Blad1!D1064)","v":""},{"$f":"IF(Blad1!E1064=\"\",\"\",Blad1!E1064)","v":""},{"$f":"IF(Blad1!B1064=\"\",\"\",Blad1!B1064)","v":""},{"$f":"IF(Blad1!H1064=\"\",\"\",Blad1!H1064)","v":""},{"$f":"IF(Blad1!I1064=\"\",\"\",Blad1!I1064)","v":""},{"$f":"IF(Blad1!M1064=\"\",\"\",Blad1!M1064)","v":""},{"$f":"IF(Blad1!F1064=\"\",\"\",Blad1!F1064)","v":""},{"$f":"IF(Blad1!Q1064=\"\",\"\",Blad1!Q1064)","v":""}]
[{"$f":"IF(Blad1!D1065=\"\",\"\",Blad1!D1065)","v":""},{"$f":"IF(Blad1!E1065=\"\",\"\",Blad1!E1065)","v":""},{"$f":"IF(Blad1!B1065=\"\",\"\",Blad1!B1065)","v":""},{"$f":"IF(Blad1!H1065=\"\",\"\",Blad1!H1065)","v":""},{"$f":"IF(Blad1!I1065=\"\",\"\",Blad1!I1065)","v":""},{"$f":"IF(Blad1!M1065=\"\",\"\",Blad1!M1065)","v":""},{"$f":"IF(Blad1!F1065=\"\",\"\",Blad1!F1065)","v":""},{"$f":"IF(Blad1!Q1065=\"\",\"\",Blad1!Q1065)","v":""}]
[{"$f":"IF(Blad1!D1066=\"\",\"\",Blad1!D1066)","v":""},{"$f":"IF(Blad1!E1066=\"\",\"\",Blad1!E1066)","v":""},{"$f":"IF(Blad1!B1066=\"\",\"\",Blad1!B1066)","v":""},{"$f":"IF(Blad1!H1066=\"\",\"\",Blad1!H1066)","v":""},{"$f":"IF(Blad1!I1066=\"\",\"\",Blad1!I1066)","v":""},{"$f":"IF(Blad1!M1066=\"\",\"\",Blad1!M1066)","v":""},{"$f":"IF(Blad1!F1066=\"\",\"\",Blad1!F1066)","v":""},{"$f":"IF(Blad1!Q1066=\"\",\"\",Blad1!Q1066)","v":""}]
[{"$f":"IF(Blad1!D1067=\"\",\"\",Blad1!D1067)","v":""},{"$f":"IF(Blad1!E1067=\"\",\"\",Blad1!E1067)","v":""},{"$f":"IF(Blad1!B1067=\"\",\"\",Blad1!B1067)","v":""},{"$f":"IF(Blad1!H1067=\"\",\"\",Blad1!H1067)","v":""},{"$f":"IF(Blad1!I1067=\"\",\"\",Blad1!I1067)","v":""},{"$f":"IF(Blad1!M1067=\"\",\"\",Blad1!M1067)","v":""},{"$f":"IF(Blad1!F1067=\"\",\"\",Blad1!F1067)","v":""},{"$f":"IF(Blad1!Q1067=\"\",\"\",Blad1!Q1067)","v":""}]
[{"$f":"IF(Blad1!D1068=\"\",\"\",Blad1!D1068)","v":""},{"$f":"IF(Blad1!E1068=\"\",\"\",Blad1!E1068)","v":""},{"$f":"IF(Blad1!B1068=\"\",\"\",Blad1!B1068)","v":""},{"$f":"IF(Blad1!H1068=\"\",\"\",Blad1!H1068)","v":""},{"$f":"IF(Blad1!I1068=\"\",\"\",Blad1!I1068)","v":""},{"$f":"IF(Blad1!M1068=\"\",\"\",Blad1!M1068)","v":""},{"$f":"IF(Blad1!F1068=\"\",\"\",Blad1!F1068)","v":""},{"$f":"IF(Blad1!Q1068=\"\",\"\",Blad1!Q1068)","v":""}]
[{"$f":"IF(Blad1!D1069=\"\",\"\",Blad1!D1069)","v":""},{"$f":"IF(Blad1!E1069=\"\",\"\",Blad1!E1069)","v":""},{"$f":"IF(Blad1!B1069=\"\",\"\",Blad1!B1069)","v":""},{"$f":"IF(Blad1!H1069=\"\",\"\",Blad1!H1069)","v":""},{"$f":"IF(Blad1!I1069=\"\",\"\",Blad1!I1069)","v":""},{"$f":"IF(Blad1!M1069=\"\",\"\",Blad1!M1069)","v":""},{"$f":"IF(Blad1!F1069=\"\",\"\",Blad1!F1069)","v":""},{"$f":"IF(Blad1!Q1069=\"\",\"\",Blad1!Q1069)","v":""}]
[{"$f":"IF(Blad1!D1070=\"\",\"\",Blad1!D1070)","v":""},{"$f":"IF(Blad1!E1070=\"\",\"\",Blad1!E1070)","v":""},{"$f":"IF(Blad1!B1070=\"\",\"\",Blad1!B1070)","v":""},{"$f":"IF(Blad1!H1070=\"\",\"\",Blad1!H1070)","v":""},{"$f":"IF(Blad1!I1070=\"\",\"\",Blad1!I1070)","v":""},{"$f":"IF(Blad1!M1070=\"\",\"\",Blad1!M1070)","v":""},{"$f":"IF(Blad1!F1070=\"\",\"\",Blad1!F1070)","v":""},{"$f":"IF(Blad1!Q1070=\"\",\"\",Blad1!Q1070)","v":""}]
[{"$f":"IF(Blad1!D1071=\"\",\"\",Blad1!D1071)","v":""},{"$f":"IF(Blad1!E1071=\"\",\"\",Blad1!E1071)","v":""},{"$f":"IF(Blad1!B1071=\"\",\"\",Blad1!B1071)","v":""},{"$f":"IF(Blad1!H1071=\"\",\"\",Blad1!H1071)","v":""},{"$f":"IF(Blad1!I1071=\"\",\"\",Blad1!I1071)","v":""},{"$f":"IF(Blad1!M1071=\"\",\"\",Blad1!M1071)","v":""},{"$f":"IF(Blad1!F1071=\"\",\"\",Blad1!F1071)","v":""},{"$f":"IF(Blad1!Q1071=\"\",\"\",Blad1!Q1071)","v":""}]
[{"$f":"IF(Blad1!D1072=\"\",\"\",Blad1!D1072)","v":""},{"$f":"IF(Blad1!E1072=\"\",\"\",Blad1!E1072)","v":""},{"$f":"IF(Blad1!B1072=\"\",\"\",Blad1!B1072)","v":""},{"$f":"IF(Blad1!H1072=\"\",\"\",Blad1!H1072)","v":""},{"$f":"IF(Blad1!I1072=\"\",\"\",Blad1!I1072)","v":""},{"$f":"IF(Blad1!M1072=\"\",\"\",Blad1!M1072)","v":""},{"$f":"IF(Blad1!F1072=\"\",\"\",Blad1!F1072)","v":""},{"$f":"IF(Blad1!Q1072=\"\",\"\",Blad1!Q1072)","v":""}]
[{"$f":"IF(Blad1!D1073=\"\",\"\",Blad1!D1073)","v":""},{"$f":"IF(Blad1!E1073=\"\",\"\",Blad1!E1073)","v":""},{"$f":"IF(Blad1!B1073=\"\",\"\",Blad1!B1073)","v":""},{"$f":"IF(Blad1!H1073=\"\",\"\",Blad1!H1073)","v":""},{"$f":"IF(Blad1!I1073=\"\",\"\",Blad1!I1073)","v":""},{"$f":"IF(Blad1!M1073=\"\",\"\",Blad1!M1073)","v":""},{"$f":"IF(Blad1!F1073=\"\",\"\",Blad1!F1073)","v":""},{"$f":"IF(Blad1!Q1073=\"\",\"\",Blad1!Q1073)","v":""}]
[{"$f":"IF(Blad1!D1074=\"\",\"\",Blad1!D1074)","v":""},{"$f":"IF(Blad1!E1074=\"\",\"\",Blad1!E1074)","v":""},{"$f":"IF(Blad1!B1074=\"\",\"\",Blad1!B1074)","v":""},{"$f":"IF(Blad1!H1074=\"\",\"\",Blad1!H1074)","v":""},{"$f":"IF(Blad1!I1074=\"\",\"\",Blad1!I1074)","v":""},{"$f":"IF(Blad1!M1074=\"\",\"\",Blad1!M1074)","v":""},{"$f":"IF(Blad1!F1074=\"\",\"\",Blad1!F1074)","v":""},{"$f":"IF(Blad1!Q1074=\"\",\"\",Blad1!Q1074)","v":""}]
[{"$f":"IF(Blad1!D1075=\"\",\"\",Blad1!D1075)","v":""},{"$f":"IF(Blad1!E1075=\"\",\"\",Blad1!E1075)","v":""},{"$f":"IF(Blad1!B1075=\"\",\"\",Blad1!B1075)","v":""},{"$f":"IF(Blad1!H1075=\"\",\"\",Blad1!H1075)","v":""},{"$f":"IF(Blad1!I1075=\"\",\"\",Blad1!I1075)","v":""},{"$f":"IF(Blad1!M1075=\"\",\"\",Blad1!M1075)","v":""},{"$f":"IF(Blad1!F1075=\"\",\"\",Blad1!F1075)","v":""},{"$f":"IF(Blad1!Q1075=\"\",\"\",Blad1!Q1075)","v":""}]
[{"$f":"IF(Blad1!D1076=\"\",\"\",Blad1!D1076)","v":""},{"$f":"IF(Blad1!E1076=\"\",\"\",Blad1!E1076)","v":""},{"$f":"IF(Blad1!B1076=\"\",\"\",Blad1!B1076)","v":""},{"$f":"IF(Blad1!H1076=\"\",\"\",Blad1!H1076)","v":""},{"$f":"IF(Blad1!I1076=\"\",\"\",Blad1!I1076)","v":""},{"$f":"IF(Blad1!M1076=\"\",\"\",Blad1!M1076)","v":""},{"$f":"IF(Blad1!F1076=\"\",\"\",Blad1!F1076)","v":""},{"$f":"IF(Blad1!Q1076=\"\",\"\",Blad1!Q1076)","v":""}]
[{"$f":"IF(Blad1!D1077=\"\",\"\",Blad1!D1077)","v":""},{"$f":"IF(Blad1!E1077=\"\",\"\",Blad1!E1077)","v":""},{"$f":"IF(Blad1!B1077=\"\",\"\",Blad1!B1077)","v":""},{"$f":"IF(Blad1!H1077=\"\",\"\",Blad1!H1077)","v":""},{"$f":"IF(Blad1!I1077=\"\",\"\",Blad1!I1077)","v":""},{"$f":"IF(Blad1!M1077=\"\",\"\",Blad1!M1077)","v":""},{"$f":"IF(Blad1!F1077=\"\",\"\",Blad1!F1077)","v":""},{"$f":"IF(Blad1!Q1077=\"\",\"\",Blad1!Q1077)","v":""}]
[{"$f":"IF(Blad1!D1078=\"\",\"\",Blad1!D1078)","v":""},{"$f":"IF(Blad1!E1078=\"\",\"\",Blad1!E1078)","v":""},{"$f":"IF(Blad1!B1078=\"\",\"\",Blad1!B1078)","v":""},{"$f":"IF(Blad1!H1078=\"\",\"\",Blad1!H1078)","v":""},{"$f":"IF(Blad1!I1078=\"\",\"\",Blad1!I1078)","v":""},{"$f":"IF(Blad1!M1078=\"\",\"\",Blad1!M1078)","v":""},{"$f":"IF(Blad1!F1078=\"\",\"\",Blad1!F1078)","v":""},{"$f":"IF(Blad1!Q1078=\"\",\"\",Blad1!Q1078)","v":""}]
[{"$f":"IF(Blad1!D1079=\"\",\"\",Blad1!D1079)","v":""},{"$f":"IF(Blad1!E1079=\"\",\"\",Blad1!E1079)","v":""},{"$f":"IF(Blad1!B1079=\"\",\"\",Blad1!B1079)","v":""},{"$f":"IF(Blad1!H1079=\"\",\"\",Blad1!H1079)","v":""},{"$f":"IF(Blad1!I1079=\"\",\"\",Blad1!I1079)","v":""},{"$f":"IF(Blad1!M1079=\"\",\"\",Blad1!M1079)","v":""},{"$f":"IF(Blad1!F1079=\"\",\"\",Blad1!F1079)","v":""},{"$f":"IF(Blad1!Q1079=\"\",\"\",Blad1!Q1079)","v":""}]
[{"$f":"IF(Blad1!D1080=\"\",\"\",Blad1!D1080)","v":""},{"$f":"IF(Blad1!E1080=\"\",\"\",Blad1!E1080)","v":""},{"$f":"IF(Blad1!B1080=\"\",\"\",Blad1!B1080)","v":""},{"$f":"IF(Blad1!H1080=\"\",\"\",Blad1!H1080)","v":""},{"$f":"IF(Blad1!I1080=\"\",\"\",Blad1!I1080)","v":""},{"$f":"IF(Blad1!M1080=\"\",\"\",Blad1!M1080)","v":""},{"$f":"IF(Blad1!F1080=\"\",\"\",Blad1!F1080)","v":""},{"$f":"IF(Blad1!Q1080=\"\",\"\",Blad1!Q1080)","v":""}]
[{"$f":"IF(Blad1!D1081=\"\",\"\",Blad1!D1081)","v":""},{"$f":"IF(Blad1!E1081=\"\",\"\",Blad1!E1081)","v":""},{"$f":"IF(Blad1!B1081=\"\",\"\",Blad1!B1081)","v":""},{"$f":"IF(Blad1!H1081=\"\",\"\",Blad1!H1081)","v":""},{"$f":"IF(Blad1!I1081=\"\",\"\",Blad1!I1081)","v":""},{"$f":"IF(Blad1!M1081=\"\",\"\",Blad1!M1081)","v":""},{"$f":"IF(Blad1!F1081=\"\",\"\",Blad1!F1081)","v":""},{"$f":"IF(Blad1!Q1081=\"\",\"\",Blad1!Q1081)","v":""}]
[{"$f":"IF(Blad1!D1082=\"\",\"\",Blad1!D1082)","v":""},{"$f":"IF(Blad1!E1082=\"\",\"\",Blad1!E1082)","v":""},{"$f":"IF(Blad1!B1082=\"\",\"\",Blad1!B1082)","v":""},{"$f":"IF(Blad1!H1082=\"\",\"\",Blad1!H1082)","v":""},{"$f":"IF(Blad1!I1082=\"\",\"\",Blad1!I1082)","v":""},{"$f":"IF(Blad1!M1082=\"\",\"\",Blad1!M1082)","v":""},{"$f":"IF(Blad1!F1082=\"\",\"\",Blad1!F1082)","v":""},{"$f":"IF(Blad1!Q1082=\"\",\"\",Blad1!Q1082)","v":""}]
[{"$f":"IF(Blad1!D1083=\"\",\"\",Blad1!D1083)","v":""},{"$f":"IF(Blad1!E1083=\"\",\"\",Blad1!E1083)","v":""},{"$f":"IF(Blad1!B1083=\"\",\"\",Blad1!B1083)","v":""},{"$f":"IF(Blad1!H1083=\"\",\"\",Blad1!H1083)","v":""},{"$f":"IF(Blad1!I1083=\"\",\"\",Blad1!I1083)","v":""},{"$f":"IF(Blad1!M1083=\"\",\"\",Blad1!M1083)","v":""},{"$f":"IF(Blad1!F1083=\"\",\"\",Blad1!F1083)","v":""},{"$f":"IF(Blad1!Q1083=\"\",\"\",Blad1!Q1083)","v":""}]
[{"$f":"IF(Blad1!D1084=\"\",\"\",Blad1!D1084)","v":""},{"$f":"IF(Blad1!E1084=\"\",\"\",Blad1!E1084)","v":""},{"$f":"IF(Blad1!B1084=\"\",\"\",Blad1!B1084)","v":""},{"$f":"IF(Blad1!H1084=\"\",\"\",Blad1!H1084)","v":""},{"$f":"IF(Blad1!I1084=\"\",\"\",Blad1!I1084)","v":""},{"$f":"IF(Blad1!M1084=\"\",\"\",Blad1!M1084)","v":""},{"$f":"IF(Blad1!F1084=\"\",\"\",Blad1!F1084)","v":""},{"$f":"IF(Blad1!Q1084=\"\",\"\",Blad1!Q1084)","v":""}]
[{"$f":"IF(Blad1!D1085=\"\",\"\",Blad1!D1085)","v":""},{"$f":"IF(Blad1!E1085=\"\",\"\",Blad1!E1085)","v":""},{"$f":"IF(Blad1!B1085=\"\",\"\",Blad1!B1085)","v":""},{"$f":"IF(Blad1!H1085=\"\",\"\",Blad1!H1085)","v":""},{"$f":"IF(Blad1!I1085=\"\",\"\",Blad1!I1085)","v":""},{"$f":"IF(Blad1!M1085=\"\",\"\",Blad1!M1085)","v":""},{"$f":"IF(Blad1!F1085=\"\",\"\",Blad1!F1085)","v":""},{"$f":"IF(Blad1!Q1085=\"\",\"\",Blad1!Q1085)","v":""}]
[{"$f":"IF(Blad1!D1086=\"\",\"\",Blad1!D1086)","v":""},{"$f":"IF(Blad1!E1086=\"\",\"\",Blad1!E1086)","v":""},{"$f":"IF(Blad1!B1086=\"\",\"\",Blad1!B1086)","v":""},{"$f":"IF(Blad1!H1086=\"\",\"\",Blad1!H1086)","v":""},{"$f":"IF(Blad1!I1086=\"\",\"\",Blad1!I1086)","v":""},{"$f":"IF(Blad1!M1086=\"\",\"\",Blad1!M1086)","v":""},{"$f":"IF(Blad1!F1086=\"\",\"\",Blad1!F1086)","v":""},{"$f":"IF(Blad1!Q1086=\"\",\"\",Blad1!Q1086)","v":""}]
[{"$f":"IF(Blad1!D1087=\"\",\"\",Blad1!D1087)","v":""},{"$f":"IF(Blad1!E1087=\"\",\"\",Blad1!E1087)","v":""},{"$f":"IF(Blad1!B1087=\"\",\"\",Blad1!B1087)","v":""},{"$f":"IF(Blad1!H1087=\"\",\"\",Blad1!H1087)","v":""},{"$f":"IF(Blad1!I1087=\"\",\"\",Blad1!I1087)","v":""},{"$f":"IF(Blad1!M1087=\"\",\"\",Blad1!M1087)","v":""},{"$f":"IF(Blad1!F1087=\"\",\"\",Blad1!F1087)","v":""},{"$f":"IF(Blad1!Q1087=\"\",\"\",Blad1!Q1087)","v":""}]
[{"$f":"IF(Blad1!D1088=\"\",\"\",Blad1!D1088)","v":""},{"$f":"IF(Blad1!E1088=\"\",\"\",Blad1!E1088)","v":""},{"$f":"IF(Blad1!B1088=\"\",\"\",Blad1!B1088)","v":""},{"$f":"IF(Blad1!H1088=\"\",\"\",Blad1!H1088)","v":""},{"$f":"IF(Blad1!I1088=\"\",\"\",Blad1!I1088)","v":""},{"$f":"IF(Blad1!M1088=\"\",\"\",Blad1!M1088)","v":""},{"$f":"IF(Blad1!F1088=\"\",\"\",Blad1!F1088)","v":""},{"$f":"IF(Blad1!Q1088=\"\",\"\",Blad1!Q1088)","v":""}]
[{"$f":"IF(Blad1!D1089=\"\",\"\",Blad1!D1089)","v":""},{"$f":"IF(Blad1!E1089=\"\",\"\",Blad1!E1089)","v":""},{"$f":"IF(Blad1!B1089=\"\",\"\",Blad1!B1089)","v":""},{"$f":"IF(Blad1!H1089=\"\",\"\",Blad1!H1089)","v":""},{"$f":"IF(Blad1!I1089=\"\",\"\",Blad1!I1089)","v":""},{"$f":"IF(Blad1!M1089=\"\",\"\",Blad1!M1089)","v":""},{"$f":"IF(Blad1!F1089=\"\",\"\",Blad1!F1089)","v":""},{"$f":"IF(Blad1!Q1089=\"\",\"\",Blad1!Q1089)","v":""}]
[{"$f":"IF(Blad1!D1090=\"\",\"\",Blad1!D1090)","v":""},{"$f":"IF(Blad1!E1090=\"\",\"\",Blad1!E1090)","v":""},{"$f":"IF(Blad1!B1090=\"\",\"\",Blad1!B1090)","v":""},{"$f":"IF(Blad1!H1090=\"\",\"\",Blad1!H1090)","v":""},{"$f":"IF(Blad1!I1090=\"\",\"\",Blad1!I1090)","v":""},{"$f":"IF(Blad1!M1090=\"\",\"\",Blad1!M1090)","v":""},{"$f":"IF(Blad1!F1090=\"\",\"\",Blad1!F1090)","v":""},{"$f":"IF(Blad1!Q1090=\"\",\"\",Blad1!Q1090)","v":""}]
[{"$f":"IF(Blad1!D1091=\"\",\"\",Blad1!D1091)","v":""},{"$f":"IF(Blad1!E1091=\"\",\"\",Blad1!E1091)","v":""},{"$f":"IF(Blad1!B1091=\"\",\"\",Blad1!B1091)","v":""},{"$f":"IF(Blad1!H1091=\"\",\"\",Blad1!H1091)","v":""},{"$f":"IF(Blad1!I1091=\"\",\"\",Blad1!I1091)","v":""},{"$f":"IF(Blad1!M1091=\"\",\"\",Blad1!M1091)","v":""},{"$f":"IF(Blad1!F1091=\"\",\"\",Blad1!F1091)","v":""},{"$f":"IF(Blad1!Q1091=\"\",\"\",Blad1!Q1091)","v":""}]
[{"$f":"IF(Blad1!D1092=\"\",\"\",Blad1!D1092)","v":""},{"$f":"IF(Blad1!E1092=\"\",\"\",Blad1!E1092)","v":""},{"$f":"IF(Blad1!B1092=\"\",\"\",Blad1!B1092)","v":""},{"$f":"IF(Blad1!H1092=\"\",\"\",Blad1!H1092)","v":""},{"$f":"IF(Blad1!I1092=\"\",\"\",Blad1!I1092)","v":""},{"$f":"IF(Blad1!M1092=\"\",\"\",Blad1!M1092)","v":""},{"$f":"IF(Blad1!F1092=\"\",\"\",Blad1!F1092)","v":""},{"$f":"IF(Blad1!Q1092=\"\",\"\",Blad1!Q1092)","v":""}]
[{"$f":"IF(Blad1!D1093=\"\",\"\",Blad1!D1093)","v":""},{"$f":"IF(Blad1!E1093=\"\",\"\",Blad1!E1093)","v":""},{"$f":"IF(Blad1!B1093=\"\",\"\",Blad1!B1093)","v":""},{"$f":"IF(Blad1!H1093=\"\",\"\",Blad1!H1093)","v":""},{"$f":"IF(Blad1!I1093=\"\",\"\",Blad1!I1093)","v":""},{"$f":"IF(Blad1!M1093=\"\",\"\",Blad1!M1093)","v":""},{"$f":"IF(Blad1!F1093=\"\",\"\",Blad1!F1093)","v":""},{"$f":"IF(Blad1!Q1093=\"\",\"\",Blad1!Q1093)","v":""}]
[{"$f":"IF(Blad1!D1094=\"\",\"\",Blad1!D1094)","v":""},{"$f":"IF(Blad1!E1094=\"\",\"\",Blad1!E1094)","v":""},{"$f":"IF(Blad1!B1094=\"\",\"\",Blad1!B1094)","v":""},{"$f":"IF(Blad1!H1094=\"\",\"\",Blad1!H1094)","v":""},{"$f":"IF(Blad1!I1094=\"\",\"\",Blad1!I1094)","v":""},{"$f":"IF(Blad1!M1094=\"\",\"\",Blad1!M1094)","v":""},{"$f":"IF(Blad1!F1094=\"\",\"\",Blad1!F1094)","v":""},{"$f":"IF(Blad1!Q1094=\"\",\"\",Blad1!Q1094)","v":""}]
[{"$f":"IF(Blad1!D1095=\"\",\"\",Blad1!D1095)","v":""},{"$f":"IF(Blad1!E1095=\"\",\"\",Blad1!E1095)","v":""},{"$f":"IF(Blad1!B1095=\"\",\"\",Blad1!B1095)","v":""},{"$f":"IF(Blad1!H1095=\"\",\"\",Blad1!H1095)","v":""},{"$f":"IF(Blad1!I1095=\"\",\"\",Blad1!I1095)","v":""},{"$f":"IF(Blad1!M1095=\"\",\"\",Blad1!M1095)","v":""},{"$f":"IF(Blad1!F1095=\"\",\"\",Blad1!F1095)","v":""},{"$f":"IF(Blad1!Q1095=\"\",\"\",Blad1!Q1095)","v":""}]
[{"$f":"IF(Blad1!D1096=\"\",\"\",Blad1!D1096)","v":""},{"$f":"IF(Blad1!E1096=\"\",\"\",Blad1!E1096)","v":""},{"$f":"IF(Blad1!B1096=\"\",\"\",Blad1!B1096)","v":""},{"$f":"IF(Blad1!H1096=\"\",\"\",Blad1!H1096)","v":""},{"$f":"IF(Blad1!I1096=\"\",\"\",Blad1!I1096)","v":""},{"$f":"IF(Blad1!M1096=\"\",\"\",Blad1!M1096)","v":""},{"$f":"IF(Blad1!F1096=\"\",\"\",Blad1!F1096)","v":""},{"$f":"IF(Blad1!Q1096=\"\",\"\",Blad1!Q1096)","v":""}]
[{"$f":"IF(Blad1!D1097=\"\",\"\",Blad1!D1097)","v":""},{"$f":"IF(Blad1!E1097=\"\",\"\",Blad1!E1097)","v":""},{"$f":"IF(Blad1!B1097=\"\",\"\",Blad1!B1097)","v":""},{"$f":"IF(Blad1!H1097=\"\",\"\",Blad1!H1097)","v":""},{"$f":"IF(Blad1!I1097=\"\",\"\",Blad1!I1097)","v":""},{"$f":"IF(Blad1!M1097=\"\",\"\",Blad1!M1097)","v":""},{"$f":"IF(Blad1!F1097=\"\",\"\",Blad1!F1097)","v":""},{"$f":"IF(Blad1!Q1097=\"\",\"\",Blad1!Q1097)","v":""}]
[{"$f":"IF(Blad1!D1098=\"\",\"\",Blad1!D1098)","v":""},{"$f":"IF(Blad1!E1098=\"\",\"\",Blad1!E1098)","v":""},{"$f":"IF(Blad1!B1098=\"\",\"\",Blad1!B1098)","v":""},{"$f":"IF(Blad1!H1098=\"\",\"\",Blad1!H1098)","v":""},{"$f":"IF(Blad1!I1098=\"\",\"\",Blad1!I1098)","v":""},{"$f":"IF(Blad1!M1098=\"\",\"\",Blad1!M1098)","v":""},{"$f":"IF(Blad1!F1098=\"\",\"\",Blad1!F1098)","v":""},{"$f":"IF(Blad1!Q1098=\"\",\"\",Blad1!Q1098)","v":""}]
[{"$f":"IF(Blad1!D1099=\"\",\"\",Blad1!D1099)","v":""},{"$f":"IF(Blad1!E1099=\"\",\"\",Blad1!E1099)","v":""},{"$f":"IF(Blad1!B1099=\"\",\"\",Blad1!B1099)","v":""},{"$f":"IF(Blad1!H1099=\"\",\"\",Blad1!H1099)","v":""},{"$f":"IF(Blad1!I1099=\"\",\"\",Blad1!I1099)","v":""},{"$f":"IF(Blad1!M1099=\"\",\"\",Blad1!M1099)","v":""},{"$f":"IF(Blad1!F1099=\"\",\"\",Blad1!F1099)","v":""},{"$f":"IF(Blad1!Q1099=\"\",\"\",Blad1!Q1099)","v":""}]
[{"$f":"IF(Blad1!D1100=\"\",\"\",Blad1!D1100)","v":""},{"$f":"IF(Blad1!E1100=\"\",\"\",Blad1!E1100)","v":""},{"$f":"IF(Blad1!B1100=\"\",\"\",Blad1!B1100)","v":""},{"$f":"IF(Blad1!H1100=\"\",\"\",Blad1!H1100)","v":""},{"$f":"IF(Blad1!I1100=\"\",\"\",Blad1!I1100)","v":""},{"$f":"IF(Blad1!M1100=\"\",\"\",Blad1!M1100)","v":""},{"$f":"IF(Blad1!F1100=\"\",\"\",Blad1!F1100)","v":""},{"$f":"IF(Blad1!Q1100=\"\",\"\",Blad1!Q1100)","v":""}]
[{"$f":"IF(Blad1!D1101=\"\",\"\",Blad1!D1101)","v":""},{"$f":"IF(Blad1!E1101=\"\",\"\",Blad1!E1101)","v":""},{"$f":"IF(Blad1!B1101=\"\",\"\",Blad1!B1101)","v":""},{"$f":"IF(Blad1!H1101=\"\",\"\",Blad1!H1101)","v":""},{"$f":"IF(Blad1!I1101=\"\",\"\",Blad1!I1101)","v":""},{"$f":"IF(Blad1!M1101=\"\",\"\",Blad1!M1101)","v":""},{"$f":"IF(Blad1!F1101=\"\",\"\",Blad1!F1101)","v":""},{"$f":"IF(Blad1!Q1101=\"\",\"\",Blad1!Q1101)","v":""}]
[{"$f":"IF(Blad1!D1102=\"\",\"\",Blad1!D1102)","v":""},{"$f":"IF(Blad1!E1102=\"\",\"\",Blad1!E1102)","v":""},{"$f":"IF(Blad1!B1102=\"\",\"\",Blad1!B1102)","v":""},{"$f":"IF(Blad1!H1102=\"\",\"\",Blad1!H1102)","v":""},{"$f":"IF(Blad1!I1102=\"\",\"\",Blad1!I1102)","v":""},{"$f":"IF(Blad1!M1102=\"\",\"\",Blad1!M1102)","v":""},{"$f":"IF(Blad1!F1102=\"\",\"\",Blad1!F1102)","v":""},{"$f":"IF(Blad1!Q1102=\"\",\"\",Blad1!Q1102)","v":""}]
[{"$f":"IF(Blad1!D1103=\"\",\"\",Blad1!D1103)","v":""},{"$f":"IF(Blad1!E1103=\"\",\"\",Blad1!E1103)","v":""},{"$f":"IF(Blad1!B1103=\"\",\"\",Blad1!B1103)","v":""},{"$f":"IF(Blad1!H1103=\"\",\"\",Blad1!H1103)","v":""},{"$f":"IF(Blad1!I1103=\"\",\"\",Blad1!I1103)","v":""},{"$f":"IF(Blad1!M1103=\"\",\"\",Blad1!M1103)","v":""},{"$f":"IF(Blad1!F1103=\"\",\"\",Blad1!F1103)","v":""},{"$f":"IF(Blad1!Q1103=\"\",\"\",Blad1!Q1103)","v":""}]
[{"$f":"IF(Blad1!D1104=\"\",\"\",Blad1!D1104)","v":""},{"$f":"IF(Blad1!E1104=\"\",\"\",Blad1!E1104)","v":""},{"$f":"IF(Blad1!B1104=\"\",\"\",Blad1!B1104)","v":""},{"$f":"IF(Blad1!H1104=\"\",\"\",Blad1!H1104)","v":""},{"$f":"IF(Blad1!I1104=\"\",\"\",Blad1!I1104)","v":""},{"$f":"IF(Blad1!M1104=\"\",\"\",Blad1!M1104)","v":""},{"$f":"IF(Blad1!F1104=\"\",\"\",Blad1!F1104)","v":""},{"$f":"IF(Blad1!Q1104=\"\",\"\",Blad1!Q1104)","v":""}]
[{"$f":"IF(Blad1!D1105=\"\",\"\",Blad1!D1105)","v":""},{"$f":"IF(Blad1!E1105=\"\",\"\",Blad1!E1105)","v":""},{"$f":"IF(Blad1!B1105=\"\",\"\",Blad1!B1105)","v":""},{"$f":"IF(Blad1!H1105=\"\",\"\",Blad1!H1105)","v":""},{"$f":"IF(Blad1!I1105=\"\",\"\",Blad1!I1105)","v":""},{"$f":"IF(Blad1!M1105=\"\",\"\",Blad1!M1105)","v":""},{"$f":"IF(Blad1!F1105=\"\",\"\",Blad1!F1105)","v":""},{"$f":"IF(Blad1!Q1105=\"\",\"\",Blad1!Q1105)","v":""}]
[{"$f":"IF(Blad1!D1106=\"\",\"\",Blad1!D1106)","v":""},{"$f":"IF(Blad1!E1106=\"\",\"\",Blad1!E1106)","v":""},{"$f":"IF(Blad1!B1106=\"\",\"\",Blad1!B1106)","v":""},{"$f":"IF(Blad1!H1106=\"\",\"\",Blad1!H1106)","v":""},{"$f":"IF(Blad1!I1106=\"\",\"\",Blad1!I1106)","v":""},{"$f":"IF(Blad1!M1106=\"\",\"\",Blad1!M1106)","v":""},{"$f":"IF(Blad1!F1106=\"\",\"\",Blad1!F1106)","v":""},{"$f":"IF(Blad1!Q1106=\"\",\"\",Blad1!Q1106)","v":""}]
[{"$f":"IF(Blad1!D1107=\"\",\"\",Blad1!D1107)","v":""},{"$f":"IF(Blad1!E1107=\"\",\"\",Blad1!E1107)","v":""},{"$f":"IF(Blad1!B1107=\"\",\"\",Blad1!B1107)","v":""},{"$f":"IF(Blad1!H1107=\"\",\"\",Blad1!H1107)","v":""},{"$f":"IF(Blad1!I1107=\"\",\"\",Blad1!I1107)","v":""},{"$f":"IF(Blad1!M1107=\"\",\"\",Blad1!M1107)","v":""},{"$f":"IF(Blad1!F1107=\"\",\"\",Blad1!F1107)","v":""},{"$f":"IF(Blad1!Q1107=\"\",\"\",Blad1!Q1107)","v":""}]
[{"$f":"IF(Blad1!D1108=\"\",\"\",Blad1!D1108)","v":""},{"$f":"IF(Blad1!E1108=\"\",\"\",Blad1!E1108)","v":""},{"$f":"IF(Blad1!B1108=\"\",\"\",Blad1!B1108)","v":""},{"$f":"IF(Blad1!H1108=\"\",\"\",Blad1!H1108)","v":""},{"$f":"IF(Blad1!I1108=\"\",\"\",Blad1!I1108)","v":""},{"$f":"IF(Blad1!M1108=\"\",\"\",Blad1!M1108)","v":""},{"$f":"IF(Blad1!F1108=\"\",\"\",Blad1!F1108)","v":""},{"$f":"IF(Blad1!Q1108=\"\",\"\",Blad1!Q1108)","v":""}]
[{"$f":"IF(Blad1!D1109=\"\",\"\",Blad1!D1109)","v":""},{"$f":"IF(Blad1!E1109=\"\",\"\",Blad1!E1109)","v":""},{"$f":"IF(Blad1!B1109=\"\",\"\",Blad1!B1109)","v":""},{"$f":"IF(Blad1!H1109=\"\",\"\",Blad1!H1109)","v":""},{"$f":"IF(Blad1!I1109=\"\",\"\",Blad1!I1109)","v":""},{"$f":"IF(Blad1!M1109=\"\",\"\",Blad1!M1109)","v":""},{"$f":"IF(Blad1!F1109=\"\",\"\",Blad1!F1109)","v":""},{"$f":"IF(Blad1!Q1109=\"\",\"\",Blad1!Q1109)","v":""}]
[{"$f":"IF(Blad1!D1110=\"\",\"\",Blad1!D1110)","v":""},{"$f":"IF(Blad1!E1110=\"\",\"\",Blad1!E1110)","v":""},{"$f":"IF(Blad1!B1110=\"\",\"\",Blad1!B1110)","v":""},{"$f":"IF(Blad1!H1110=\"\",\"\",Blad1!H1110)","v":""},{"$f":"IF(Blad1!I1110=\"\",\"\",Blad1!I1110)","v":""},{"$f":"IF(Blad1!M1110=\"\",\"\",Blad1!M1110)","v":""},{"$f":"IF(Blad1!F1110=\"\",\"\",Blad1!F1110)","v":""},{"$f":"IF(Blad1!Q1110=\"\",\"\",Blad1!Q1110)","v":""}]
[{"$f":"IF(Blad1!D1111=\"\",\"\",Blad1!D1111)","v":""},{"$f":"IF(Blad1!E1111=\"\",\"\",Blad1!E1111)","v":""},{"$f":"IF(Blad1!B1111=\"\",\"\",Blad1!B1111)","v":""},{"$f":"IF(Blad1!H1111=\"\",\"\",Blad1!H1111)","v":""},{"$f":"IF(Blad1!I1111=\"\",\"\",Blad1!I1111)","v":""},{"$f":"IF(Blad1!M1111=\"\",\"\",Blad1!M1111)","v":""},{"$f":"IF(Blad1!F1111=\"\",\"\",Blad1!F1111)","v":""},{"$f":"IF(Blad1!Q1111=\"\",\"\",Blad1!Q1111)","v":""}]
[{"$f":"IF(Blad1!D1112=\"\",\"\",Blad1!D1112)","v":""},{"$f":"IF(Blad1!E1112=\"\",\"\",Blad1!E1112)","v":""},{"$f":"IF(Blad1!B1112=\"\",\"\",Blad1!B1112)","v":""},{"$f":"IF(Blad1!H1112=\"\",\"\",Blad1!H1112)","v":""},{"$f":"IF(Blad1!I1112=\"\",\"\",Blad1!I1112)","v":""},{"$f":"IF(Blad1!M1112=\"\",\"\",Blad1!M1112)","v":""},{"$f":"IF(Blad1!F1112=\"\",\"\",Blad1!F1112)","v":""},{"$f":"IF(Blad1!Q1112=\"\",\"\",Blad1!Q1112)","v":""}]
[{"$f":"IF(Blad1!D1113=\"\",\"\",Blad1!D1113)","v":""},{"$f":"IF(Blad1!E1113=\"\",\"\",Blad1!E1113)","v":""},{"$f":"IF(Blad1!B1113=\"\",\"\",Blad1!B1113)","v":""},{"$f":"IF(Blad1!H1113=\"\",\"\",Blad1!H1113)","v":""},{"$f":"IF(Blad1!I1113=\"\",\"\",Blad1!I1113)","v":""},{"$f":"IF(Blad1!M1113=\"\",\"\",Blad1!M1113)","v":""},{"$f":"IF(Blad1!F1113=\"\",\"\",Blad1!F1113)","v":""},{"$f":"IF(Blad1!Q1113=\"\",\"\",Blad1!Q1113)","v":""}]
[{"$f":"IF(Blad1!D1114=\"\",\"\",Blad1!D1114)","v":""},{"$f":"IF(Blad1!E1114=\"\",\"\",Blad1!E1114)","v":""},{"$f":"IF(Blad1!B1114=\"\",\"\",Blad1!B1114)","v":""},{"$f":"IF(Blad1!H1114=\"\",\"\",Blad1!H1114)","v":""},{"$f":"IF(Blad1!I1114=\"\",\"\",Blad1!I1114)","v":""},{"$f":"IF(Blad1!M1114=\"\",\"\",Blad1!M1114)","v":""},{"$f":"IF(Blad1!F1114=\"\",\"\",Blad1!F1114)","v":""},{"$f":"IF(Blad1!Q1114=\"\",\"\",Blad1!Q1114)","v":""}]
[{"$f":"IF(Blad1!D1115=\"\",\"\",Blad1!D1115)","v":""},{"$f":"IF(Blad1!E1115=\"\",\"\",Blad1!E1115)","v":""},{"$f":"IF(Blad1!B1115=\"\",\"\",Blad1!B1115)","v":""},{"$f":"IF(Blad1!H1115=\"\",\"\",Blad1!H1115)","v":""},{"$f":"IF(Blad1!I1115=\"\",\"\",Blad1!I1115)","v":""},{"$f":"IF(Blad1!M1115=\"\",\"\",Blad1!M1115)","v":""},{"$f":"IF(Blad1!F1115=\"\",\"\",Blad1!F1115)","v":""},{"$f":"IF(Blad1!Q1115=\"\",\"\",Blad1!Q1115)","v":""}]
[{"$f":"IF(Blad1!D1116=\"\",\"\",Blad1!D1116)","v":""},{"$f":"IF(Blad1!E1116=\"\",\"\",Blad1!E1116)","v":""},{"$f":"IF(Blad1!B1116=\"\",\"\",Blad1!B1116)","v":""},{"$f":"IF(Blad1!H1116=\"\",\"\",Blad1!H1116)","v":""},{"$f":"IF(Blad1!I1116=\"\",\"\",Blad1!I1116)","v":""},{"$f":"IF(Blad1!M1116=\"\",\"\",Blad1!M1116)","v":""},{"$f":"IF(Blad1!F1116=\"\",\"\",Blad1!F1116)","v":""},{"$f":"IF(Blad1!Q1116=\"\",\"\",Blad1!Q1116)","v":""}]
[{"$f":"IF(Blad1!D1117=\"\",\"\",Blad1!D1117)","v":""},{"$f":"IF(Blad1!E1117=\"\",\"\",Blad1!E1117)","v":""},{"$f":"IF(Blad1!B1117=\"\",\"\",Blad1!B1117)","v":""},{"$f":"IF(Blad1!H1117=\"\",\"\",Blad1!H1117)","v":""},{"$f":"IF(Blad1!I1117=\"\",\"\",Blad1!I1117)","v":""},{"$f":"IF(Blad1!M1117=\"\",\"\",Blad1!M1117)","v":""},{"$f":"IF(Blad1!F1117=\"\",\"\",Blad1!F1117)","v":""},{"$f":"IF(Blad1!Q1117=\"\",\"\",Blad1!Q1117)","v":""}]
[{"$f":"IF(Blad1!D1118=\"\",\"\",Blad1!D1118)","v":""},{"$f":"IF(Blad1!E1118=\"\",\"\",Blad1!E1118)","v":""},{"$f":"IF(Blad1!B1118=\"\",\"\",Blad1!B1118)","v":""},{"$f":"IF(Blad1!H1118=\"\",\"\",Blad1!H1118)","v":""},{"$f":"IF(Blad1!I1118=\"\",\"\",Blad1!I1118)","v":""},{"$f":"IF(Blad1!M1118=\"\",\"\",Blad1!M1118)","v":""},{"$f":"IF(Blad1!F1118=\"\",\"\",Blad1!F1118)","v":""},{"$f":"IF(Blad1!Q1118=\"\",\"\",Blad1!Q1118)","v":""}]
[{"$f":"IF(Blad1!D1119=\"\",\"\",Blad1!D1119)","v":""},{"$f":"IF(Blad1!E1119=\"\",\"\",Blad1!E1119)","v":""},{"$f":"IF(Blad1!B1119=\"\",\"\",Blad1!B1119)","v":""},{"$f":"IF(Blad1!H1119=\"\",\"\",Blad1!H1119)","v":""},{"$f":"IF(Blad1!I1119=\"\",\"\",Blad1!I1119)","v":""},{"$f":"IF(Blad1!M1119=\"\",\"\",Blad1!M1119)","v":""},{"$f":"IF(Blad1!F1119=\"\",\"\",Blad1!F1119)","v":""},{"$f":"IF(Blad1!Q1119=\"\",\"\",Blad1!Q1119)","v":""}]
[{"$f":"IF(Blad1!D1120=\"\",\"\",Blad1!D1120)","v":""},{"$f":"IF(Blad1!E1120=\"\",\"\",Blad1!E1120)","v":""},{"$f":"IF(Blad1!B1120=\"\",\"\",Blad1!B1120)","v":""},{"$f":"IF(Blad1!H1120=\"\",\"\",Blad1!H1120)","v":""},{"$f":"IF(Blad1!I1120=\"\",\"\",Blad1!I1120)","v":""},{"$f":"IF(Blad1!M1120=\"\",\"\",Blad1!M1120)","v":""},{"$f":"IF(Blad1!F1120=\"\",\"\",Blad1!F1120)","v":""},{"$f":"IF(Blad1!Q1120=\"\",\"\",Blad1!Q1120)","v":""}]
[{"$f":"IF(Blad1!D1121=\"\",\"\",Blad1!D1121)","v":""},{"$f":"IF(Blad1!E1121=\"\",\"\",Blad1!E1121)","v":""},{"$f":"IF(Blad1!B1121=\"\",\"\",Blad1!B1121)","v":""},{"$f":"IF(Blad1!H1121=\"\",\"\",Blad1!H1121)","v":""},{"$f":"IF(Blad1!I1121=\"\",\"\",Blad1!I1121)","v":""},{"$f":"IF(Blad1!M1121=\"\",\"\",Blad1!M1121)","v":""},{"$f":"IF(Blad1!F1121=\"\",\"\",Blad1!F1121)","v":""},{"$f":"IF(Blad1!Q1121=\"\",\"\",Blad1!Q1121)","v":""}]
[{"$f":"IF(Blad1!D1122=\"\",\"\",Blad1!D1122)","v":""},{"$f":"IF(Blad1!E1122=\"\",\"\",Blad1!E1122)","v":""},{"$f":"IF(Blad1!B1122=\"\",\"\",Blad1!B1122)","v":""},{"$f":"IF(Blad1!H1122=\"\",\"\",Blad1!H1122)","v":""},{"$f":"IF(Blad1!I1122=\"\",\"\",Blad1!I1122)","v":""},{"$f":"IF(Blad1!M1122=\"\",\"\",Blad1!M1122)","v":""},{"$f":"IF(Blad1!F1122=\"\",\"\",Blad1!F1122)","v":""},{"$f":"IF(Blad1!Q1122=\"\",\"\",Blad1!Q1122)","v":""}]
[{"$f":"IF(Blad1!D1123=\"\",\"\",Blad1!D1123)","v":""},{"$f":"IF(Blad1!E1123=\"\",\"\",Blad1!E1123)","v":""},{"$f":"IF(Blad1!B1123=\"\",\"\",Blad1!B1123)","v":""},{"$f":"IF(Blad1!H1123=\"\",\"\",Blad1!H1123)","v":""},{"$f":"IF(Blad1!I1123=\"\",\"\",Blad1!I1123)","v":""},{"$f":"IF(Blad1!M1123=\"\",\"\",Blad1!M1123)","v":""},{"$f":"IF(Blad1!F1123=\"\",\"\",Blad1!F1123)","v":""},{"$f":"IF(Blad1!Q1123=\"\",\"\",Blad1!Q1123)","v":""}]
[{"$f":"IF(Blad1!D1124=\"\",\"\",Blad1!D1124)","v":""},{"$f":"IF(Blad1!E1124=\"\",\"\",Blad1!E1124)","v":""},{"$f":"IF(Blad1!B1124=\"\",\"\",Blad1!B1124)","v":""},{"$f":"IF(Blad1!H1124=\"\",\"\",Blad1!H1124)","v":""},{"$f":"IF(Blad1!I1124=\"\",\"\",Blad1!I1124)","v":""},{"$f":"IF(Blad1!M1124=\"\",\"\",Blad1!M1124)","v":""},{"$f":"IF(Blad1!F1124=\"\",\"\",Blad1!F1124)","v":""},{"$f":"IF(Blad1!Q1124=\"\",\"\",Blad1!Q1124)","v":""}]
[{"$f":"IF(Blad1!D1125=\"\",\"\",Blad1!D1125)","v":""},{"$f":"IF(Blad1!E1125=\"\",\"\",Blad1!E1125)","v":""},{"$f":"IF(Blad1!B1125=\"\",\"\",Blad1!B1125)","v":""},{"$f":"IF(Blad1!H1125=\"\",\"\",Blad1!H1125)","v":""},{"$f":"IF(Blad1!I1125=\"\",\"\",Blad1!I1125)","v":""},{"$f":"IF(Blad1!M1125=\"\",\"\",Blad1!M1125)","v":""},{"$f":"IF(Blad1!F1125=\"\",\"\",Blad1!F1125)","v":""},{"$f":"IF(Blad1!Q1125=\"\",\"\",Blad1!Q1125)","v":""}]
[{"$f":"IF(Blad1!D1126=\"\",\"\",Blad1!D1126)","v":""},{"$f":"IF(Blad1!E1126=\"\",\"\",Blad1!E1126)","v":""},{"$f":"IF(Blad1!B1126=\"\",\"\",Blad1!B1126)","v":""},{"$f":"IF(Blad1!H1126=\"\",\"\",Blad1!H1126)","v":""},{"$f":"IF(Blad1!I1126=\"\",\"\",Blad1!I1126)","v":""},{"$f":"IF(Blad1!M1126=\"\",\"\",Blad1!M1126)","v":""},{"$f":"IF(Blad1!F1126=\"\",\"\",Blad1!F1126)","v":""},{"$f":"IF(Blad1!Q1126=\"\",\"\",Blad1!Q1126)","v":""}]
[{"$f":"IF(Blad1!D1127=\"\",\"\",Blad1!D1127)","v":""},{"$f":"IF(Blad1!E1127=\"\",\"\",Blad1!E1127)","v":""},{"$f":"IF(Blad1!B1127=\"\",\"\",Blad1!B1127)","v":""},{"$f":"IF(Blad1!H1127=\"\",\"\",Blad1!H1127)","v":""},{"$f":"IF(Blad1!I1127=\"\",\"\",Blad1!I1127)","v":""},{"$f":"IF(Blad1!M1127=\"\",\"\",Blad1!M1127)","v":""},{"$f":"IF(Blad1!F1127=\"\",\"\",Blad1!F1127)","v":""},{"$f":"IF(Blad1!Q1127=\"\",\"\",Blad1!Q1127)","v":""}]
[{"$f":"IF(Blad1!D1128=\"\",\"\",Blad1!D1128)","v":""},{"$f":"IF(Blad1!E1128=\"\",\"\",Blad1!E1128)","v":""},{"$f":"IF(Blad1!B1128=\"\",\"\",Blad1!B1128)","v":""},{"$f":"IF(Blad1!H1128=\"\",\"\",Blad1!H1128)","v":""},{"$f":"IF(Blad1!I1128=\"\",\"\",Blad1!I1128)","v":""},{"$f":"IF(Blad1!M1128=\"\",\"\",Blad1!M1128)","v":""},{"$f":"IF(Blad1!F1128=\"\",\"\",Blad1!F1128)","v":""},{"$f":"IF(Blad1!Q1128=\"\",\"\",Blad1!Q1128)","v":""}]
[{"$f":"IF(Blad1!D1129=\"\",\"\",Blad1!D1129)","v":""},{"$f":"IF(Blad1!E1129=\"\",\"\",Blad1!E1129)","v":""},{"$f":"IF(Blad1!B1129=\"\",\"\",Blad1!B1129)","v":""},{"$f":"IF(Blad1!H1129=\"\",\"\",Blad1!H1129)","v":""},{"$f":"IF(Blad1!I1129=\"\",\"\",Blad1!I1129)","v":""},{"$f":"IF(Blad1!M1129=\"\",\"\",Blad1!M1129)","v":""},{"$f":"IF(Blad1!F1129=\"\",\"\",Blad1!F1129)","v":""},{"$f":"IF(Blad1!Q1129=\"\",\"\",Blad1!Q1129)","v":""}]
[{"$f":"IF(Blad1!D1130=\"\",\"\",Blad1!D1130)","v":""},{"$f":"IF(Blad1!E1130=\"\",\"\",Blad1!E1130)","v":""},{"$f":"IF(Blad1!B1130=\"\",\"\",Blad1!B1130)","v":""},{"$f":"IF(Blad1!H1130=\"\",\"\",Blad1!H1130)","v":""},{"$f":"IF(Blad1!I1130=\"\",\"\",Blad1!I1130)","v":""},{"$f":"IF(Blad1!M1130=\"\",\"\",Blad1!M1130)","v":""},{"$f":"IF(Blad1!F1130=\"\",\"\",Blad1!F1130)","v":""},{"$f":"IF(Blad1!Q1130=\"\",\"\",Blad1!Q1130)","v":""}]
[{"$f":"IF(Blad1!D1131=\"\",\"\",Blad1!D1131)","v":""},{"$f":"IF(Blad1!E1131=\"\",\"\",Blad1!E1131)","v":""},{"$f":"IF(Blad1!B1131=\"\",\"\",Blad1!B1131)","v":""},{"$f":"IF(Blad1!H1131=\"\",\"\",Blad1!H1131)","v":""},{"$f":"IF(Blad1!I1131=\"\",\"\",Blad1!I1131)","v":""},{"$f":"IF(Blad1!M1131=\"\",\"\",Blad1!M1131)","v":""},{"$f":"IF(Blad1!F1131=\"\",\"\",Blad1!F1131)","v":""},{"$f":"IF(Blad1!Q1131=\"\",\"\",Blad1!Q1131)","v":""}]
[{"$f":"IF(Blad1!D1132=\"\",\"\",Blad1!D1132)","v":""},{"$f":"IF(Blad1!E1132=\"\",\"\",Blad1!E1132)","v":""},{"$f":"IF(Blad1!B1132=\"\",\"\",Blad1!B1132)","v":""},{"$f":"IF(Blad1!H1132=\"\",\"\",Blad1!H1132)","v":""},{"$f":"IF(Blad1!I1132=\"\",\"\",Blad1!I1132)","v":""},{"$f":"IF(Blad1!M1132=\"\",\"\",Blad1!M1132)","v":""},{"$f":"IF(Blad1!F1132=\"\",\"\",Blad1!F1132)","v":""},{"$f":"IF(Blad1!Q1132=\"\",\"\",Blad1!Q1132)","v":""}]
[{"$f":"IF(Blad1!D1133=\"\",\"\",Blad1!D1133)","v":""},{"$f":"IF(Blad1!E1133=\"\",\"\",Blad1!E1133)","v":""},{"$f":"IF(Blad1!B1133=\"\",\"\",Blad1!B1133)","v":""},{"$f":"IF(Blad1!H1133=\"\",\"\",Blad1!H1133)","v":""},{"$f":"IF(Blad1!I1133=\"\",\"\",Blad1!I1133)","v":""},{"$f":"IF(Blad1!M1133=\"\",\"\",Blad1!M1133)","v":""},{"$f":"IF(Blad1!F1133=\"\",\"\",Blad1!F1133)","v":""},{"$f":"IF(Blad1!Q1133=\"\",\"\",Blad1!Q1133)","v":""}]
[{"$f":"IF(Blad1!D1134=\"\",\"\",Blad1!D1134)","v":""},{"$f":"IF(Blad1!E1134=\"\",\"\",Blad1!E1134)","v":""},{"$f":"IF(Blad1!B1134=\"\",\"\",Blad1!B1134)","v":""},{"$f":"IF(Blad1!H1134=\"\",\"\",Blad1!H1134)","v":""},{"$f":"IF(Blad1!I1134=\"\",\"\",Blad1!I1134)","v":""},{"$f":"IF(Blad1!M1134=\"\",\"\",Blad1!M1134)","v":""},{"$f":"IF(Blad1!F1134=\"\",\"\",Blad1!F1134)","v":""},{"$f":"IF(Blad1!Q1134=\"\",\"\",Blad1!Q1134)","v":""}]
[{"$f":"IF(Blad1!D1135=\"\",\"\",Blad1!D1135)","v":""},{"$f":"IF(Blad1!E1135=\"\",\"\",Blad1!E1135)","v":""},{"$f":"IF(Blad1!B1135=\"\",\"\",Blad1!B1135)","v":""},{"$f":"IF(Blad1!H1135=\"\",\"\",Blad1!H1135)","v":""},{"$f":"IF(Blad1!I1135=\"\",\"\",Blad1!I1135)","v":""},{"$f":"IF(Blad1!M1135=\"\",\"\",Blad1!M1135)","v":""},{"$f":"IF(Blad1!F1135=\"\",\"\",Blad1!F1135)","v":""},{"$f":"IF(Blad1!Q1135=\"\",\"\",Blad1!Q1135)","v":""}]
[{"$f":"IF(Blad1!D1136=\"\",\"\",Blad1!D1136)","v":""},{"$f":"IF(Blad1!E1136=\"\",\"\",Blad1!E1136)","v":""},{"$f":"IF(Blad1!B1136=\"\",\"\",Blad1!B1136)","v":""},{"$f":"IF(Blad1!H1136=\"\",\"\",Blad1!H1136)","v":""},{"$f":"IF(Blad1!I1136=\"\",\"\",Blad1!I1136)","v":""},{"$f":"IF(Blad1!M1136=\"\",\"\",Blad1!M1136)","v":""},{"$f":"IF(Blad1!F1136=\"\",\"\",Blad1!F1136)","v":""},{"$f":"IF(Blad1!Q1136=\"\",\"\",Blad1!Q1136)","v":""}]
[{"$f":"IF(Blad1!D1137=\"\",\"\",Blad1!D1137)","v":""},{"$f":"IF(Blad1!E1137=\"\",\"\",Blad1!E1137)","v":""},{"$f":"IF(Blad1!B1137=\"\",\"\",Blad1!B1137)","v":""},{"$f":"IF(Blad1!H1137=\"\",\"\",Blad1!H1137)","v":""},{"$f":"IF(Blad1!I1137=\"\",\"\",Blad1!I1137)","v":""},{"$f":"IF(Blad1!M1137=\"\",\"\",Blad1!M1137)","v":""},{"$f":"IF(Blad1!F1137=\"\",\"\",Blad1!F1137)","v":""},{"$f":"IF(Blad1!Q1137=\"\",\"\",Blad1!Q1137)","v":""}]
[{"$f":"IF(Blad1!D1138=\"\",\"\",Blad1!D1138)","v":""},{"$f":"IF(Blad1!E1138=\"\",\"\",Blad1!E1138)","v":""},{"$f":"IF(Blad1!B1138=\"\",\"\",Blad1!B1138)","v":""},{"$f":"IF(Blad1!H1138=\"\",\"\",Blad1!H1138)","v":""},{"$f":"IF(Blad1!I1138=\"\",\"\",Blad1!I1138)","v":""},{"$f":"IF(Blad1!M1138=\"\",\"\",Blad1!M1138)","v":""},{"$f":"IF(Blad1!F1138=\"\",\"\",Blad1!F1138)","v":""},{"$f":"IF(Blad1!Q1138=\"\",\"\",Blad1!Q1138)","v":""}]
[{"$f":"IF(Blad1!D1139=\"\",\"\",Blad1!D1139)","v":""},{"$f":"IF(Blad1!E1139=\"\",\"\",Blad1!E1139)","v":""},{"$f":"IF(Blad1!B1139=\"\",\"\",Blad1!B1139)","v":""},{"$f":"IF(Blad1!H1139=\"\",\"\",Blad1!H1139)","v":""},{"$f":"IF(Blad1!I1139=\"\",\"\",Blad1!I1139)","v":""},{"$f":"IF(Blad1!M1139=\"\",\"\",Blad1!M1139)","v":""},{"$f":"IF(Blad1!F1139=\"\",\"\",Blad1!F1139)","v":""},{"$f":"IF(Blad1!Q1139=\"\",\"\",Blad1!Q1139)","v":""}]
[{"$f":"IF(Blad1!D1140=\"\",\"\",Blad1!D1140)","v":""},{"$f":"IF(Blad1!E1140=\"\",\"\",Blad1!E1140)","v":""},{"$f":"IF(Blad1!B1140=\"\",\"\",Blad1!B1140)","v":""},{"$f":"IF(Blad1!H1140=\"\",\"\",Blad1!H1140)","v":""},{"$f":"IF(Blad1!I1140=\"\",\"\",Blad1!I1140)","v":""},{"$f":"IF(Blad1!M1140=\"\",\"\",Blad1!M1140)","v":""},{"$f":"IF(Blad1!F1140=\"\",\"\",Blad1!F1140)","v":""},{"$f":"IF(Blad1!Q1140=\"\",\"\",Blad1!Q1140)","v":""}]
[{"$f":"IF(Blad1!D1141=\"\",\"\",Blad1!D1141)","v":""},{"$f":"IF(Blad1!E1141=\"\",\"\",Blad1!E1141)","v":""},{"$f":"IF(Blad1!B1141=\"\",\"\",Blad1!B1141)","v":""},{"$f":"IF(Blad1!H1141=\"\",\"\",Blad1!H1141)","v":""},{"$f":"IF(Blad1!I1141=\"\",\"\",Blad1!I1141)","v":""},{"$f":"IF(Blad1!M1141=\"\",\"\",Blad1!M1141)","v":""},{"$f":"IF(Blad1!F1141=\"\",\"\",Blad1!F1141)","v":""},{"$f":"IF(Blad1!Q1141=\"\",\"\",Blad1!Q1141)","v":""}]
[{"$f":"IF(Blad1!D1142=\"\",\"\",Blad1!D1142)","v":""},{"$f":"IF(Blad1!E1142=\"\",\"\",Blad1!E1142)","v":""},{"$f":"IF(Blad1!B1142=\"\",\"\",Blad1!B1142)","v":""},{"$f":"IF(Blad1!H1142=\"\",\"\",Blad1!H1142)","v":""},{"$f":"IF(Blad1!I1142=\"\",\"\",Blad1!I1142)","v":""},{"$f":"IF(Blad1!M1142=\"\",\"\",Blad1!M1142)","v":""},{"$f":"IF(Blad1!F1142=\"\",\"\",Blad1!F1142)","v":""},{"$f":"IF(Blad1!Q1142=\"\",\"\",Blad1!Q1142)","v":""}]
[{"$f":"IF(Blad1!D1143=\"\",\"\",Blad1!D1143)","v":""},{"$f":"IF(Blad1!E1143=\"\",\"\",Blad1!E1143)","v":""},{"$f":"IF(Blad1!B1143=\"\",\"\",Blad1!B1143)","v":""},{"$f":"IF(Blad1!H1143=\"\",\"\",Blad1!H1143)","v":""},{"$f":"IF(Blad1!I1143=\"\",\"\",Blad1!I1143)","v":""},{"$f":"IF(Blad1!M1143=\"\",\"\",Blad1!M1143)","v":""},{"$f":"IF(Blad1!F1143=\"\",\"\",Blad1!F1143)","v":""},{"$f":"IF(Blad1!Q1143=\"\",\"\",Blad1!Q1143)","v":""}]
[{"$f":"IF(Blad1!D1144=\"\",\"\",Blad1!D1144)","v":""},{"$f":"IF(Blad1!E1144=\"\",\"\",Blad1!E1144)","v":""},{"$f":"IF(Blad1!B1144=\"\",\"\",Blad1!B1144)","v":""},{"$f":"IF(Blad1!H1144=\"\",\"\",Blad1!H1144)","v":""},{"$f":"IF(Blad1!I1144=\"\",\"\",Blad1!I1144)","v":""},{"$f":"IF(Blad1!M1144=\"\",\"\",Blad1!M1144)","v":""},{"$f":"IF(Blad1!F1144=\"\",\"\",Blad1!F1144)","v":""},{"$f":"IF(Blad1!Q1144=\"\",\"\",Blad1!Q1144)","v":""}]
[{"$f":"IF(Blad1!D1145=\"\",\"\",Blad1!D1145)","v":""},{"$f":"IF(Blad1!E1145=\"\",\"\",Blad1!E1145)","v":""},{"$f":"IF(Blad1!B1145=\"\",\"\",Blad1!B1145)","v":""},{"$f":"IF(Blad1!H1145=\"\",\"\",Blad1!H1145)","v":""},{"$f":"IF(Blad1!I1145=\"\",\"\",Blad1!I1145)","v":""},{"$f":"IF(Blad1!M1145=\"\",\"\",Blad1!M1145)","v":""},{"$f":"IF(Blad1!F1145=\"\",\"\",Blad1!F1145)","v":""},{"$f":"IF(Blad1!Q1145=\"\",\"\",Blad1!Q1145)","v":""}]
[{"$f":"IF(Blad1!D1146=\"\",\"\",Blad1!D1146)","v":""},{"$f":"IF(Blad1!E1146=\"\",\"\",Blad1!E1146)","v":""},{"$f":"IF(Blad1!B1146=\"\",\"\",Blad1!B1146)","v":""},{"$f":"IF(Blad1!H1146=\"\",\"\",Blad1!H1146)","v":""},{"$f":"IF(Blad1!I1146=\"\",\"\",Blad1!I1146)","v":""},{"$f":"IF(Blad1!M1146=\"\",\"\",Blad1!M1146)","v":""},{"$f":"IF(Blad1!F1146=\"\",\"\",Blad1!F1146)","v":""},{"$f":"IF(Blad1!Q1146=\"\",\"\",Blad1!Q1146)","v":""}]
[{"$f":"IF(Blad1!D1147=\"\",\"\",Blad1!D1147)","v":""},{"$f":"IF(Blad1!E1147=\"\",\"\",Blad1!E1147)","v":""},{"$f":"IF(Blad1!B1147=\"\",\"\",Blad1!B1147)","v":""},{"$f":"IF(Blad1!H1147=\"\",\"\",Blad1!H1147)","v":""},{"$f":"IF(Blad1!I1147=\"\",\"\",Blad1!I1147)","v":""},{"$f":"IF(Blad1!M1147=\"\",\"\",Blad1!M1147)","v":""},{"$f":"IF(Blad1!F1147=\"\",\"\",Blad1!F1147)","v":""},{"$f":"IF(Blad1!Q1147=\"\",\"\",Blad1!Q1147)","v":""}]
[{"$f":"IF(Blad1!D1148=\"\",\"\",Blad1!D1148)","v":""},{"$f":"IF(Blad1!E1148=\"\",\"\",Blad1!E1148)","v":""},{"$f":"IF(Blad1!B1148=\"\",\"\",Blad1!B1148)","v":""},{"$f":"IF(Blad1!H1148=\"\",\"\",Blad1!H1148)","v":""},{"$f":"IF(Blad1!I1148=\"\",\"\",Blad1!I1148)","v":""},{"$f":"IF(Blad1!M1148=\"\",\"\",Blad1!M1148)","v":""},{"$f":"IF(Blad1!F1148=\"\",\"\",Blad1!F1148)","v":""},{"$f":"IF(Blad1!Q1148=\"\",\"\",Blad1!Q1148)","v":""}]
[{"$f":"IF(Blad1!D1149=\"\",\"\",Blad1!D1149)","v":""},{"$f":"IF(Blad1!E1149=\"\",\"\",Blad1!E1149)","v":""},{"$f":"IF(Blad1!B1149=\"\",\"\",Blad1!B1149)","v":""},{"$f":"IF(Blad1!H1149=\"\",\"\",Blad1!H1149)","v":""},{"$f":"IF(Blad1!I1149=\"\",\"\",Blad1!I1149)","v":""},{"$f":"IF(Blad1!M1149=\"\",\"\",Blad1!M1149)","v":""},{"$f":"IF(Blad1!F1149=\"\",\"\",Blad1!F1149)","v":""},{"$f":"IF(Blad1!Q1149=\"\",\"\",Blad1!Q1149)","v":""}]
[{"$f":"IF(Blad1!D1150=\"\",\"\",Blad1!D1150)","v":""},{"$f":"IF(Blad1!E1150=\"\",\"\",Blad1!E1150)","v":""},{"$f":"IF(Blad1!B1150=\"\",\"\",Blad1!B1150)","v":""},{"$f":"IF(Blad1!H1150=\"\",\"\",Blad1!H1150)","v":""},{"$f":"IF(Blad1!I1150=\"\",\"\",Blad1!I1150)","v":""},{"$f":"IF(Blad1!M1150=\"\",\"\",Blad1!M1150)","v":""},{"$f":"IF(Blad1!F1150=\"\",\"\",Blad1!F1150)","v":""},{"$f":"IF(Blad1!Q1150=\"\",\"\",Blad1!Q1150)","v":""}]
[{"$f":"IF(Blad1!D1151=\"\",\"\",Blad1!D1151)","v":""},{"$f":"IF(Blad1!E1151=\"\",\"\",Blad1!E1151)","v":""},{"$f":"IF(Blad1!B1151=\"\",\"\",Blad1!B1151)","v":""},{"$f":"IF(Blad1!H1151=\"\",\"\",Blad1!H1151)","v":""},{"$f":"IF(Blad1!I1151=\"\",\"\",Blad1!I1151)","v":""},{"$f":"IF(Blad1!M1151=\"\",\"\",Blad1!M1151)","v":""},{"$f":"IF(Blad1!F1151=\"\",\"\",Blad1!F1151)","v":""},{"$f":"IF(Blad1!Q1151=\"\",\"\",Blad1!Q1151)","v":""}]
[{"$f":"IF(Blad1!D1152=\"\",\"\",Blad1!D1152)","v":""},{"$f":"IF(Blad1!E1152=\"\",\"\",Blad1!E1152)","v":""},{"$f":"IF(Blad1!B1152=\"\",\"\",Blad1!B1152)","v":""},{"$f":"IF(Blad1!H1152=\"\",\"\",Blad1!H1152)","v":""},{"$f":"IF(Blad1!I1152=\"\",\"\",Blad1!I1152)","v":""},{"$f":"IF(Blad1!M1152=\"\",\"\",Blad1!M1152)","v":""},{"$f":"IF(Blad1!F1152=\"\",\"\",Blad1!F1152)","v":""},{"$f":"IF(Blad1!Q1152=\"\",\"\",Blad1!Q1152)","v":""}]
[{"$f":"IF(Blad1!D1153=\"\",\"\",Blad1!D1153)","v":""},{"$f":"IF(Blad1!E1153=\"\",\"\",Blad1!E1153)","v":""},{"$f":"IF(Blad1!B1153=\"\",\"\",Blad1!B1153)","v":""},{"$f":"IF(Blad1!H1153=\"\",\"\",Blad1!H1153)","v":""},{"$f":"IF(Blad1!I1153=\"\",\"\",Blad1!I1153)","v":""},{"$f":"IF(Blad1!M1153=\"\",\"\",Blad1!M1153)","v":""},{"$f":"IF(Blad1!F1153=\"\",\"\",Blad1!F1153)","v":""},{"$f":"IF(Blad1!Q1153=\"\",\"\",Blad1!Q1153)","v":""}]
[{"$f":"IF(Blad1!D1154=\"\",\"\",Blad1!D1154)","v":""},{"$f":"IF(Blad1!E1154=\"\",\"\",Blad1!E1154)","v":""},{"$f":"IF(Blad1!B1154=\"\",\"\",Blad1!B1154)","v":""},{"$f":"IF(Blad1!H1154=\"\",\"\",Blad1!H1154)","v":""},{"$f":"IF(Blad1!I1154=\"\",\"\",Blad1!I1154)","v":""},{"$f":"IF(Blad1!M1154=\"\",\"\",Blad1!M1154)","v":""},{"$f":"IF(Blad1!F1154=\"\",\"\",Blad1!F1154)","v":""},{"$f":"IF(Blad1!Q1154=\"\",\"\",Blad1!Q1154)","v":""}]
[{"$f":"IF(Blad1!D1155=\"\",\"\",Blad1!D1155)","v":""},{"$f":"IF(Blad1!E1155=\"\",\"\",Blad1!E1155)","v":""},{"$f":"IF(Blad1!B1155=\"\",\"\",Blad1!B1155)","v":""},{"$f":"IF(Blad1!H1155=\"\",\"\",Blad1!H1155)","v":""},{"$f":"IF(Blad1!I1155=\"\",\"\",Blad1!I1155)","v":""},{"$f":"IF(Blad1!M1155=\"\",\"\",Blad1!M1155)","v":""},{"$f":"IF(Blad1!F1155=\"\",\"\",Blad1!F1155)","v":""},{"$f":"IF(Blad1!Q1155=\"\",\"\",Blad1!Q1155)","v":""}]
[{"$f":"IF(Blad1!D1156=\"\",\"\",Blad1!D1156)","v":""},{"$f":"IF(Blad1!E1156=\"\",\"\",Blad1!E1156)","v":""},{"$f":"IF(Blad1!B1156=\"\",\"\",Blad1!B1156)","v":""},{"$f":"IF(Blad1!H1156=\"\",\"\",Blad1!H1156)","v":""},{"$f":"IF(Blad1!I1156=\"\",\"\",Blad1!I1156)","v":""},{"$f":"IF(Blad1!M1156=\"\",\"\",Blad1!M1156)","v":""},{"$f":"IF(Blad1!F1156=\"\",\"\",Blad1!F1156)","v":""},{"$f":"IF(Blad1!Q1156=\"\",\"\",Blad1!Q1156)","v":""}]
[{"$f":"IF(Blad1!D1157=\"\",\"\",Blad1!D1157)","v":""},{"$f":"IF(Blad1!E1157=\"\",\"\",Blad1!E1157)","v":""},{"$f":"IF(Blad1!B1157=\"\",\"\",Blad1!B1157)","v":""},{"$f":"IF(Blad1!H1157=\"\",\"\",Blad1!H1157)","v":""},{"$f":"IF(Blad1!I1157=\"\",\"\",Blad1!I1157)","v":""},{"$f":"IF(Blad1!M1157=\"\",\"\",Blad1!M1157)","v":""},{"$f":"IF(Blad1!F1157=\"\",\"\",Blad1!F1157)","v":""},{"$f":"IF(Blad1!Q1157=\"\",\"\",Blad1!Q1157)","v":""}]
[{"$f":"IF(Blad1!D1158=\"\",\"\",Blad1!D1158)","v":""},{"$f":"IF(Blad1!E1158=\"\",\"\",Blad1!E1158)","v":""},{"$f":"IF(Blad1!B1158=\"\",\"\",Blad1!B1158)","v":""},{"$f":"IF(Blad1!H1158=\"\",\"\",Blad1!H1158)","v":""},{"$f":"IF(Blad1!I1158=\"\",\"\",Blad1!I1158)","v":""},{"$f":"IF(Blad1!M1158=\"\",\"\",Blad1!M1158)","v":""},{"$f":"IF(Blad1!F1158=\"\",\"\",Blad1!F1158)","v":""},{"$f":"IF(Blad1!Q1158=\"\",\"\",Blad1!Q1158)","v":""}]
[{"$f":"IF(Blad1!D1159=\"\",\"\",Blad1!D1159)","v":""},{"$f":"IF(Blad1!E1159=\"\",\"\",Blad1!E1159)","v":""},{"$f":"IF(Blad1!B1159=\"\",\"\",Blad1!B1159)","v":""},{"$f":"IF(Blad1!H1159=\"\",\"\",Blad1!H1159)","v":""},{"$f":"IF(Blad1!I1159=\"\",\"\",Blad1!I1159)","v":""},{"$f":"IF(Blad1!M1159=\"\",\"\",Blad1!M1159)","v":""},{"$f":"IF(Blad1!F1159=\"\",\"\",Blad1!F1159)","v":""},{"$f":"IF(Blad1!Q1159=\"\",\"\",Blad1!Q1159)","v":""}]
[{"$f":"IF(Blad1!D1160=\"\",\"\",Blad1!D1160)","v":""},{"$f":"IF(Blad1!E1160=\"\",\"\",Blad1!E1160)","v":""},{"$f":"IF(Blad1!B1160=\"\",\"\",Blad1!B1160)","v":""},{"$f":"IF(Blad1!H1160=\"\",\"\",Blad1!H1160)","v":""},{"$f":"IF(Blad1!I1160=\"\",\"\",Blad1!I1160)","v":""},{"$f":"IF(Blad1!M1160=\"\",\"\",Blad1!M1160)","v":""},{"$f":"IF(Blad1!F1160=\"\",\"\",Blad1!F1160)","v":""},{"$f":"IF(Blad1!Q1160=\"\",\"\",Blad1!Q1160)","v":""}]
[{"$f":"IF(Blad1!D1161=\"\",\"\",Blad1!D1161)","v":""},{"$f":"IF(Blad1!E1161=\"\",\"\",Blad1!E1161)","v":""},{"$f":"IF(Blad1!B1161=\"\",\"\",Blad1!B1161)","v":""},{"$f":"IF(Blad1!H1161=\"\",\"\",Blad1!H1161)","v":""},{"$f":"IF(Blad1!I1161=\"\",\"\",Blad1!I1161)","v":""},{"$f":"IF(Blad1!M1161=\"\",\"\",Blad1!M1161)","v":""},{"$f":"IF(Blad1!F1161=\"\",\"\",Blad1!F1161)","v":""},{"$f":"IF(Blad1!Q1161=\"\",\"\",Blad1!Q1161)","v":""}]
[{"$f":"IF(Blad1!D1162=\"\",\"\",Blad1!D1162)","v":""},{"$f":"IF(Blad1!E1162=\"\",\"\",Blad1!E1162)","v":""},{"$f":"IF(Blad1!B1162=\"\",\"\",Blad1!B1162)","v":""},{"$f":"IF(Blad1!H1162=\"\",\"\",Blad1!H1162)","v":""},{"$f":"IF(Blad1!I1162=\"\",\"\",Blad1!I1162)","v":""},{"$f":"IF(Blad1!M1162=\"\",\"\",Blad1!M1162)","v":""},{"$f":"IF(Blad1!F1162=\"\",\"\",Blad1!F1162)","v":""},{"$f":"IF(Blad1!Q1162=\"\",\"\",Blad1!Q1162)","v":""}]
[{"$f":"IF(Blad1!D1163=\"\",\"\",Blad1!D1163)","v":""},{"$f":"IF(Blad1!E1163=\"\",\"\",Blad1!E1163)","v":""},{"$f":"IF(Blad1!B1163=\"\",\"\",Blad1!B1163)","v":""},{"$f":"IF(Blad1!H1163=\"\",\"\",Blad1!H1163)","v":""},{"$f":"IF(Blad1!I1163=\"\",\"\",Blad1!I1163)","v":""},{"$f":"IF(Blad1!M1163=\"\",\"\",Blad1!M1163)","v":""},{"$f":"IF(Blad1!F1163=\"\",\"\",Blad1!F1163)","v":""},{"$f":"IF(Blad1!Q1163=\"\",\"\",Blad1!Q1163)","v":""}]
[{"$f":"IF(Blad1!D1164=\"\",\"\",Blad1!D1164)","v":""},{"$f":"IF(Blad1!E1164=\"\",\"\",Blad1!E1164)","v":""},{"$f":"IF(Blad1!B1164=\"\",\"\",Blad1!B1164)","v":""},{"$f":"IF(Blad1!H1164=\"\",\"\",Blad1!H1164)","v":""},{"$f":"IF(Blad1!I1164=\"\",\"\",Blad1!I1164)","v":""},{"$f":"IF(Blad1!M1164=\"\",\"\",Blad1!M1164)","v":""},{"$f":"IF(Blad1!F1164=\"\",\"\",Blad1!F1164)","v":""},{"$f":"IF(Blad1!Q1164=\"\",\"\",Blad1!Q1164)","v":""}]
[{"$f":"IF(Blad1!D1165=\"\",\"\",Blad1!D1165)","v":""},{"$f":"IF(Blad1!E1165=\"\",\"\",Blad1!E1165)","v":""},{"$f":"IF(Blad1!B1165=\"\",\"\",Blad1!B1165)","v":""},{"$f":"IF(Blad1!H1165=\"\",\"\",Blad1!H1165)","v":""},{"$f":"IF(Blad1!I1165=\"\",\"\",Blad1!I1165)","v":""},{"$f":"IF(Blad1!M1165=\"\",\"\",Blad1!M1165)","v":""},{"$f":"IF(Blad1!F1165=\"\",\"\",Blad1!F1165)","v":""},{"$f":"IF(Blad1!Q1165=\"\",\"\",Blad1!Q1165)","v":""}]
[{"$f":"IF(Blad1!D1166=\"\",\"\",Blad1!D1166)","v":""},{"$f":"IF(Blad1!E1166=\"\",\"\",Blad1!E1166)","v":""},{"$f":"IF(Blad1!B1166=\"\",\"\",Blad1!B1166)","v":""},{"$f":"IF(Blad1!H1166=\"\",\"\",Blad1!H1166)","v":""},{"$f":"IF(Blad1!I1166=\"\",\"\",Blad1!I1166)","v":""},{"$f":"IF(Blad1!M1166=\"\",\"\",Blad1!M1166)","v":""},{"$f":"IF(Blad1!F1166=\"\",\"\",Blad1!F1166)","v":""},{"$f":"IF(Blad1!Q1166=\"\",\"\",Blad1!Q1166)","v":""}]
[{"$f":"IF(Blad1!D1167=\"\",\"\",Blad1!D1167)","v":""},{"$f":"IF(Blad1!E1167=\"\",\"\",Blad1!E1167)","v":""},{"$f":"IF(Blad1!B1167=\"\",\"\",Blad1!B1167)","v":""},{"$f":"IF(Blad1!H1167=\"\",\"\",Blad1!H1167)","v":""},{"$f":"IF(Blad1!I1167=\"\",\"\",Blad1!I1167)","v":""},{"$f":"IF(Blad1!M1167=\"\",\"\",Blad1!M1167)","v":""},{"$f":"IF(Blad1!F1167=\"\",\"\",Blad1!F1167)","v":""},{"$f":"IF(Blad1!Q1167=\"\",\"\",Blad1!Q1167)","v":""}]
[{"$f":"IF(Blad1!D1168=\"\",\"\",Blad1!D1168)","v":""},{"$f":"IF(Blad1!E1168=\"\",\"\",Blad1!E1168)","v":""},{"$f":"IF(Blad1!B1168=\"\",\"\",Blad1!B1168)","v":""},{"$f":"IF(Blad1!H1168=\"\",\"\",Blad1!H1168)","v":""},{"$f":"IF(Blad1!I1168=\"\",\"\",Blad1!I1168)","v":""},{"$f":"IF(Blad1!M1168=\"\",\"\",Blad1!M1168)","v":""},{"$f":"IF(Blad1!F1168=\"\",\"\",Blad1!F1168)","v":""},{"$f":"IF(Blad1!Q1168=\"\",\"\",Blad1!Q1168)","v":""}]
[{"$f":"IF(Blad1!D1169=\"\",\"\",Blad1!D1169)","v":""},{"$f":"IF(Blad1!E1169=\"\",\"\",Blad1!E1169)","v":""},{"$f":"IF(Blad1!B1169=\"\",\"\",Blad1!B1169)","v":""},{"$f":"IF(Blad1!H1169=\"\",\"\",Blad1!H1169)","v":""},{"$f":"IF(Blad1!I1169=\"\",\"\",Blad1!I1169)","v":""},{"$f":"IF(Blad1!M1169=\"\",\"\",Blad1!M1169)","v":""},{"$f":"IF(Blad1!F1169=\"\",\"\",Blad1!F1169)","v":""},{"$f":"IF(Blad1!Q1169=\"\",\"\",Blad1!Q1169)","v":""}]
[{"$f":"IF(Blad1!D1170=\"\",\"\",Blad1!D1170)","v":""},{"$f":"IF(Blad1!E1170=\"\",\"\",Blad1!E1170)","v":""},{"$f":"IF(Blad1!B1170=\"\",\"\",Blad1!B1170)","v":""},{"$f":"IF(Blad1!H1170=\"\",\"\",Blad1!H1170)","v":""},{"$f":"IF(Blad1!I1170=\"\",\"\",Blad1!I1170)","v":""},{"$f":"IF(Blad1!M1170=\"\",\"\",Blad1!M1170)","v":""},{"$f":"IF(Blad1!F1170=\"\",\"\",Blad1!F1170)","v":""},{"$f":"IF(Blad1!Q1170=\"\",\"\",Blad1!Q1170)","v":""}]
[{"$f":"IF(Blad1!D1171=\"\",\"\",Blad1!D1171)","v":""},{"$f":"IF(Blad1!E1171=\"\",\"\",Blad1!E1171)","v":""},{"$f":"IF(Blad1!B1171=\"\",\"\",Blad1!B1171)","v":""},{"$f":"IF(Blad1!H1171=\"\",\"\",Blad1!H1171)","v":""},{"$f":"IF(Blad1!I1171=\"\",\"\",Blad1!I1171)","v":""},{"$f":"IF(Blad1!M1171=\"\",\"\",Blad1!M1171)","v":""},{"$f":"IF(Blad1!F1171=\"\",\"\",Blad1!F1171)","v":""},{"$f":"IF(Blad1!Q1171=\"\",\"\",Blad1!Q1171)","v":""}]
[{"$f":"IF(Blad1!D1172=\"\",\"\",Blad1!D1172)","v":""},{"$f":"IF(Blad1!E1172=\"\",\"\",Blad1!E1172)","v":""},{"$f":"IF(Blad1!B1172=\"\",\"\",Blad1!B1172)","v":""},{"$f":"IF(Blad1!H1172=\"\",\"\",Blad1!H1172)","v":""},{"$f":"IF(Blad1!I1172=\"\",\"\",Blad1!I1172)","v":""},{"$f":"IF(Blad1!M1172=\"\",\"\",Blad1!M1172)","v":""},{"$f":"IF(Blad1!F1172=\"\",\"\",Blad1!F1172)","v":""},{"$f":"IF(Blad1!Q1172=\"\",\"\",Blad1!Q1172)","v":""}]
[{"$f":"IF(Blad1!D1173=\"\",\"\",Blad1!D1173)","v":""},{"$f":"IF(Blad1!E1173=\"\",\"\",Blad1!E1173)","v":""},{"$f":"IF(Blad1!B1173=\"\",\"\",Blad1!B1173)","v":""},{"$f":"IF(Blad1!H1173=\"\",\"\",Blad1!H1173)","v":""},{"$f":"IF(Blad1!I1173=\"\",\"\",Blad1!I1173)","v":""},{"$f":"IF(Blad1!M1173=\"\",\"\",Blad1!M1173)","v":""},{"$f":"IF(Blad1!F1173=\"\",\"\",Blad1!F1173)","v":""},{"$f":"IF(Blad1!Q1173=\"\",\"\",Blad1!Q1173)","v":""}]
[{"$f":"IF(Blad1!D1174=\"\",\"\",Blad1!D1174)","v":""},{"$f":"IF(Blad1!E1174=\"\",\"\",Blad1!E1174)","v":""},{"$f":"IF(Blad1!B1174=\"\",\"\",Blad1!B1174)","v":""},{"$f":"IF(Blad1!H1174=\"\",\"\",Blad1!H1174)","v":""},{"$f":"IF(Blad1!I1174=\"\",\"\",Blad1!I1174)","v":""},{"$f":"IF(Blad1!M1174=\"\",\"\",Blad1!M1174)","v":""},{"$f":"IF(Blad1!F1174=\"\",\"\",Blad1!F1174)","v":""},{"$f":"IF(Blad1!Q1174=\"\",\"\",Blad1!Q1174)","v":""}]
[{"$f":"IF(Blad1!D1175=\"\",\"\",Blad1!D1175)","v":""},{"$f":"IF(Blad1!E1175=\"\",\"\",Blad1!E1175)","v":""},{"$f":"IF(Blad1!B1175=\"\",\"\",Blad1!B1175)","v":""},{"$f":"IF(Blad1!H1175=\"\",\"\",Blad1!H1175)","v":""},{"$f":"IF(Blad1!I1175=\"\",\"\",Blad1!I1175)","v":""},{"$f":"IF(Blad1!M1175=\"\",\"\",Blad1!M1175)","v":""},{"$f":"IF(Blad1!F1175=\"\",\"\",Blad1!F1175)","v":""},{"$f":"IF(Blad1!Q1175=\"\",\"\",Blad1!Q1175)","v":""}]
[{"$f":"IF(Blad1!D1176=\"\",\"\",Blad1!D1176)","v":""},{"$f":"IF(Blad1!E1176=\"\",\"\",Blad1!E1176)","v":""},{"$f":"IF(Blad1!B1176=\"\",\"\",Blad1!B1176)","v":""},{"$f":"IF(Blad1!H1176=\"\",\"\",Blad1!H1176)","v":""},{"$f":"IF(Blad1!I1176=\"\",\"\",Blad1!I1176)","v":""},{"$f":"IF(Blad1!M1176=\"\",\"\",Blad1!M1176)","v":""},{"$f":"IF(Blad1!F1176=\"\",\"\",Blad1!F1176)","v":""},{"$f":"IF(Blad1!Q1176=\"\",\"\",Blad1!Q1176)","v":""}]
[{"$f":"IF(Blad1!D1177=\"\",\"\",Blad1!D1177)","v":""},{"$f":"IF(Blad1!E1177=\"\",\"\",Blad1!E1177)","v":""},{"$f":"IF(Blad1!B1177=\"\",\"\",Blad1!B1177)","v":""},{"$f":"IF(Blad1!H1177=\"\",\"\",Blad1!H1177)","v":""},{"$f":"IF(Blad1!I1177=\"\",\"\",Blad1!I1177)","v":""},{"$f":"IF(Blad1!M1177=\"\",\"\",Blad1!M1177)","v":""},{"$f":"IF(Blad1!F1177=\"\",\"\",Blad1!F1177)","v":""},{"$f":"IF(Blad1!Q1177=\"\",\"\",Blad1!Q1177)","v":""}]
[{"$f":"IF(Blad1!D1178=\"\",\"\",Blad1!D1178)","v":""},{"$f":"IF(Blad1!E1178=\"\",\"\",Blad1!E1178)","v":""},{"$f":"IF(Blad1!B1178=\"\",\"\",Blad1!B1178)","v":""},{"$f":"IF(Blad1!H1178=\"\",\"\",Blad1!H1178)","v":""},{"$f":"IF(Blad1!I1178=\"\",\"\",Blad1!I1178)","v":""},{"$f":"IF(Blad1!M1178=\"\",\"\",Blad1!M1178)","v":""},{"$f":"IF(Blad1!F1178=\"\",\"\",Blad1!F1178)","v":""},{"$f":"IF(Blad1!Q1178=\"\",\"\",Blad1!Q1178)","v":""}]
[{"$f":"IF(Blad1!D1179=\"\",\"\",Blad1!D1179)","v":""},{"$f":"IF(Blad1!E1179=\"\",\"\",Blad1!E1179)","v":""},{"$f":"IF(Blad1!B1179=\"\",\"\",Blad1!B1179)","v":""},{"$f":"IF(Blad1!H1179=\"\",\"\",Blad1!H1179)","v":""},{"$f":"IF(Blad1!I1179=\"\",\"\",Blad1!I1179)","v":""},{"$f":"IF(Blad1!M1179=\"\",\"\",Blad1!M1179)","v":""},{"$f":"IF(Blad1!F1179=\"\",\"\",Blad1!F1179)","v":""},{"$f":"IF(Blad1!Q1179=\"\",\"\",Blad1!Q1179)","v":""}]
[{"$f":"IF(Blad1!D1180=\"\",\"\",Blad1!D1180)","v":""},{"$f":"IF(Blad1!E1180=\"\",\"\",Blad1!E1180)","v":""},{"$f":"IF(Blad1!B1180=\"\",\"\",Blad1!B1180)","v":""},{"$f":"IF(Blad1!H1180=\"\",\"\",Blad1!H1180)","v":""},{"$f":"IF(Blad1!I1180=\"\",\"\",Blad1!I1180)","v":""},{"$f":"IF(Blad1!M1180=\"\",\"\",Blad1!M1180)","v":""},{"$f":"IF(Blad1!F1180=\"\",\"\",Blad1!F1180)","v":""},{"$f":"IF(Blad1!Q1180=\"\",\"\",Blad1!Q1180)","v":""}]
[{"$f":"IF(Blad1!D1181=\"\",\"\",Blad1!D1181)","v":""},{"$f":"IF(Blad1!E1181=\"\",\"\",Blad1!E1181)","v":""},{"$f":"IF(Blad1!B1181=\"\",\"\",Blad1!B1181)","v":""},{"$f":"IF(Blad1!H1181=\"\",\"\",Blad1!H1181)","v":""},{"$f":"IF(Blad1!I1181=\"\",\"\",Blad1!I1181)","v":""},{"$f":"IF(Blad1!M1181=\"\",\"\",Blad1!M1181)","v":""},{"$f":"IF(Blad1!F1181=\"\",\"\",Blad1!F1181)","v":""},{"$f":"IF(Blad1!Q1181=\"\",\"\",Blad1!Q1181)","v":""}]
[{"$f":"IF(Blad1!D1182=\"\",\"\",Blad1!D1182)","v":""},{"$f":"IF(Blad1!E1182=\"\",\"\",Blad1!E1182)","v":""},{"$f":"IF(Blad1!B1182=\"\",\"\",Blad1!B1182)","v":""},{"$f":"IF(Blad1!H1182=\"\",\"\",Blad1!H1182)","v":""},{"$f":"IF(Blad1!I1182=\"\",\"\",Blad1!I1182)","v":""},{"$f":"IF(Blad1!M1182=\"\",\"\",Blad1!M1182)","v":""},{"$f":"IF(Blad1!F1182=\"\",\"\",Blad1!F1182)","v":""},{"$f":"IF(Blad1!Q1182=\"\",\"\",Blad1!Q1182)","v":""}]
[{"$f":"IF(Blad1!D1183=\"\",\"\",Blad1!D1183)","v":""},{"$f":"IF(Blad1!E1183=\"\",\"\",Blad1!E1183)","v":""},{"$f":"IF(Blad1!B1183=\"\",\"\",Blad1!B1183)","v":""},{"$f":"IF(Blad1!H1183=\"\",\"\",Blad1!H1183)","v":""},{"$f":"IF(Blad1!I1183=\"\",\"\",Blad1!I1183)","v":""},{"$f":"IF(Blad1!M1183=\"\",\"\",Blad1!M1183)","v":""},{"$f":"IF(Blad1!F1183=\"\",\"\",Blad1!F1183)","v":""},{"$f":"IF(Blad1!Q1183=\"\",\"\",Blad1!Q1183)","v":""}]
[{"$f":"IF(Blad1!D1184=\"\",\"\",Blad1!D1184)","v":""},{"$f":"IF(Blad1!E1184=\"\",\"\",Blad1!E1184)","v":""},{"$f":"IF(Blad1!B1184=\"\",\"\",Blad1!B1184)","v":""},{"$f":"IF(Blad1!H1184=\"\",\"\",Blad1!H1184)","v":""},{"$f":"IF(Blad1!I1184=\"\",\"\",Blad1!I1184)","v":""},{"$f":"IF(Blad1!M1184=\"\",\"\",Blad1!M1184)","v":""},{"$f":"IF(Blad1!F1184=\"\",\"\",Blad1!F1184)","v":""},{"$f":"IF(Blad1!Q1184=\"\",\"\",Blad1!Q1184)","v":""}]
[{"$f":"IF(Blad1!D1185=\"\",\"\",Blad1!D1185)","v":""},{"$f":"IF(Blad1!E1185=\"\",\"\",Blad1!E1185)","v":""},{"$f":"IF(Blad1!B1185=\"\",\"\",Blad1!B1185)","v":""},{"$f":"IF(Blad1!H1185=\"\",\"\",Blad1!H1185)","v":""},{"$f":"IF(Blad1!I1185=\"\",\"\",Blad1!I1185)","v":""},{"$f":"IF(Blad1!M1185=\"\",\"\",Blad1!M1185)","v":""},{"$f":"IF(Blad1!F1185=\"\",\"\",Blad1!F1185)","v":""},{"$f":"IF(Blad1!Q1185=\"\",\"\",Blad1!Q1185)","v":""}]
[{"$f":"IF(Blad1!D1186=\"\",\"\",Blad1!D1186)","v":""},{"$f":"IF(Blad1!E1186=\"\",\"\",Blad1!E1186)","v":""},{"$f":"IF(Blad1!B1186=\"\",\"\",Blad1!B1186)","v":""},{"$f":"IF(Blad1!H1186=\"\",\"\",Blad1!H1186)","v":""},{"$f":"IF(Blad1!I1186=\"\",\"\",Blad1!I1186)","v":""},{"$f":"IF(Blad1!M1186=\"\",\"\",Blad1!M1186)","v":""},{"$f":"IF(Blad1!F1186=\"\",\"\",Blad1!F1186)","v":""},{"$f":"IF(Blad1!Q1186=\"\",\"\",Blad1!Q1186)","v":""}]
[{"$f":"IF(Blad1!D1187=\"\",\"\",Blad1!D1187)","v":""},{"$f":"IF(Blad1!E1187=\"\",\"\",Blad1!E1187)","v":""},{"$f":"IF(Blad1!B1187=\"\",\"\",Blad1!B1187)","v":""},{"$f":"IF(Blad1!H1187=\"\",\"\",Blad1!H1187)","v":""},{"$f":"IF(Blad1!I1187=\"\",\"\",Blad1!I1187)","v":""},{"$f":"IF(Blad1!M1187=\"\",\"\",Blad1!M1187)","v":""},{"$f":"IF(Blad1!F1187=\"\",\"\",Blad1!F1187)","v":""},{"$f":"IF(Blad1!Q1187=\"\",\"\",Blad1!Q1187)","v":""}]
[{"$f":"IF(Blad1!D1188=\"\",\"\",Blad1!D1188)","v":""},{"$f":"IF(Blad1!E1188=\"\",\"\",Blad1!E1188)","v":""},{"$f":"IF(Blad1!B1188=\"\",\"\",Blad1!B1188)","v":""},{"$f":"IF(Blad1!H1188=\"\",\"\",Blad1!H1188)","v":""},{"$f":"IF(Blad1!I1188=\"\",\"\",Blad1!I1188)","v":""},{"$f":"IF(Blad1!M1188=\"\",\"\",Blad1!M1188)","v":""},{"$f":"IF(Blad1!F1188=\"\",\"\",Blad1!F1188)","v":""},{"$f":"IF(Blad1!Q1188=\"\",\"\",Blad1!Q1188)","v":""}]
[{"$f":"IF(Blad1!D1189=\"\",\"\",Blad1!D1189)","v":""},{"$f":"IF(Blad1!E1189=\"\",\"\",Blad1!E1189)","v":""},{"$f":"IF(Blad1!B1189=\"\",\"\",Blad1!B1189)","v":""},{"$f":"IF(Blad1!H1189=\"\",\"\",Blad1!H1189)","v":""},{"$f":"IF(Blad1!I1189=\"\",\"\",Blad1!I1189)","v":""},{"$f":"IF(Blad1!M1189=\"\",\"\",Blad1!M1189)","v":""},{"$f":"IF(Blad1!F1189=\"\",\"\",Blad1!F1189)","v":""},{"$f":"IF(Blad1!Q1189=\"\",\"\",Blad1!Q1189)","v":""}]
[{"$f":"IF(Blad1!D1190=\"\",\"\",Blad1!D1190)","v":""},{"$f":"IF(Blad1!E1190=\"\",\"\",Blad1!E1190)","v":""},{"$f":"IF(Blad1!B1190=\"\",\"\",Blad1!B1190)","v":""},{"$f":"IF(Blad1!H1190=\"\",\"\",Blad1!H1190)","v":""},{"$f":"IF(Blad1!I1190=\"\",\"\",Blad1!I1190)","v":""},{"$f":"IF(Blad1!M1190=\"\",\"\",Blad1!M1190)","v":""},{"$f":"IF(Blad1!F1190=\"\",\"\",Blad1!F1190)","v":""},{"$f":"IF(Blad1!Q1190=\"\",\"\",Blad1!Q1190)","v":""}]
[{"$f":"IF(Blad1!D1191=\"\",\"\",Blad1!D1191)","v":""},{"$f":"IF(Blad1!E1191=\"\",\"\",Blad1!E1191)","v":""},{"$f":"IF(Blad1!B1191=\"\",\"\",Blad1!B1191)","v":""},{"$f":"IF(Blad1!H1191=\"\",\"\",Blad1!H1191)","v":""},{"$f":"IF(Blad1!I1191=\"\",\"\",Blad1!I1191)","v":""},{"$f":"IF(Blad1!M1191=\"\",\"\",Blad1!M1191)","v":""},{"$f":"IF(Blad1!F1191=\"\",\"\",Blad1!F1191)","v":""},{"$f":"IF(Blad1!Q1191=\"\",\"\",Blad1!Q1191)","v":""}]
[{"$f":"IF(Blad1!D1192=\"\",\"\",Blad1!D1192)","v":""},{"$f":"IF(Blad1!E1192=\"\",\"\",Blad1!E1192)","v":""},{"$f":"IF(Blad1!B1192=\"\",\"\",Blad1!B1192)","v":""},{"$f":"IF(Blad1!H1192=\"\",\"\",Blad1!H1192)","v":""},{"$f":"IF(Blad1!I1192=\"\",\"\",Blad1!I1192)","v":""},{"$f":"IF(Blad1!M1192=\"\",\"\",Blad1!M1192)","v":""},{"$f":"IF(Blad1!F1192=\"\",\"\",Blad1!F1192)","v":""},{"$f":"IF(Blad1!Q1192=\"\",\"\",Blad1!Q1192)","v":""}]
[{"$f":"IF(Blad1!D1193=\"\",\"\",Blad1!D1193)","v":""},{"$f":"IF(Blad1!E1193=\"\",\"\",Blad1!E1193)","v":""},{"$f":"IF(Blad1!B1193=\"\",\"\",Blad1!B1193)","v":""},{"$f":"IF(Blad1!H1193=\"\",\"\",Blad1!H1193)","v":""},{"$f":"IF(Blad1!I1193=\"\",\"\",Blad1!I1193)","v":""},{"$f":"IF(Blad1!M1193=\"\",\"\",Blad1!M1193)","v":""},{"$f":"IF(Blad1!F1193=\"\",\"\",Blad1!F1193)","v":""},{"$f":"IF(Blad1!Q1193=\"\",\"\",Blad1!Q1193)","v":""}]
[{"$f":"IF(Blad1!D1194=\"\",\"\",Blad1!D1194)","v":""},{"$f":"IF(Blad1!E1194=\"\",\"\",Blad1!E1194)","v":""},{"$f":"IF(Blad1!B1194=\"\",\"\",Blad1!B1194)","v":""},{"$f":"IF(Blad1!H1194=\"\",\"\",Blad1!H1194)","v":""},{"$f":"IF(Blad1!I1194=\"\",\"\",Blad1!I1194)","v":""},{"$f":"IF(Blad1!M1194=\"\",\"\",Blad1!M1194)","v":""},{"$f":"IF(Blad1!F1194=\"\",\"\",Blad1!F1194)","v":""},{"$f":"IF(Blad1!Q1194=\"\",\"\",Blad1!Q1194)","v":""}]
[{"$f":"IF(Blad1!D1195=\"\",\"\",Blad1!D1195)","v":""},{"$f":"IF(Blad1!E1195=\"\",\"\",Blad1!E1195)","v":""},{"$f":"IF(Blad1!B1195=\"\",\"\",Blad1!B1195)","v":""},{"$f":"IF(Blad1!H1195=\"\",\"\",Blad1!H1195)","v":""},{"$f":"IF(Blad1!I1195=\"\",\"\",Blad1!I1195)","v":""},{"$f":"IF(Blad1!M1195=\"\",\"\",Blad1!M1195)","v":""},{"$f":"IF(Blad1!F1195=\"\",\"\",Blad1!F1195)","v":""},{"$f":"IF(Blad1!Q1195=\"\",\"\",Blad1!Q1195)","v":""}]
[{"$f":"IF(Blad1!D1196=\"\",\"\",Blad1!D1196)","v":""},{"$f":"IF(Blad1!E1196=\"\",\"\",Blad1!E1196)","v":""},{"$f":"IF(Blad1!B1196=\"\",\"\",Blad1!B1196)","v":""},{"$f":"IF(Blad1!H1196=\"\",\"\",Blad1!H1196)","v":""},{"$f":"IF(Blad1!I1196=\"\",\"\",Blad1!I1196)","v":""},{"$f":"IF(Blad1!M1196=\"\",\"\",Blad1!M1196)","v":""},{"$f":"IF(Blad1!F1196=\"\",\"\",Blad1!F1196)","v":""},{"$f":"IF(Blad1!Q1196=\"\",\"\",Blad1!Q1196)","v":""}]
[{"$f":"IF(Blad1!D1197=\"\",\"\",Blad1!D1197)","v":""},{"$f":"IF(Blad1!E1197=\"\",\"\",Blad1!E1197)","v":""},{"$f":"IF(Blad1!B1197=\"\",\"\",Blad1!B1197)","v":""},{"$f":"IF(Blad1!H1197=\"\",\"\",Blad1!H1197)","v":""},{"$f":"IF(Blad1!I1197=\"\",\"\",Blad1!I1197)","v":""},{"$f":"IF(Blad1!M1197=\"\",\"\",Blad1!M1197)","v":""},{"$f":"IF(Blad1!F1197=\"\",\"\",Blad1!F1197)","v":""},{"$f":"IF(Blad1!Q1197=\"\",\"\",Blad1!Q1197)","v":""}]
[{"$f":"IF(Blad1!D1198=\"\",\"\",Blad1!D1198)","v":""},{"$f":"IF(Blad1!E1198=\"\",\"\",Blad1!E1198)","v":""},{"$f":"IF(Blad1!B1198=\"\",\"\",Blad1!B1198)","v":""},{"$f":"IF(Blad1!H1198=\"\",\"\",Blad1!H1198)","v":""},{"$f":"IF(Blad1!I1198=\"\",\"\",Blad1!I1198)","v":""},{"$f":"IF(Blad1!M1198=\"\",\"\",Blad1!M1198)","v":""},{"$f":"IF(Blad1!F1198=\"\",\"\",Blad1!F1198)","v":""},{"$f":"IF(Blad1!Q1198=\"\",\"\",Blad1!Q1198)","v":""}]
[{"$f":"IF(Blad1!D1199=\"\",\"\",Blad1!D1199)","v":""},{"$f":"IF(Blad1!E1199=\"\",\"\",Blad1!E1199)","v":""},{"$f":"IF(Blad1!B1199=\"\",\"\",Blad1!B1199)","v":""},{"$f":"IF(Blad1!H1199=\"\",\"\",Blad1!H1199)","v":""},{"$f":"IF(Blad1!I1199=\"\",\"\",Blad1!I1199)","v":""},{"$f":"IF(Blad1!M1199=\"\",\"\",Blad1!M1199)","v":""},{"$f":"IF(Blad1!F1199=\"\",\"\",Blad1!F1199)","v":""},{"$f":"IF(Blad1!Q1199=\"\",\"\",Blad1!Q1199)","v":""}]
[{"$f":"IF(Blad1!D1200=\"\",\"\",Blad1!D1200)","v":""},{"$f":"IF(Blad1!E1200=\"\",\"\",Blad1!E1200)","v":""},{"$f":"IF(Blad1!B1200=\"\",\"\",Blad1!B1200)","v":""},{"$f":"IF(Blad1!H1200=\"\",\"\",Blad1!H1200)","v":""},{"$f":"IF(Blad1!I1200=\"\",\"\",Blad1!I1200)","v":""},{"$f":"IF(Blad1!M1200=\"\",\"\",Blad1!M1200)","v":""},{"$f":"IF(Blad1!F1200=\"\",\"\",Blad1!F1200)","v":""},{"$f":"IF(Blad1!Q1200=\"\",\"\",Blad1!Q1200)","v":""}]
[{"$f":"IF(Blad1!D1201=\"\",\"\",Blad1!D1201)","v":""},{"$f":"IF(Blad1!E1201=\"\",\"\",Blad1!E1201)","v":""},{"$f":"IF(Blad1!B1201=\"\",\"\",Blad1!B1201)","v":""},{"$f":"IF(Blad1!H1201=\"\",\"\",Blad1!H1201)","v":""},{"$f":"IF(Blad1!I1201=\"\",\"\",Blad1!I1201)","v":""},{"$f":"IF(Blad1!M1201=\"\",\"\",Blad1!M1201)","v":""},{"$f":"IF(Blad1!F1201=\"\",\"\",Blad1!F1201)","v":""},{"$f":"IF(Blad1!Q1201=\"\",\"\",Blad1!Q1201)","v":""}]
[{"$f":"IF(Blad1!D1202=\"\",\"\",Blad1!D1202)","v":""},{"$f":"IF(Blad1!E1202=\"\",\"\",Blad1!E1202)","v":""},{"$f":"IF(Blad1!B1202=\"\",\"\",Blad1!B1202)","v":""},{"$f":"IF(Blad1!H1202=\"\",\"\",Blad1!H1202)","v":""},{"$f":"IF(Blad1!I1202=\"\",\"\",Blad1!I1202)","v":""},{"$f":"IF(Blad1!M1202=\"\",\"\",Blad1!M1202)","v":""},{"$f":"IF(Blad1!F1202=\"\",\"\",Blad1!F1202)","v":""},{"$f":"IF(Blad1!Q1202=\"\",\"\",Blad1!Q1202)","v":""}]
[{"$f":"IF(Blad1!D1203=\"\",\"\",Blad1!D1203)","v":""},{"$f":"IF(Blad1!E1203=\"\",\"\",Blad1!E1203)","v":""},{"$f":"IF(Blad1!B1203=\"\",\"\",Blad1!B1203)","v":""},{"$f":"IF(Blad1!H1203=\"\",\"\",Blad1!H1203)","v":""},{"$f":"IF(Blad1!I1203=\"\",\"\",Blad1!I1203)","v":""},{"$f":"IF(Blad1!M1203=\"\",\"\",Blad1!M1203)","v":""},{"$f":"IF(Blad1!F1203=\"\",\"\",Blad1!F1203)","v":""},{"$f":"IF(Blad1!Q1203=\"\",\"\",Blad1!Q1203)","v":""}]
[{"$f":"IF(Blad1!D1204=\"\",\"\",Blad1!D1204)","v":""},{"$f":"IF(Blad1!E1204=\"\",\"\",Blad1!E1204)","v":""},{"$f":"IF(Blad1!B1204=\"\",\"\",Blad1!B1204)","v":""},{"$f":"IF(Blad1!H1204=\"\",\"\",Blad1!H1204)","v":""},{"$f":"IF(Blad1!I1204=\"\",\"\",Blad1!I1204)","v":""},{"$f":"IF(Blad1!M1204=\"\",\"\",Blad1!M1204)","v":""},{"$f":"IF(Blad1!F1204=\"\",\"\",Blad1!F1204)","v":""},{"$f":"IF(Blad1!Q1204=\"\",\"\",Blad1!Q1204)","v":""}]
[{"$f":"IF(Blad1!D1205=\"\",\"\",Blad1!D1205)","v":""},{"$f":"IF(Blad1!E1205=\"\",\"\",Blad1!E1205)","v":""},{"$f":"IF(Blad1!B1205=\"\",\"\",Blad1!B1205)","v":""},{"$f":"IF(Blad1!H1205=\"\",\"\",Blad1!H1205)","v":""},{"$f":"IF(Blad1!I1205=\"\",\"\",Blad1!I1205)","v":""},{"$f":"IF(Blad1!M1205=\"\",\"\",Blad1!M1205)","v":""},{"$f":"IF(Blad1!F1205=\"\",\"\",Blad1!F1205)","v":""},{"$f":"IF(Blad1!Q1205=\"\",\"\",Blad1!Q1205)","v":""}]
[{"$f":"IF(Blad1!D1206=\"\",\"\",Blad1!D1206)","v":""},{"$f":"IF(Blad1!E1206=\"\",\"\",Blad1!E1206)","v":""},{"$f":"IF(Blad1!B1206=\"\",\"\",Blad1!B1206)","v":""},{"$f":"IF(Blad1!H1206=\"\",\"\",Blad1!H1206)","v":""},{"$f":"IF(Blad1!I1206=\"\",\"\",Blad1!I1206)","v":""},{"$f":"IF(Blad1!M1206=\"\",\"\",Blad1!M1206)","v":""},{"$f":"IF(Blad1!F1206=\"\",\"\",Blad1!F1206)","v":""},{"$f":"IF(Blad1!Q1206=\"\",\"\",Blad1!Q1206)","v":""}]
[{"$f":"IF(Blad1!D1207=\"\",\"\",Blad1!D1207)","v":""},{"$f":"IF(Blad1!E1207=\"\",\"\",Blad1!E1207)","v":""},{"$f":"IF(Blad1!B1207=\"\",\"\",Blad1!B1207)","v":""},{"$f":"IF(Blad1!H1207=\"\",\"\",Blad1!H1207)","v":""},{"$f":"IF(Blad1!I1207=\"\",\"\",Blad1!I1207)","v":""},{"$f":"IF(Blad1!M1207=\"\",\"\",Blad1!M1207)","v":""},{"$f":"IF(Blad1!F1207=\"\",\"\",Blad1!F1207)","v":""},{"$f":"IF(Blad1!Q1207=\"\",\"\",Blad1!Q1207)","v":""}]
[{"$f":"IF(Blad1!D1208=\"\",\"\",Blad1!D1208)","v":""},{"$f":"IF(Blad1!E1208=\"\",\"\",Blad1!E1208)","v":""},{"$f":"IF(Blad1!B1208=\"\",\"\",Blad1!B1208)","v":""},{"$f":"IF(Blad1!H1208=\"\",\"\",Blad1!H1208)","v":""},{"$f":"IF(Blad1!I1208=\"\",\"\",Blad1!I1208)","v":""},{"$f":"IF(Blad1!M1208=\"\",\"\",Blad1!M1208)","v":""},{"$f":"IF(Blad1!F1208=\"\",\"\",Blad1!F1208)","v":""},{"$f":"IF(Blad1!Q1208=\"\",\"\",Blad1!Q1208)","v":""}]
[{"$f":"IF(Blad1!D1209=\"\",\"\",Blad1!D1209)","v":""},{"$f":"IF(Blad1!E1209=\"\",\"\",Blad1!E1209)","v":""},{"$f":"IF(Blad1!B1209=\"\",\"\",Blad1!B1209)","v":""},{"$f":"IF(Blad1!H1209=\"\",\"\",Blad1!H1209)","v":""},{"$f":"IF(Blad1!I1209=\"\",\"\",Blad1!I1209)","v":""},{"$f":"IF(Blad1!M1209=\"\",\"\",Blad1!M1209)","v":""},{"$f":"IF(Blad1!F1209=\"\",\"\",Blad1!F1209)","v":""},{"$f":"IF(Blad1!Q1209=\"\",\"\",Blad1!Q1209)","v":""}]
[{"$f":"IF(Blad1!D1210=\"\",\"\",Blad1!D1210)","v":""},{"$f":"IF(Blad1!E1210=\"\",\"\",Blad1!E1210)","v":""},{"$f":"IF(Blad1!B1210=\"\",\"\",Blad1!B1210)","v":""},{"$f":"IF(Blad1!H1210=\"\",\"\",Blad1!H1210)","v":""},{"$f":"IF(Blad1!I1210=\"\",\"\",Blad1!I1210)","v":""},{"$f":"IF(Blad1!M1210=\"\",\"\",Blad1!M1210)","v":""},{"$f":"IF(Blad1!F1210=\"\",\"\",Blad1!F1210)","v":""},{"$f":"IF(Blad1!Q1210=\"\",\"\",Blad1!Q1210)","v":""}]
[{"$f":"IF(Blad1!D1211=\"\",\"\",Blad1!D1211)","v":""},{"$f":"IF(Blad1!E1211=\"\",\"\",Blad1!E1211)","v":""},{"$f":"IF(Blad1!B1211=\"\",\"\",Blad1!B1211)","v":""},{"$f":"IF(Blad1!H1211=\"\",\"\",Blad1!H1211)","v":""},{"$f":"IF(Blad1!I1211=\"\",\"\",Blad1!I1211)","v":""},{"$f":"IF(Blad1!M1211=\"\",\"\",Blad1!M1211)","v":""},{"$f":"IF(Blad1!F1211=\"\",\"\",Blad1!F1211)","v":""},{"$f":"IF(Blad1!Q1211=\"\",\"\",Blad1!Q1211)","v":""}]
[{"$f":"IF(Blad1!D1212=\"\",\"\",Blad1!D1212)","v":""},{"$f":"IF(Blad1!E1212=\"\",\"\",Blad1!E1212)","v":""},{"$f":"IF(Blad1!B1212=\"\",\"\",Blad1!B1212)","v":""},{"$f":"IF(Blad1!H1212=\"\",\"\",Blad1!H1212)","v":""},{"$f":"IF(Blad1!I1212=\"\",\"\",Blad1!I1212)","v":""},{"$f":"IF(Blad1!M1212=\"\",\"\",Blad1!M1212)","v":""},{"$f":"IF(Blad1!F1212=\"\",\"\",Blad1!F1212)","v":""},{"$f":"IF(Blad1!Q1212=\"\",\"\",Blad1!Q1212)","v":""}]
[{"$f":"IF(Blad1!D1213=\"\",\"\",Blad1!D1213)","v":""},{"$f":"IF(Blad1!E1213=\"\",\"\",Blad1!E1213)","v":""},{"$f":"IF(Blad1!B1213=\"\",\"\",Blad1!B1213)","v":""},{"$f":"IF(Blad1!H1213=\"\",\"\",Blad1!H1213)","v":""},{"$f":"IF(Blad1!I1213=\"\",\"\",Blad1!I1213)","v":""},{"$f":"IF(Blad1!M1213=\"\",\"\",Blad1!M1213)","v":""},{"$f":"IF(Blad1!F1213=\"\",\"\",Blad1!F1213)","v":""},{"$f":"IF(Blad1!Q1213=\"\",\"\",Blad1!Q1213)","v":""}]
[{"$f":"IF(Blad1!D1214=\"\",\"\",Blad1!D1214)","v":""},{"$f":"IF(Blad1!E1214=\"\",\"\",Blad1!E1214)","v":""},{"$f":"IF(Blad1!B1214=\"\",\"\",Blad1!B1214)","v":""},{"$f":"IF(Blad1!H1214=\"\",\"\",Blad1!H1214)","v":""},{"$f":"IF(Blad1!I1214=\"\",\"\",Blad1!I1214)","v":""},{"$f":"IF(Blad1!M1214=\"\",\"\",Blad1!M1214)","v":""},{"$f":"IF(Blad1!F1214=\"\",\"\",Blad1!F1214)","v":""},{"$f":"IF(Blad1!Q1214=\"\",\"\",Blad1!Q1214)","v":""}]
[{"$f":"IF(Blad1!D1215=\"\",\"\",Blad1!D1215)","v":""},{"$f":"IF(Blad1!E1215=\"\",\"\",Blad1!E1215)","v":""},{"$f":"IF(Blad1!B1215=\"\",\"\",Blad1!B1215)","v":""},{"$f":"IF(Blad1!H1215=\"\",\"\",Blad1!H1215)","v":""},{"$f":"IF(Blad1!I1215=\"\",\"\",Blad1!I1215)","v":""},{"$f":"IF(Blad1!M1215=\"\",\"\",Blad1!M1215)","v":""},{"$f":"IF(Blad1!F1215=\"\",\"\",Blad1!F1215)","v":""},{"$f":"IF(Blad1!Q1215=\"\",\"\",Blad1!Q1215)","v":""}]
[{"$f":"IF(Blad1!D1216=\"\",\"\",Blad1!D1216)","v":""},{"$f":"IF(Blad1!E1216=\"\",\"\",Blad1!E1216)","v":""},{"$f":"IF(Blad1!B1216=\"\",\"\",Blad1!B1216)","v":""},{"$f":"IF(Blad1!H1216=\"\",\"\",Blad1!H1216)","v":""},{"$f":"IF(Blad1!I1216=\"\",\"\",Blad1!I1216)","v":""},{"$f":"IF(Blad1!M1216=\"\",\"\",Blad1!M1216)","v":""},{"$f":"IF(Blad1!F1216=\"\",\"\",Blad1!F1216)","v":""},{"$f":"IF(Blad1!Q1216=\"\",\"\",Blad1!Q1216)","v":""}]
[{"$f":"IF(Blad1!D1217=\"\",\"\",Blad1!D1217)","v":""},{"$f":"IF(Blad1!E1217=\"\",\"\",Blad1!E1217)","v":""},{"$f":"IF(Blad1!B1217=\"\",\"\",Blad1!B1217)","v":""},{"$f":"IF(Blad1!H1217=\"\",\"\",Blad1!H1217)","v":""},{"$f":"IF(Blad1!I1217=\"\",\"\",Blad1!I1217)","v":""},{"$f":"IF(Blad1!M1217=\"\",\"\",Blad1!M1217)","v":""},{"$f":"IF(Blad1!F1217=\"\",\"\",Blad1!F1217)","v":""},{"$f":"IF(Blad1!Q1217=\"\",\"\",Blad1!Q1217)","v":""}]
[{"$f":"IF(Blad1!D1218=\"\",\"\",Blad1!D1218)","v":""},{"$f":"IF(Blad1!E1218=\"\",\"\",Blad1!E1218)","v":""},{"$f":"IF(Blad1!B1218=\"\",\"\",Blad1!B1218)","v":""},{"$f":"IF(Blad1!H1218=\"\",\"\",Blad1!H1218)","v":""},{"$f":"IF(Blad1!I1218=\"\",\"\",Blad1!I1218)","v":""},{"$f":"IF(Blad1!M1218=\"\",\"\",Blad1!M1218)","v":""},{"$f":"IF(Blad1!F1218=\"\",\"\",Blad1!F1218)","v":""},{"$f":"IF(Blad1!Q1218=\"\",\"\",Blad1!Q1218)","v":""}]
[{"$f":"IF(Blad1!D1219=\"\",\"\",Blad1!D1219)","v":""},{"$f":"IF(Blad1!E1219=\"\",\"\",Blad1!E1219)","v":""},{"$f":"IF(Blad1!B1219=\"\",\"\",Blad1!B1219)","v":""},{"$f":"IF(Blad1!H1219=\"\",\"\",Blad1!H1219)","v":""},{"$f":"IF(Blad1!I1219=\"\",\"\",Blad1!I1219)","v":""},{"$f":"IF(Blad1!M1219=\"\",\"\",Blad1!M1219)","v":""},{"$f":"IF(Blad1!F1219=\"\",\"\",Blad1!F1219)","v":""},{"$f":"IF(Blad1!Q1219=\"\",\"\",Blad1!Q1219)","v":""}]
[{"$f":"IF(Blad1!D1220=\"\",\"\",Blad1!D1220)","v":""},{"$f":"IF(Blad1!E1220=\"\",\"\",Blad1!E1220)","v":""},{"$f":"IF(Blad1!B1220=\"\",\"\",Blad1!B1220)","v":""},{"$f":"IF(Blad1!H1220=\"\",\"\",Blad1!H1220)","v":""},{"$f":"IF(Blad1!I1220=\"\",\"\",Blad1!I1220)","v":""},{"$f":"IF(Blad1!M1220=\"\",\"\",Blad1!M1220)","v":""},{"$f":"IF(Blad1!F1220=\"\",\"\",Blad1!F1220)","v":""},{"$f":"IF(Blad1!Q1220=\"\",\"\",Blad1!Q1220)","v":""}]
[{"$f":"IF(Blad1!D1221=\"\",\"\",Blad1!D1221)","v":""},{"$f":"IF(Blad1!E1221=\"\",\"\",Blad1!E1221)","v":""},{"$f":"IF(Blad1!B1221=\"\",\"\",Blad1!B1221)","v":""},{"$f":"IF(Blad1!H1221=\"\",\"\",Blad1!H1221)","v":""},{"$f":"IF(Blad1!I1221=\"\",\"\",Blad1!I1221)","v":""},{"$f":"IF(Blad1!M1221=\"\",\"\",Blad1!M1221)","v":""},{"$f":"IF(Blad1!F1221=\"\",\"\",Blad1!F1221)","v":""},{"$f":"IF(Blad1!Q1221=\"\",\"\",Blad1!Q1221)","v":""}]
[{"$f":"IF(Blad1!D1222=\"\",\"\",Blad1!D1222)","v":""},{"$f":"IF(Blad1!E1222=\"\",\"\",Blad1!E1222)","v":""},{"$f":"IF(Blad1!B1222=\"\",\"\",Blad1!B1222)","v":""},{"$f":"IF(Blad1!H1222=\"\",\"\",Blad1!H1222)","v":""},{"$f":"IF(Blad1!I1222=\"\",\"\",Blad1!I1222)","v":""},{"$f":"IF(Blad1!M1222=\"\",\"\",Blad1!M1222)","v":""},{"$f":"IF(Blad1!F1222=\"\",\"\",Blad1!F1222)","v":""},{"$f":"IF(Blad1!Q1222=\"\",\"\",Blad1!Q1222)","v":""}]
[{"$f":"IF(Blad1!D1223=\"\",\"\",Blad1!D1223)","v":""},{"$f":"IF(Blad1!E1223=\"\",\"\",Blad1!E1223)","v":""},{"$f":"IF(Blad1!B1223=\"\",\"\",Blad1!B1223)","v":""},{"$f":"IF(Blad1!H1223=\"\",\"\",Blad1!H1223)","v":""},{"$f":"IF(Blad1!I1223=\"\",\"\",Blad1!I1223)","v":""},{"$f":"IF(Blad1!M1223=\"\",\"\",Blad1!M1223)","v":""},{"$f":"IF(Blad1!F1223=\"\",\"\",Blad1!F1223)","v":""},{"$f":"IF(Blad1!Q1223=\"\",\"\",Blad1!Q1223)","v":""}]
[{"$f":"IF(Blad1!D1224=\"\",\"\",Blad1!D1224)","v":""},{"$f":"IF(Blad1!E1224=\"\",\"\",Blad1!E1224)","v":""},{"$f":"IF(Blad1!B1224=\"\",\"\",Blad1!B1224)","v":""},{"$f":"IF(Blad1!H1224=\"\",\"\",Blad1!H1224)","v":""},{"$f":"IF(Blad1!I1224=\"\",\"\",Blad1!I1224)","v":""},{"$f":"IF(Blad1!M1224=\"\",\"\",Blad1!M1224)","v":""},{"$f":"IF(Blad1!F1224=\"\",\"\",Blad1!F1224)","v":""},{"$f":"IF(Blad1!Q1224=\"\",\"\",Blad1!Q1224)","v":""}]
[{"$f":"IF(Blad1!D1225=\"\",\"\",Blad1!D1225)","v":""},{"$f":"IF(Blad1!E1225=\"\",\"\",Blad1!E1225)","v":""},{"$f":"IF(Blad1!B1225=\"\",\"\",Blad1!B1225)","v":""},{"$f":"IF(Blad1!H1225=\"\",\"\",Blad1!H1225)","v":""},{"$f":"IF(Blad1!I1225=\"\",\"\",Blad1!I1225)","v":""},{"$f":"IF(Blad1!M1225=\"\",\"\",Blad1!M1225)","v":""},{"$f":"IF(Blad1!F1225=\"\",\"\",Blad1!F1225)","v":""},{"$f":"IF(Blad1!Q1225=\"\",\"\",Blad1!Q1225)","v":""}]
[{"$f":"IF(Blad1!D1226=\"\",\"\",Blad1!D1226)","v":""},{"$f":"IF(Blad1!E1226=\"\",\"\",Blad1!E1226)","v":""},{"$f":"IF(Blad1!B1226=\"\",\"\",Blad1!B1226)","v":""},{"$f":"IF(Blad1!H1226=\"\",\"\",Blad1!H1226)","v":""},{"$f":"IF(Blad1!I1226=\"\",\"\",Blad1!I1226)","v":""},{"$f":"IF(Blad1!M1226=\"\",\"\",Blad1!M1226)","v":""},{"$f":"IF(Blad1!F1226=\"\",\"\",Blad1!F1226)","v":""},{"$f":"IF(Blad1!Q1226=\"\",\"\",Blad1!Q1226)","v":""}]
[{"$f":"IF(Blad1!D1227=\"\",\"\",Blad1!D1227)","v":""},{"$f":"IF(Blad1!E1227=\"\",\"\",Blad1!E1227)","v":""},{"$f":"IF(Blad1!B1227=\"\",\"\",Blad1!B1227)","v":""},{"$f":"IF(Blad1!H1227=\"\",\"\",Blad1!H1227)","v":""},{"$f":"IF(Blad1!I1227=\"\",\"\",Blad1!I1227)","v":""},{"$f":"IF(Blad1!M1227=\"\",\"\",Blad1!M1227)","v":""},{"$f":"IF(Blad1!F1227=\"\",\"\",Blad1!F1227)","v":""},{"$f":"IF(Blad1!Q1227=\"\",\"\",Blad1!Q1227)","v":""}]
[{"$f":"IF(Blad1!D1228=\"\",\"\",Blad1!D1228)","v":""},{"$f":"IF(Blad1!E1228=\"\",\"\",Blad1!E1228)","v":""},{"$f":"IF(Blad1!B1228=\"\",\"\",Blad1!B1228)","v":""},{"$f":"IF(Blad1!H1228=\"\",\"\",Blad1!H1228)","v":""},{"$f":"IF(Blad1!I1228=\"\",\"\",Blad1!I1228)","v":""},{"$f":"IF(Blad1!M1228=\"\",\"\",Blad1!M1228)","v":""},{"$f":"IF(Blad1!F1228=\"\",\"\",Blad1!F1228)","v":""},{"$f":"IF(Blad1!Q1228=\"\",\"\",Blad1!Q1228)","v":""}]
[{"$f":"IF(Blad1!D1229=\"\",\"\",Blad1!D1229)","v":""},{"$f":"IF(Blad1!E1229=\"\",\"\",Blad1!E1229)","v":""},{"$f":"IF(Blad1!B1229=\"\",\"\",Blad1!B1229)","v":""},{"$f":"IF(Blad1!H1229=\"\",\"\",Blad1!H1229)","v":""},{"$f":"IF(Blad1!I1229=\"\",\"\",Blad1!I1229)","v":""},{"$f":"IF(Blad1!M1229=\"\",\"\",Blad1!M1229)","v":""},{"$f":"IF(Blad1!F1229=\"\",\"\",Blad1!F1229)","v":""},{"$f":"IF(Blad1!Q1229=\"\",\"\",Blad1!Q1229)","v":""}]
[{"$f":"IF(Blad1!D1230=\"\",\"\",Blad1!D1230)","v":""},{"$f":"IF(Blad1!E1230=\"\",\"\",Blad1!E1230)","v":""},{"$f":"IF(Blad1!B1230=\"\",\"\",Blad1!B1230)","v":""},{"$f":"IF(Blad1!H1230=\"\",\"\",Blad1!H1230)","v":""},{"$f":"IF(Blad1!I1230=\"\",\"\",Blad1!I1230)","v":""},{"$f":"IF(Blad1!M1230=\"\",\"\",Blad1!M1230)","v":""},{"$f":"IF(Blad1!F1230=\"\",\"\",Blad1!F1230)","v":""},{"$f":"IF(Blad1!Q1230=\"\",\"\",Blad1!Q1230)","v":""}]
[{"$f":"IF(Blad1!D1231=\"\",\"\",Blad1!D1231)","v":""},{"$f":"IF(Blad1!E1231=\"\",\"\",Blad1!E1231)","v":""},{"$f":"IF(Blad1!B1231=\"\",\"\",Blad1!B1231)","v":""},{"$f":"IF(Blad1!H1231=\"\",\"\",Blad1!H1231)","v":""},{"$f":"IF(Blad1!I1231=\"\",\"\",Blad1!I1231)","v":""},{"$f":"IF(Blad1!M1231=\"\",\"\",Blad1!M1231)","v":""},{"$f":"IF(Blad1!F1231=\"\",\"\",Blad1!F1231)","v":""},{"$f":"IF(Blad1!Q1231=\"\",\"\",Blad1!Q1231)","v":""}]
[{"$f":"IF(Blad1!D1232=\"\",\"\",Blad1!D1232)","v":""},{"$f":"IF(Blad1!E1232=\"\",\"\",Blad1!E1232)","v":""},{"$f":"IF(Blad1!B1232=\"\",\"\",Blad1!B1232)","v":""},{"$f":"IF(Blad1!H1232=\"\",\"\",Blad1!H1232)","v":""},{"$f":"IF(Blad1!I1232=\"\",\"\",Blad1!I1232)","v":""},{"$f":"IF(Blad1!M1232=\"\",\"\",Blad1!M1232)","v":""},{"$f":"IF(Blad1!F1232=\"\",\"\",Blad1!F1232)","v":""},{"$f":"IF(Blad1!Q1232=\"\",\"\",Blad1!Q1232)","v":""}]
[{"$f":"IF(Blad1!D1233=\"\",\"\",Blad1!D1233)","v":""},{"$f":"IF(Blad1!E1233=\"\",\"\",Blad1!E1233)","v":""},{"$f":"IF(Blad1!B1233=\"\",\"\",Blad1!B1233)","v":""},{"$f":"IF(Blad1!H1233=\"\",\"\",Blad1!H1233)","v":""},{"$f":"IF(Blad1!I1233=\"\",\"\",Blad1!I1233)","v":""},{"$f":"IF(Blad1!M1233=\"\",\"\",Blad1!M1233)","v":""},{"$f":"IF(Blad1!F1233=\"\",\"\",Blad1!F1233)","v":""},{"$f":"IF(Blad1!Q1233=\"\",\"\",Blad1!Q1233)","v":""}]
[{"$f":"IF(Blad1!D1234=\"\",\"\",Blad1!D1234)","v":""},{"$f":"IF(Blad1!E1234=\"\",\"\",Blad1!E1234)","v":""},{"$f":"IF(Blad1!B1234=\"\",\"\",Blad1!B1234)","v":""},{"$f":"IF(Blad1!H1234=\"\",\"\",Blad1!H1234)","v":""},{"$f":"IF(Blad1!I1234=\"\",\"\",Blad1!I1234)","v":""},{"$f":"IF(Blad1!M1234=\"\",\"\",Blad1!M1234)","v":""},{"$f":"IF(Blad1!F1234=\"\",\"\",Blad1!F1234)","v":""},{"$f":"IF(Blad1!Q1234=\"\",\"\",Blad1!Q1234)","v":""}]
[{"$f":"IF(Blad1!D1235=\"\",\"\",Blad1!D1235)","v":""},{"$f":"IF(Blad1!E1235=\"\",\"\",Blad1!E1235)","v":""},{"$f":"IF(Blad1!B1235=\"\",\"\",Blad1!B1235)","v":""},{"$f":"IF(Blad1!H1235=\"\",\"\",Blad1!H1235)","v":""},{"$f":"IF(Blad1!I1235=\"\",\"\",Blad1!I1235)","v":""},{"$f":"IF(Blad1!M1235=\"\",\"\",Blad1!M1235)","v":""},{"$f":"IF(Blad1!F1235=\"\",\"\",Blad1!F1235)","v":""},{"$f":"IF(Blad1!Q1235=\"\",\"\",Blad1!Q1235)","v":""}]
[{"$f":"IF(Blad1!D1236=\"\",\"\",Blad1!D1236)","v":""},{"$f":"IF(Blad1!E1236=\"\",\"\",Blad1!E1236)","v":""},{"$f":"IF(Blad1!B1236=\"\",\"\",Blad1!B1236)","v":""},{"$f":"IF(Blad1!H1236=\"\",\"\",Blad1!H1236)","v":""},{"$f":"IF(Blad1!I1236=\"\",\"\",Blad1!I1236)","v":""},{"$f":"IF(Blad1!M1236=\"\",\"\",Blad1!M1236)","v":""},{"$f":"IF(Blad1!F1236=\"\",\"\",Blad1!F1236)","v":""},{"$f":"IF(Blad1!Q1236=\"\",\"\",Blad1!Q1236)","v":""}]
[{"$f":"IF(Blad1!D1237=\"\",\"\",Blad1!D1237)","v":""},{"$f":"IF(Blad1!E1237=\"\",\"\",Blad1!E1237)","v":""},{"$f":"IF(Blad1!B1237=\"\",\"\",Blad1!B1237)","v":""},{"$f":"IF(Blad1!H1237=\"\",\"\",Blad1!H1237)","v":""},{"$f":"IF(Blad1!I1237=\"\",\"\",Blad1!I1237)","v":""},{"$f":"IF(Blad1!M1237=\"\",\"\",Blad1!M1237)","v":""},{"$f":"IF(Blad1!F1237=\"\",\"\",Blad1!F1237)","v":""},{"$f":"IF(Blad1!Q1237=\"\",\"\",Blad1!Q1237)","v":""}]
[{"$f":"IF(Blad1!D1238=\"\",\"\",Blad1!D1238)","v":""},{"$f":"IF(Blad1!E1238=\"\",\"\",Blad1!E1238)","v":""},{"$f":"IF(Blad1!B1238=\"\",\"\",Blad1!B1238)","v":""},{"$f":"IF(Blad1!H1238=\"\",\"\",Blad1!H1238)","v":""},{"$f":"IF(Blad1!I1238=\"\",\"\",Blad1!I1238)","v":""},{"$f":"IF(Blad1!M1238=\"\",\"\",Blad1!M1238)","v":""},{"$f":"IF(Blad1!F1238=\"\",\"\",Blad1!F1238)","v":""},{"$f":"IF(Blad1!Q1238=\"\",\"\",Blad1!Q1238)","v":""}]
[{"$f":"IF(Blad1!D1239=\"\",\"\",Blad1!D1239)","v":""},{"$f":"IF(Blad1!E1239=\"\",\"\",Blad1!E1239)","v":""},{"$f":"IF(Blad1!B1239=\"\",\"\",Blad1!B1239)","v":""},{"$f":"IF(Blad1!H1239=\"\",\"\",Blad1!H1239)","v":""},{"$f":"IF(Blad1!I1239=\"\",\"\",Blad1!I1239)","v":""},{"$f":"IF(Blad1!M1239=\"\",\"\",Blad1!M1239)","v":""},{"$f":"IF(Blad1!F1239=\"\",\"\",Blad1!F1239)","v":""},{"$f":"IF(Blad1!Q1239=\"\",\"\",Blad1!Q1239)","v":""}]
[{"$f":"IF(Blad1!D1240=\"\",\"\",Blad1!D1240)","v":""},{"$f":"IF(Blad1!E1240=\"\",\"\",Blad1!E1240)","v":""},{"$f":"IF(Blad1!B1240=\"\",\"\",Blad1!B1240)","v":""},{"$f":"IF(Blad1!H1240=\"\",\"\",Blad1!H1240)","v":""},{"$f":"IF(Blad1!I1240=\"\",\"\",Blad1!I1240)","v":""},{"$f":"IF(Blad1!M1240=\"\",\"\",Blad1!M1240)","v":""},{"$f":"IF(Blad1!F1240=\"\",\"\",Blad1!F1240)","v":""},{"$f":"IF(Blad1!Q1240=\"\",\"\",Blad1!Q1240)","v":""}]
[{"$f":"IF(Blad1!D1241=\"\",\"\",Blad1!D1241)","v":""},{"$f":"IF(Blad1!E1241=\"\",\"\",Blad1!E1241)","v":""},{"$f":"IF(Blad1!B1241=\"\",\"\",Blad1!B1241)","v":""},{"$f":"IF(Blad1!H1241=\"\",\"\",Blad1!H1241)","v":""},{"$f":"IF(Blad1!I1241=\"\",\"\",Blad1!I1241)","v":""},{"$f":"IF(Blad1!M1241=\"\",\"\",Blad1!M1241)","v":""},{"$f":"IF(Blad1!F1241=\"\",\"\",Blad1!F1241)","v":""},{"$f":"IF(Blad1!Q1241=\"\",\"\",Blad1!Q1241)","v":""}]
[{"$f":"IF(Blad1!D1242=\"\",\"\",Blad1!D1242)","v":""},{"$f":"IF(Blad1!E1242=\"\",\"\",Blad1!E1242)","v":""},{"$f":"IF(Blad1!B1242=\"\",\"\",Blad1!B1242)","v":""},{"$f":"IF(Blad1!H1242=\"\",\"\",Blad1!H1242)","v":""},{"$f":"IF(Blad1!I1242=\"\",\"\",Blad1!I1242)","v":""},{"$f":"IF(Blad1!M1242=\"\",\"\",Blad1!M1242)","v":""},{"$f":"IF(Blad1!F1242=\"\",\"\",Blad1!F1242)","v":""},{"$f":"IF(Blad1!Q1242=\"\",\"\",Blad1!Q1242)","v":""}]
[{"$f":"IF(Blad1!D1243=\"\",\"\",Blad1!D1243)","v":""},{"$f":"IF(Blad1!E1243=\"\",\"\",Blad1!E1243)","v":""},{"$f":"IF(Blad1!B1243=\"\",\"\",Blad1!B1243)","v":""},{"$f":"IF(Blad1!H1243=\"\",\"\",Blad1!H1243)","v":""},{"$f":"IF(Blad1!I1243=\"\",\"\",Blad1!I1243)","v":""},{"$f":"IF(Blad1!M1243=\"\",\"\",Blad1!M1243)","v":""},{"$f":"IF(Blad1!F1243=\"\",\"\",Blad1!F1243)","v":""},{"$f":"IF(Blad1!Q1243=\"\",\"\",Blad1!Q1243)","v":""}]
[{"$f":"IF(Blad1!D1244=\"\",\"\",Blad1!D1244)","v":""},{"$f":"IF(Blad1!E1244=\"\",\"\",Blad1!E1244)","v":""},{"$f":"IF(Blad1!B1244=\"\",\"\",Blad1!B1244)","v":""},{"$f":"IF(Blad1!H1244=\"\",\"\",Blad1!H1244)","v":""},{"$f":"IF(Blad1!I1244=\"\",\"\",Blad1!I1244)","v":""},{"$f":"IF(Blad1!M1244=\"\",\"\",Blad1!M1244)","v":""},{"$f":"IF(Blad1!F1244=\"\",\"\",Blad1!F1244)","v":""},{"$f":"IF(Blad1!Q1244=\"\",\"\",Blad1!Q1244)","v":""}]
[{"$f":"IF(Blad1!D1245=\"\",\"\",Blad1!D1245)","v":""},{"$f":"IF(Blad1!E1245=\"\",\"\",Blad1!E1245)","v":""},{"$f":"IF(Blad1!B1245=\"\",\"\",Blad1!B1245)","v":""},{"$f":"IF(Blad1!H1245=\"\",\"\",Blad1!H1245)","v":""},{"$f":"IF(Blad1!I1245=\"\",\"\",Blad1!I1245)","v":""},{"$f":"IF(Blad1!M1245=\"\",\"\",Blad1!M1245)","v":""},{"$f":"IF(Blad1!F1245=\"\",\"\",Blad1!F1245)","v":""},{"$f":"IF(Blad1!Q1245=\"\",\"\",Blad1!Q1245)","v":""}]
[{"$f":"IF(Blad1!D1246=\"\",\"\",Blad1!D1246)","v":""},{"$f":"IF(Blad1!E1246=\"\",\"\",Blad1!E1246)","v":""},{"$f":"IF(Blad1!B1246=\"\",\"\",Blad1!B1246)","v":""},{"$f":"IF(Blad1!H1246=\"\",\"\",Blad1!H1246)","v":""},{"$f":"IF(Blad1!I1246=\"\",\"\",Blad1!I1246)","v":""},{"$f":"IF(Blad1!M1246=\"\",\"\",Blad1!M1246)","v":""},{"$f":"IF(Blad1!F1246=\"\",\"\",Blad1!F1246)","v":""},{"$f":"IF(Blad1!Q1246=\"\",\"\",Blad1!Q1246)","v":""}]
[{"$f":"IF(Blad1!D1247=\"\",\"\",Blad1!D1247)","v":""},{"$f":"IF(Blad1!E1247=\"\",\"\",Blad1!E1247)","v":""},{"$f":"IF(Blad1!B1247=\"\",\"\",Blad1!B1247)","v":""},{"$f":"IF(Blad1!H1247=\"\",\"\",Blad1!H1247)","v":""},{"$f":"IF(Blad1!I1247=\"\",\"\",Blad1!I1247)","v":""},{"$f":"IF(Blad1!M1247=\"\",\"\",Blad1!M1247)","v":""},{"$f":"IF(Blad1!F1247=\"\",\"\",Blad1!F1247)","v":""},{"$f":"IF(Blad1!Q1247=\"\",\"\",Blad1!Q1247)","v":""}]
[{"$f":"IF(Blad1!D1248=\"\",\"\",Blad1!D1248)","v":""},{"$f":"IF(Blad1!E1248=\"\",\"\",Blad1!E1248)","v":""},{"$f":"IF(Blad1!B1248=\"\",\"\",Blad1!B1248)","v":""},{"$f":"IF(Blad1!H1248=\"\",\"\",Blad1!H1248)","v":""},{"$f":"IF(Blad1!I1248=\"\",\"\",Blad1!I1248)","v":""},{"$f":"IF(Blad1!M1248=\"\",\"\",Blad1!M1248)","v":""},{"$f":"IF(Blad1!F1248=\"\",\"\",Blad1!F1248)","v":""},{"$f":"IF(Blad1!Q1248=\"\",\"\",Blad1!Q1248)","v":""}]
[{"$f":"IF(Blad1!D1249=\"\",\"\",Blad1!D1249)","v":""},{"$f":"IF(Blad1!E1249=\"\",\"\",Blad1!E1249)","v":""},{"$f":"IF(Blad1!B1249=\"\",\"\",Blad1!B1249)","v":""},{"$f":"IF(Blad1!H1249=\"\",\"\",Blad1!H1249)","v":""},{"$f":"IF(Blad1!I1249=\"\",\"\",Blad1!I1249)","v":""},{"$f":"IF(Blad1!M1249=\"\",\"\",Blad1!M1249)","v":""},{"$f":"IF(Blad1!F1249=\"\",\"\",Blad1!F1249)","v":""},{"$f":"IF(Blad1!Q1249=\"\",\"\",Blad1!Q1249)","v":""}]
[{"$f":"IF(Blad1!D1250=\"\",\"\",Blad1!D1250)","v":""},{"$f":"IF(Blad1!E1250=\"\",\"\",Blad1!E1250)","v":""},{"$f":"IF(Blad1!B1250=\"\",\"\",Blad1!B1250)","v":""},{"$f":"IF(Blad1!H1250=\"\",\"\",Blad1!H1250)","v":""},{"$f":"IF(Blad1!I1250=\"\",\"\",Blad1!I1250)","v":""},{"$f":"IF(Blad1!M1250=\"\",\"\",Blad1!M1250)","v":""},{"$f":"IF(Blad1!F1250=\"\",\"\",Blad1!F1250)","v":""},{"$f":"IF(Blad1!Q1250=\"\",\"\",Blad1!Q1250)","v":""}]
[{"$f":"IF(Blad1!D1251=\"\",\"\",Blad1!D1251)","v":""},{"$f":"IF(Blad1!E1251=\"\",\"\",Blad1!E1251)","v":""},{"$f":"IF(Blad1!B1251=\"\",\"\",Blad1!B1251)","v":""},{"$f":"IF(Blad1!H1251=\"\",\"\",Blad1!H1251)","v":""},{"$f":"IF(Blad1!I1251=\"\",\"\",Blad1!I1251)","v":""},{"$f":"IF(Blad1!M1251=\"\",\"\",Blad1!M1251)","v":""},{"$f":"IF(Blad1!F1251=\"\",\"\",Blad1!F1251)","v":""},{"$f":"IF(Blad1!Q1251=\"\",\"\",Blad1!Q1251)","v":""}]
[{"$f":"IF(Blad1!D1252=\"\",\"\",Blad1!D1252)","v":""},{"$f":"IF(Blad1!E1252=\"\",\"\",Blad1!E1252)","v":""},{"$f":"IF(Blad1!B1252=\"\",\"\",Blad1!B1252)","v":""},{"$f":"IF(Blad1!H1252=\"\",\"\",Blad1!H1252)","v":""},{"$f":"IF(Blad1!I1252=\"\",\"\",Blad1!I1252)","v":""},{"$f":"IF(Blad1!M1252=\"\",\"\",Blad1!M1252)","v":""},{"$f":"IF(Blad1!F1252=\"\",\"\",Blad1!F1252)","v":""},{"$f":"IF(Blad1!Q1252=\"\",\"\",Blad1!Q1252)","v":""}]
[{"$f":"IF(Blad1!D1253=\"\",\"\",Blad1!D1253)","v":""},{"$f":"IF(Blad1!E1253=\"\",\"\",Blad1!E1253)","v":""},{"$f":"IF(Blad1!B1253=\"\",\"\",Blad1!B1253)","v":""},{"$f":"IF(Blad1!H1253=\"\",\"\",Blad1!H1253)","v":""},{"$f":"IF(Blad1!I1253=\"\",\"\",Blad1!I1253)","v":""},{"$f":"IF(Blad1!M1253=\"\",\"\",Blad1!M1253)","v":""},{"$f":"IF(Blad1!F1253=\"\",\"\",Blad1!F1253)","v":""},{"$f":"IF(Blad1!Q1253=\"\",\"\",Blad1!Q1253)","v":""}]
[{"$f":"IF(Blad1!D1254=\"\",\"\",Blad1!D1254)","v":""},{"$f":"IF(Blad1!E1254=\"\",\"\",Blad1!E1254)","v":""},{"$f":"IF(Blad1!B1254=\"\",\"\",Blad1!B1254)","v":""},{"$f":"IF(Blad1!H1254=\"\",\"\",Blad1!H1254)","v":""},{"$f":"IF(Blad1!I1254=\"\",\"\",Blad1!I1254)","v":""},{"$f":"IF(Blad1!M1254=\"\",\"\",Blad1!M1254)","v":""},{"$f":"IF(Blad1!F1254=\"\",\"\",Blad1!F1254)","v":""},{"$f":"IF(Blad1!Q1254=\"\",\"\",Blad1!Q1254)","v":""}]
[{"$f":"IF(Blad1!D1255=\"\",\"\",Blad1!D1255)","v":""},{"$f":"IF(Blad1!E1255=\"\",\"\",Blad1!E1255)","v":""},{"$f":"IF(Blad1!B1255=\"\",\"\",Blad1!B1255)","v":""},{"$f":"IF(Blad1!H1255=\"\",\"\",Blad1!H1255)","v":""},{"$f":"IF(Blad1!I1255=\"\",\"\",Blad1!I1255)","v":""},{"$f":"IF(Blad1!M1255=\"\",\"\",Blad1!M1255)","v":""},{"$f":"IF(Blad1!F1255=\"\",\"\",Blad1!F1255)","v":""},{"$f":"IF(Blad1!Q1255=\"\",\"\",Blad1!Q1255)","v":""}]
[{"$f":"IF(Blad1!D1256=\"\",\"\",Blad1!D1256)","v":""},{"$f":"IF(Blad1!E1256=\"\",\"\",Blad1!E1256)","v":""},{"$f":"IF(Blad1!B1256=\"\",\"\",Blad1!B1256)","v":""},{"$f":"IF(Blad1!H1256=\"\",\"\",Blad1!H1256)","v":""},{"$f":"IF(Blad1!I1256=\"\",\"\",Blad1!I1256)","v":""},{"$f":"IF(Blad1!M1256=\"\",\"\",Blad1!M1256)","v":""},{"$f":"IF(Blad1!F1256=\"\",\"\",Blad1!F1256)","v":""},{"$f":"IF(Blad1!Q1256=\"\",\"\",Blad1!Q1256)","v":""}]
[{"$f":"IF(Blad1!D1257=\"\",\"\",Blad1!D1257)","v":""},{"$f":"IF(Blad1!E1257=\"\",\"\",Blad1!E1257)","v":""},{"$f":"IF(Blad1!B1257=\"\",\"\",Blad1!B1257)","v":""},{"$f":"IF(Blad1!H1257=\"\",\"\",Blad1!H1257)","v":""},{"$f":"IF(Blad1!I1257=\"\",\"\",Blad1!I1257)","v":""},{"$f":"IF(Blad1!M1257=\"\",\"\",Blad1!M1257)","v":""},{"$f":"IF(Blad1!F1257=\"\",\"\",Blad1!F1257)","v":""},{"$f":"IF(Blad1!Q1257=\"\",\"\",Blad1!Q1257)","v":""}]
[{"$f":"IF(Blad1!D1258=\"\",\"\",Blad1!D1258)","v":""},{"$f":"IF(Blad1!E1258=\"\",\"\",Blad1!E1258)","v":""},{"$f":"IF(Blad1!B1258=\"\",\"\",Blad1!B1258)","v":""},{"$f":"IF(Blad1!H1258=\"\",\"\",Blad1!H1258)","v":""},{"$f":"IF(Blad1!I1258=\"\",\"\",Blad1!I1258)","v":""},{"$f":"IF(Blad1!M1258=\"\",\"\",Blad1!M1258)","v":""},{"$f":"IF(Blad1!F1258=\"\",\"\",Blad1!F1258)","v":""},{"$f":"IF(Blad1!Q1258=\"\",\"\",Blad1!Q1258)","v":""}]
[{"$f":"IF(Blad1!D1259=\"\",\"\",Blad1!D1259)","v":""},{"$f":"IF(Blad1!E1259=\"\",\"\",Blad1!E1259)","v":""},{"$f":"IF(Blad1!B1259=\"\",\"\",Blad1!B1259)","v":""},{"$f":"IF(Blad1!H1259=\"\",\"\",Blad1!H1259)","v":""},{"$f":"IF(Blad1!I1259=\"\",\"\",Blad1!I1259)","v":""},{"$f":"IF(Blad1!M1259=\"\",\"\",Blad1!M1259)","v":""},{"$f":"IF(Blad1!F1259=\"\",\"\",Blad1!F1259)","v":""},{"$f":"IF(Blad1!Q1259=\"\",\"\",Blad1!Q1259)","v":""}]
[{"$f":"IF(Blad1!D1260=\"\",\"\",Blad1!D1260)","v":""},{"$f":"IF(Blad1!E1260=\"\",\"\",Blad1!E1260)","v":""},{"$f":"IF(Blad1!B1260=\"\",\"\",Blad1!B1260)","v":""},{"$f":"IF(Blad1!H1260=\"\",\"\",Blad1!H1260)","v":""},{"$f":"IF(Blad1!I1260=\"\",\"\",Blad1!I1260)","v":""},{"$f":"IF(Blad1!M1260=\"\",\"\",Blad1!M1260)","v":""},{"$f":"IF(Blad1!F1260=\"\",\"\",Blad1!F1260)","v":""},{"$f":"IF(Blad1!Q1260=\"\",\"\",Blad1!Q1260)","v":""}]
[{"$f":"IF(Blad1!D1261=\"\",\"\",Blad1!D1261)","v":""},{"$f":"IF(Blad1!E1261=\"\",\"\",Blad1!E1261)","v":""},{"$f":"IF(Blad1!B1261=\"\",\"\",Blad1!B1261)","v":""},{"$f":"IF(Blad1!H1261=\"\",\"\",Blad1!H1261)","v":""},{"$f":"IF(Blad1!I1261=\"\",\"\",Blad1!I1261)","v":""},{"$f":"IF(Blad1!M1261=\"\",\"\",Blad1!M1261)","v":""},{"$f":"IF(Blad1!F1261=\"\",\"\",Blad1!F1261)","v":""},{"$f":"IF(Blad1!Q1261=\"\",\"\",Blad1!Q1261)","v":""}]
[{"$f":"IF(Blad1!D1262=\"\",\"\",Blad1!D1262)","v":""},{"$f":"IF(Blad1!E1262=\"\",\"\",Blad1!E1262)","v":""},{"$f":"IF(Blad1!B1262=\"\",\"\",Blad1!B1262)","v":""},{"$f":"IF(Blad1!H1262=\"\",\"\",Blad1!H1262)","v":""},{"$f":"IF(Blad1!I1262=\"\",\"\",Blad1!I1262)","v":""},{"$f":"IF(Blad1!M1262=\"\",\"\",Blad1!M1262)","v":""},{"$f":"IF(Blad1!F1262=\"\",\"\",Blad1!F1262)","v":""},{"$f":"IF(Blad1!Q1262=\"\",\"\",Blad1!Q1262)","v":""}]
[{"$f":"IF(Blad1!D1263=\"\",\"\",Blad1!D1263)","v":""},{"$f":"IF(Blad1!E1263=\"\",\"\",Blad1!E1263)","v":""},{"$f":"IF(Blad1!B1263=\"\",\"\",Blad1!B1263)","v":""},{"$f":"IF(Blad1!H1263=\"\",\"\",Blad1!H1263)","v":""},{"$f":"IF(Blad1!I1263=\"\",\"\",Blad1!I1263)","v":""},{"$f":"IF(Blad1!M1263=\"\",\"\",Blad1!M1263)","v":""},{"$f":"IF(Blad1!F1263=\"\",\"\",Blad1!F1263)","v":""},{"$f":"IF(Blad1!Q1263=\"\",\"\",Blad1!Q1263)","v":""}]
[{"$f":"IF(Blad1!D1264=\"\",\"\",Blad1!D1264)","v":""},{"$f":"IF(Blad1!E1264=\"\",\"\",Blad1!E1264)","v":""},{"$f":"IF(Blad1!B1264=\"\",\"\",Blad1!B1264)","v":""},{"$f":"IF(Blad1!H1264=\"\",\"\",Blad1!H1264)","v":""},{"$f":"IF(Blad1!I1264=\"\",\"\",Blad1!I1264)","v":""},{"$f":"IF(Blad1!M1264=\"\",\"\",Blad1!M1264)","v":""},{"$f":"IF(Blad1!F1264=\"\",\"\",Blad1!F1264)","v":""},{"$f":"IF(Blad1!Q1264=\"\",\"\",Blad1!Q1264)","v":""}]
[{"$f":"IF(Blad1!D1265=\"\",\"\",Blad1!D1265)","v":""},{"$f":"IF(Blad1!E1265=\"\",\"\",Blad1!E1265)","v":""},{"$f":"IF(Blad1!B1265=\"\",\"\",Blad1!B1265)","v":""},{"$f":"IF(Blad1!H1265=\"\",\"\",Blad1!H1265)","v":""},{"$f":"IF(Blad1!I1265=\"\",\"\",Blad1!I1265)","v":""},{"$f":"IF(Blad1!M1265=\"\",\"\",Blad1!M1265)","v":""},{"$f":"IF(Blad1!F1265=\"\",\"\",Blad1!F1265)","v":""},{"$f":"IF(Blad1!Q1265=\"\",\"\",Blad1!Q1265)","v":""}]
[{"$f":"IF(Blad1!D1266=\"\",\"\",Blad1!D1266)","v":""},{"$f":"IF(Blad1!E1266=\"\",\"\",Blad1!E1266)","v":""},{"$f":"IF(Blad1!B1266=\"\",\"\",Blad1!B1266)","v":""},{"$f":"IF(Blad1!H1266=\"\",\"\",Blad1!H1266)","v":""},{"$f":"IF(Blad1!I1266=\"\",\"\",Blad1!I1266)","v":""},{"$f":"IF(Blad1!M1266=\"\",\"\",Blad1!M1266)","v":""},{"$f":"IF(Blad1!F1266=\"\",\"\",Blad1!F1266)","v":""},{"$f":"IF(Blad1!Q1266=\"\",\"\",Blad1!Q1266)","v":""}]
[{"$f":"IF(Blad1!D1267=\"\",\"\",Blad1!D1267)","v":""},{"$f":"IF(Blad1!E1267=\"\",\"\",Blad1!E1267)","v":""},{"$f":"IF(Blad1!B1267=\"\",\"\",Blad1!B1267)","v":""},{"$f":"IF(Blad1!H1267=\"\",\"\",Blad1!H1267)","v":""},{"$f":"IF(Blad1!I1267=\"\",\"\",Blad1!I1267)","v":""},{"$f":"IF(Blad1!M1267=\"\",\"\",Blad1!M1267)","v":""},{"$f":"IF(Blad1!F1267=\"\",\"\",Blad1!F1267)","v":""},{"$f":"IF(Blad1!Q1267=\"\",\"\",Blad1!Q1267)","v":""}]
[{"$f":"IF(Blad1!D1268=\"\",\"\",Blad1!D1268)","v":""},{"$f":"IF(Blad1!E1268=\"\",\"\",Blad1!E1268)","v":""},{"$f":"IF(Blad1!B1268=\"\",\"\",Blad1!B1268)","v":""},{"$f":"IF(Blad1!H1268=\"\",\"\",Blad1!H1268)","v":""},{"$f":"IF(Blad1!I1268=\"\",\"\",Blad1!I1268)","v":""},{"$f":"IF(Blad1!M1268=\"\",\"\",Blad1!M1268)","v":""},{"$f":"IF(Blad1!F1268=\"\",\"\",Blad1!F1268)","v":""},{"$f":"IF(Blad1!Q1268=\"\",\"\",Blad1!Q1268)","v":""}]
[{"$f":"IF(Blad1!D1269=\"\",\"\",Blad1!D1269)","v":""},{"$f":"IF(Blad1!E1269=\"\",\"\",Blad1!E1269)","v":""},{"$f":"IF(Blad1!B1269=\"\",\"\",Blad1!B1269)","v":""},{"$f":"IF(Blad1!H1269=\"\",\"\",Blad1!H1269)","v":""},{"$f":"IF(Blad1!I1269=\"\",\"\",Blad1!I1269)","v":""},{"$f":"IF(Blad1!M1269=\"\",\"\",Blad1!M1269)","v":""},{"$f":"IF(Blad1!F1269=\"\",\"\",Blad1!F1269)","v":""},{"$f":"IF(Blad1!Q1269=\"\",\"\",Blad1!Q1269)","v":""}]
[{"$f":"IF(Blad1!D1270=\"\",\"\",Blad1!D1270)","v":""},{"$f":"IF(Blad1!E1270=\"\",\"\",Blad1!E1270)","v":""},{"$f":"IF(Blad1!B1270=\"\",\"\",Blad1!B1270)","v":""},{"$f":"IF(Blad1!H1270=\"\",\"\",Blad1!H1270)","v":""},{"$f":"IF(Blad1!I1270=\"\",\"\",Blad1!I1270)","v":""},{"$f":"IF(Blad1!M1270=\"\",\"\",Blad1!M1270)","v":""},{"$f":"IF(Blad1!F1270=\"\",\"\",Blad1!F1270)","v":""},{"$f":"IF(Blad1!Q1270=\"\",\"\",Blad1!Q1270)","v":""}]
[{"$f":"IF(Blad1!D1271=\"\",\"\",Blad1!D1271)","v":""},{"$f":"IF(Blad1!E1271=\"\",\"\",Blad1!E1271)","v":""},{"$f":"IF(Blad1!B1271=\"\",\"\",Blad1!B1271)","v":""},{"$f":"IF(Blad1!H1271=\"\",\"\",Blad1!H1271)","v":""},{"$f":"IF(Blad1!I1271=\"\",\"\",Blad1!I1271)","v":""},{"$f":"IF(Blad1!M1271=\"\",\"\",Blad1!M1271)","v":""},{"$f":"IF(Blad1!F1271=\"\",\"\",Blad1!F1271)","v":""},{"$f":"IF(Blad1!Q1271=\"\",\"\",Blad1!Q1271)","v":""}]
[{"$f":"IF(Blad1!D1272=\"\",\"\",Blad1!D1272)","v":""},{"$f":"IF(Blad1!E1272=\"\",\"\",Blad1!E1272)","v":""},{"$f":"IF(Blad1!B1272=\"\",\"\",Blad1!B1272)","v":""},{"$f":"IF(Blad1!H1272=\"\",\"\",Blad1!H1272)","v":""},{"$f":"IF(Blad1!I1272=\"\",\"\",Blad1!I1272)","v":""},{"$f":"IF(Blad1!M1272=\"\",\"\",Blad1!M1272)","v":""},{"$f":"IF(Blad1!F1272=\"\",\"\",Blad1!F1272)","v":""},{"$f":"IF(Blad1!Q1272=\"\",\"\",Blad1!Q1272)","v":""}]
[{"$f":"IF(Blad1!D1273=\"\",\"\",Blad1!D1273)","v":""},{"$f":"IF(Blad1!E1273=\"\",\"\",Blad1!E1273)","v":""},{"$f":"IF(Blad1!B1273=\"\",\"\",Blad1!B1273)","v":""},{"$f":"IF(Blad1!H1273=\"\",\"\",Blad1!H1273)","v":""},{"$f":"IF(Blad1!I1273=\"\",\"\",Blad1!I1273)","v":""},{"$f":"IF(Blad1!M1273=\"\",\"\",Blad1!M1273)","v":""},{"$f":"IF(Blad1!F1273=\"\",\"\",Blad1!F1273)","v":""},{"$f":"IF(Blad1!Q1273=\"\",\"\",Blad1!Q1273)","v":""}]
[{"$f":"IF(Blad1!D1274=\"\",\"\",Blad1!D1274)","v":""},{"$f":"IF(Blad1!E1274=\"\",\"\",Blad1!E1274)","v":""},{"$f":"IF(Blad1!B1274=\"\",\"\",Blad1!B1274)","v":""},{"$f":"IF(Blad1!H1274=\"\",\"\",Blad1!H1274)","v":""},{"$f":"IF(Blad1!I1274=\"\",\"\",Blad1!I1274)","v":""},{"$f":"IF(Blad1!M1274=\"\",\"\",Blad1!M1274)","v":""},{"$f":"IF(Blad1!F1274=\"\",\"\",Blad1!F1274)","v":""},{"$f":"IF(Blad1!Q1274=\"\",\"\",Blad1!Q1274)","v":""}]
[{"$f":"IF(Blad1!D1275=\"\",\"\",Blad1!D1275)","v":""},{"$f":"IF(Blad1!E1275=\"\",\"\",Blad1!E1275)","v":""},{"$f":"IF(Blad1!B1275=\"\",\"\",Blad1!B1275)","v":""},{"$f":"IF(Blad1!H1275=\"\",\"\",Blad1!H1275)","v":""},{"$f":"IF(Blad1!I1275=\"\",\"\",Blad1!I1275)","v":""},{"$f":"IF(Blad1!M1275=\"\",\"\",Blad1!M1275)","v":""},{"$f":"IF(Blad1!F1275=\"\",\"\",Blad1!F1275)","v":""},{"$f":"IF(Blad1!Q1275=\"\",\"\",Blad1!Q1275)","v":""}]
[{"$f":"IF(Blad1!D1276=\"\",\"\",Blad1!D1276)","v":""},{"$f":"IF(Blad1!E1276=\"\",\"\",Blad1!E1276)","v":""},{"$f":"IF(Blad1!B1276=\"\",\"\",Blad1!B1276)","v":""},{"$f":"IF(Blad1!H1276=\"\",\"\",Blad1!H1276)","v":""},{"$f":"IF(Blad1!I1276=\"\",\"\",Blad1!I1276)","v":""},{"$f":"IF(Blad1!M1276=\"\",\"\",Blad1!M1276)","v":""},{"$f":"IF(Blad1!F1276=\"\",\"\",Blad1!F1276)","v":""},{"$f":"IF(Blad1!Q1276=\"\",\"\",Blad1!Q1276)","v":""}]
[{"$f":"IF(Blad1!D1277=\"\",\"\",Blad1!D1277)","v":""},{"$f":"IF(Blad1!E1277=\"\",\"\",Blad1!E1277)","v":""},{"$f":"IF(Blad1!B1277=\"\",\"\",Blad1!B1277)","v":""},{"$f":"IF(Blad1!H1277=\"\",\"\",Blad1!H1277)","v":""},{"$f":"IF(Blad1!I1277=\"\",\"\",Blad1!I1277)","v":""},{"$f":"IF(Blad1!M1277=\"\",\"\",Blad1!M1277)","v":""},{"$f":"IF(Blad1!F1277=\"\",\"\",Blad1!F1277)","v":""},{"$f":"IF(Blad1!Q1277=\"\",\"\",Blad1!Q1277)","v":""}]
[{"$f":"IF(Blad1!D1278=\"\",\"\",Blad1!D1278)","v":""},{"$f":"IF(Blad1!E1278=\"\",\"\",Blad1!E1278)","v":""},{"$f":"IF(Blad1!B1278=\"\",\"\",Blad1!B1278)","v":""},{"$f":"IF(Blad1!H1278=\"\",\"\",Blad1!H1278)","v":""},{"$f":"IF(Blad1!I1278=\"\",\"\",Blad1!I1278)","v":""},{"$f":"IF(Blad1!M1278=\"\",\"\",Blad1!M1278)","v":""},{"$f":"IF(Blad1!F1278=\"\",\"\",Blad1!F1278)","v":""},{"$f":"IF(Blad1!Q1278=\"\",\"\",Blad1!Q1278)","v":""}]
[{"$f":"IF(Blad1!D1279=\"\",\"\",Blad1!D1279)","v":""},{"$f":"IF(Blad1!E1279=\"\",\"\",Blad1!E1279)","v":""},{"$f":"IF(Blad1!B1279=\"\",\"\",Blad1!B1279)","v":""},{"$f":"IF(Blad1!H1279=\"\",\"\",Blad1!H1279)","v":""},{"$f":"IF(Blad1!I1279=\"\",\"\",Blad1!I1279)","v":""},{"$f":"IF(Blad1!M1279=\"\",\"\",Blad1!M1279)","v":""},{"$f":"IF(Blad1!F1279=\"\",\"\",Blad1!F1279)","v":""},{"$f":"IF(Blad1!Q1279=\"\",\"\",Blad1!Q1279)","v":""}]
[{"$f":"IF(Blad1!D1280=\"\",\"\",Blad1!D1280)","v":""},{"$f":"IF(Blad1!E1280=\"\",\"\",Blad1!E1280)","v":""},{"$f":"IF(Blad1!B1280=\"\",\"\",Blad1!B1280)","v":""},{"$f":"IF(Blad1!H1280=\"\",\"\",Blad1!H1280)","v":""},{"$f":"IF(Blad1!I1280=\"\",\"\",Blad1!I1280)","v":""},{"$f":"IF(Blad1!M1280=\"\",\"\",Blad1!M1280)","v":""},{"$f":"IF(Blad1!F1280=\"\",\"\",Blad1!F1280)","v":""},{"$f":"IF(Blad1!Q1280=\"\",\"\",Blad1!Q1280)","v":""}]
[{"$f":"IF(Blad1!D1281=\"\",\"\",Blad1!D1281)","v":""},{"$f":"IF(Blad1!E1281=\"\",\"\",Blad1!E1281)","v":""},{"$f":"IF(Blad1!B1281=\"\",\"\",Blad1!B1281)","v":""},{"$f":"IF(Blad1!H1281=\"\",\"\",Blad1!H1281)","v":""},{"$f":"IF(Blad1!I1281=\"\",\"\",Blad1!I1281)","v":""},{"$f":"IF(Blad1!M1281=\"\",\"\",Blad1!M1281)","v":""},{"$f":"IF(Blad1!F1281=\"\",\"\",Blad1!F1281)","v":""},{"$f":"IF(Blad1!Q1281=\"\",\"\",Blad1!Q1281)","v":""}]
[{"$f":"IF(Blad1!D1282=\"\",\"\",Blad1!D1282)","v":""},{"$f":"IF(Blad1!E1282=\"\",\"\",Blad1!E1282)","v":""},{"$f":"IF(Blad1!B1282=\"\",\"\",Blad1!B1282)","v":""},{"$f":"IF(Blad1!H1282=\"\",\"\",Blad1!H1282)","v":""},{"$f":"IF(Blad1!I1282=\"\",\"\",Blad1!I1282)","v":""},{"$f":"IF(Blad1!M1282=\"\",\"\",Blad1!M1282)","v":""},{"$f":"IF(Blad1!F1282=\"\",\"\",Blad1!F1282)","v":""},{"$f":"IF(Blad1!Q1282=\"\",\"\",Blad1!Q1282)","v":""}]
[{"$f":"IF(Blad1!D1283=\"\",\"\",Blad1!D1283)","v":""},{"$f":"IF(Blad1!E1283=\"\",\"\",Blad1!E1283)","v":""},{"$f":"IF(Blad1!B1283=\"\",\"\",Blad1!B1283)","v":""},{"$f":"IF(Blad1!H1283=\"\",\"\",Blad1!H1283)","v":""},{"$f":"IF(Blad1!I1283=\"\",\"\",Blad1!I1283)","v":""},{"$f":"IF(Blad1!M1283=\"\",\"\",Blad1!M1283)","v":""},{"$f":"IF(Blad1!F1283=\"\",\"\",Blad1!F1283)","v":""},{"$f":"IF(Blad1!Q1283=\"\",\"\",Blad1!Q1283)","v":""}]
[{"$f":"IF(Blad1!D1284=\"\",\"\",Blad1!D1284)","v":""},{"$f":"IF(Blad1!E1284=\"\",\"\",Blad1!E1284)","v":""},{"$f":"IF(Blad1!B1284=\"\",\"\",Blad1!B1284)","v":""},{"$f":"IF(Blad1!H1284=\"\",\"\",Blad1!H1284)","v":""},{"$f":"IF(Blad1!I1284=\"\",\"\",Blad1!I1284)","v":""},{"$f":"IF(Blad1!M1284=\"\",\"\",Blad1!M1284)","v":""},{"$f":"IF(Blad1!F1284=\"\",\"\",Blad1!F1284)","v":""},{"$f":"IF(Blad1!Q1284=\"\",\"\",Blad1!Q1284)","v":""}]
[{"$f":"IF(Blad1!D1285=\"\",\"\",Blad1!D1285)","v":""},{"$f":"IF(Blad1!E1285=\"\",\"\",Blad1!E1285)","v":""},{"$f":"IF(Blad1!B1285=\"\",\"\",Blad1!B1285)","v":""},{"$f":"IF(Blad1!H1285=\"\",\"\",Blad1!H1285)","v":""},{"$f":"IF(Blad1!I1285=\"\",\"\",Blad1!I1285)","v":""},{"$f":"IF(Blad1!M1285=\"\",\"\",Blad1!M1285)","v":""},{"$f":"IF(Blad1!F1285=\"\",\"\",Blad1!F1285)","v":""},{"$f":"IF(Blad1!Q1285=\"\",\"\",Blad1!Q1285)","v":""}]
[{"$f":"IF(Blad1!D1286=\"\",\"\",Blad1!D1286)","v":""},{"$f":"IF(Blad1!E1286=\"\",\"\",Blad1!E1286)","v":""},{"$f":"IF(Blad1!B1286=\"\",\"\",Blad1!B1286)","v":""},{"$f":"IF(Blad1!H1286=\"\",\"\",Blad1!H1286)","v":""},{"$f":"IF(Blad1!I1286=\"\",\"\",Blad1!I1286)","v":""},{"$f":"IF(Blad1!M1286=\"\",\"\",Blad1!M1286)","v":""},{"$f":"IF(Blad1!F1286=\"\",\"\",Blad1!F1286)","v":""},{"$f":"IF(Blad1!Q1286=\"\",\"\",Blad1!Q1286)","v":""}]
[{"$f":"IF(Blad1!D1287=\"\",\"\",Blad1!D1287)","v":""},{"$f":"IF(Blad1!E1287=\"\",\"\",Blad1!E1287)","v":""},{"$f":"IF(Blad1!B1287=\"\",\"\",Blad1!B1287)","v":""},{"$f":"IF(Blad1!H1287=\"\",\"\",Blad1!H1287)","v":""},{"$f":"IF(Blad1!I1287=\"\",\"\",Blad1!I1287)","v":""},{"$f":"IF(Blad1!M1287=\"\",\"\",Blad1!M1287)","v":""},{"$f":"IF(Blad1!F1287=\"\",\"\",Blad1!F1287)","v":""},{"$f":"IF(Blad1!Q1287=\"\",\"\",Blad1!Q1287)","v":""}]
[{"$f":"IF(Blad1!D1288=\"\",\"\",Blad1!D1288)","v":""},{"$f":"IF(Blad1!E1288=\"\",\"\",Blad1!E1288)","v":""},{"$f":"IF(Blad1!B1288=\"\",\"\",Blad1!B1288)","v":""},{"$f":"IF(Blad1!H1288=\"\",\"\",Blad1!H1288)","v":""},{"$f":"IF(Blad1!I1288=\"\",\"\",Blad1!I1288)","v":""},{"$f":"IF(Blad1!M1288=\"\",\"\",Blad1!M1288)","v":""},{"$f":"IF(Blad1!F1288=\"\",\"\",Blad1!F1288)","v":""},{"$f":"IF(Blad1!Q1288=\"\",\"\",Blad1!Q1288)","v":""}]
[{"$f":"IF(Blad1!D1289=\"\",\"\",Blad1!D1289)","v":""},{"$f":"IF(Blad1!E1289=\"\",\"\",Blad1!E1289)","v":""},{"$f":"IF(Blad1!B1289=\"\",\"\",Blad1!B1289)","v":""},{"$f":"IF(Blad1!H1289=\"\",\"\",Blad1!H1289)","v":""},{"$f":"IF(Blad1!I1289=\"\",\"\",Blad1!I1289)","v":""},{"$f":"IF(Blad1!M1289=\"\",\"\",Blad1!M1289)","v":""},{"$f":"IF(Blad1!F1289=\"\",\"\",Blad1!F1289)","v":""},{"$f":"IF(Blad1!Q1289=\"\",\"\",Blad1!Q1289)","v":""}]
[{"$f":"IF(Blad1!D1290=\"\",\"\",Blad1!D1290)","v":""},{"$f":"IF(Blad1!E1290=\"\",\"\",Blad1!E1290)","v":""},{"$f":"IF(Blad1!B1290=\"\",\"\",Blad1!B1290)","v":""},{"$f":"IF(Blad1!H1290=\"\",\"\",Blad1!H1290)","v":""},{"$f":"IF(Blad1!I1290=\"\",\"\",Blad1!I1290)","v":""},{"$f":"IF(Blad1!M1290=\"\",\"\",Blad1!M1290)","v":""},{"$f":"IF(Blad1!F1290=\"\",\"\",Blad1!F1290)","v":""},{"$f":"IF(Blad1!Q1290=\"\",\"\",Blad1!Q1290)","v":""}]
[{"$f":"IF(Blad1!D1291=\"\",\"\",Blad1!D1291)","v":""},{"$f":"IF(Blad1!E1291=\"\",\"\",Blad1!E1291)","v":""},{"$f":"IF(Blad1!B1291=\"\",\"\",Blad1!B1291)","v":""},{"$f":"IF(Blad1!H1291=\"\",\"\",Blad1!H1291)","v":""},{"$f":"IF(Blad1!I1291=\"\",\"\",Blad1!I1291)","v":""},{"$f":"IF(Blad1!M1291=\"\",\"\",Blad1!M1291)","v":""},{"$f":"IF(Blad1!F1291=\"\",\"\",Blad1!F1291)","v":""},{"$f":"IF(Blad1!Q1291=\"\",\"\",Blad1!Q1291)","v":""}]
[{"$f":"IF(Blad1!D1292=\"\",\"\",Blad1!D1292)","v":""},{"$f":"IF(Blad1!E1292=\"\",\"\",Blad1!E1292)","v":""},{"$f":"IF(Blad1!B1292=\"\",\"\",Blad1!B1292)","v":""},{"$f":"IF(Blad1!H1292=\"\",\"\",Blad1!H1292)","v":""},{"$f":"IF(Blad1!I1292=\"\",\"\",Blad1!I1292)","v":""},{"$f":"IF(Blad1!M1292=\"\",\"\",Blad1!M1292)","v":""},{"$f":"IF(Blad1!F1292=\"\",\"\",Blad1!F1292)","v":""},{"$f":"IF(Blad1!Q1292=\"\",\"\",Blad1!Q1292)","v":""}]
[{"$f":"IF(Blad1!D1293=\"\",\"\",Blad1!D1293)","v":""},{"$f":"IF(Blad1!E1293=\"\",\"\",Blad1!E1293)","v":""},{"$f":"IF(Blad1!B1293=\"\",\"\",Blad1!B1293)","v":""},{"$f":"IF(Blad1!H1293=\"\",\"\",Blad1!H1293)","v":""},{"$f":"IF(Blad1!I1293=\"\",\"\",Blad1!I1293)","v":""},{"$f":"IF(Blad1!M1293=\"\",\"\",Blad1!M1293)","v":""},{"$f":"IF(Blad1!F1293=\"\",\"\",Blad1!F1293)","v":""},{"$f":"IF(Blad1!Q1293=\"\",\"\",Blad1!Q1293)","v":""}]
[{"$f":"IF(Blad1!D1294=\"\",\"\",Blad1!D1294)","v":""},{"$f":"IF(Blad1!E1294=\"\",\"\",Blad1!E1294)","v":""},{"$f":"IF(Blad1!B1294=\"\",\"\",Blad1!B1294)","v":""},{"$f":"IF(Blad1!H1294=\"\",\"\",Blad1!H1294)","v":""},{"$f":"IF(Blad1!I1294=\"\",\"\",Blad1!I1294)","v":""},{"$f":"IF(Blad1!M1294=\"\",\"\",Blad1!M1294)","v":""},{"$f":"IF(Blad1!F1294=\"\",\"\",Blad1!F1294)","v":""},{"$f":"IF(Blad1!Q1294=\"\",\"\",Blad1!Q1294)","v":""}]
[{"$f":"IF(Blad1!D1295=\"\",\"\",Blad1!D1295)","v":""},{"$f":"IF(Blad1!E1295=\"\",\"\",Blad1!E1295)","v":""},{"$f":"IF(Blad1!B1295=\"\",\"\",Blad1!B1295)","v":""},{"$f":"IF(Blad1!H1295=\"\",\"\",Blad1!H1295)","v":""},{"$f":"IF(Blad1!I1295=\"\",\"\",Blad1!I1295)","v":""},{"$f":"IF(Blad1!M1295=\"\",\"\",Blad1!M1295)","v":""},{"$f":"IF(Blad1!F1295=\"\",\"\",Blad1!F1295)","v":""},{"$f":"IF(Blad1!Q1295=\"\",\"\",Blad1!Q1295)","v":""}]
[{"$f":"IF(Blad1!D1296=\"\",\"\",Blad1!D1296)","v":""},{"$f":"IF(Blad1!E1296=\"\",\"\",Blad1!E1296)","v":""},{"$f":"IF(Blad1!B1296=\"\",\"\",Blad1!B1296)","v":""},{"$f":"IF(Blad1!H1296=\"\",\"\",Blad1!H1296)","v":""},{"$f":"IF(Blad1!I1296=\"\",\"\",Blad1!I1296)","v":""},{"$f":"IF(Blad1!M1296=\"\",\"\",Blad1!M1296)","v":""},{"$f":"IF(Blad1!F1296=\"\",\"\",Blad1!F1296)","v":""},{"$f":"IF(Blad1!Q1296=\"\",\"\",Blad1!Q1296)","v":""}]
[{"$f":"IF(Blad1!D1297=\"\",\"\",Blad1!D1297)","v":""},{"$f":"IF(Blad1!E1297=\"\",\"\",Blad1!E1297)","v":""},{"$f":"IF(Blad1!B1297=\"\",\"\",Blad1!B1297)","v":""},{"$f":"IF(Blad1!H1297=\"\",\"\",Blad1!H1297)","v":""},{"$f":"IF(Blad1!I1297=\"\",\"\",Blad1!I1297)","v":""},{"$f":"IF(Blad1!M1297=\"\",\"\",Blad1!M1297)","v":""},{"$f":"IF(Blad1!F1297=\"\",\"\",Blad1!F1297)","v":""},{"$f":"IF(Blad1!Q1297=\"\",\"\",Blad1!Q1297)","v":""}]
[{"$f":"IF(Blad1!D1298=\"\",\"\",Blad1!D1298)","v":""},{"$f":"IF(Blad1!E1298=\"\",\"\",Blad1!E1298)","v":""},{"$f":"IF(Blad1!B1298=\"\",\"\",Blad1!B1298)","v":""},{"$f":"IF(Blad1!H1298=\"\",\"\",Blad1!H1298)","v":""},{"$f":"IF(Blad1!I1298=\"\",\"\",Blad1!I1298)","v":""},{"$f":"IF(Blad1!M1298=\"\",\"\",Blad1!M1298)","v":""},{"$f":"IF(Blad1!F1298=\"\",\"\",Blad1!F1298)","v":""},{"$f":"IF(Blad1!Q1298=\"\",\"\",Blad1!Q1298)","v":""}]
[{"$f":"IF(Blad1!D1299=\"\",\"\",Blad1!D1299)","v":""},{"$f":"IF(Blad1!E1299=\"\",\"\",Blad1!E1299)","v":""},{"$f":"IF(Blad1!B1299=\"\",\"\",Blad1!B1299)","v":""},{"$f":"IF(Blad1!H1299=\"\",\"\",Blad1!H1299)","v":""},{"$f":"IF(Blad1!I1299=\"\",\"\",Blad1!I1299)","v":""},{"$f":"IF(Blad1!M1299=\"\",\"\",Blad1!M1299)","v":""},{"$f":"IF(Blad1!F1299=\"\",\"\",Blad1!F1299)","v":""},{"$f":"IF(Blad1!Q1299=\"\",\"\",Blad1!Q1299)","v":""}]
[{"$f":"IF(Blad1!D1300=\"\",\"\",Blad1!D1300)","v":""},{"$f":"IF(Blad1!E1300=\"\",\"\",Blad1!E1300)","v":""},{"$f":"IF(Blad1!B1300=\"\",\"\",Blad1!B1300)","v":""},{"$f":"IF(Blad1!H1300=\"\",\"\",Blad1!H1300)","v":""},{"$f":"IF(Blad1!I1300=\"\",\"\",Blad1!I1300)","v":""},{"$f":"IF(Blad1!M1300=\"\",\"\",Blad1!M1300)","v":""},{"$f":"IF(Blad1!F1300=\"\",\"\",Blad1!F1300)","v":""},{"$f":"IF(Blad1!Q1300=\"\",\"\",Blad1!Q1300)","v":""}]
[{"$f":"IF(Blad1!D1301=\"\",\"\",Blad1!D1301)","v":""},{"$f":"IF(Blad1!E1301=\"\",\"\",Blad1!E1301)","v":""},{"$f":"IF(Blad1!B1301=\"\",\"\",Blad1!B1301)","v":""},{"$f":"IF(Blad1!H1301=\"\",\"\",Blad1!H1301)","v":""},{"$f":"IF(Blad1!I1301=\"\",\"\",Blad1!I1301)","v":""},{"$f":"IF(Blad1!M1301=\"\",\"\",Blad1!M1301)","v":""},{"$f":"IF(Blad1!F1301=\"\",\"\",Blad1!F1301)","v":""},{"$f":"IF(Blad1!Q1301=\"\",\"\",Blad1!Q1301)","v":""}]
[{"$f":"IF(Blad1!D1302=\"\",\"\",Blad1!D1302)","v":""},{"$f":"IF(Blad1!E1302=\"\",\"\",Blad1!E1302)","v":""},{"$f":"IF(Blad1!B1302=\"\",\"\",Blad1!B1302)","v":""},{"$f":"IF(Blad1!H1302=\"\",\"\",Blad1!H1302)","v":""},{"$f":"IF(Blad1!I1302=\"\",\"\",Blad1!I1302)","v":""},{"$f":"IF(Blad1!M1302=\"\",\"\",Blad1!M1302)","v":""},{"$f":"IF(Blad1!F1302=\"\",\"\",Blad1!F1302)","v":""},{"$f":"IF(Blad1!Q1302=\"\",\"\",Blad1!Q1302)","v":""}]
[{"$f":"IF(Blad1!D1303=\"\",\"\",Blad1!D1303)","v":""},{"$f":"IF(Blad1!E1303=\"\",\"\",Blad1!E1303)","v":""},{"$f":"IF(Blad1!B1303=\"\",\"\",Blad1!B1303)","v":""},{"$f":"IF(Blad1!H1303=\"\",\"\",Blad1!H1303)","v":""},{"$f":"IF(Blad1!I1303=\"\",\"\",Blad1!I1303)","v":""},{"$f":"IF(Blad1!M1303=\"\",\"\",Blad1!M1303)","v":""},{"$f":"IF(Blad1!F1303=\"\",\"\",Blad1!F1303)","v":""},{"$f":"IF(Blad1!Q1303=\"\",\"\",Blad1!Q1303)","v":""}]
[{"$f":"IF(Blad1!D1304=\"\",\"\",Blad1!D1304)","v":""},{"$f":"IF(Blad1!E1304=\"\",\"\",Blad1!E1304)","v":""},{"$f":"IF(Blad1!B1304=\"\",\"\",Blad1!B1304)","v":""},{"$f":"IF(Blad1!H1304=\"\",\"\",Blad1!H1304)","v":""},{"$f":"IF(Blad1!I1304=\"\",\"\",Blad1!I1304)","v":""},{"$f":"IF(Blad1!M1304=\"\",\"\",Blad1!M1304)","v":""},{"$f":"IF(Blad1!F1304=\"\",\"\",Blad1!F1304)","v":""},{"$f":"IF(Blad1!Q1304=\"\",\"\",Blad1!Q1304)","v":""}]
[{"$f":"IF(Blad1!D1305=\"\",\"\",Blad1!D1305)","v":""},{"$f":"IF(Blad1!E1305=\"\",\"\",Blad1!E1305)","v":""},{"$f":"IF(Blad1!B1305=\"\",\"\",Blad1!B1305)","v":""},{"$f":"IF(Blad1!H1305=\"\",\"\",Blad1!H1305)","v":""},{"$f":"IF(Blad1!I1305=\"\",\"\",Blad1!I1305)","v":""},{"$f":"IF(Blad1!M1305=\"\",\"\",Blad1!M1305)","v":""},{"$f":"IF(Blad1!F1305=\"\",\"\",Blad1!F1305)","v":""},{"$f":"IF(Blad1!Q1305=\"\",\"\",Blad1!Q1305)","v":""}]
[{"$f":"IF(Blad1!D1306=\"\",\"\",Blad1!D1306)","v":""},{"$f":"IF(Blad1!E1306=\"\",\"\",Blad1!E1306)","v":""},{"$f":"IF(Blad1!B1306=\"\",\"\",Blad1!B1306)","v":""},{"$f":"IF(Blad1!H1306=\"\",\"\",Blad1!H1306)","v":""},{"$f":"IF(Blad1!I1306=\"\",\"\",Blad1!I1306)","v":""},{"$f":"IF(Blad1!M1306=\"\",\"\",Blad1!M1306)","v":""},{"$f":"IF(Blad1!F1306=\"\",\"\",Blad1!F1306)","v":""},{"$f":"IF(Blad1!Q1306=\"\",\"\",Blad1!Q1306)","v":""}]
[{"$f":"IF(Blad1!D1307=\"\",\"\",Blad1!D1307)","v":""},{"$f":"IF(Blad1!E1307=\"\",\"\",Blad1!E1307)","v":""},{"$f":"IF(Blad1!B1307=\"\",\"\",Blad1!B1307)","v":""},{"$f":"IF(Blad1!H1307=\"\",\"\",Blad1!H1307)","v":""},{"$f":"IF(Blad1!I1307=\"\",\"\",Blad1!I1307)","v":""},{"$f":"IF(Blad1!M1307=\"\",\"\",Blad1!M1307)","v":""},{"$f":"IF(Blad1!F1307=\"\",\"\",Blad1!F1307)","v":""},{"$f":"IF(Blad1!Q1307=\"\",\"\",Blad1!Q1307)","v":""}]
[{"$f":"IF(Blad1!D1308=\"\",\"\",Blad1!D1308)","v":""},{"$f":"IF(Blad1!E1308=\"\",\"\",Blad1!E1308)","v":""},{"$f":"IF(Blad1!B1308=\"\",\"\",Blad1!B1308)","v":""},{"$f":"IF(Blad1!H1308=\"\",\"\",Blad1!H1308)","v":""},{"$f":"IF(Blad1!I1308=\"\",\"\",Blad1!I1308)","v":""},{"$f":"IF(Blad1!M1308=\"\",\"\",Blad1!M1308)","v":""},{"$f":"IF(Blad1!F1308=\"\",\"\",Blad1!F1308)","v":""},{"$f":"IF(Blad1!Q1308=\"\",\"\",Blad1!Q1308)","v":""}]
[{"$f":"IF(Blad1!D1309=\"\",\"\",Blad1!D1309)","v":""},{"$f":"IF(Blad1!E1309=\"\",\"\",Blad1!E1309)","v":""},{"$f":"IF(Blad1!B1309=\"\",\"\",Blad1!B1309)","v":""},{"$f":"IF(Blad1!H1309=\"\",\"\",Blad1!H1309)","v":""},{"$f":"IF(Blad1!I1309=\"\",\"\",Blad1!I1309)","v":""},{"$f":"IF(Blad1!M1309=\"\",\"\",Blad1!M1309)","v":""},{"$f":"IF(Blad1!F1309=\"\",\"\",Blad1!F1309)","v":""},{"$f":"IF(Blad1!Q1309=\"\",\"\",Blad1!Q1309)","v":""}]
[{"$f":"IF(Blad1!D1310=\"\",\"\",Blad1!D1310)","v":""},{"$f":"IF(Blad1!E1310=\"\",\"\",Blad1!E1310)","v":""},{"$f":"IF(Blad1!B1310=\"\",\"\",Blad1!B1310)","v":""},{"$f":"IF(Blad1!H1310=\"\",\"\",Blad1!H1310)","v":""},{"$f":"IF(Blad1!I1310=\"\",\"\",Blad1!I1310)","v":""},{"$f":"IF(Blad1!M1310=\"\",\"\",Blad1!M1310)","v":""},{"$f":"IF(Blad1!F1310=\"\",\"\",Blad1!F1310)","v":""},{"$f":"IF(Blad1!Q1310=\"\",\"\",Blad1!Q1310)","v":""}]
[{"$f":"IF(Blad1!D1311=\"\",\"\",Blad1!D1311)","v":""},{"$f":"IF(Blad1!E1311=\"\",\"\",Blad1!E1311)","v":""},{"$f":"IF(Blad1!B1311=\"\",\"\",Blad1!B1311)","v":""},{"$f":"IF(Blad1!H1311=\"\",\"\",Blad1!H1311)","v":""},{"$f":"IF(Blad1!I1311=\"\",\"\",Blad1!I1311)","v":""},{"$f":"IF(Blad1!M1311=\"\",\"\",Blad1!M1311)","v":""},{"$f":"IF(Blad1!F1311=\"\",\"\",Blad1!F1311)","v":""},{"$f":"IF(Blad1!Q1311=\"\",\"\",Blad1!Q1311)","v":""}]
[{"$f":"IF(Blad1!D1312=\"\",\"\",Blad1!D1312)","v":""},{"$f":"IF(Blad1!E1312=\"\",\"\",Blad1!E1312)","v":""},{"$f":"IF(Blad1!B1312=\"\",\"\",Blad1!B1312)","v":""},{"$f":"IF(Blad1!H1312=\"\",\"\",Blad1!H1312)","v":""},{"$f":"IF(Blad1!I1312=\"\",\"\",Blad1!I1312)","v":""},{"$f":"IF(Blad1!M1312=\"\",\"\",Blad1!M1312)","v":""},{"$f":"IF(Blad1!F1312=\"\",\"\",Blad1!F1312)","v":""},{"$f":"IF(Blad1!Q1312=\"\",\"\",Blad1!Q1312)","v":""}]
[{"$f":"IF(Blad1!D1313=\"\",\"\",Blad1!D1313)","v":""},{"$f":"IF(Blad1!E1313=\"\",\"\",Blad1!E1313)","v":""},{"$f":"IF(Blad1!B1313=\"\",\"\",Blad1!B1313)","v":""},{"$f":"IF(Blad1!H1313=\"\",\"\",Blad1!H1313)","v":""},{"$f":"IF(Blad1!I1313=\"\",\"\",Blad1!I1313)","v":""},{"$f":"IF(Blad1!M1313=\"\",\"\",Blad1!M1313)","v":""},{"$f":"IF(Blad1!F1313=\"\",\"\",Blad1!F1313)","v":""},{"$f":"IF(Blad1!Q1313=\"\",\"\",Blad1!Q1313)","v":""}]
[{"$f":"IF(Blad1!D1314=\"\",\"\",Blad1!D1314)","v":""},{"$f":"IF(Blad1!E1314=\"\",\"\",Blad1!E1314)","v":""},{"$f":"IF(Blad1!B1314=\"\",\"\",Blad1!B1314)","v":""},{"$f":"IF(Blad1!H1314=\"\",\"\",Blad1!H1314)","v":""},{"$f":"IF(Blad1!I1314=\"\",\"\",Blad1!I1314)","v":""},{"$f":"IF(Blad1!M1314=\"\",\"\",Blad1!M1314)","v":""},{"$f":"IF(Blad1!F1314=\"\",\"\",Blad1!F1314)","v":""},{"$f":"IF(Blad1!Q1314=\"\",\"\",Blad1!Q1314)","v":""}]
[{"$f":"IF(Blad1!D1315=\"\",\"\",Blad1!D1315)","v":""},{"$f":"IF(Blad1!E1315=\"\",\"\",Blad1!E1315)","v":""},{"$f":"IF(Blad1!B1315=\"\",\"\",Blad1!B1315)","v":""},{"$f":"IF(Blad1!H1315=\"\",\"\",Blad1!H1315)","v":""},{"$f":"IF(Blad1!I1315=\"\",\"\",Blad1!I1315)","v":""},{"$f":"IF(Blad1!M1315=\"\",\"\",Blad1!M1315)","v":""},{"$f":"IF(Blad1!F1315=\"\",\"\",Blad1!F1315)","v":""},{"$f":"IF(Blad1!Q1315=\"\",\"\",Blad1!Q1315)","v":""}]
[{"$f":"IF(Blad1!D1316=\"\",\"\",Blad1!D1316)","v":""},{"$f":"IF(Blad1!E1316=\"\",\"\",Blad1!E1316)","v":""},{"$f":"IF(Blad1!B1316=\"\",\"\",Blad1!B1316)","v":""},{"$f":"IF(Blad1!H1316=\"\",\"\",Blad1!H1316)","v":""},{"$f":"IF(Blad1!I1316=\"\",\"\",Blad1!I1316)","v":""},{"$f":"IF(Blad1!M1316=\"\",\"\",Blad1!M1316)","v":""},{"$f":"IF(Blad1!F1316=\"\",\"\",Blad1!F1316)","v":""},{"$f":"IF(Blad1!Q1316=\"\",\"\",Blad1!Q1316)","v":""}]
[{"$f":"IF(Blad1!D1317=\"\",\"\",Blad1!D1317)","v":""},{"$f":"IF(Blad1!E1317=\"\",\"\",Blad1!E1317)","v":""},{"$f":"IF(Blad1!B1317=\"\",\"\",Blad1!B1317)","v":""},{"$f":"IF(Blad1!H1317=\"\",\"\",Blad1!H1317)","v":""},{"$f":"IF(Blad1!I1317=\"\",\"\",Blad1!I1317)","v":""},{"$f":"IF(Blad1!M1317=\"\",\"\",Blad1!M1317)","v":""},{"$f":"IF(Blad1!F1317=\"\",\"\",Blad1!F1317)","v":""},{"$f":"IF(Blad1!Q1317=\"\",\"\",Blad1!Q1317)","v":""}]
[{"$f":"IF(Blad1!D1318=\"\",\"\",Blad1!D1318)","v":""},{"$f":"IF(Blad1!E1318=\"\",\"\",Blad1!E1318)","v":""},{"$f":"IF(Blad1!B1318=\"\",\"\",Blad1!B1318)","v":""},{"$f":"IF(Blad1!H1318=\"\",\"\",Blad1!H1318)","v":""},{"$f":"IF(Blad1!I1318=\"\",\"\",Blad1!I1318)","v":""},{"$f":"IF(Blad1!M1318=\"\",\"\",Blad1!M1318)","v":""},{"$f":"IF(Blad1!F1318=\"\",\"\",Blad1!F1318)","v":""},{"$f":"IF(Blad1!Q1318=\"\",\"\",Blad1!Q1318)","v":""}]
[{"$f":"IF(Blad1!D1319=\"\",\"\",Blad1!D1319)","v":""},{"$f":"IF(Blad1!E1319=\"\",\"\",Blad1!E1319)","v":""},{"$f":"IF(Blad1!B1319=\"\",\"\",Blad1!B1319)","v":""},{"$f":"IF(Blad1!H1319=\"\",\"\",Blad1!H1319)","v":""},{"$f":"IF(Blad1!I1319=\"\",\"\",Blad1!I1319)","v":""},{"$f":"IF(Blad1!M1319=\"\",\"\",Blad1!M1319)","v":""},{"$f":"IF(Blad1!F1319=\"\",\"\",Blad1!F1319)","v":""},{"$f":"IF(Blad1!Q1319=\"\",\"\",Blad1!Q1319)","v":""}]
[{"$f":"IF(Blad1!D1320=\"\",\"\",Blad1!D1320)","v":""},{"$f":"IF(Blad1!E1320=\"\",\"\",Blad1!E1320)","v":""},{"$f":"IF(Blad1!B1320=\"\",\"\",Blad1!B1320)","v":""},{"$f":"IF(Blad1!H1320=\"\",\"\",Blad1!H1320)","v":""},{"$f":"IF(Blad1!I1320=\"\",\"\",Blad1!I1320)","v":""},{"$f":"IF(Blad1!M1320=\"\",\"\",Blad1!M1320)","v":""},{"$f":"IF(Blad1!F1320=\"\",\"\",Blad1!F1320)","v":""},{"$f":"IF(Blad1!Q1320=\"\",\"\",Blad1!Q1320)","v":""}]
[{"$f":"IF(Blad1!D1321=\"\",\"\",Blad1!D1321)","v":""},{"$f":"IF(Blad1!E1321=\"\",\"\",Blad1!E1321)","v":""},{"$f":"IF(Blad1!B1321=\"\",\"\",Blad1!B1321)","v":""},{"$f":"IF(Blad1!H1321=\"\",\"\",Blad1!H1321)","v":""},{"$f":"IF(Blad1!I1321=\"\",\"\",Blad1!I1321)","v":""},{"$f":"IF(Blad1!M1321=\"\",\"\",Blad1!M1321)","v":""},{"$f":"IF(Blad1!F1321=\"\",\"\",Blad1!F1321)","v":""},{"$f":"IF(Blad1!Q1321=\"\",\"\",Blad1!Q1321)","v":""}]
[{"$f":"IF(Blad1!D1322=\"\",\"\",Blad1!D1322)","v":""},{"$f":"IF(Blad1!E1322=\"\",\"\",Blad1!E1322)","v":""},{"$f":"IF(Blad1!B1322=\"\",\"\",Blad1!B1322)","v":""},{"$f":"IF(Blad1!H1322=\"\",\"\",Blad1!H1322)","v":""},{"$f":"IF(Blad1!I1322=\"\",\"\",Blad1!I1322)","v":""},{"$f":"IF(Blad1!M1322=\"\",\"\",Blad1!M1322)","v":""},{"$f":"IF(Blad1!F1322=\"\",\"\",Blad1!F1322)","v":""},{"$f":"IF(Blad1!Q1322=\"\",\"\",Blad1!Q1322)","v":""}]
[{"$f":"IF(Blad1!D1323=\"\",\"\",Blad1!D1323)","v":""},{"$f":"IF(Blad1!E1323=\"\",\"\",Blad1!E1323)","v":""},{"$f":"IF(Blad1!B1323=\"\",\"\",Blad1!B1323)","v":""},{"$f":"IF(Blad1!H1323=\"\",\"\",Blad1!H1323)","v":""},{"$f":"IF(Blad1!I1323=\"\",\"\",Blad1!I1323)","v":""},{"$f":"IF(Blad1!M1323=\"\",\"\",Blad1!M1323)","v":""},{"$f":"IF(Blad1!F1323=\"\",\"\",Blad1!F1323)","v":""},{"$f":"IF(Blad1!Q1323=\"\",\"\",Blad1!Q1323)","v":""}]
[{"$f":"IF(Blad1!D1324=\"\",\"\",Blad1!D1324)","v":""},{"$f":"IF(Blad1!E1324=\"\",\"\",Blad1!E1324)","v":""},{"$f":"IF(Blad1!B1324=\"\",\"\",Blad1!B1324)","v":""},{"$f":"IF(Blad1!H1324=\"\",\"\",Blad1!H1324)","v":""},{"$f":"IF(Blad1!I1324=\"\",\"\",Blad1!I1324)","v":""},{"$f":"IF(Blad1!M1324=\"\",\"\",Blad1!M1324)","v":""},{"$f":"IF(Blad1!F1324=\"\",\"\",Blad1!F1324)","v":""},{"$f":"IF(Blad1!Q1324=\"\",\"\",Blad1!Q1324)","v":""}]
[{"$f":"IF(Blad1!D1325=\"\",\"\",Blad1!D1325)","v":""},{"$f":"IF(Blad1!E1325=\"\",\"\",Blad1!E1325)","v":""},{"$f":"IF(Blad1!B1325=\"\",\"\",Blad1!B1325)","v":""},{"$f":"IF(Blad1!H1325=\"\",\"\",Blad1!H1325)","v":""},{"$f":"IF(Blad1!I1325=\"\",\"\",Blad1!I1325)","v":""},{"$f":"IF(Blad1!M1325=\"\",\"\",Blad1!M1325)","v":""},{"$f":"IF(Blad1!F1325=\"\",\"\",Blad1!F1325)","v":""},{"$f":"IF(Blad1!Q1325=\"\",\"\",Blad1!Q1325)","v":""}]
[{"$f":"IF(Blad1!D1326=\"\",\"\",Blad1!D1326)","v":""},{"$f":"IF(Blad1!E1326=\"\",\"\",Blad1!E1326)","v":""},{"$f":"IF(Blad1!B1326=\"\",\"\",Blad1!B1326)","v":""},{"$f":"IF(Blad1!H1326=\"\",\"\",Blad1!H1326)","v":""},{"$f":"IF(Blad1!I1326=\"\",\"\",Blad1!I1326)","v":""},{"$f":"IF(Blad1!M1326=\"\",\"\",Blad1!M1326)","v":""},{"$f":"IF(Blad1!F1326=\"\",\"\",Blad1!F1326)","v":""},{"$f":"IF(Blad1!Q1326=\"\",\"\",Blad1!Q1326)","v":""}]
[{"$f":"IF(Blad1!D1327=\"\",\"\",Blad1!D1327)","v":""},{"$f":"IF(Blad1!E1327=\"\",\"\",Blad1!E1327)","v":""},{"$f":"IF(Blad1!B1327=\"\",\"\",Blad1!B1327)","v":""},{"$f":"IF(Blad1!H1327=\"\",\"\",Blad1!H1327)","v":""},{"$f":"IF(Blad1!I1327=\"\",\"\",Blad1!I1327)","v":""},{"$f":"IF(Blad1!M1327=\"\",\"\",Blad1!M1327)","v":""},{"$f":"IF(Blad1!F1327=\"\",\"\",Blad1!F1327)","v":""},{"$f":"IF(Blad1!Q1327=\"\",\"\",Blad1!Q1327)","v":""}]
[{"$f":"IF(Blad1!D1328=\"\",\"\",Blad1!D1328)","v":""},{"$f":"IF(Blad1!E1328=\"\",\"\",Blad1!E1328)","v":""},{"$f":"IF(Blad1!B1328=\"\",\"\",Blad1!B1328)","v":""},{"$f":"IF(Blad1!H1328=\"\",\"\",Blad1!H1328)","v":""},{"$f":"IF(Blad1!I1328=\"\",\"\",Blad1!I1328)","v":""},{"$f":"IF(Blad1!M1328=\"\",\"\",Blad1!M1328)","v":""},{"$f":"IF(Blad1!F1328=\"\",\"\",Blad1!F1328)","v":""},{"$f":"IF(Blad1!Q1328=\"\",\"\",Blad1!Q1328)","v":""}]
[{"$f":"IF(Blad1!D1329=\"\",\"\",Blad1!D1329)","v":""},{"$f":"IF(Blad1!E1329=\"\",\"\",Blad1!E1329)","v":""},{"$f":"IF(Blad1!B1329=\"\",\"\",Blad1!B1329)","v":""},{"$f":"IF(Blad1!H1329=\"\",\"\",Blad1!H1329)","v":""},{"$f":"IF(Blad1!I1329=\"\",\"\",Blad1!I1329)","v":""},{"$f":"IF(Blad1!M1329=\"\",\"\",Blad1!M1329)","v":""},{"$f":"IF(Blad1!F1329=\"\",\"\",Blad1!F1329)","v":""},{"$f":"IF(Blad1!Q1329=\"\",\"\",Blad1!Q1329)","v":""}]
[{"$f":"IF(Blad1!D1330=\"\",\"\",Blad1!D1330)","v":""},{"$f":"IF(Blad1!E1330=\"\",\"\",Blad1!E1330)","v":""},{"$f":"IF(Blad1!B1330=\"\",\"\",Blad1!B1330)","v":""},{"$f":"IF(Blad1!H1330=\"\",\"\",Blad1!H1330)","v":""},{"$f":"IF(Blad1!I1330=\"\",\"\",Blad1!I1330)","v":""},{"$f":"IF(Blad1!M1330=\"\",\"\",Blad1!M1330)","v":""},{"$f":"IF(Blad1!F1330=\"\",\"\",Blad1!F1330)","v":""},{"$f":"IF(Blad1!Q1330=\"\",\"\",Blad1!Q1330)","v":""}]
[{"$f":"IF(Blad1!D1331=\"\",\"\",Blad1!D1331)","v":""},{"$f":"IF(Blad1!E1331=\"\",\"\",Blad1!E1331)","v":""},{"$f":"IF(Blad1!B1331=\"\",\"\",Blad1!B1331)","v":""},{"$f":"IF(Blad1!H1331=\"\",\"\",Blad1!H1331)","v":""},{"$f":"IF(Blad1!I1331=\"\",\"\",Blad1!I1331)","v":""},{"$f":"IF(Blad1!M1331=\"\",\"\",Blad1!M1331)","v":""},{"$f":"IF(Blad1!F1331=\"\",\"\",Blad1!F1331)","v":""},{"$f":"IF(Blad1!Q1331=\"\",\"\",Blad1!Q1331)","v":""}]
[{"$f":"IF(Blad1!D1332=\"\",\"\",Blad1!D1332)","v":""},{"$f":"IF(Blad1!E1332=\"\",\"\",Blad1!E1332)","v":""},{"$f":"IF(Blad1!B1332=\"\",\"\",Blad1!B1332)","v":""},{"$f":"IF(Blad1!H1332=\"\",\"\",Blad1!H1332)","v":""},{"$f":"IF(Blad1!I1332=\"\",\"\",Blad1!I1332)","v":""},{"$f":"IF(Blad1!M1332=\"\",\"\",Blad1!M1332)","v":""},{"$f":"IF(Blad1!F1332=\"\",\"\",Blad1!F1332)","v":""},{"$f":"IF(Blad1!Q1332=\"\",\"\",Blad1!Q1332)","v":""}]
[{"$f":"IF(Blad1!D1333=\"\",\"\",Blad1!D1333)","v":""},{"$f":"IF(Blad1!E1333=\"\",\"\",Blad1!E1333)","v":""},{"$f":"IF(Blad1!B1333=\"\",\"\",Blad1!B1333)","v":""},{"$f":"IF(Blad1!H1333=\"\",\"\",Blad1!H1333)","v":""},{"$f":"IF(Blad1!I1333=\"\",\"\",Blad1!I1333)","v":""},{"$f":"IF(Blad1!M1333=\"\",\"\",Blad1!M1333)","v":""},{"$f":"IF(Blad1!F1333=\"\",\"\",Blad1!F1333)","v":""},{"$f":"IF(Blad1!Q1333=\"\",\"\",Blad1!Q1333)","v":""}]
[{"$f":"IF(Blad1!D1334=\"\",\"\",Blad1!D1334)","v":""},{"$f":"IF(Blad1!E1334=\"\",\"\",Blad1!E1334)","v":""},{"$f":"IF(Blad1!B1334=\"\",\"\",Blad1!B1334)","v":""},{"$f":"IF(Blad1!H1334=\"\",\"\",Blad1!H1334)","v":""},{"$f":"IF(Blad1!I1334=\"\",\"\",Blad1!I1334)","v":""},{"$f":"IF(Blad1!M1334=\"\",\"\",Blad1!M1334)","v":""},{"$f":"IF(Blad1!F1334=\"\",\"\",Blad1!F1334)","v":""},{"$f":"IF(Blad1!Q1334=\"\",\"\",Blad1!Q1334)","v":""}]
[{"$f":"IF(Blad1!D1335=\"\",\"\",Blad1!D1335)","v":""},{"$f":"IF(Blad1!E1335=\"\",\"\",Blad1!E1335)","v":""},{"$f":"IF(Blad1!B1335=\"\",\"\",Blad1!B1335)","v":""},{"$f":"IF(Blad1!H1335=\"\",\"\",Blad1!H1335)","v":""},{"$f":"IF(Blad1!I1335=\"\",\"\",Blad1!I1335)","v":""},{"$f":"IF(Blad1!M1335=\"\",\"\",Blad1!M1335)","v":""},{"$f":"IF(Blad1!F1335=\"\",\"\",Blad1!F1335)","v":""},{"$f":"IF(Blad1!Q1335=\"\",\"\",Blad1!Q1335)","v":""}]
[{"$f":"IF(Blad1!D1336=\"\",\"\",Blad1!D1336)","v":""},{"$f":"IF(Blad1!E1336=\"\",\"\",Blad1!E1336)","v":""},{"$f":"IF(Blad1!B1336=\"\",\"\",Blad1!B1336)","v":""},{"$f":"IF(Blad1!H1336=\"\",\"\",Blad1!H1336)","v":""},{"$f":"IF(Blad1!I1336=\"\",\"\",Blad1!I1336)","v":""},{"$f":"IF(Blad1!M1336=\"\",\"\",Blad1!M1336)","v":""},{"$f":"IF(Blad1!F1336=\"\",\"\",Blad1!F1336)","v":""},{"$f":"IF(Blad1!Q1336=\"\",\"\",Blad1!Q1336)","v":""}]
[{"$f":"IF(Blad1!D1337=\"\",\"\",Blad1!D1337)","v":""},{"$f":"IF(Blad1!E1337=\"\",\"\",Blad1!E1337)","v":""},{"$f":"IF(Blad1!B1337=\"\",\"\",Blad1!B1337)","v":""},{"$f":"IF(Blad1!H1337=\"\",\"\",Blad1!H1337)","v":""},{"$f":"IF(Blad1!I1337=\"\",\"\",Blad1!I1337)","v":""},{"$f":"IF(Blad1!M1337=\"\",\"\",Blad1!M1337)","v":""},{"$f":"IF(Blad1!F1337=\"\",\"\",Blad1!F1337)","v":""},{"$f":"IF(Blad1!Q1337=\"\",\"\",Blad1!Q1337)","v":""}]
[{"$f":"IF(Blad1!D1338=\"\",\"\",Blad1!D1338)","v":""},{"$f":"IF(Blad1!E1338=\"\",\"\",Blad1!E1338)","v":""},{"$f":"IF(Blad1!B1338=\"\",\"\",Blad1!B1338)","v":""},{"$f":"IF(Blad1!H1338=\"\",\"\",Blad1!H1338)","v":""},{"$f":"IF(Blad1!I1338=\"\",\"\",Blad1!I1338)","v":""},{"$f":"IF(Blad1!M1338=\"\",\"\",Blad1!M1338)","v":""},{"$f":"IF(Blad1!F1338=\"\",\"\",Blad1!F1338)","v":""},{"$f":"IF(Blad1!Q1338=\"\",\"\",Blad1!Q1338)","v":""}]
[{"$f":"IF(Blad1!D1339=\"\",\"\",Blad1!D1339)","v":""},{"$f":"IF(Blad1!E1339=\"\",\"\",Blad1!E1339)","v":""},{"$f":"IF(Blad1!B1339=\"\",\"\",Blad1!B1339)","v":""},{"$f":"IF(Blad1!H1339=\"\",\"\",Blad1!H1339)","v":""},{"$f":"IF(Blad1!I1339=\"\",\"\",Blad1!I1339)","v":""},{"$f":"IF(Blad1!M1339=\"\",\"\",Blad1!M1339)","v":""},{"$f":"IF(Blad1!F1339=\"\",\"\",Blad1!F1339)","v":""},{"$f":"IF(Blad1!Q1339=\"\",\"\",Blad1!Q1339)","v":""}]
[{"$f":"IF(Blad1!D1340=\"\",\"\",Blad1!D1340)","v":""},{"$f":"IF(Blad1!E1340=\"\",\"\",Blad1!E1340)","v":""},{"$f":"IF(Blad1!B1340=\"\",\"\",Blad1!B1340)","v":""},{"$f":"IF(Blad1!H1340=\"\",\"\",Blad1!H1340)","v":""},{"$f":"IF(Blad1!I1340=\"\",\"\",Blad1!I1340)","v":""},{"$f":"IF(Blad1!M1340=\"\",\"\",Blad1!M1340)","v":""},{"$f":"IF(Blad1!F1340=\"\",\"\",Blad1!F1340)","v":""},{"$f":"IF(Blad1!Q1340=\"\",\"\",Blad1!Q1340)","v":""}]
[{"$f":"IF(Blad1!D1341=\"\",\"\",Blad1!D1341)","v":""},{"$f":"IF(Blad1!E1341=\"\",\"\",Blad1!E1341)","v":""},{"$f":"IF(Blad1!B1341=\"\",\"\",Blad1!B1341)","v":""},{"$f":"IF(Blad1!H1341=\"\",\"\",Blad1!H1341)","v":""},{"$f":"IF(Blad1!I1341=\"\",\"\",Blad1!I1341)","v":""},{"$f":"IF(Blad1!M1341=\"\",\"\",Blad1!M1341)","v":""},{"$f":"IF(Blad1!F1341=\"\",\"\",Blad1!F1341)","v":""},{"$f":"IF(Blad1!Q1341=\"\",\"\",Blad1!Q1341)","v":""}]
[{"$f":"IF(Blad1!D1342=\"\",\"\",Blad1!D1342)","v":""},{"$f":"IF(Blad1!E1342=\"\",\"\",Blad1!E1342)","v":""},{"$f":"IF(Blad1!B1342=\"\",\"\",Blad1!B1342)","v":""},{"$f":"IF(Blad1!H1342=\"\",\"\",Blad1!H1342)","v":""},{"$f":"IF(Blad1!I1342=\"\",\"\",Blad1!I1342)","v":""},{"$f":"IF(Blad1!M1342=\"\",\"\",Blad1!M1342)","v":""},{"$f":"IF(Blad1!F1342=\"\",\"\",Blad1!F1342)","v":""},{"$f":"IF(Blad1!Q1342=\"\",\"\",Blad1!Q1342)","v":""}]
[{"$f":"IF(Blad1!D1343=\"\",\"\",Blad1!D1343)","v":""},{"$f":"IF(Blad1!E1343=\"\",\"\",Blad1!E1343)","v":""},{"$f":"IF(Blad1!B1343=\"\",\"\",Blad1!B1343)","v":""},{"$f":"IF(Blad1!H1343=\"\",\"\",Blad1!H1343)","v":""},{"$f":"IF(Blad1!I1343=\"\",\"\",Blad1!I1343)","v":""},{"$f":"IF(Blad1!M1343=\"\",\"\",Blad1!M1343)","v":""},{"$f":"IF(Blad1!F1343=\"\",\"\",Blad1!F1343)","v":""},{"$f":"IF(Blad1!Q1343=\"\",\"\",Blad1!Q1343)","v":""}]
[{"$f":"IF(Blad1!D1344=\"\",\"\",Blad1!D1344)","v":""},{"$f":"IF(Blad1!E1344=\"\",\"\",Blad1!E1344)","v":""},{"$f":"IF(Blad1!B1344=\"\",\"\",Blad1!B1344)","v":""},{"$f":"IF(Blad1!H1344=\"\",\"\",Blad1!H1344)","v":""},{"$f":"IF(Blad1!I1344=\"\",\"\",Blad1!I1344)","v":""},{"$f":"IF(Blad1!M1344=\"\",\"\",Blad1!M1344)","v":""},{"$f":"IF(Blad1!F1344=\"\",\"\",Blad1!F1344)","v":""},{"$f":"IF(Blad1!Q1344=\"\",\"\",Blad1!Q1344)","v":""}]
[{"$f":"IF(Blad1!D1345=\"\",\"\",Blad1!D1345)","v":""},{"$f":"IF(Blad1!E1345=\"\",\"\",Blad1!E1345)","v":""},{"$f":"IF(Blad1!B1345=\"\",\"\",Blad1!B1345)","v":""},{"$f":"IF(Blad1!H1345=\"\",\"\",Blad1!H1345)","v":""},{"$f":"IF(Blad1!I1345=\"\",\"\",Blad1!I1345)","v":""},{"$f":"IF(Blad1!M1345=\"\",\"\",Blad1!M1345)","v":""},{"$f":"IF(Blad1!F1345=\"\",\"\",Blad1!F1345)","v":""},{"$f":"IF(Blad1!Q1345=\"\",\"\",Blad1!Q1345)","v":""}]
[{"$f":"IF(Blad1!D1346=\"\",\"\",Blad1!D1346)","v":""},{"$f":"IF(Blad1!E1346=\"\",\"\",Blad1!E1346)","v":""},{"$f":"IF(Blad1!B1346=\"\",\"\",Blad1!B1346)","v":""},{"$f":"IF(Blad1!H1346=\"\",\"\",Blad1!H1346)","v":""},{"$f":"IF(Blad1!I1346=\"\",\"\",Blad1!I1346)","v":""},{"$f":"IF(Blad1!M1346=\"\",\"\",Blad1!M1346)","v":""},{"$f":"IF(Blad1!F1346=\"\",\"\",Blad1!F1346)","v":""},{"$f":"IF(Blad1!Q1346=\"\",\"\",Blad1!Q1346)","v":""}]
[{"$f":"IF(Blad1!D1347=\"\",\"\",Blad1!D1347)","v":""},{"$f":"IF(Blad1!E1347=\"\",\"\",Blad1!E1347)","v":""},{"$f":"IF(Blad1!B1347=\"\",\"\",Blad1!B1347)","v":""},{"$f":"IF(Blad1!H1347=\"\",\"\",Blad1!H1347)","v":""},{"$f":"IF(Blad1!I1347=\"\",\"\",Blad1!I1347)","v":""},{"$f":"IF(Blad1!M1347=\"\",\"\",Blad1!M1347)","v":""},{"$f":"IF(Blad1!F1347=\"\",\"\",Blad1!F1347)","v":""},{"$f":"IF(Blad1!Q1347=\"\",\"\",Blad1!Q1347)","v":""}]
[{"$f":"IF(Blad1!D1348=\"\",\"\",Blad1!D1348)","v":""},{"$f":"IF(Blad1!E1348=\"\",\"\",Blad1!E1348)","v":""},{"$f":"IF(Blad1!B1348=\"\",\"\",Blad1!B1348)","v":""},{"$f":"IF(Blad1!H1348=\"\",\"\",Blad1!H1348)","v":""},{"$f":"IF(Blad1!I1348=\"\",\"\",Blad1!I1348)","v":""},{"$f":"IF(Blad1!M1348=\"\",\"\",Blad1!M1348)","v":""},{"$f":"IF(Blad1!F1348=\"\",\"\",Blad1!F1348)","v":""},{"$f":"IF(Blad1!Q1348=\"\",\"\",Blad1!Q1348)","v":""}]
[{"$f":"IF(Blad1!D1349=\"\",\"\",Blad1!D1349)","v":""},{"$f":"IF(Blad1!E1349=\"\",\"\",Blad1!E1349)","v":""},{"$f":"IF(Blad1!B1349=\"\",\"\",Blad1!B1349)","v":""},{"$f":"IF(Blad1!H1349=\"\",\"\",Blad1!H1349)","v":""},{"$f":"IF(Blad1!I1349=\"\",\"\",Blad1!I1349)","v":""},{"$f":"IF(Blad1!M1349=\"\",\"\",Blad1!M1349)","v":""},{"$f":"IF(Blad1!F1349=\"\",\"\",Blad1!F1349)","v":""},{"$f":"IF(Blad1!Q1349=\"\",\"\",Blad1!Q1349)","v":""}]
[{"$f":"IF(Blad1!D1350=\"\",\"\",Blad1!D1350)","v":""},{"$f":"IF(Blad1!E1350=\"\",\"\",Blad1!E1350)","v":""},{"$f":"IF(Blad1!B1350=\"\",\"\",Blad1!B1350)","v":""},{"$f":"IF(Blad1!H1350=\"\",\"\",Blad1!H1350)","v":""},{"$f":"IF(Blad1!I1350=\"\",\"\",Blad1!I1350)","v":""},{"$f":"IF(Blad1!M1350=\"\",\"\",Blad1!M1350)","v":""},{"$f":"IF(Blad1!F1350=\"\",\"\",Blad1!F1350)","v":""},{"$f":"IF(Blad1!Q1350=\"\",\"\",Blad1!Q1350)","v":""}]
[{"$f":"IF(Blad1!D1351=\"\",\"\",Blad1!D1351)","v":""},{"$f":"IF(Blad1!E1351=\"\",\"\",Blad1!E1351)","v":""},{"$f":"IF(Blad1!B1351=\"\",\"\",Blad1!B1351)","v":""},{"$f":"IF(Blad1!H1351=\"\",\"\",Blad1!H1351)","v":""},{"$f":"IF(Blad1!I1351=\"\",\"\",Blad1!I1351)","v":""},{"$f":"IF(Blad1!M1351=\"\",\"\",Blad1!M1351)","v":""},{"$f":"IF(Blad1!F1351=\"\",\"\",Blad1!F1351)","v":""},{"$f":"IF(Blad1!Q1351=\"\",\"\",Blad1!Q1351)","v":""}]
[{"$f":"IF(Blad1!D1352=\"\",\"\",Blad1!D1352)","v":""},{"$f":"IF(Blad1!E1352=\"\",\"\",Blad1!E1352)","v":""},{"$f":"IF(Blad1!B1352=\"\",\"\",Blad1!B1352)","v":""},{"$f":"IF(Blad1!H1352=\"\",\"\",Blad1!H1352)","v":""},{"$f":"IF(Blad1!I1352=\"\",\"\",Blad1!I1352)","v":""},{"$f":"IF(Blad1!M1352=\"\",\"\",Blad1!M1352)","v":""},{"$f":"IF(Blad1!F1352=\"\",\"\",Blad1!F1352)","v":""},{"$f":"IF(Blad1!Q1352=\"\",\"\",Blad1!Q1352)","v":""}]
[{"$f":"IF(Blad1!D1353=\"\",\"\",Blad1!D1353)","v":""},{"$f":"IF(Blad1!E1353=\"\",\"\",Blad1!E1353)","v":""},{"$f":"IF(Blad1!B1353=\"\",\"\",Blad1!B1353)","v":""},{"$f":"IF(Blad1!H1353=\"\",\"\",Blad1!H1353)","v":""},{"$f":"IF(Blad1!I1353=\"\",\"\",Blad1!I1353)","v":""},{"$f":"IF(Blad1!M1353=\"\",\"\",Blad1!M1353)","v":""},{"$f":"IF(Blad1!F1353=\"\",\"\",Blad1!F1353)","v":""},{"$f":"IF(Blad1!Q1353=\"\",\"\",Blad1!Q1353)","v":""}]
[{"$f":"IF(Blad1!D1354=\"\",\"\",Blad1!D1354)","v":""},{"$f":"IF(Blad1!E1354=\"\",\"\",Blad1!E1354)","v":""},{"$f":"IF(Blad1!B1354=\"\",\"\",Blad1!B1354)","v":""},{"$f":"IF(Blad1!H1354=\"\",\"\",Blad1!H1354)","v":""},{"$f":"IF(Blad1!I1354=\"\",\"\",Blad1!I1354)","v":""},{"$f":"IF(Blad1!M1354=\"\",\"\",Blad1!M1354)","v":""},{"$f":"IF(Blad1!F1354=\"\",\"\",Blad1!F1354)","v":""},{"$f":"IF(Blad1!Q1354=\"\",\"\",Blad1!Q1354)","v":""}]
[{"$f":"IF(Blad1!D1355=\"\",\"\",Blad1!D1355)","v":""},{"$f":"IF(Blad1!E1355=\"\",\"\",Blad1!E1355)","v":""},{"$f":"IF(Blad1!B1355=\"\",\"\",Blad1!B1355)","v":""},{"$f":"IF(Blad1!H1355=\"\",\"\",Blad1!H1355)","v":""},{"$f":"IF(Blad1!I1355=\"\",\"\",Blad1!I1355)","v":""},{"$f":"IF(Blad1!M1355=\"\",\"\",Blad1!M1355)","v":""},{"$f":"IF(Blad1!F1355=\"\",\"\",Blad1!F1355)","v":""},{"$f":"IF(Blad1!Q1355=\"\",\"\",Blad1!Q1355)","v":""}]
[{"$f":"IF(Blad1!D1356=\"\",\"\",Blad1!D1356)","v":""},{"$f":"IF(Blad1!E1356=\"\",\"\",Blad1!E1356)","v":""},{"$f":"IF(Blad1!B1356=\"\",\"\",Blad1!B1356)","v":""},{"$f":"IF(Blad1!H1356=\"\",\"\",Blad1!H1356)","v":""},{"$f":"IF(Blad1!I1356=\"\",\"\",Blad1!I1356)","v":""},{"$f":"IF(Blad1!M1356=\"\",\"\",Blad1!M1356)","v":""},{"$f":"IF(Blad1!F1356=\"\",\"\",Blad1!F1356)","v":""},{"$f":"IF(Blad1!Q1356=\"\",\"\",Blad1!Q1356)","v":""}]
[{"$f":"IF(Blad1!D1357=\"\",\"\",Blad1!D1357)","v":""},{"$f":"IF(Blad1!E1357=\"\",\"\",Blad1!E1357)","v":""},{"$f":"IF(Blad1!B1357=\"\",\"\",Blad1!B1357)","v":""},{"$f":"IF(Blad1!H1357=\"\",\"\",Blad1!H1357)","v":""},{"$f":"IF(Blad1!I1357=\"\",\"\",Blad1!I1357)","v":""},{"$f":"IF(Blad1!M1357=\"\",\"\",Blad1!M1357)","v":""},{"$f":"IF(Blad1!F1357=\"\",\"\",Blad1!F1357)","v":""},{"$f":"IF(Blad1!Q1357=\"\",\"\",Blad1!Q1357)","v":""}]
[{"$f":"IF(Blad1!D1358=\"\",\"\",Blad1!D1358)","v":""},{"$f":"IF(Blad1!E1358=\"\",\"\",Blad1!E1358)","v":""},{"$f":"IF(Blad1!B1358=\"\",\"\",Blad1!B1358)","v":""},{"$f":"IF(Blad1!H1358=\"\",\"\",Blad1!H1358)","v":""},{"$f":"IF(Blad1!I1358=\"\",\"\",Blad1!I1358)","v":""},{"$f":"IF(Blad1!M1358=\"\",\"\",Blad1!M1358)","v":""},{"$f":"IF(Blad1!F1358=\"\",\"\",Blad1!F1358)","v":""},{"$f":"IF(Blad1!Q1358=\"\",\"\",Blad1!Q1358)","v":""}]
[{"$f":"IF(Blad1!D1359=\"\",\"\",Blad1!D1359)","v":""},{"$f":"IF(Blad1!E1359=\"\",\"\",Blad1!E1359)","v":""},{"$f":"IF(Blad1!B1359=\"\",\"\",Blad1!B1359)","v":""},{"$f":"IF(Blad1!H1359=\"\",\"\",Blad1!H1359)","v":""},{"$f":"IF(Blad1!I1359=\"\",\"\",Blad1!I1359)","v":""},{"$f":"IF(Blad1!M1359=\"\",\"\",Blad1!M1359)","v":""},{"$f":"IF(Blad1!F1359=\"\",\"\",Blad1!F1359)","v":""},{"$f":"IF(Blad1!Q1359=\"\",\"\",Blad1!Q1359)","v":""}]
[{"$f":"IF(Blad1!D1360=\"\",\"\",Blad1!D1360)","v":""},{"$f":"IF(Blad1!E1360=\"\",\"\",Blad1!E1360)","v":""},{"$f":"IF(Blad1!B1360=\"\",\"\",Blad1!B1360)","v":""},{"$f":"IF(Blad1!H1360=\"\",\"\",Blad1!H1360)","v":""},{"$f":"IF(Blad1!I1360=\"\",\"\",Blad1!I1360)","v":""},{"$f":"IF(Blad1!M1360=\"\",\"\",Blad1!M1360)","v":""},{"$f":"IF(Blad1!F1360=\"\",\"\",Blad1!F1360)","v":""},{"$f":"IF(Blad1!Q1360=\"\",\"\",Blad1!Q1360)","v":""}]
[{"$f":"IF(Blad1!D1361=\"\",\"\",Blad1!D1361)","v":""},{"$f":"IF(Blad1!E1361=\"\",\"\",Blad1!E1361)","v":""},{"$f":"IF(Blad1!B1361=\"\",\"\",Blad1!B1361)","v":""},{"$f":"IF(Blad1!H1361=\"\",\"\",Blad1!H1361)","v":""},{"$f":"IF(Blad1!I1361=\"\",\"\",Blad1!I1361)","v":""},{"$f":"IF(Blad1!M1361=\"\",\"\",Blad1!M1361)","v":""},{"$f":"IF(Blad1!F1361=\"\",\"\",Blad1!F1361)","v":""},{"$f":"IF(Blad1!Q1361=\"\",\"\",Blad1!Q1361)","v":""}]
[{"$f":"IF(Blad1!D1362=\"\",\"\",Blad1!D1362)","v":""},{"$f":"IF(Blad1!E1362=\"\",\"\",Blad1!E1362)","v":""},{"$f":"IF(Blad1!B1362=\"\",\"\",Blad1!B1362)","v":""},{"$f":"IF(Blad1!H1362=\"\",\"\",Blad1!H1362)","v":""},{"$f":"IF(Blad1!I1362=\"\",\"\",Blad1!I1362)","v":""},{"$f":"IF(Blad1!M1362=\"\",\"\",Blad1!M1362)","v":""},{"$f":"IF(Blad1!F1362=\"\",\"\",Blad1!F1362)","v":""},{"$f":"IF(Blad1!Q1362=\"\",\"\",Blad1!Q1362)","v":""}]
[{"$f":"IF(Blad1!D1363=\"\",\"\",Blad1!D1363)","v":""},{"$f":"IF(Blad1!E1363=\"\",\"\",Blad1!E1363)","v":""},{"$f":"IF(Blad1!B1363=\"\",\"\",Blad1!B1363)","v":""},{"$f":"IF(Blad1!H1363=\"\",\"\",Blad1!H1363)","v":""},{"$f":"IF(Blad1!I1363=\"\",\"\",Blad1!I1363)","v":""},{"$f":"IF(Blad1!M1363=\"\",\"\",Blad1!M1363)","v":""},{"$f":"IF(Blad1!F1363=\"\",\"\",Blad1!F1363)","v":""},{"$f":"IF(Blad1!Q1363=\"\",\"\",Blad1!Q1363)","v":""}]
[{"$f":"IF(Blad1!D1364=\"\",\"\",Blad1!D1364)","v":""},{"$f":"IF(Blad1!E1364=\"\",\"\",Blad1!E1364)","v":""},{"$f":"IF(Blad1!B1364=\"\",\"\",Blad1!B1364)","v":""},{"$f":"IF(Blad1!H1364=\"\",\"\",Blad1!H1364)","v":""},{"$f":"IF(Blad1!I1364=\"\",\"\",Blad1!I1364)","v":""},{"$f":"IF(Blad1!M1364=\"\",\"\",Blad1!M1364)","v":""},{"$f":"IF(Blad1!F1364=\"\",\"\",Blad1!F1364)","v":""},{"$f":"IF(Blad1!Q1364=\"\",\"\",Blad1!Q1364)","v":""}]
[{"$f":"IF(Blad1!D1365=\"\",\"\",Blad1!D1365)","v":""},{"$f":"IF(Blad1!E1365=\"\",\"\",Blad1!E1365)","v":""},{"$f":"IF(Blad1!B1365=\"\",\"\",Blad1!B1365)","v":""},{"$f":"IF(Blad1!H1365=\"\",\"\",Blad1!H1365)","v":""},{"$f":"IF(Blad1!I1365=\"\",\"\",Blad1!I1365)","v":""},{"$f":"IF(Blad1!M1365=\"\",\"\",Blad1!M1365)","v":""},{"$f":"IF(Blad1!F1365=\"\",\"\",Blad1!F1365)","v":""},{"$f":"IF(Blad1!Q1365=\"\",\"\",Blad1!Q1365)","v":""}]
[{"$f":"IF(Blad1!D1366=\"\",\"\",Blad1!D1366)","v":""},{"$f":"IF(Blad1!E1366=\"\",\"\",Blad1!E1366)","v":""},{"$f":"IF(Blad1!B1366=\"\",\"\",Blad1!B1366)","v":""},{"$f":"IF(Blad1!H1366=\"\",\"\",Blad1!H1366)","v":""},{"$f":"IF(Blad1!I1366=\"\",\"\",Blad1!I1366)","v":""},{"$f":"IF(Blad1!M1366=\"\",\"\",Blad1!M1366)","v":""},{"$f":"IF(Blad1!F1366=\"\",\"\",Blad1!F1366)","v":""},{"$f":"IF(Blad1!Q1366=\"\",\"\",Blad1!Q1366)","v":""}]
[{"$f":"IF(Blad1!D1367=\"\",\"\",Blad1!D1367)","v":""},{"$f":"IF(Blad1!E1367=\"\",\"\",Blad1!E1367)","v":""},{"$f":"IF(Blad1!B1367=\"\",\"\",Blad1!B1367)","v":""},{"$f":"IF(Blad1!H1367=\"\",\"\",Blad1!H1367)","v":""},{"$f":"IF(Blad1!I1367=\"\",\"\",Blad1!I1367)","v":""},{"$f":"IF(Blad1!M1367=\"\",\"\",Blad1!M1367)","v":""},{"$f":"IF(Blad1!F1367=\"\",\"\",Blad1!F1367)","v":""},{"$f":"IF(Blad1!Q1367=\"\",\"\",Blad1!Q1367)","v":""}]
[{"$f":"IF(Blad1!D1368=\"\",\"\",Blad1!D1368)","v":""},{"$f":"IF(Blad1!E1368=\"\",\"\",Blad1!E1368)","v":""},{"$f":"IF(Blad1!B1368=\"\",\"\",Blad1!B1368)","v":""},{"$f":"IF(Blad1!H1368=\"\",\"\",Blad1!H1368)","v":""},{"$f":"IF(Blad1!I1368=\"\",\"\",Blad1!I1368)","v":""},{"$f":"IF(Blad1!M1368=\"\",\"\",Blad1!M1368)","v":""},{"$f":"IF(Blad1!F1368=\"\",\"\",Blad1!F1368)","v":""},{"$f":"IF(Blad1!Q1368=\"\",\"\",Blad1!Q1368)","v":""}]
[{"$f":"IF(Blad1!D1369=\"\",\"\",Blad1!D1369)","v":""},{"$f":"IF(Blad1!E1369=\"\",\"\",Blad1!E1369)","v":""},{"$f":"IF(Blad1!B1369=\"\",\"\",Blad1!B1369)","v":""},{"$f":"IF(Blad1!H1369=\"\",\"\",Blad1!H1369)","v":""},{"$f":"IF(Blad1!I1369=\"\",\"\",Blad1!I1369)","v":""},{"$f":"IF(Blad1!M1369=\"\",\"\",Blad1!M1369)","v":""},{"$f":"IF(Blad1!F1369=\"\",\"\",Blad1!F1369)","v":""},{"$f":"IF(Blad1!Q1369=\"\",\"\",Blad1!Q1369)","v":""}]
[{"$f":"IF(Blad1!D1370=\"\",\"\",Blad1!D1370)","v":""},{"$f":"IF(Blad1!E1370=\"\",\"\",Blad1!E1370)","v":""},{"$f":"IF(Blad1!B1370=\"\",\"\",Blad1!B1370)","v":""},{"$f":"IF(Blad1!H1370=\"\",\"\",Blad1!H1370)","v":""},{"$f":"IF(Blad1!I1370=\"\",\"\",Blad1!I1370)","v":""},{"$f":"IF(Blad1!M1370=\"\",\"\",Blad1!M1370)","v":""},{"$f":"IF(Blad1!F1370=\"\",\"\",Blad1!F1370)","v":""},{"$f":"IF(Blad1!Q1370=\"\",\"\",Blad1!Q1370)","v":""}]
[{"$f":"IF(Blad1!D1371=\"\",\"\",Blad1!D1371)","v":""},{"$f":"IF(Blad1!E1371=\"\",\"\",Blad1!E1371)","v":""},{"$f":"IF(Blad1!B1371=\"\",\"\",Blad1!B1371)","v":""},{"$f":"IF(Blad1!H1371=\"\",\"\",Blad1!H1371)","v":""},{"$f":"IF(Blad1!I1371=\"\",\"\",Blad1!I1371)","v":""},{"$f":"IF(Blad1!M1371=\"\",\"\",Blad1!M1371)","v":""},{"$f":"IF(Blad1!F1371=\"\",\"\",Blad1!F1371)","v":""},{"$f":"IF(Blad1!Q1371=\"\",\"\",Blad1!Q1371)","v":""}]
[{"$f":"IF(Blad1!D1372=\"\",\"\",Blad1!D1372)","v":""},{"$f":"IF(Blad1!E1372=\"\",\"\",Blad1!E1372)","v":""},{"$f":"IF(Blad1!B1372=\"\",\"\",Blad1!B1372)","v":""},{"$f":"IF(Blad1!H1372=\"\",\"\",Blad1!H1372)","v":""},{"$f":"IF(Blad1!I1372=\"\",\"\",Blad1!I1372)","v":""},{"$f":"IF(Blad1!M1372=\"\",\"\",Blad1!M1372)","v":""},{"$f":"IF(Blad1!F1372=\"\",\"\",Blad1!F1372)","v":""},{"$f":"IF(Blad1!Q1372=\"\",\"\",Blad1!Q1372)","v":""}]
[{"$f":"IF(Blad1!D1373=\"\",\"\",Blad1!D1373)","v":""},{"$f":"IF(Blad1!E1373=\"\",\"\",Blad1!E1373)","v":""},{"$f":"IF(Blad1!B1373=\"\",\"\",Blad1!B1373)","v":""},{"$f":"IF(Blad1!H1373=\"\",\"\",Blad1!H1373)","v":""},{"$f":"IF(Blad1!I1373=\"\",\"\",Blad1!I1373)","v":""},{"$f":"IF(Blad1!M1373=\"\",\"\",Blad1!M1373)","v":""},{"$f":"IF(Blad1!F1373=\"\",\"\",Blad1!F1373)","v":""},{"$f":"IF(Blad1!Q1373=\"\",\"\",Blad1!Q1373)","v":""}]
[{"$f":"IF(Blad1!D1374=\"\",\"\",Blad1!D1374)","v":""},{"$f":"IF(Blad1!E1374=\"\",\"\",Blad1!E1374)","v":""},{"$f":"IF(Blad1!B1374=\"\",\"\",Blad1!B1374)","v":""},{"$f":"IF(Blad1!H1374=\"\",\"\",Blad1!H1374)","v":""},{"$f":"IF(Blad1!I1374=\"\",\"\",Blad1!I1374)","v":""},{"$f":"IF(Blad1!M1374=\"\",\"\",Blad1!M1374)","v":""},{"$f":"IF(Blad1!F1374=\"\",\"\",Blad1!F1374)","v":""},{"$f":"IF(Blad1!Q1374=\"\",\"\",Blad1!Q1374)","v":""}]
[{"$f":"IF(Blad1!D1375=\"\",\"\",Blad1!D1375)","v":""},{"$f":"IF(Blad1!E1375=\"\",\"\",Blad1!E1375)","v":""},{"$f":"IF(Blad1!B1375=\"\",\"\",Blad1!B1375)","v":""},{"$f":"IF(Blad1!H1375=\"\",\"\",Blad1!H1375)","v":""},{"$f":"IF(Blad1!I1375=\"\",\"\",Blad1!I1375)","v":""},{"$f":"IF(Blad1!M1375=\"\",\"\",Blad1!M1375)","v":""},{"$f":"IF(Blad1!F1375=\"\",\"\",Blad1!F1375)","v":""},{"$f":"IF(Blad1!Q1375=\"\",\"\",Blad1!Q1375)","v":""}]
[{"$f":"IF(Blad1!D1376=\"\",\"\",Blad1!D1376)","v":""},{"$f":"IF(Blad1!E1376=\"\",\"\",Blad1!E1376)","v":""},{"$f":"IF(Blad1!B1376=\"\",\"\",Blad1!B1376)","v":""},{"$f":"IF(Blad1!H1376=\"\",\"\",Blad1!H1376)","v":""},{"$f":"IF(Blad1!I1376=\"\",\"\",Blad1!I1376)","v":""},{"$f":"IF(Blad1!M1376=\"\",\"\",Blad1!M1376)","v":""},{"$f":"IF(Blad1!F1376=\"\",\"\",Blad1!F1376)","v":""},{"$f":"IF(Blad1!Q1376=\"\",\"\",Blad1!Q1376)","v":""}]
[{"$f":"IF(Blad1!D1377=\"\",\"\",Blad1!D1377)","v":""},{"$f":"IF(Blad1!E1377=\"\",\"\",Blad1!E1377)","v":""},{"$f":"IF(Blad1!B1377=\"\",\"\",Blad1!B1377)","v":""},{"$f":"IF(Blad1!H1377=\"\",\"\",Blad1!H1377)","v":""},{"$f":"IF(Blad1!I1377=\"\",\"\",Blad1!I1377)","v":""},{"$f":"IF(Blad1!M1377=\"\",\"\",Blad1!M1377)","v":""},{"$f":"IF(Blad1!F1377=\"\",\"\",Blad1!F1377)","v":""},{"$f":"IF(Blad1!Q1377=\"\",\"\",Blad1!Q1377)","v":""}]
[{"$f":"IF(Blad1!D1378=\"\",\"\",Blad1!D1378)","v":""},{"$f":"IF(Blad1!E1378=\"\",\"\",Blad1!E1378)","v":""},{"$f":"IF(Blad1!B1378=\"\",\"\",Blad1!B1378)","v":""},{"$f":"IF(Blad1!H1378=\"\",\"\",Blad1!H1378)","v":""},{"$f":"IF(Blad1!I1378=\"\",\"\",Blad1!I1378)","v":""},{"$f":"IF(Blad1!M1378=\"\",\"\",Blad1!M1378)","v":""},{"$f":"IF(Blad1!F1378=\"\",\"\",Blad1!F1378)","v":""},{"$f":"IF(Blad1!Q1378=\"\",\"\",Blad1!Q1378)","v":""}]
[{"$f":"IF(Blad1!D1379=\"\",\"\",Blad1!D1379)","v":""},{"$f":"IF(Blad1!E1379=\"\",\"\",Blad1!E1379)","v":""},{"$f":"IF(Blad1!B1379=\"\",\"\",Blad1!B1379)","v":""},{"$f":"IF(Blad1!H1379=\"\",\"\",Blad1!H1379)","v":""},{"$f":"IF(Blad1!I1379=\"\",\"\",Blad1!I1379)","v":""},{"$f":"IF(Blad1!M1379=\"\",\"\",Blad1!M1379)","v":""},{"$f":"IF(Blad1!F1379=\"\",\"\",Blad1!F1379)","v":""},{"$f":"IF(Blad1!Q1379=\"\",\"\",Blad1!Q1379)","v":""}]
[{"$f":"IF(Blad1!D1380=\"\",\"\",Blad1!D1380)","v":""},{"$f":"IF(Blad1!E1380=\"\",\"\",Blad1!E1380)","v":""},{"$f":"IF(Blad1!B1380=\"\",\"\",Blad1!B1380)","v":""},{"$f":"IF(Blad1!H1380=\"\",\"\",Blad1!H1380)","v":""},{"$f":"IF(Blad1!I1380=\"\",\"\",Blad1!I1380)","v":""},{"$f":"IF(Blad1!M1380=\"\",\"\",Blad1!M1380)","v":""},{"$f":"IF(Blad1!F1380=\"\",\"\",Blad1!F1380)","v":""},{"$f":"IF(Blad1!Q1380=\"\",\"\",Blad1!Q1380)","v":""}]
[{"$f":"IF(Blad1!D1381=\"\",\"\",Blad1!D1381)","v":""},{"$f":"IF(Blad1!E1381=\"\",\"\",Blad1!E1381)","v":""},{"$f":"IF(Blad1!B1381=\"\",\"\",Blad1!B1381)","v":""},{"$f":"IF(Blad1!H1381=\"\",\"\",Blad1!H1381)","v":""},{"$f":"IF(Blad1!I1381=\"\",\"\",Blad1!I1381)","v":""},{"$f":"IF(Blad1!M1381=\"\",\"\",Blad1!M1381)","v":""},{"$f":"IF(Blad1!F1381=\"\",\"\",Blad1!F1381)","v":""},{"$f":"IF(Blad1!Q1381=\"\",\"\",Blad1!Q1381)","v":""}]
[{"$f":"IF(Blad1!D1382=\"\",\"\",Blad1!D1382)","v":""},{"$f":"IF(Blad1!E1382=\"\",\"\",Blad1!E1382)","v":""},{"$f":"IF(Blad1!B1382=\"\",\"\",Blad1!B1382)","v":""},{"$f":"IF(Blad1!H1382=\"\",\"\",Blad1!H1382)","v":""},{"$f":"IF(Blad1!I1382=\"\",\"\",Blad1!I1382)","v":""},{"$f":"IF(Blad1!M1382=\"\",\"\",Blad1!M1382)","v":""},{"$f":"IF(Blad1!F1382=\"\",\"\",Blad1!F1382)","v":""},{"$f":"IF(Blad1!Q1382=\"\",\"\",Blad1!Q1382)","v":""}]
[{"$f":"IF(Blad1!D1383=\"\",\"\",Blad1!D1383)","v":""},{"$f":"IF(Blad1!E1383=\"\",\"\",Blad1!E1383)","v":""},{"$f":"IF(Blad1!B1383=\"\",\"\",Blad1!B1383)","v":""},{"$f":"IF(Blad1!H1383=\"\",\"\",Blad1!H1383)","v":""},{"$f":"IF(Blad1!I1383=\"\",\"\",Blad1!I1383)","v":""},{"$f":"IF(Blad1!M1383=\"\",\"\",Blad1!M1383)","v":""},{"$f":"IF(Blad1!F1383=\"\",\"\",Blad1!F1383)","v":""},{"$f":"IF(Blad1!Q1383=\"\",\"\",Blad1!Q1383)","v":""}]
[{"$f":"IF(Blad1!D1384=\"\",\"\",Blad1!D1384)","v":""},{"$f":"IF(Blad1!E1384=\"\",\"\",Blad1!E1384)","v":""},{"$f":"IF(Blad1!B1384=\"\",\"\",Blad1!B1384)","v":""},{"$f":"IF(Blad1!H1384=\"\",\"\",Blad1!H1384)","v":""},{"$f":"IF(Blad1!I1384=\"\",\"\",Blad1!I1384)","v":""},{"$f":"IF(Blad1!M1384=\"\",\"\",Blad1!M1384)","v":""},{"$f":"IF(Blad1!F1384=\"\",\"\",Blad1!F1384)","v":""},{"$f":"IF(Blad1!Q1384=\"\",\"\",Blad1!Q1384)","v":""}]
[{"$f":"IF(Blad1!D1385=\"\",\"\",Blad1!D1385)","v":""},{"$f":"IF(Blad1!E1385=\"\",\"\",Blad1!E1385)","v":""},{"$f":"IF(Blad1!B1385=\"\",\"\",Blad1!B1385)","v":""},{"$f":"IF(Blad1!H1385=\"\",\"\",Blad1!H1385)","v":""},{"$f":"IF(Blad1!I1385=\"\",\"\",Blad1!I1385)","v":""},{"$f":"IF(Blad1!M1385=\"\",\"\",Blad1!M1385)","v":""},{"$f":"IF(Blad1!F1385=\"\",\"\",Blad1!F1385)","v":""},{"$f":"IF(Blad1!Q1385=\"\",\"\",Blad1!Q1385)","v":""}]
[{"$f":"IF(Blad1!D1386=\"\",\"\",Blad1!D1386)","v":""},{"$f":"IF(Blad1!E1386=\"\",\"\",Blad1!E1386)","v":""},{"$f":"IF(Blad1!B1386=\"\",\"\",Blad1!B1386)","v":""},{"$f":"IF(Blad1!H1386=\"\",\"\",Blad1!H1386)","v":""},{"$f":"IF(Blad1!I1386=\"\",\"\",Blad1!I1386)","v":""},{"$f":"IF(Blad1!M1386=\"\",\"\",Blad1!M1386)","v":""},{"$f":"IF(Blad1!F1386=\"\",\"\",Blad1!F1386)","v":""},{"$f":"IF(Blad1!Q1386=\"\",\"\",Blad1!Q1386)","v":""}]
[{"$f":"IF(Blad1!D1387=\"\",\"\",Blad1!D1387)","v":""},{"$f":"IF(Blad1!E1387=\"\",\"\",Blad1!E1387)","v":""},{"$f":"IF(Blad1!B1387=\"\",\"\",Blad1!B1387)","v":""},{"$f":"IF(Blad1!H1387=\"\",\"\",Blad1!H1387)","v":""},{"$f":"IF(Blad1!I1387=\"\",\"\",Blad1!I1387)","v":""},{"$f":"IF(Blad1!M1387=\"\",\"\",Blad1!M1387)","v":""},{"$f":"IF(Blad1!F1387=\"\",\"\",Blad1!F1387)","v":""},{"$f":"IF(Blad1!Q1387=\"\",\"\",Blad1!Q1387)","v":""}]
[{"$f":"IF(Blad1!D1388=\"\",\"\",Blad1!D1388)","v":""},{"$f":"IF(Blad1!E1388=\"\",\"\",Blad1!E1388)","v":""},{"$f":"IF(Blad1!B1388=\"\",\"\",Blad1!B1388)","v":""},{"$f":"IF(Blad1!H1388=\"\",\"\",Blad1!H1388)","v":""},{"$f":"IF(Blad1!I1388=\"\",\"\",Blad1!I1388)","v":""},{"$f":"IF(Blad1!M1388=\"\",\"\",Blad1!M1388)","v":""},{"$f":"IF(Blad1!F1388=\"\",\"\",Blad1!F1388)","v":""},{"$f":"IF(Blad1!Q1388=\"\",\"\",Blad1!Q1388)","v":""}]
[{"$f":"IF(Blad1!D1389=\"\",\"\",Blad1!D1389)","v":""},{"$f":"IF(Blad1!E1389=\"\",\"\",Blad1!E1389)","v":""},{"$f":"IF(Blad1!B1389=\"\",\"\",Blad1!B1389)","v":""},{"$f":"IF(Blad1!H1389=\"\",\"\",Blad1!H1389)","v":""},{"$f":"IF(Blad1!I1389=\"\",\"\",Blad1!I1389)","v":""},{"$f":"IF(Blad1!M1389=\"\",\"\",Blad1!M1389)","v":""},{"$f":"IF(Blad1!F1389=\"\",\"\",Blad1!F1389)","v":""},{"$f":"IF(Blad1!Q1389=\"\",\"\",Blad1!Q1389)","v":""}]
[{"$f":"IF(Blad1!D1390=\"\",\"\",Blad1!D1390)","v":""},{"$f":"IF(Blad1!E1390=\"\",\"\",Blad1!E1390)","v":""},{"$f":"IF(Blad1!B1390=\"\",\"\",Blad1!B1390)","v":""},{"$f":"IF(Blad1!H1390=\"\",\"\",Blad1!H1390)","v":""},{"$f":"IF(Blad1!I1390=\"\",\"\",Blad1!I1390)","v":""},{"$f":"IF(Blad1!M1390=\"\",\"\",Blad1!M1390)","v":""},{"$f":"IF(Blad1!F1390=\"\",\"\",Blad1!F1390)","v":""},{"$f":"IF(Blad1!Q1390=\"\",\"\",Blad1!Q1390)","v":""}]
[{"$f":"IF(Blad1!D1391=\"\",\"\",Blad1!D1391)","v":""},{"$f":"IF(Blad1!E1391=\"\",\"\",Blad1!E1391)","v":""},{"$f":"IF(Blad1!B1391=\"\",\"\",Blad1!B1391)","v":""},{"$f":"IF(Blad1!H1391=\"\",\"\",Blad1!H1391)","v":""},{"$f":"IF(Blad1!I1391=\"\",\"\",Blad1!I1391)","v":""},{"$f":"IF(Blad1!M1391=\"\",\"\",Blad1!M1391)","v":""},{"$f":"IF(Blad1!F1391=\"\",\"\",Blad1!F1391)","v":""},{"$f":"IF(Blad1!Q1391=\"\",\"\",Blad1!Q1391)","v":""}]
[{"$f":"IF(Blad1!D1392=\"\",\"\",Blad1!D1392)","v":""},{"$f":"IF(Blad1!E1392=\"\",\"\",Blad1!E1392)","v":""},{"$f":"IF(Blad1!B1392=\"\",\"\",Blad1!B1392)","v":""},{"$f":"IF(Blad1!H1392=\"\",\"\",Blad1!H1392)","v":""},{"$f":"IF(Blad1!I1392=\"\",\"\",Blad1!I1392)","v":""},{"$f":"IF(Blad1!M1392=\"\",\"\",Blad1!M1392)","v":""},{"$f":"IF(Blad1!F1392=\"\",\"\",Blad1!F1392)","v":""},{"$f":"IF(Blad1!Q1392=\"\",\"\",Blad1!Q1392)","v":""}]
[{"$f":"IF(Blad1!D1393=\"\",\"\",Blad1!D1393)","v":""},{"$f":"IF(Blad1!E1393=\"\",\"\",Blad1!E1393)","v":""},{"$f":"IF(Blad1!B1393=\"\",\"\",Blad1!B1393)","v":""},{"$f":"IF(Blad1!H1393=\"\",\"\",Blad1!H1393)","v":""},{"$f":"IF(Blad1!I1393=\"\",\"\",Blad1!I1393)","v":""},{"$f":"IF(Blad1!M1393=\"\",\"\",Blad1!M1393)","v":""},{"$f":"IF(Blad1!F1393=\"\",\"\",Blad1!F1393)","v":""},{"$f":"IF(Blad1!Q1393=\"\",\"\",Blad1!Q1393)","v":""}]
[{"$f":"IF(Blad1!D1394=\"\",\"\",Blad1!D1394)","v":""},{"$f":"IF(Blad1!E1394=\"\",\"\",Blad1!E1394)","v":""},{"$f":"IF(Blad1!B1394=\"\",\"\",Blad1!B1394)","v":""},{"$f":"IF(Blad1!H1394=\"\",\"\",Blad1!H1394)","v":""},{"$f":"IF(Blad1!I1394=\"\",\"\",Blad1!I1394)","v":""},{"$f":"IF(Blad1!M1394=\"\",\"\",Blad1!M1394)","v":""},{"$f":"IF(Blad1!F1394=\"\",\"\",Blad1!F1394)","v":""},{"$f":"IF(Blad1!Q1394=\"\",\"\",Blad1!Q1394)","v":""}]
[{"$f":"IF(Blad1!D1395=\"\",\"\",Blad1!D1395)","v":""},{"$f":"IF(Blad1!E1395=\"\",\"\",Blad1!E1395)","v":""},{"$f":"IF(Blad1!B1395=\"\",\"\",Blad1!B1395)","v":""},{"$f":"IF(Blad1!H1395=\"\",\"\",Blad1!H1395)","v":""},{"$f":"IF(Blad1!I1395=\"\",\"\",Blad1!I1395)","v":""},{"$f":"IF(Blad1!M1395=\"\",\"\",Blad1!M1395)","v":""},{"$f":"IF(Blad1!F1395=\"\",\"\",Blad1!F1395)","v":""},{"$f":"IF(Blad1!Q1395=\"\",\"\",Blad1!Q1395)","v":""}]
[{"$f":"IF(Blad1!D1396=\"\",\"\",Blad1!D1396)","v":""},{"$f":"IF(Blad1!E1396=\"\",\"\",Blad1!E1396)","v":""},{"$f":"IF(Blad1!B1396=\"\",\"\",Blad1!B1396)","v":""},{"$f":"IF(Blad1!H1396=\"\",\"\",Blad1!H1396)","v":""},{"$f":"IF(Blad1!I1396=\"\",\"\",Blad1!I1396)","v":""},{"$f":"IF(Blad1!M1396=\"\",\"\",Blad1!M1396)","v":""},{"$f":"IF(Blad1!F1396=\"\",\"\",Blad1!F1396)","v":""},{"$f":"IF(Blad1!Q1396=\"\",\"\",Blad1!Q1396)","v":""}]
[{"$f":"IF(Blad1!D1397=\"\",\"\",Blad1!D1397)","v":""},{"$f":"IF(Blad1!E1397=\"\",\"\",Blad1!E1397)","v":""},{"$f":"IF(Blad1!B1397=\"\",\"\",Blad1!B1397)","v":""},{"$f":"IF(Blad1!H1397=\"\",\"\",Blad1!H1397)","v":""},{"$f":"IF(Blad1!I1397=\"\",\"\",Blad1!I1397)","v":""},{"$f":"IF(Blad1!M1397=\"\",\"\",Blad1!M1397)","v":""},{"$f":"IF(Blad1!F1397=\"\",\"\",Blad1!F1397)","v":""},{"$f":"IF(Blad1!Q1397=\"\",\"\",Blad1!Q1397)","v":""}]
[{"$f":"IF(Blad1!D1398=\"\",\"\",Blad1!D1398)","v":""},{"$f":"IF(Blad1!E1398=\"\",\"\",Blad1!E1398)","v":""},{"$f":"IF(Blad1!B1398=\"\",\"\",Blad1!B1398)","v":""},{"$f":"IF(Blad1!H1398=\"\",\"\",Blad1!H1398)","v":""},{"$f":"IF(Blad1!I1398=\"\",\"\",Blad1!I1398)","v":""},{"$f":"IF(Blad1!M1398=\"\",\"\",Blad1!M1398)","v":""},{"$f":"IF(Blad1!F1398=\"\",\"\",Blad1!F1398)","v":""},{"$f":"IF(Blad1!Q1398=\"\",\"\",Blad1!Q1398)","v":""}]
[{"$f":"IF(Blad1!D1399=\"\",\"\",Blad1!D1399)","v":""},{"$f":"IF(Blad1!E1399=\"\",\"\",Blad1!E1399)","v":""},{"$f":"IF(Blad1!B1399=\"\",\"\",Blad1!B1399)","v":""},{"$f":"IF(Blad1!H1399=\"\",\"\",Blad1!H1399)","v":""},{"$f":"IF(Blad1!I1399=\"\",\"\",Blad1!I1399)","v":""},{"$f":"IF(Blad1!M1399=\"\",\"\",Blad1!M1399)","v":""},{"$f":"IF(Blad1!F1399=\"\",\"\",Blad1!F1399)","v":""},{"$f":"IF(Blad1!Q1399=\"\",\"\",Blad1!Q1399)","v":""}]
[{"$f":"IF(Blad1!D1400=\"\",\"\",Blad1!D1400)","v":""},{"$f":"IF(Blad1!E1400=\"\",\"\",Blad1!E1400)","v":""},{"$f":"IF(Blad1!B1400=\"\",\"\",Blad1!B1400)","v":""},{"$f":"IF(Blad1!H1400=\"\",\"\",Blad1!H1400)","v":""},{"$f":"IF(Blad1!I1400=\"\",\"\",Blad1!I1400)","v":""},{"$f":"IF(Blad1!M1400=\"\",\"\",Blad1!M1400)","v":""},{"$f":"IF(Blad1!F1400=\"\",\"\",Blad1!F1400)","v":""},{"$f":"IF(Blad1!Q1400=\"\",\"\",Blad1!Q1400)","v":""}]
[{"$f":"IF(Blad1!D1401=\"\",\"\",Blad1!D1401)","v":""},{"$f":"IF(Blad1!E1401=\"\",\"\",Blad1!E1401)","v":""},{"$f":"IF(Blad1!B1401=\"\",\"\",Blad1!B1401)","v":""},{"$f":"IF(Blad1!H1401=\"\",\"\",Blad1!H1401)","v":""},{"$f":"IF(Blad1!I1401=\"\",\"\",Blad1!I1401)","v":""},{"$f":"IF(Blad1!M1401=\"\",\"\",Blad1!M1401)","v":""},{"$f":"IF(Blad1!F1401=\"\",\"\",Blad1!F1401)","v":""},{"$f":"IF(Blad1!Q1401=\"\",\"\",Blad1!Q1401)","v":""}]
[{"$f":"IF(Blad1!D1402=\"\",\"\",Blad1!D1402)","v":""},{"$f":"IF(Blad1!E1402=\"\",\"\",Blad1!E1402)","v":""},{"$f":"IF(Blad1!B1402=\"\",\"\",Blad1!B1402)","v":""},{"$f":"IF(Blad1!H1402=\"\",\"\",Blad1!H1402)","v":""},{"$f":"IF(Blad1!I1402=\"\",\"\",Blad1!I1402)","v":""},{"$f":"IF(Blad1!M1402=\"\",\"\",Blad1!M1402)","v":""},{"$f":"IF(Blad1!F1402=\"\",\"\",Blad1!F1402)","v":""},{"$f":"IF(Blad1!Q1402=\"\",\"\",Blad1!Q1402)","v":""}]
[{"$f":"IF(Blad1!D1403=\"\",\"\",Blad1!D1403)","v":""},{"$f":"IF(Blad1!E1403=\"\",\"\",Blad1!E1403)","v":""},{"$f":"IF(Blad1!B1403=\"\",\"\",Blad1!B1403)","v":""},{"$f":"IF(Blad1!H1403=\"\",\"\",Blad1!H1403)","v":""},{"$f":"IF(Blad1!I1403=\"\",\"\",Blad1!I1403)","v":""},{"$f":"IF(Blad1!M1403=\"\",\"\",Blad1!M1403)","v":""},{"$f":"IF(Blad1!F1403=\"\",\"\",Blad1!F1403)","v":""},{"$f":"IF(Blad1!Q1403=\"\",\"\",Blad1!Q1403)","v":""}]
[{"$f":"IF(Blad1!D1404=\"\",\"\",Blad1!D1404)","v":""},{"$f":"IF(Blad1!E1404=\"\",\"\",Blad1!E1404)","v":""},{"$f":"IF(Blad1!B1404=\"\",\"\",Blad1!B1404)","v":""},{"$f":"IF(Blad1!H1404=\"\",\"\",Blad1!H1404)","v":""},{"$f":"IF(Blad1!I1404=\"\",\"\",Blad1!I1404)","v":""},{"$f":"IF(Blad1!M1404=\"\",\"\",Blad1!M1404)","v":""},{"$f":"IF(Blad1!F1404=\"\",\"\",Blad1!F1404)","v":""},{"$f":"IF(Blad1!Q1404=\"\",\"\",Blad1!Q1404)","v":""}]
[{"$f":"IF(Blad1!D1405=\"\",\"\",Blad1!D1405)","v":""},{"$f":"IF(Blad1!E1405=\"\",\"\",Blad1!E1405)","v":""},{"$f":"IF(Blad1!B1405=\"\",\"\",Blad1!B1405)","v":""},{"$f":"IF(Blad1!H1405=\"\",\"\",Blad1!H1405)","v":""},{"$f":"IF(Blad1!I1405=\"\",\"\",Blad1!I1405)","v":""},{"$f":"IF(Blad1!M1405=\"\",\"\",Blad1!M1405)","v":""},{"$f":"IF(Blad1!F1405=\"\",\"\",Blad1!F1405)","v":""},{"$f":"IF(Blad1!Q1405=\"\",\"\",Blad1!Q1405)","v":""}]
[{"$f":"IF(Blad1!D1406=\"\",\"\",Blad1!D1406)","v":""},{"$f":"IF(Blad1!E1406=\"\",\"\",Blad1!E1406)","v":""},{"$f":"IF(Blad1!B1406=\"\",\"\",Blad1!B1406)","v":""},{"$f":"IF(Blad1!H1406=\"\",\"\",Blad1!H1406)","v":""},{"$f":"IF(Blad1!I1406=\"\",\"\",Blad1!I1406)","v":""},{"$f":"IF(Blad1!M1406=\"\",\"\",Blad1!M1406)","v":""},{"$f":"IF(Blad1!F1406=\"\",\"\",Blad1!F1406)","v":""},{"$f":"IF(Blad1!Q1406=\"\",\"\",Blad1!Q1406)","v":""}]
[{"$f":"IF(Blad1!D1407=\"\",\"\",Blad1!D1407)","v":""},{"$f":"IF(Blad1!E1407=\"\",\"\",Blad1!E1407)","v":""},{"$f":"IF(Blad1!B1407=\"\",\"\",Blad1!B1407)","v":""},{"$f":"IF(Blad1!H1407=\"\",\"\",Blad1!H1407)","v":""},{"$f":"IF(Blad1!I1407=\"\",\"\",Blad1!I1407)","v":""},{"$f":"IF(Blad1!M1407=\"\",\"\",Blad1!M1407)","v":""},{"$f":"IF(Blad1!F1407=\"\",\"\",Blad1!F1407)","v":""},{"$f":"IF(Blad1!Q1407=\"\",\"\",Blad1!Q1407)","v":""}]
[{"$f":"IF(Blad1!D1408=\"\",\"\",Blad1!D1408)","v":""},{"$f":"IF(Blad1!E1408=\"\",\"\",Blad1!E1408)","v":""},{"$f":"IF(Blad1!B1408=\"\",\"\",Blad1!B1408)","v":""},{"$f":"IF(Blad1!H1408=\"\",\"\",Blad1!H1408)","v":""},{"$f":"IF(Blad1!I1408=\"\",\"\",Blad1!I1408)","v":""},{"$f":"IF(Blad1!M1408=\"\",\"\",Blad1!M1408)","v":""},{"$f":"IF(Blad1!F1408=\"\",\"\",Blad1!F1408)","v":""},{"$f":"IF(Blad1!Q1408=\"\",\"\",Blad1!Q1408)","v":""}]
[{"$f":"IF(Blad1!D1409=\"\",\"\",Blad1!D1409)","v":""},{"$f":"IF(Blad1!E1409=\"\",\"\",Blad1!E1409)","v":""},{"$f":"IF(Blad1!B1409=\"\",\"\",Blad1!B1409)","v":""},{"$f":"IF(Blad1!H1409=\"\",\"\",Blad1!H1409)","v":""},{"$f":"IF(Blad1!I1409=\"\",\"\",Blad1!I1409)","v":""},{"$f":"IF(Blad1!M1409=\"\",\"\",Blad1!M1409)","v":""},{"$f":"IF(Blad1!F1409=\"\",\"\",Blad1!F1409)","v":""},{"$f":"IF(Blad1!Q1409=\"\",\"\",Blad1!Q1409)","v":""}]
[{"$f":"IF(Blad1!D1410=\"\",\"\",Blad1!D1410)","v":""},{"$f":"IF(Blad1!E1410=\"\",\"\",Blad1!E1410)","v":""},{"$f":"IF(Blad1!B1410=\"\",\"\",Blad1!B1410)","v":""},{"$f":"IF(Blad1!H1410=\"\",\"\",Blad1!H1410)","v":""},{"$f":"IF(Blad1!I1410=\"\",\"\",Blad1!I1410)","v":""},{"$f":"IF(Blad1!M1410=\"\",\"\",Blad1!M1410)","v":""},{"$f":"IF(Blad1!F1410=\"\",\"\",Blad1!F1410)","v":""},{"$f":"IF(Blad1!Q1410=\"\",\"\",Blad1!Q1410)","v":""}]
[{"$f":"IF(Blad1!D1411=\"\",\"\",Blad1!D1411)","v":""},{"$f":"IF(Blad1!E1411=\"\",\"\",Blad1!E1411)","v":""},{"$f":"IF(Blad1!B1411=\"\",\"\",Blad1!B1411)","v":""},{"$f":"IF(Blad1!H1411=\"\",\"\",Blad1!H1411)","v":""},{"$f":"IF(Blad1!I1411=\"\",\"\",Blad1!I1411)","v":""},{"$f":"IF(Blad1!M1411=\"\",\"\",Blad1!M1411)","v":""},{"$f":"IF(Blad1!F1411=\"\",\"\",Blad1!F1411)","v":""},{"$f":"IF(Blad1!Q1411=\"\",\"\",Blad1!Q1411)","v":""}]
[{"$f":"IF(Blad1!D1412=\"\",\"\",Blad1!D1412)","v":""},{"$f":"IF(Blad1!E1412=\"\",\"\",Blad1!E1412)","v":""},{"$f":"IF(Blad1!B1412=\"\",\"\",Blad1!B1412)","v":""},{"$f":"IF(Blad1!H1412=\"\",\"\",Blad1!H1412)","v":""},{"$f":"IF(Blad1!I1412=\"\",\"\",Blad1!I1412)","v":""},{"$f":"IF(Blad1!M1412=\"\",\"\",Blad1!M1412)","v":""},{"$f":"IF(Blad1!F1412=\"\",\"\",Blad1!F1412)","v":""},{"$f":"IF(Blad1!Q1412=\"\",\"\",Blad1!Q1412)","v":""}]
[{"$f":"IF(Blad1!D1413=\"\",\"\",Blad1!D1413)","v":""},{"$f":"IF(Blad1!E1413=\"\",\"\",Blad1!E1413)","v":""},{"$f":"IF(Blad1!B1413=\"\",\"\",Blad1!B1413)","v":""},{"$f":"IF(Blad1!H1413=\"\",\"\",Blad1!H1413)","v":""},{"$f":"IF(Blad1!I1413=\"\",\"\",Blad1!I1413)","v":""},{"$f":"IF(Blad1!M1413=\"\",\"\",Blad1!M1413)","v":""},{"$f":"IF(Blad1!F1413=\"\",\"\",Blad1!F1413)","v":""},{"$f":"IF(Blad1!Q1413=\"\",\"\",Blad1!Q1413)","v":""}]
[{"$f":"IF(Blad1!D1414=\"\",\"\",Blad1!D1414)","v":""},{"$f":"IF(Blad1!E1414=\"\",\"\",Blad1!E1414)","v":""},{"$f":"IF(Blad1!B1414=\"\",\"\",Blad1!B1414)","v":""},{"$f":"IF(Blad1!H1414=\"\",\"\",Blad1!H1414)","v":""},{"$f":"IF(Blad1!I1414=\"\",\"\",Blad1!I1414)","v":""},{"$f":"IF(Blad1!M1414=\"\",\"\",Blad1!M1414)","v":""},{"$f":"IF(Blad1!F1414=\"\",\"\",Blad1!F1414)","v":""},{"$f":"IF(Blad1!Q1414=\"\",\"\",Blad1!Q1414)","v":""}]
[{"$f":"IF(Blad1!D1415=\"\",\"\",Blad1!D1415)","v":""},{"$f":"IF(Blad1!E1415=\"\",\"\",Blad1!E1415)","v":""},{"$f":"IF(Blad1!B1415=\"\",\"\",Blad1!B1415)","v":""},{"$f":"IF(Blad1!H1415=\"\",\"\",Blad1!H1415)","v":""},{"$f":"IF(Blad1!I1415=\"\",\"\",Blad1!I1415)","v":""},{"$f":"IF(Blad1!M1415=\"\",\"\",Blad1!M1415)","v":""},{"$f":"IF(Blad1!F1415=\"\",\"\",Blad1!F1415)","v":""},{"$f":"IF(Blad1!Q1415=\"\",\"\",Blad1!Q1415)","v":""}]
[{"$f":"IF(Blad1!D1416=\"\",\"\",Blad1!D1416)","v":""},{"$f":"IF(Blad1!E1416=\"\",\"\",Blad1!E1416)","v":""},{"$f":"IF(Blad1!B1416=\"\",\"\",Blad1!B1416)","v":""},{"$f":"IF(Blad1!H1416=\"\",\"\",Blad1!H1416)","v":""},{"$f":"IF(Blad1!I1416=\"\",\"\",Blad1!I1416)","v":""},{"$f":"IF(Blad1!M1416=\"\",\"\",Blad1!M1416)","v":""},{"$f":"IF(Blad1!F1416=\"\",\"\",Blad1!F1416)","v":""},{"$f":"IF(Blad1!Q1416=\"\",\"\",Blad1!Q1416)","v":""}]
[{"$f":"IF(Blad1!D1417=\"\",\"\",Blad1!D1417)","v":""},{"$f":"IF(Blad1!E1417=\"\",\"\",Blad1!E1417)","v":""},{"$f":"IF(Blad1!B1417=\"\",\"\",Blad1!B1417)","v":""},{"$f":"IF(Blad1!H1417=\"\",\"\",Blad1!H1417)","v":""},{"$f":"IF(Blad1!I1417=\"\",\"\",Blad1!I1417)","v":""},{"$f":"IF(Blad1!M1417=\"\",\"\",Blad1!M1417)","v":""},{"$f":"IF(Blad1!F1417=\"\",\"\",Blad1!F1417)","v":""},{"$f":"IF(Blad1!Q1417=\"\",\"\",Blad1!Q1417)","v":""}]
[{"$f":"IF(Blad1!D1418=\"\",\"\",Blad1!D1418)","v":""},{"$f":"IF(Blad1!E1418=\"\",\"\",Blad1!E1418)","v":""},{"$f":"IF(Blad1!B1418=\"\",\"\",Blad1!B1418)","v":""},{"$f":"IF(Blad1!H1418=\"\",\"\",Blad1!H1418)","v":""},{"$f":"IF(Blad1!I1418=\"\",\"\",Blad1!I1418)","v":""},{"$f":"IF(Blad1!M1418=\"\",\"\",Blad1!M1418)","v":""},{"$f":"IF(Blad1!F1418=\"\",\"\",Blad1!F1418)","v":""},{"$f":"IF(Blad1!Q1418=\"\",\"\",Blad1!Q1418)","v":""}]
[{"$f":"IF(Blad1!D1419=\"\",\"\",Blad1!D1419)","v":""},{"$f":"IF(Blad1!E1419=\"\",\"\",Blad1!E1419)","v":""},{"$f":"IF(Blad1!B1419=\"\",\"\",Blad1!B1419)","v":""},{"$f":"IF(Blad1!H1419=\"\",\"\",Blad1!H1419)","v":""},{"$f":"IF(Blad1!I1419=\"\",\"\",Blad1!I1419)","v":""},{"$f":"IF(Blad1!M1419=\"\",\"\",Blad1!M1419)","v":""},{"$f":"IF(Blad1!F1419=\"\",\"\",Blad1!F1419)","v":""},{"$f":"IF(Blad1!Q1419=\"\",\"\",Blad1!Q1419)","v":""}]
[{"$f":"IF(Blad1!D1420=\"\",\"\",Blad1!D1420)","v":""},{"$f":"IF(Blad1!E1420=\"\",\"\",Blad1!E1420)","v":""},{"$f":"IF(Blad1!B1420=\"\",\"\",Blad1!B1420)","v":""},{"$f":"IF(Blad1!H1420=\"\",\"\",Blad1!H1420)","v":""},{"$f":"IF(Blad1!I1420=\"\",\"\",Blad1!I1420)","v":""},{"$f":"IF(Blad1!M1420=\"\",\"\",Blad1!M1420)","v":""},{"$f":"IF(Blad1!F1420=\"\",\"\",Blad1!F1420)","v":""},{"$f":"IF(Blad1!Q1420=\"\",\"\",Blad1!Q1420)","v":""}]
[{"$f":"IF(Blad1!D1421=\"\",\"\",Blad1!D1421)","v":""},{"$f":"IF(Blad1!E1421=\"\",\"\",Blad1!E1421)","v":""},{"$f":"IF(Blad1!B1421=\"\",\"\",Blad1!B1421)","v":""},{"$f":"IF(Blad1!H1421=\"\",\"\",Blad1!H1421)","v":""},{"$f":"IF(Blad1!I1421=\"\",\"\",Blad1!I1421)","v":""},{"$f":"IF(Blad1!M1421=\"\",\"\",Blad1!M1421)","v":""},{"$f":"IF(Blad1!F1421=\"\",\"\",Blad1!F1421)","v":""},{"$f":"IF(Blad1!Q1421=\"\",\"\",Blad1!Q1421)","v":""}]
[{"$f":"IF(Blad1!D1422=\"\",\"\",Blad1!D1422)","v":""},{"$f":"IF(Blad1!E1422=\"\",\"\",Blad1!E1422)","v":""},{"$f":"IF(Blad1!B1422=\"\",\"\",Blad1!B1422)","v":""},{"$f":"IF(Blad1!H1422=\"\",\"\",Blad1!H1422)","v":""},{"$f":"IF(Blad1!I1422=\"\",\"\",Blad1!I1422)","v":""},{"$f":"IF(Blad1!M1422=\"\",\"\",Blad1!M1422)","v":""},{"$f":"IF(Blad1!F1422=\"\",\"\",Blad1!F1422)","v":""},{"$f":"IF(Blad1!Q1422=\"\",\"\",Blad1!Q1422)","v":""}]
[{"$f":"IF(Blad1!D1423=\"\",\"\",Blad1!D1423)","v":""},{"$f":"IF(Blad1!E1423=\"\",\"\",Blad1!E1423)","v":""},{"$f":"IF(Blad1!B1423=\"\",\"\",Blad1!B1423)","v":""},{"$f":"IF(Blad1!H1423=\"\",\"\",Blad1!H1423)","v":""},{"$f":"IF(Blad1!I1423=\"\",\"\",Blad1!I1423)","v":""},{"$f":"IF(Blad1!M1423=\"\",\"\",Blad1!M1423)","v":""},{"$f":"IF(Blad1!F1423=\"\",\"\",Blad1!F1423)","v":""},{"$f":"IF(Blad1!Q1423=\"\",\"\",Blad1!Q1423)","v":""}]
[{"$f":"IF(Blad1!D1424=\"\",\"\",Blad1!D1424)","v":""},{"$f":"IF(Blad1!E1424=\"\",\"\",Blad1!E1424)","v":""},{"$f":"IF(Blad1!B1424=\"\",\"\",Blad1!B1424)","v":""},{"$f":"IF(Blad1!H1424=\"\",\"\",Blad1!H1424)","v":""},{"$f":"IF(Blad1!I1424=\"\",\"\",Blad1!I1424)","v":""},{"$f":"IF(Blad1!M1424=\"\",\"\",Blad1!M1424)","v":""},{"$f":"IF(Blad1!F1424=\"\",\"\",Blad1!F1424)","v":""},{"$f":"IF(Blad1!Q1424=\"\",\"\",Blad1!Q1424)","v":""}]
[{"$f":"IF(Blad1!D1425=\"\",\"\",Blad1!D1425)","v":""},{"$f":"IF(Blad1!E1425=\"\",\"\",Blad1!E1425)","v":""},{"$f":"IF(Blad1!B1425=\"\",\"\",Blad1!B1425)","v":""},{"$f":"IF(Blad1!H1425=\"\",\"\",Blad1!H1425)","v":""},{"$f":"IF(Blad1!I1425=\"\",\"\",Blad1!I1425)","v":""},{"$f":"IF(Blad1!M1425=\"\",\"\",Blad1!M1425)","v":""},{"$f":"IF(Blad1!F1425=\"\",\"\",Blad1!F1425)","v":""},{"$f":"IF(Blad1!Q1425=\"\",\"\",Blad1!Q1425)","v":""}]
[{"$f":"IF(Blad1!D1426=\"\",\"\",Blad1!D1426)","v":""},{"$f":"IF(Blad1!E1426=\"\",\"\",Blad1!E1426)","v":""},{"$f":"IF(Blad1!B1426=\"\",\"\",Blad1!B1426)","v":""},{"$f":"IF(Blad1!H1426=\"\",\"\",Blad1!H1426)","v":""},{"$f":"IF(Blad1!I1426=\"\",\"\",Blad1!I1426)","v":""},{"$f":"IF(Blad1!M1426=\"\",\"\",Blad1!M1426)","v":""},{"$f":"IF(Blad1!F1426=\"\",\"\",Blad1!F1426)","v":""},{"$f":"IF(Blad1!Q1426=\"\",\"\",Blad1!Q1426)","v":""}]
[{"$f":"IF(Blad1!D1427=\"\",\"\",Blad1!D1427)","v":""},{"$f":"IF(Blad1!E1427=\"\",\"\",Blad1!E1427)","v":""},{"$f":"IF(Blad1!B1427=\"\",\"\",Blad1!B1427)","v":""},{"$f":"IF(Blad1!H1427=\"\",\"\",Blad1!H1427)","v":""},{"$f":"IF(Blad1!I1427=\"\",\"\",Blad1!I1427)","v":""},{"$f":"IF(Blad1!M1427=\"\",\"\",Blad1!M1427)","v":""},{"$f":"IF(Blad1!F1427=\"\",\"\",Blad1!F1427)","v":""},{"$f":"IF(Blad1!Q1427=\"\",\"\",Blad1!Q1427)","v":""}]
[{"$f":"IF(Blad1!D1428=\"\",\"\",Blad1!D1428)","v":""},{"$f":"IF(Blad1!E1428=\"\",\"\",Blad1!E1428)","v":""},{"$f":"IF(Blad1!B1428=\"\",\"\",Blad1!B1428)","v":""},{"$f":"IF(Blad1!H1428=\"\",\"\",Blad1!H1428)","v":""},{"$f":"IF(Blad1!I1428=\"\",\"\",Blad1!I1428)","v":""},{"$f":"IF(Blad1!M1428=\"\",\"\",Blad1!M1428)","v":""},{"$f":"IF(Blad1!F1428=\"\",\"\",Blad1!F1428)","v":""},{"$f":"IF(Blad1!Q1428=\"\",\"\",Blad1!Q1428)","v":""}]
[{"$f":"IF(Blad1!D1429=\"\",\"\",Blad1!D1429)","v":""},{"$f":"IF(Blad1!E1429=\"\",\"\",Blad1!E1429)","v":""},{"$f":"IF(Blad1!B1429=\"\",\"\",Blad1!B1429)","v":""},{"$f":"IF(Blad1!H1429=\"\",\"\",Blad1!H1429)","v":""},{"$f":"IF(Blad1!I1429=\"\",\"\",Blad1!I1429)","v":""},{"$f":"IF(Blad1!M1429=\"\",\"\",Blad1!M1429)","v":""},{"$f":"IF(Blad1!F1429=\"\",\"\",Blad1!F1429)","v":""},{"$f":"IF(Blad1!Q1429=\"\",\"\",Blad1!Q1429)","v":""}]
[{"$f":"IF(Blad1!D1430=\"\",\"\",Blad1!D1430)","v":""},{"$f":"IF(Blad1!E1430=\"\",\"\",Blad1!E1430)","v":""},{"$f":"IF(Blad1!B1430=\"\",\"\",Blad1!B1430)","v":""},{"$f":"IF(Blad1!H1430=\"\",\"\",Blad1!H1430)","v":""},{"$f":"IF(Blad1!I1430=\"\",\"\",Blad1!I1430)","v":""},{"$f":"IF(Blad1!M1430=\"\",\"\",Blad1!M1430)","v":""},{"$f":"IF(Blad1!F1430=\"\",\"\",Blad1!F1430)","v":""},{"$f":"IF(Blad1!Q1430=\"\",\"\",Blad1!Q1430)","v":""}]
[{"$f":"IF(Blad1!D1431=\"\",\"\",Blad1!D1431)","v":""},{"$f":"IF(Blad1!E1431=\"\",\"\",Blad1!E1431)","v":""},{"$f":"IF(Blad1!B1431=\"\",\"\",Blad1!B1431)","v":""},{"$f":"IF(Blad1!H1431=\"\",\"\",Blad1!H1431)","v":""},{"$f":"IF(Blad1!I1431=\"\",\"\",Blad1!I1431)","v":""},{"$f":"IF(Blad1!M1431=\"\",\"\",Blad1!M1431)","v":""},{"$f":"IF(Blad1!F1431=\"\",\"\",Blad1!F1431)","v":""},{"$f":"IF(Blad1!Q1431=\"\",\"\",Blad1!Q1431)","v":""}]
[{"$f":"IF(Blad1!D1432=\"\",\"\",Blad1!D1432)","v":""},{"$f":"IF(Blad1!E1432=\"\",\"\",Blad1!E1432)","v":""},{"$f":"IF(Blad1!B1432=\"\",\"\",Blad1!B1432)","v":""},{"$f":"IF(Blad1!H1432=\"\",\"\",Blad1!H1432)","v":""},{"$f":"IF(Blad1!I1432=\"\",\"\",Blad1!I1432)","v":""},{"$f":"IF(Blad1!M1432=\"\",\"\",Blad1!M1432)","v":""},{"$f":"IF(Blad1!F1432=\"\",\"\",Blad1!F1432)","v":""},{"$f":"IF(Blad1!Q1432=\"\",\"\",Blad1!Q1432)","v":""}]
[{"$f":"IF(Blad1!D1433=\"\",\"\",Blad1!D1433)","v":""},{"$f":"IF(Blad1!E1433=\"\",\"\",Blad1!E1433)","v":""},{"$f":"IF(Blad1!B1433=\"\",\"\",Blad1!B1433)","v":""},{"$f":"IF(Blad1!H1433=\"\",\"\",Blad1!H1433)","v":""},{"$f":"IF(Blad1!I1433=\"\",\"\",Blad1!I1433)","v":""},{"$f":"IF(Blad1!M1433=\"\",\"\",Blad1!M1433)","v":""},{"$f":"IF(Blad1!F1433=\"\",\"\",Blad1!F1433)","v":""},{"$f":"IF(Blad1!Q1433=\"\",\"\",Blad1!Q1433)","v":""}]
[{"$f":"IF(Blad1!D1434=\"\",\"\",Blad1!D1434)","v":""},{"$f":"IF(Blad1!E1434=\"\",\"\",Blad1!E1434)","v":""},{"$f":"IF(Blad1!B1434=\"\",\"\",Blad1!B1434)","v":""},{"$f":"IF(Blad1!H1434=\"\",\"\",Blad1!H1434)","v":""},{"$f":"IF(Blad1!I1434=\"\",\"\",Blad1!I1434)","v":""},{"$f":"IF(Blad1!M1434=\"\",\"\",Blad1!M1434)","v":""},{"$f":"IF(Blad1!F1434=\"\",\"\",Blad1!F1434)","v":""},{"$f":"IF(Blad1!Q1434=\"\",\"\",Blad1!Q1434)","v":""}]
[{"$f":"IF(Blad1!D1435=\"\",\"\",Blad1!D1435)","v":""},{"$f":"IF(Blad1!E1435=\"\",\"\",Blad1!E1435)","v":""},{"$f":"IF(Blad1!B1435=\"\",\"\",Blad1!B1435)","v":""},{"$f":"IF(Blad1!H1435=\"\",\"\",Blad1!H1435)","v":""},{"$f":"IF(Blad1!I1435=\"\",\"\",Blad1!I1435)","v":""},{"$f":"IF(Blad1!M1435=\"\",\"\",Blad1!M1435)","v":""},{"$f":"IF(Blad1!F1435=\"\",\"\",Blad1!F1435)","v":""},{"$f":"IF(Blad1!Q1435=\"\",\"\",Blad1!Q1435)","v":""}]
[{"$f":"IF(Blad1!D1436=\"\",\"\",Blad1!D1436)","v":""},{"$f":"IF(Blad1!E1436=\"\",\"\",Blad1!E1436)","v":""},{"$f":"IF(Blad1!B1436=\"\",\"\",Blad1!B1436)","v":""},{"$f":"IF(Blad1!H1436=\"\",\"\",Blad1!H1436)","v":""},{"$f":"IF(Blad1!I1436=\"\",\"\",Blad1!I1436)","v":""},{"$f":"IF(Blad1!M1436=\"\",\"\",Blad1!M1436)","v":""},{"$f":"IF(Blad1!F1436=\"\",\"\",Blad1!F1436)","v":""},{"$f":"IF(Blad1!Q1436=\"\",\"\",Blad1!Q1436)","v":""}]
[{"$f":"IF(Blad1!D1437=\"\",\"\",Blad1!D1437)","v":""},{"$f":"IF(Blad1!E1437=\"\",\"\",Blad1!E1437)","v":""},{"$f":"IF(Blad1!B1437=\"\",\"\",Blad1!B1437)","v":""},{"$f":"IF(Blad1!H1437=\"\",\"\",Blad1!H1437)","v":""},{"$f":"IF(Blad1!I1437=\"\",\"\",Blad1!I1437)","v":""},{"$f":"IF(Blad1!M1437=\"\",\"\",Blad1!M1437)","v":""},{"$f":"IF(Blad1!F1437=\"\",\"\",Blad1!F1437)","v":""},{"$f":"IF(Blad1!Q1437=\"\",\"\",Blad1!Q1437)","v":""}]
[{"$f":"IF(Blad1!D1438=\"\",\"\",Blad1!D1438)","v":""},{"$f":"IF(Blad1!E1438=\"\",\"\",Blad1!E1438)","v":""},{"$f":"IF(Blad1!B1438=\"\",\"\",Blad1!B1438)","v":""},{"$f":"IF(Blad1!H1438=\"\",\"\",Blad1!H1438)","v":""},{"$f":"IF(Blad1!I1438=\"\",\"\",Blad1!I1438)","v":""},{"$f":"IF(Blad1!M1438=\"\",\"\",Blad1!M1438)","v":""},{"$f":"IF(Blad1!F1438=\"\",\"\",Blad1!F1438)","v":""},{"$f":"IF(Blad1!Q1438=\"\",\"\",Blad1!Q1438)","v":""}]
[{"$f":"IF(Blad1!D1439=\"\",\"\",Blad1!D1439)","v":""},{"$f":"IF(Blad1!E1439=\"\",\"\",Blad1!E1439)","v":""},{"$f":"IF(Blad1!B1439=\"\",\"\",Blad1!B1439)","v":""},{"$f":"IF(Blad1!H1439=\"\",\"\",Blad1!H1439)","v":""},{"$f":"IF(Blad1!I1439=\"\",\"\",Blad1!I1439)","v":""},{"$f":"IF(Blad1!M1439=\"\",\"\",Blad1!M1439)","v":""},{"$f":"IF(Blad1!F1439=\"\",\"\",Blad1!F1439)","v":""},{"$f":"IF(Blad1!Q1439=\"\",\"\",Blad1!Q1439)","v":""}]
[{"$f":"IF(Blad1!D1440=\"\",\"\",Blad1!D1440)","v":""},{"$f":"IF(Blad1!E1440=\"\",\"\",Blad1!E1440)","v":""},{"$f":"IF(Blad1!B1440=\"\",\"\",Blad1!B1440)","v":""},{"$f":"IF(Blad1!H1440=\"\",\"\",Blad1!H1440)","v":""},{"$f":"IF(Blad1!I1440=\"\",\"\",Blad1!I1440)","v":""},{"$f":"IF(Blad1!M1440=\"\",\"\",Blad1!M1440)","v":""},{"$f":"IF(Blad1!F1440=\"\",\"\",Blad1!F1440)","v":""},{"$f":"IF(Blad1!Q1440=\"\",\"\",Blad1!Q1440)","v":""}]
[{"$f":"IF(Blad1!D1441=\"\",\"\",Blad1!D1441)","v":""},{"$f":"IF(Blad1!E1441=\"\",\"\",Blad1!E1441)","v":""},{"$f":"IF(Blad1!B1441=\"\",\"\",Blad1!B1441)","v":""},{"$f":"IF(Blad1!H1441=\"\",\"\",Blad1!H1441)","v":""},{"$f":"IF(Blad1!I1441=\"\",\"\",Blad1!I1441)","v":""},{"$f":"IF(Blad1!M1441=\"\",\"\",Blad1!M1441)","v":""},{"$f":"IF(Blad1!F1441=\"\",\"\",Blad1!F1441)","v":""},{"$f":"IF(Blad1!Q1441=\"\",\"\",Blad1!Q1441)","v":""}]
[{"$f":"IF(Blad1!D1442=\"\",\"\",Blad1!D1442)","v":""},{"$f":"IF(Blad1!E1442=\"\",\"\",Blad1!E1442)","v":""},{"$f":"IF(Blad1!B1442=\"\",\"\",Blad1!B1442)","v":""},{"$f":"IF(Blad1!H1442=\"\",\"\",Blad1!H1442)","v":""},{"$f":"IF(Blad1!I1442=\"\",\"\",Blad1!I1442)","v":""},{"$f":"IF(Blad1!M1442=\"\",\"\",Blad1!M1442)","v":""},{"$f":"IF(Blad1!F1442=\"\",\"\",Blad1!F1442)","v":""},{"$f":"IF(Blad1!Q1442=\"\",\"\",Blad1!Q1442)","v":""}]
[{"$f":"IF(Blad1!D1443=\"\",\"\",Blad1!D1443)","v":""},{"$f":"IF(Blad1!E1443=\"\",\"\",Blad1!E1443)","v":""},{"$f":"IF(Blad1!B1443=\"\",\"\",Blad1!B1443)","v":""},{"$f":"IF(Blad1!H1443=\"\",\"\",Blad1!H1443)","v":""},{"$f":"IF(Blad1!I1443=\"\",\"\",Blad1!I1443)","v":""},{"$f":"IF(Blad1!M1443=\"\",\"\",Blad1!M1443)","v":""},{"$f":"IF(Blad1!F1443=\"\",\"\",Blad1!F1443)","v":""},{"$f":"IF(Blad1!Q1443=\"\",\"\",Blad1!Q1443)","v":""}]
[{"$f":"IF(Blad1!D1444=\"\",\"\",Blad1!D1444)","v":""},{"$f":"IF(Blad1!E1444=\"\",\"\",Blad1!E1444)","v":""},{"$f":"IF(Blad1!B1444=\"\",\"\",Blad1!B1444)","v":""},{"$f":"IF(Blad1!H1444=\"\",\"\",Blad1!H1444)","v":""},{"$f":"IF(Blad1!I1444=\"\",\"\",Blad1!I1444)","v":""},{"$f":"IF(Blad1!M1444=\"\",\"\",Blad1!M1444)","v":""},{"$f":"IF(Blad1!F1444=\"\",\"\",Blad1!F1444)","v":""},{"$f":"IF(Blad1!Q1444=\"\",\"\",Blad1!Q1444)","v":""}]
[{"$f":"IF(Blad1!D1445=\"\",\"\",Blad1!D1445)","v":""},{"$f":"IF(Blad1!E1445=\"\",\"\",Blad1!E1445)","v":""},{"$f":"IF(Blad1!B1445=\"\",\"\",Blad1!B1445)","v":""},{"$f":"IF(Blad1!H1445=\"\",\"\",Blad1!H1445)","v":""},{"$f":"IF(Blad1!I1445=\"\",\"\",Blad1!I1445)","v":""},{"$f":"IF(Blad1!M1445=\"\",\"\",Blad1!M1445)","v":""},{"$f":"IF(Blad1!F1445=\"\",\"\",Blad1!F1445)","v":""},{"$f":"IF(Blad1!Q1445=\"\",\"\",Blad1!Q1445)","v":""}]
[{"$f":"IF(Blad1!D1446=\"\",\"\",Blad1!D1446)","v":""},{"$f":"IF(Blad1!E1446=\"\",\"\",Blad1!E1446)","v":""},{"$f":"IF(Blad1!B1446=\"\",\"\",Blad1!B1446)","v":""},{"$f":"IF(Blad1!H1446=\"\",\"\",Blad1!H1446)","v":""},{"$f":"IF(Blad1!I1446=\"\",\"\",Blad1!I1446)","v":""},{"$f":"IF(Blad1!M1446=\"\",\"\",Blad1!M1446)","v":""},{"$f":"IF(Blad1!F1446=\"\",\"\",Blad1!F1446)","v":""},{"$f":"IF(Blad1!Q1446=\"\",\"\",Blad1!Q1446)","v":""}]
[{"$f":"IF(Blad1!D1447=\"\",\"\",Blad1!D1447)","v":""},{"$f":"IF(Blad1!E1447=\"\",\"\",Blad1!E1447)","v":""},{"$f":"IF(Blad1!B1447=\"\",\"\",Blad1!B1447)","v":""},{"$f":"IF(Blad1!H1447=\"\",\"\",Blad1!H1447)","v":""},{"$f":"IF(Blad1!I1447=\"\",\"\",Blad1!I1447)","v":""},{"$f":"IF(Blad1!M1447=\"\",\"\",Blad1!M1447)","v":""},{"$f":"IF(Blad1!F1447=\"\",\"\",Blad1!F1447)","v":""},{"$f":"IF(Blad1!Q1447=\"\",\"\",Blad1!Q1447)","v":""}]
[{"$f":"IF(Blad1!D1448=\"\",\"\",Blad1!D1448)","v":""},{"$f":"IF(Blad1!E1448=\"\",\"\",Blad1!E1448)","v":""},{"$f":"IF(Blad1!B1448=\"\",\"\",Blad1!B1448)","v":""},{"$f":"IF(Blad1!H1448=\"\",\"\",Blad1!H1448)","v":""},{"$f":"IF(Blad1!I1448=\"\",\"\",Blad1!I1448)","v":""},{"$f":"IF(Blad1!M1448=\"\",\"\",Blad1!M1448)","v":""},{"$f":"IF(Blad1!F1448=\"\",\"\",Blad1!F1448)","v":""},{"$f":"IF(Blad1!Q1448=\"\",\"\",Blad1!Q1448)","v":""}]
[{"$f":"IF(Blad1!D1449=\"\",\"\",Blad1!D1449)","v":""},{"$f":"IF(Blad1!E1449=\"\",\"\",Blad1!E1449)","v":""},{"$f":"IF(Blad1!B1449=\"\",\"\",Blad1!B1449)","v":""},{"$f":"IF(Blad1!H1449=\"\",\"\",Blad1!H1449)","v":""},{"$f":"IF(Blad1!I1449=\"\",\"\",Blad1!I1449)","v":""},{"$f":"IF(Blad1!M1449=\"\",\"\",Blad1!M1449)","v":""},{"$f":"IF(Blad1!F1449=\"\",\"\",Blad1!F1449)","v":""},{"$f":"IF(Blad1!Q1449=\"\",\"\",Blad1!Q1449)","v":""}]
[{"$f":"IF(Blad1!D1450=\"\",\"\",Blad1!D1450)","v":""},{"$f":"IF(Blad1!E1450=\"\",\"\",Blad1!E1450)","v":""},{"$f":"IF(Blad1!B1450=\"\",\"\",Blad1!B1450)","v":""},{"$f":"IF(Blad1!H1450=\"\",\"\",Blad1!H1450)","v":""},{"$f":"IF(Blad1!I1450=\"\",\"\",Blad1!I1450)","v":""},{"$f":"IF(Blad1!M1450=\"\",\"\",Blad1!M1450)","v":""},{"$f":"IF(Blad1!F1450=\"\",\"\",Blad1!F1450)","v":""},{"$f":"IF(Blad1!Q1450=\"\",\"\",Blad1!Q1450)","v":""}]
[{"$f":"IF(Blad1!D1451=\"\",\"\",Blad1!D1451)","v":""},{"$f":"IF(Blad1!E1451=\"\",\"\",Blad1!E1451)","v":""},{"$f":"IF(Blad1!B1451=\"\",\"\",Blad1!B1451)","v":""},{"$f":"IF(Blad1!H1451=\"\",\"\",Blad1!H1451)","v":""},{"$f":"IF(Blad1!I1451=\"\",\"\",Blad1!I1451)","v":""},{"$f":"IF(Blad1!M1451=\"\",\"\",Blad1!M1451)","v":""},{"$f":"IF(Blad1!F1451=\"\",\"\",Blad1!F1451)","v":""},{"$f":"IF(Blad1!Q1451=\"\",\"\",Blad1!Q1451)","v":""}]
[{"$f":"IF(Blad1!D1452=\"\",\"\",Blad1!D1452)","v":""},{"$f":"IF(Blad1!E1452=\"\",\"\",Blad1!E1452)","v":""},{"$f":"IF(Blad1!B1452=\"\",\"\",Blad1!B1452)","v":""},{"$f":"IF(Blad1!H1452=\"\",\"\",Blad1!H1452)","v":""},{"$f":"IF(Blad1!I1452=\"\",\"\",Blad1!I1452)","v":""},{"$f":"IF(Blad1!M1452=\"\",\"\",Blad1!M1452)","v":""},{"$f":"IF(Blad1!F1452=\"\",\"\",Blad1!F1452)","v":""},{"$f":"IF(Blad1!Q1452=\"\",\"\",Blad1!Q1452)","v":""}]
[{"$f":"IF(Blad1!D1453=\"\",\"\",Blad1!D1453)","v":""},{"$f":"IF(Blad1!E1453=\"\",\"\",Blad1!E1453)","v":""},{"$f":"IF(Blad1!B1453=\"\",\"\",Blad1!B1453)","v":""},{"$f":"IF(Blad1!H1453=\"\",\"\",Blad1!H1453)","v":""},{"$f":"IF(Blad1!I1453=\"\",\"\",Blad1!I1453)","v":""},{"$f":"IF(Blad1!M1453=\"\",\"\",Blad1!M1453)","v":""},{"$f":"IF(Blad1!F1453=\"\",\"\",Blad1!F1453)","v":""},{"$f":"IF(Blad1!Q1453=\"\",\"\",Blad1!Q1453)","v":""}]
[{"$f":"IF(Blad1!D1454=\"\",\"\",Blad1!D1454)","v":""},{"$f":"IF(Blad1!E1454=\"\",\"\",Blad1!E1454)","v":""},{"$f":"IF(Blad1!B1454=\"\",\"\",Blad1!B1454)","v":""},{"$f":"IF(Blad1!H1454=\"\",\"\",Blad1!H1454)","v":""},{"$f":"IF(Blad1!I1454=\"\",\"\",Blad1!I1454)","v":""},{"$f":"IF(Blad1!M1454=\"\",\"\",Blad1!M1454)","v":""},{"$f":"IF(Blad1!F1454=\"\",\"\",Blad1!F1454)","v":""},{"$f":"IF(Blad1!Q1454=\"\",\"\",Blad1!Q1454)","v":""}]
[{"$f":"IF(Blad1!D1455=\"\",\"\",Blad1!D1455)","v":""},{"$f":"IF(Blad1!E1455=\"\",\"\",Blad1!E1455)","v":""},{"$f":"IF(Blad1!B1455=\"\",\"\",Blad1!B1455)","v":""},{"$f":"IF(Blad1!H1455=\"\",\"\",Blad1!H1455)","v":""},{"$f":"IF(Blad1!I1455=\"\",\"\",Blad1!I1455)","v":""},{"$f":"IF(Blad1!M1455=\"\",\"\",Blad1!M1455)","v":""},{"$f":"IF(Blad1!F1455=\"\",\"\",Blad1!F1455)","v":""},{"$f":"IF(Blad1!Q1455=\"\",\"\",Blad1!Q1455)","v":""}]
[{"$f":"IF(Blad1!D1456=\"\",\"\",Blad1!D1456)","v":""},{"$f":"IF(Blad1!E1456=\"\",\"\",Blad1!E1456)","v":""},{"$f":"IF(Blad1!B1456=\"\",\"\",Blad1!B1456)","v":""},{"$f":"IF(Blad1!H1456=\"\",\"\",Blad1!H1456)","v":""},{"$f":"IF(Blad1!I1456=\"\",\"\",Blad1!I1456)","v":""},{"$f":"IF(Blad1!M1456=\"\",\"\",Blad1!M1456)","v":""},{"$f":"IF(Blad1!F1456=\"\",\"\",Blad1!F1456)","v":""},{"$f":"IF(Blad1!Q1456=\"\",\"\",Blad1!Q1456)","v":""}]
[{"$f":"IF(Blad1!D1457=\"\",\"\",Blad1!D1457)","v":""},{"$f":"IF(Blad1!E1457=\"\",\"\",Blad1!E1457)","v":""},{"$f":"IF(Blad1!B1457=\"\",\"\",Blad1!B1457)","v":""},{"$f":"IF(Blad1!H1457=\"\",\"\",Blad1!H1457)","v":""},{"$f":"IF(Blad1!I1457=\"\",\"\",Blad1!I1457)","v":""},{"$f":"IF(Blad1!M1457=\"\",\"\",Blad1!M1457)","v":""},{"$f":"IF(Blad1!F1457=\"\",\"\",Blad1!F1457)","v":""},{"$f":"IF(Blad1!Q1457=\"\",\"\",Blad1!Q1457)","v":""}]
[{"$f":"IF(Blad1!D1458=\"\",\"\",Blad1!D1458)","v":""},{"$f":"IF(Blad1!E1458=\"\",\"\",Blad1!E1458)","v":""},{"$f":"IF(Blad1!B1458=\"\",\"\",Blad1!B1458)","v":""},{"$f":"IF(Blad1!H1458=\"\",\"\",Blad1!H1458)","v":""},{"$f":"IF(Blad1!I1458=\"\",\"\",Blad1!I1458)","v":""},{"$f":"IF(Blad1!M1458=\"\",\"\",Blad1!M1458)","v":""},{"$f":"IF(Blad1!F1458=\"\",\"\",Blad1!F1458)","v":""},{"$f":"IF(Blad1!Q1458=\"\",\"\",Blad1!Q1458)","v":""}]
[{"$f":"IF(Blad1!D1459=\"\",\"\",Blad1!D1459)","v":""},{"$f":"IF(Blad1!E1459=\"\",\"\",Blad1!E1459)","v":""},{"$f":"IF(Blad1!B1459=\"\",\"\",Blad1!B1459)","v":""},{"$f":"IF(Blad1!H1459=\"\",\"\",Blad1!H1459)","v":""},{"$f":"IF(Blad1!I1459=\"\",\"\",Blad1!I1459)","v":""},{"$f":"IF(Blad1!M1459=\"\",\"\",Blad1!M1459)","v":""},{"$f":"IF(Blad1!F1459=\"\",\"\",Blad1!F1459)","v":""},{"$f":"IF(Blad1!Q1459=\"\",\"\",Blad1!Q1459)","v":""}]
[{"$f":"IF(Blad1!D1460=\"\",\"\",Blad1!D1460)","v":""},{"$f":"IF(Blad1!E1460=\"\",\"\",Blad1!E1460)","v":""},{"$f":"IF(Blad1!B1460=\"\",\"\",Blad1!B1460)","v":""},{"$f":"IF(Blad1!H1460=\"\",\"\",Blad1!H1460)","v":""},{"$f":"IF(Blad1!I1460=\"\",\"\",Blad1!I1460)","v":""},{"$f":"IF(Blad1!M1460=\"\",\"\",Blad1!M1460)","v":""},{"$f":"IF(Blad1!F1460=\"\",\"\",Blad1!F1460)","v":""},{"$f":"IF(Blad1!Q1460=\"\",\"\",Blad1!Q1460)","v":""}]
[{"$f":"IF(Blad1!D1461=\"\",\"\",Blad1!D1461)","v":""},{"$f":"IF(Blad1!E1461=\"\",\"\",Blad1!E1461)","v":""},{"$f":"IF(Blad1!B1461=\"\",\"\",Blad1!B1461)","v":""},{"$f":"IF(Blad1!H1461=\"\",\"\",Blad1!H1461)","v":""},{"$f":"IF(Blad1!I1461=\"\",\"\",Blad1!I1461)","v":""},{"$f":"IF(Blad1!M1461=\"\",\"\",Blad1!M1461)","v":""},{"$f":"IF(Blad1!F1461=\"\",\"\",Blad1!F1461)","v":""},{"$f":"IF(Blad1!Q1461=\"\",\"\",Blad1!Q1461)","v":""}]
[{"$f":"IF(Blad1!D1462=\"\",\"\",Blad1!D1462)","v":""},{"$f":"IF(Blad1!E1462=\"\",\"\",Blad1!E1462)","v":""},{"$f":"IF(Blad1!B1462=\"\",\"\",Blad1!B1462)","v":""},{"$f":"IF(Blad1!H1462=\"\",\"\",Blad1!H1462)","v":""},{"$f":"IF(Blad1!I1462=\"\",\"\",Blad1!I1462)","v":""},{"$f":"IF(Blad1!M1462=\"\",\"\",Blad1!M1462)","v":""},{"$f":"IF(Blad1!F1462=\"\",\"\",Blad1!F1462)","v":""},{"$f":"IF(Blad1!Q1462=\"\",\"\",Blad1!Q1462)","v":""}]
[{"$f":"IF(Blad1!D1463=\"\",\"\",Blad1!D1463)","v":""},{"$f":"IF(Blad1!E1463=\"\",\"\",Blad1!E1463)","v":""},{"$f":"IF(Blad1!B1463=\"\",\"\",Blad1!B1463)","v":""},{"$f":"IF(Blad1!H1463=\"\",\"\",Blad1!H1463)","v":""},{"$f":"IF(Blad1!I1463=\"\",\"\",Blad1!I1463)","v":""},{"$f":"IF(Blad1!M1463=\"\",\"\",Blad1!M1463)","v":""},{"$f":"IF(Blad1!F1463=\"\",\"\",Blad1!F1463)","v":""},{"$f":"IF(Blad1!Q1463=\"\",\"\",Blad1!Q1463)","v":""}]
[{"$f":"IF(Blad1!D1464=\"\",\"\",Blad1!D1464)","v":""},{"$f":"IF(Blad1!E1464=\"\",\"\",Blad1!E1464)","v":""},{"$f":"IF(Blad1!B1464=\"\",\"\",Blad1!B1464)","v":""},{"$f":"IF(Blad1!H1464=\"\",\"\",Blad1!H1464)","v":""},{"$f":"IF(Blad1!I1464=\"\",\"\",Blad1!I1464)","v":""},{"$f":"IF(Blad1!M1464=\"\",\"\",Blad1!M1464)","v":""},{"$f":"IF(Blad1!F1464=\"\",\"\",Blad1!F1464)","v":""},{"$f":"IF(Blad1!Q1464=\"\",\"\",Blad1!Q1464)","v":""}]
[{"$f":"IF(Blad1!D1465=\"\",\"\",Blad1!D1465)","v":""},{"$f":"IF(Blad1!E1465=\"\",\"\",Blad1!E1465)","v":""},{"$f":"IF(Blad1!B1465=\"\",\"\",Blad1!B1465)","v":""},{"$f":"IF(Blad1!H1465=\"\",\"\",Blad1!H1465)","v":""},{"$f":"IF(Blad1!I1465=\"\",\"\",Blad1!I1465)","v":""},{"$f":"IF(Blad1!M1465=\"\",\"\",Blad1!M1465)","v":""},{"$f":"IF(Blad1!F1465=\"\",\"\",Blad1!F1465)","v":""},{"$f":"IF(Blad1!Q1465=\"\",\"\",Blad1!Q1465)","v":""}]
[{"$f":"IF(Blad1!D1466=\"\",\"\",Blad1!D1466)","v":""},{"$f":"IF(Blad1!E1466=\"\",\"\",Blad1!E1466)","v":""},{"$f":"IF(Blad1!B1466=\"\",\"\",Blad1!B1466)","v":""},{"$f":"IF(Blad1!H1466=\"\",\"\",Blad1!H1466)","v":""},{"$f":"IF(Blad1!I1466=\"\",\"\",Blad1!I1466)","v":""},{"$f":"IF(Blad1!M1466=\"\",\"\",Blad1!M1466)","v":""},{"$f":"IF(Blad1!F1466=\"\",\"\",Blad1!F1466)","v":""},{"$f":"IF(Blad1!Q1466=\"\",\"\",Blad1!Q1466)","v":""}]
[{"$f":"IF(Blad1!D1467=\"\",\"\",Blad1!D1467)","v":""},{"$f":"IF(Blad1!E1467=\"\",\"\",Blad1!E1467)","v":""},{"$f":"IF(Blad1!B1467=\"\",\"\",Blad1!B1467)","v":""},{"$f":"IF(Blad1!H1467=\"\",\"\",Blad1!H1467)","v":""},{"$f":"IF(Blad1!I1467=\"\",\"\",Blad1!I1467)","v":""},{"$f":"IF(Blad1!M1467=\"\",\"\",Blad1!M1467)","v":""},{"$f":"IF(Blad1!F1467=\"\",\"\",Blad1!F1467)","v":""},{"$f":"IF(Blad1!Q1467=\"\",\"\",Blad1!Q1467)","v":""}]
[{"$f":"IF(Blad1!D1468=\"\",\"\",Blad1!D1468)","v":""},{"$f":"IF(Blad1!E1468=\"\",\"\",Blad1!E1468)","v":""},{"$f":"IF(Blad1!B1468=\"\",\"\",Blad1!B1468)","v":""},{"$f":"IF(Blad1!H1468=\"\",\"\",Blad1!H1468)","v":""},{"$f":"IF(Blad1!I1468=\"\",\"\",Blad1!I1468)","v":""},{"$f":"IF(Blad1!M1468=\"\",\"\",Blad1!M1468)","v":""},{"$f":"IF(Blad1!F1468=\"\",\"\",Blad1!F1468)","v":""},{"$f":"IF(Blad1!Q1468=\"\",\"\",Blad1!Q1468)","v":""}]
[{"$f":"IF(Blad1!D1469=\"\",\"\",Blad1!D1469)","v":""},{"$f":"IF(Blad1!E1469=\"\",\"\",Blad1!E1469)","v":""},{"$f":"IF(Blad1!B1469=\"\",\"\",Blad1!B1469)","v":""},{"$f":"IF(Blad1!H1469=\"\",\"\",Blad1!H1469)","v":""},{"$f":"IF(Blad1!I1469=\"\",\"\",Blad1!I1469)","v":""},{"$f":"IF(Blad1!M1469=\"\",\"\",Blad1!M1469)","v":""},{"$f":"IF(Blad1!F1469=\"\",\"\",Blad1!F1469)","v":""},{"$f":"IF(Blad1!Q1469=\"\",\"\",Blad1!Q1469)","v":""}]
[{"$f":"IF(Blad1!D1470=\"\",\"\",Blad1!D1470)","v":""},{"$f":"IF(Blad1!E1470=\"\",\"\",Blad1!E1470)","v":""},{"$f":"IF(Blad1!B1470=\"\",\"\",Blad1!B1470)","v":""},{"$f":"IF(Blad1!H1470=\"\",\"\",Blad1!H1470)","v":""},{"$f":"IF(Blad1!I1470=\"\",\"\",Blad1!I1470)","v":""},{"$f":"IF(Blad1!M1470=\"\",\"\",Blad1!M1470)","v":""},{"$f":"IF(Blad1!F1470=\"\",\"\",Blad1!F1470)","v":""},{"$f":"IF(Blad1!Q1470=\"\",\"\",Blad1!Q1470)","v":""}]
[{"$f":"IF(Blad1!D1471=\"\",\"\",Blad1!D1471)","v":""},{"$f":"IF(Blad1!E1471=\"\",\"\",Blad1!E1471)","v":""},{"$f":"IF(Blad1!B1471=\"\",\"\",Blad1!B1471)","v":""},{"$f":"IF(Blad1!H1471=\"\",\"\",Blad1!H1471)","v":""},{"$f":"IF(Blad1!I1471=\"\",\"\",Blad1!I1471)","v":""},{"$f":"IF(Blad1!M1471=\"\",\"\",Blad1!M1471)","v":""},{"$f":"IF(Blad1!F1471=\"\",\"\",Blad1!F1471)","v":""},{"$f":"IF(Blad1!Q1471=\"\",\"\",Blad1!Q1471)","v":""}]
[{"$f":"IF(Blad1!D1472=\"\",\"\",Blad1!D1472)","v":""},{"$f":"IF(Blad1!E1472=\"\",\"\",Blad1!E1472)","v":""},{"$f":"IF(Blad1!B1472=\"\",\"\",Blad1!B1472)","v":""},{"$f":"IF(Blad1!H1472=\"\",\"\",Blad1!H1472)","v":""},{"$f":"IF(Blad1!I1472=\"\",\"\",Blad1!I1472)","v":""},{"$f":"IF(Blad1!M1472=\"\",\"\",Blad1!M1472)","v":""},{"$f":"IF(Blad1!F1472=\"\",\"\",Blad1!F1472)","v":""},{"$f":"IF(Blad1!Q1472=\"\",\"\",Blad1!Q1472)","v":""}]
[{"$f":"IF(Blad1!D1473=\"\",\"\",Blad1!D1473)","v":""},{"$f":"IF(Blad1!E1473=\"\",\"\",Blad1!E1473)","v":""},{"$f":"IF(Blad1!B1473=\"\",\"\",Blad1!B1473)","v":""},{"$f":"IF(Blad1!H1473=\"\",\"\",Blad1!H1473)","v":""},{"$f":"IF(Blad1!I1473=\"\",\"\",Blad1!I1473)","v":""},{"$f":"IF(Blad1!M1473=\"\",\"\",Blad1!M1473)","v":""},{"$f":"IF(Blad1!F1473=\"\",\"\",Blad1!F1473)","v":""},{"$f":"IF(Blad1!Q1473=\"\",\"\",Blad1!Q1473)","v":""}]
[{"$f":"IF(Blad1!D1474=\"\",\"\",Blad1!D1474)","v":""},{"$f":"IF(Blad1!E1474=\"\",\"\",Blad1!E1474)","v":""},{"$f":"IF(Blad1!B1474=\"\",\"\",Blad1!B1474)","v":""},{"$f":"IF(Blad1!H1474=\"\",\"\",Blad1!H1474)","v":""},{"$f":"IF(Blad1!I1474=\"\",\"\",Blad1!I1474)","v":""},{"$f":"IF(Blad1!M1474=\"\",\"\",Blad1!M1474)","v":""},{"$f":"IF(Blad1!F1474=\"\",\"\",Blad1!F1474)","v":""},{"$f":"IF(Blad1!Q1474=\"\",\"\",Blad1!Q1474)","v":""}]
[{"$f":"IF(Blad1!D1475=\"\",\"\",Blad1!D1475)","v":""},{"$f":"IF(Blad1!E1475=\"\",\"\",Blad1!E1475)","v":""},{"$f":"IF(Blad1!B1475=\"\",\"\",Blad1!B1475)","v":""},{"$f":"IF(Blad1!H1475=\"\",\"\",Blad1!H1475)","v":""},{"$f":"IF(Blad1!I1475=\"\",\"\",Blad1!I1475)","v":""},{"$f":"IF(Blad1!M1475=\"\",\"\",Blad1!M1475)","v":""},{"$f":"IF(Blad1!F1475=\"\",\"\",Blad1!F1475)","v":""},{"$f":"IF(Blad1!Q1475=\"\",\"\",Blad1!Q1475)","v":""}]
[{"$f":"IF(Blad1!D1476=\"\",\"\",Blad1!D1476)","v":""},{"$f":"IF(Blad1!E1476=\"\",\"\",Blad1!E1476)","v":""},{"$f":"IF(Blad1!B1476=\"\",\"\",Blad1!B1476)","v":""},{"$f":"IF(Blad1!H1476=\"\",\"\",Blad1!H1476)","v":""},{"$f":"IF(Blad1!I1476=\"\",\"\",Blad1!I1476)","v":""},{"$f":"IF(Blad1!M1476=\"\",\"\",Blad1!M1476)","v":""},{"$f":"IF(Blad1!F1476=\"\",\"\",Blad1!F1476)","v":""},{"$f":"IF(Blad1!Q1476=\"\",\"\",Blad1!Q1476)","v":""}]
[{"$f":"IF(Blad1!D1477=\"\",\"\",Blad1!D1477)","v":""},{"$f":"IF(Blad1!E1477=\"\",\"\",Blad1!E1477)","v":""},{"$f":"IF(Blad1!B1477=\"\",\"\",Blad1!B1477)","v":""},{"$f":"IF(Blad1!H1477=\"\",\"\",Blad1!H1477)","v":""},{"$f":"IF(Blad1!I1477=\"\",\"\",Blad1!I1477)","v":""},{"$f":"IF(Blad1!M1477=\"\",\"\",Blad1!M1477)","v":""},{"$f":"IF(Blad1!F1477=\"\",\"\",Blad1!F1477)","v":""},{"$f":"IF(Blad1!Q1477=\"\",\"\",Blad1!Q1477)","v":""}]
[{"$f":"IF(Blad1!D1478=\"\",\"\",Blad1!D1478)","v":""},{"$f":"IF(Blad1!E1478=\"\",\"\",Blad1!E1478)","v":""},{"$f":"IF(Blad1!B1478=\"\",\"\",Blad1!B1478)","v":""},{"$f":"IF(Blad1!H1478=\"\",\"\",Blad1!H1478)","v":""},{"$f":"IF(Blad1!I1478=\"\",\"\",Blad1!I1478)","v":""},{"$f":"IF(Blad1!M1478=\"\",\"\",Blad1!M1478)","v":""},{"$f":"IF(Blad1!F1478=\"\",\"\",Blad1!F1478)","v":""},{"$f":"IF(Blad1!Q1478=\"\",\"\",Blad1!Q1478)","v":""}]
[{"$f":"IF(Blad1!D1479=\"\",\"\",Blad1!D1479)","v":""},{"$f":"IF(Blad1!E1479=\"\",\"\",Blad1!E1479)","v":""},{"$f":"IF(Blad1!B1479=\"\",\"\",Blad1!B1479)","v":""},{"$f":"IF(Blad1!H1479=\"\",\"\",Blad1!H1479)","v":""},{"$f":"IF(Blad1!I1479=\"\",\"\",Blad1!I1479)","v":""},{"$f":"IF(Blad1!M1479=\"\",\"\",Blad1!M1479)","v":""},{"$f":"IF(Blad1!F1479=\"\",\"\",Blad1!F1479)","v":""},{"$f":"IF(Blad1!Q1479=\"\",\"\",Blad1!Q1479)","v":""}]
[{"$f":"IF(Blad1!D1480=\"\",\"\",Blad1!D1480)","v":""},{"$f":"IF(Blad1!E1480=\"\",\"\",Blad1!E1480)","v":""},{"$f":"IF(Blad1!B1480=\"\",\"\",Blad1!B1480)","v":""},{"$f":"IF(Blad1!H1480=\"\",\"\",Blad1!H1480)","v":""},{"$f":"IF(Blad1!I1480=\"\",\"\",Blad1!I1480)","v":""},{"$f":"IF(Blad1!M1480=\"\",\"\",Blad1!M1480)","v":""},{"$f":"IF(Blad1!F1480=\"\",\"\",Blad1!F1480)","v":""},{"$f":"IF(Blad1!Q1480=\"\",\"\",Blad1!Q1480)","v":""}]
[{"$f":"IF(Blad1!D1481=\"\",\"\",Blad1!D1481)","v":""},{"$f":"IF(Blad1!E1481=\"\",\"\",Blad1!E1481)","v":""},{"$f":"IF(Blad1!B1481=\"\",\"\",Blad1!B1481)","v":""},{"$f":"IF(Blad1!H1481=\"\",\"\",Blad1!H1481)","v":""},{"$f":"IF(Blad1!I1481=\"\",\"\",Blad1!I1481)","v":""},{"$f":"IF(Blad1!M1481=\"\",\"\",Blad1!M1481)","v":""},{"$f":"IF(Blad1!F1481=\"\",\"\",Blad1!F1481)","v":""},{"$f":"IF(Blad1!Q1481=\"\",\"\",Blad1!Q1481)","v":""}]
[{"$f":"IF(Blad1!D1482=\"\",\"\",Blad1!D1482)","v":""},{"$f":"IF(Blad1!E1482=\"\",\"\",Blad1!E1482)","v":""},{"$f":"IF(Blad1!B1482=\"\",\"\",Blad1!B1482)","v":""},{"$f":"IF(Blad1!H1482=\"\",\"\",Blad1!H1482)","v":""},{"$f":"IF(Blad1!I1482=\"\",\"\",Blad1!I1482)","v":""},{"$f":"IF(Blad1!M1482=\"\",\"\",Blad1!M1482)","v":""},{"$f":"IF(Blad1!F1482=\"\",\"\",Blad1!F1482)","v":""},{"$f":"IF(Blad1!Q1482=\"\",\"\",Blad1!Q1482)","v":""}]
[{"$f":"IF(Blad1!D1483=\"\",\"\",Blad1!D1483)","v":""},{"$f":"IF(Blad1!E1483=\"\",\"\",Blad1!E1483)","v":""},{"$f":"IF(Blad1!B1483=\"\",\"\",Blad1!B1483)","v":""},{"$f":"IF(Blad1!H1483=\"\",\"\",Blad1!H1483)","v":""},{"$f":"IF(Blad1!I1483=\"\",\"\",Blad1!I1483)","v":""},{"$f":"IF(Blad1!M1483=\"\",\"\",Blad1!M1483)","v":""},{"$f":"IF(Blad1!F1483=\"\",\"\",Blad1!F1483)","v":""},{"$f":"IF(Blad1!Q1483=\"\",\"\",Blad1!Q1483)","v":""}]
[{"$f":"IF(Blad1!D1484=\"\",\"\",Blad1!D1484)","v":""},{"$f":"IF(Blad1!E1484=\"\",\"\",Blad1!E1484)","v":""},{"$f":"IF(Blad1!B1484=\"\",\"\",Blad1!B1484)","v":""},{"$f":"IF(Blad1!H1484=\"\",\"\",Blad1!H1484)","v":""},{"$f":"IF(Blad1!I1484=\"\",\"\",Blad1!I1484)","v":""},{"$f":"IF(Blad1!M1484=\"\",\"\",Blad1!M1484)","v":""},{"$f":"IF(Blad1!F1484=\"\",\"\",Blad1!F1484)","v":""},{"$f":"IF(Blad1!Q1484=\"\",\"\",Blad1!Q1484)","v":""}]
[{"$f":"IF(Blad1!D1485=\"\",\"\",Blad1!D1485)","v":""},{"$f":"IF(Blad1!E1485=\"\",\"\",Blad1!E1485)","v":""},{"$f":"IF(Blad1!B1485=\"\",\"\",Blad1!B1485)","v":""},{"$f":"IF(Blad1!H1485=\"\",\"\",Blad1!H1485)","v":""},{"$f":"IF(Blad1!I1485=\"\",\"\",Blad1!I1485)","v":""},{"$f":"IF(Blad1!M1485=\"\",\"\",Blad1!M1485)","v":""},{"$f":"IF(Blad1!F1485=\"\",\"\",Blad1!F1485)","v":""},{"$f":"IF(Blad1!Q1485=\"\",\"\",Blad1!Q1485)","v":""}]
[{"$f":"IF(Blad1!D1486=\"\",\"\",Blad1!D1486)","v":""},{"$f":"IF(Blad1!E1486=\"\",\"\",Blad1!E1486)","v":""},{"$f":"IF(Blad1!B1486=\"\",\"\",Blad1!B1486)","v":""},{"$f":"IF(Blad1!H1486=\"\",\"\",Blad1!H1486)","v":""},{"$f":"IF(Blad1!I1486=\"\",\"\",Blad1!I1486)","v":""},{"$f":"IF(Blad1!M1486=\"\",\"\",Blad1!M1486)","v":""},{"$f":"IF(Blad1!F1486=\"\",\"\",Blad1!F1486)","v":""},{"$f":"IF(Blad1!Q1486=\"\",\"\",Blad1!Q1486)","v":""}]
[{"$f":"IF(Blad1!D1487=\"\",\"\",Blad1!D1487)","v":""},{"$f":"IF(Blad1!E1487=\"\",\"\",Blad1!E1487)","v":""},{"$f":"IF(Blad1!B1487=\"\",\"\",Blad1!B1487)","v":""},{"$f":"IF(Blad1!H1487=\"\",\"\",Blad1!H1487)","v":""},{"$f":"IF(Blad1!I1487=\"\",\"\",Blad1!I1487)","v":""},{"$f":"IF(Blad1!M1487=\"\",\"\",Blad1!M1487)","v":""},{"$f":"IF(Blad1!F1487=\"\",\"\",Blad1!F1487)","v":""},{"$f":"IF(Blad1!Q1487=\"\",\"\",Blad1!Q1487)","v":""}]
[{"$f":"IF(Blad1!D1488=\"\",\"\",Blad1!D1488)","v":""},{"$f":"IF(Blad1!E1488=\"\",\"\",Blad1!E1488)","v":""},{"$f":"IF(Blad1!B1488=\"\",\"\",Blad1!B1488)","v":""},{"$f":"IF(Blad1!H1488=\"\",\"\",Blad1!H1488)","v":""},{"$f":"IF(Blad1!I1488=\"\",\"\",Blad1!I1488)","v":""},{"$f":"IF(Blad1!M1488=\"\",\"\",Blad1!M1488)","v":""},{"$f":"IF(Blad1!F1488=\"\",\"\",Blad1!F1488)","v":""},{"$f":"IF(Blad1!Q1488=\"\",\"\",Blad1!Q1488)","v":""}]
[{"$f":"IF(Blad1!D1489=\"\",\"\",Blad1!D1489)","v":""},{"$f":"IF(Blad1!E1489=\"\",\"\",Blad1!E1489)","v":""},{"$f":"IF(Blad1!B1489=\"\",\"\",Blad1!B1489)","v":""},{"$f":"IF(Blad1!H1489=\"\",\"\",Blad1!H1489)","v":""},{"$f":"IF(Blad1!I1489=\"\",\"\",Blad1!I1489)","v":""},{"$f":"IF(Blad1!M1489=\"\",\"\",Blad1!M1489)","v":""},{"$f":"IF(Blad1!F1489=\"\",\"\",Blad1!F1489)","v":""},{"$f":"IF(Blad1!Q1489=\"\",\"\",Blad1!Q1489)","v":""}]
[{"$f":"IF(Blad1!D1490=\"\",\"\",Blad1!D1490)","v":""},{"$f":"IF(Blad1!E1490=\"\",\"\",Blad1!E1490)","v":""},{"$f":"IF(Blad1!B1490=\"\",\"\",Blad1!B1490)","v":""},{"$f":"IF(Blad1!H1490=\"\",\"\",Blad1!H1490)","v":""},{"$f":"IF(Blad1!I1490=\"\",\"\",Blad1!I1490)","v":""},{"$f":"IF(Blad1!M1490=\"\",\"\",Blad1!M1490)","v":""},{"$f":"IF(Blad1!F1490=\"\",\"\",Blad1!F1490)","v":""},{"$f":"IF(Blad1!Q1490=\"\",\"\",Blad1!Q1490)","v":""}]
[{"$f":"IF(Blad1!D1491=\"\",\"\",Blad1!D1491)","v":""},{"$f":"IF(Blad1!E1491=\"\",\"\",Blad1!E1491)","v":""},{"$f":"IF(Blad1!B1491=\"\",\"\",Blad1!B1491)","v":""},{"$f":"IF(Blad1!H1491=\"\",\"\",Blad1!H1491)","v":""},{"$f":"IF(Blad1!I1491=\"\",\"\",Blad1!I1491)","v":""},{"$f":"IF(Blad1!M1491=\"\",\"\",Blad1!M1491)","v":""},{"$f":"IF(Blad1!F1491=\"\",\"\",Blad1!F1491)","v":""},{"$f":"IF(Blad1!Q1491=\"\",\"\",Blad1!Q1491)","v":""}]
[{"$f":"IF(Blad1!D1492=\"\",\"\",Blad1!D1492)","v":""},{"$f":"IF(Blad1!E1492=\"\",\"\",Blad1!E1492)","v":""},{"$f":"IF(Blad1!B1492=\"\",\"\",Blad1!B1492)","v":""},{"$f":"IF(Blad1!H1492=\"\",\"\",Blad1!H1492)","v":""},{"$f":"IF(Blad1!I1492=\"\",\"\",Blad1!I1492)","v":""},{"$f":"IF(Blad1!M1492=\"\",\"\",Blad1!M1492)","v":""},{"$f":"IF(Blad1!F1492=\"\",\"\",Blad1!F1492)","v":""},{"$f":"IF(Blad1!Q1492=\"\",\"\",Blad1!Q1492)","v":""}]
[{"$f":"IF(Blad1!D1493=\"\",\"\",Blad1!D1493)","v":""},{"$f":"IF(Blad1!E1493=\"\",\"\",Blad1!E1493)","v":""},{"$f":"IF(Blad1!B1493=\"\",\"\",Blad1!B1493)","v":""},{"$f":"IF(Blad1!H1493=\"\",\"\",Blad1!H1493)","v":""},{"$f":"IF(Blad1!I1493=\"\",\"\",Blad1!I1493)","v":""},{"$f":"IF(Blad1!M1493=\"\",\"\",Blad1!M1493)","v":""},{"$f":"IF(Blad1!F1493=\"\",\"\",Blad1!F1493)","v":""},{"$f":"IF(Blad1!Q1493=\"\",\"\",Blad1!Q1493)","v":""}]
[{"$f":"IF(Blad1!D1494=\"\",\"\",Blad1!D1494)","v":""},{"$f":"IF(Blad1!E1494=\"\",\"\",Blad1!E1494)","v":""},{"$f":"IF(Blad1!B1494=\"\",\"\",Blad1!B1494)","v":""},{"$f":"IF(Blad1!H1494=\"\",\"\",Blad1!H1494)","v":""},{"$f":"IF(Blad1!I1494=\"\",\"\",Blad1!I1494)","v":""},{"$f":"IF(Blad1!M1494=\"\",\"\",Blad1!M1494)","v":""},{"$f":"IF(Blad1!F1494=\"\",\"\",Blad1!F1494)","v":""},{"$f":"IF(Blad1!Q1494=\"\",\"\",Blad1!Q1494)","v":""}]
[{"$f":"IF(Blad1!D1495=\"\",\"\",Blad1!D1495)","v":""},{"$f":"IF(Blad1!E1495=\"\",\"\",Blad1!E1495)","v":""},{"$f":"IF(Blad1!B1495=\"\",\"\",Blad1!B1495)","v":""},{"$f":"IF(Blad1!H1495=\"\",\"\",Blad1!H1495)","v":""},{"$f":"IF(Blad1!I1495=\"\",\"\",Blad1!I1495)","v":""},{"$f":"IF(Blad1!M1495=\"\",\"\",Blad1!M1495)","v":""},{"$f":"IF(Blad1!F1495=\"\",\"\",Blad1!F1495)","v":""},{"$f":"IF(Blad1!Q1495=\"\",\"\",Blad1!Q1495)","v":""}]
[{"$f":"IF(Blad1!D1496=\"\",\"\",Blad1!D1496)","v":""},{"$f":"IF(Blad1!E1496=\"\",\"\",Blad1!E1496)","v":""},{"$f":"IF(Blad1!B1496=\"\",\"\",Blad1!B1496)","v":""},{"$f":"IF(Blad1!H1496=\"\",\"\",Blad1!H1496)","v":""},{"$f":"IF(Blad1!I1496=\"\",\"\",Blad1!I1496)","v":""},{"$f":"IF(Blad1!M1496=\"\",\"\",Blad1!M1496)","v":""},{"$f":"IF(Blad1!F1496=\"\",\"\",Blad1!F1496)","v":""},{"$f":"IF(Blad1!Q1496=\"\",\"\",Blad1!Q1496)","v":""}]
[{"$f":"IF(Blad1!D1497=\"\",\"\",Blad1!D1497)","v":""},{"$f":"IF(Blad1!E1497=\"\",\"\",Blad1!E1497)","v":""},{"$f":"IF(Blad1!B1497=\"\",\"\",Blad1!B1497)","v":""},{"$f":"IF(Blad1!H1497=\"\",\"\",Blad1!H1497)","v":""},{"$f":"IF(Blad1!I1497=\"\",\"\",Blad1!I1497)","v":""},{"$f":"IF(Blad1!M1497=\"\",\"\",Blad1!M1497)","v":""},{"$f":"IF(Blad1!F1497=\"\",\"\",Blad1!F1497)","v":""},{"$f":"IF(Blad1!Q1497=\"\",\"\",Blad1!Q1497)","v":""}]
[{"$f":"IF(Blad1!D1498=\"\",\"\",Blad1!D1498)","v":""},{"$f":"IF(Blad1!E1498=\"\",\"\",Blad1!E1498)","v":""},{"$f":"IF(Blad1!B1498=\"\",\"\",Blad1!B1498)","v":""},{"$f":"IF(Blad1!H1498=\"\",\"\",Blad1!H1498)","v":""},{"$f":"IF(Blad1!I1498=\"\",\"\",Blad1!I1498)","v":""},{"$f":"IF(Blad1!M1498=\"\",\"\",Blad1!M1498)","v":""},{"$f":"IF(Blad1!F1498=\"\",\"\",Blad1!F1498)","v":""},{"$f":"IF(Blad1!Q1498=\"\",\"\",Blad1!Q1498)","v":""}]
[{"$f":"IF(Blad1!D1499=\"\",\"\",Blad1!D1499)","v":""},{"$f":"IF(Blad1!E1499=\"\",\"\",Blad1!E1499)","v":""},{"$f":"IF(Blad1!B1499=\"\",\"\",Blad1!B1499)","v":""},{"$f":"IF(Blad1!H1499=\"\",\"\",Blad1!H1499)","v":""},{"$f":"IF(Blad1!I1499=\"\",\"\",Blad1!I1499)","v":""},{"$f":"IF(Blad1!M1499=\"\",\"\",Blad1!M1499)","v":""},{"$f":"IF(Blad1!F1499=\"\",\"\",Blad1!F1499)","v":""},{"$f":"IF(Blad1!Q1499=\"\",\"\",Blad1!Q1499)","v":""}]
[{"$f":"IF(Blad1!D1500=\"\",\"\",Blad1!D1500)","v":""},{"$f":"IF(Blad1!E1500=\"\",\"\",Blad1!E1500)","v":""},{"$f":"IF(Blad1!B1500=\"\",\"\",Blad1!B1500)","v":""},{"$f":"IF(Blad1!H1500=\"\",\"\",Blad1!H1500)","v":""},{"$f":"IF(Blad1!I1500=\"\",\"\",Blad1!I1500)","v":""},{"$f":"IF(Blad1!M1500=\"\",\"\",Blad1!M1500)","v":""},{"$f":"IF(Blad1!F1500=\"\",\"\",Blad1!F1500)","v":""},{"$f":"IF(Blad1!Q1500=\"\",\"\",Blad1!Q1500)","v":""}]
[{"$f":"IF(Blad1!D1501=\"\",\"\",Blad1!D1501)","v":""},{"$f":"IF(Blad1!E1501=\"\",\"\",Blad1!E1501)","v":""},{"$f":"IF(Blad1!B1501=\"\",\"\",Blad1!B1501)","v":""},{"$f":"IF(Blad1!H1501=\"\",\"\",Blad1!H1501)","v":""},{"$f":"IF(Blad1!I1501=\"\",\"\",Blad1!I1501)","v":""},{"$f":"IF(Blad1!M1501=\"\",\"\",Blad1!M1501)","v":""},{"$f":"IF(Blad1!F1501=\"\",\"\",Blad1!F1501)","v":""},{"$f":"IF(Blad1!Q1501=\"\",\"\",Blad1!Q1501)","v":""}]
[{"$f":"IF(Blad1!D1502=\"\",\"\",Blad1!D1502)","v":""},{"$f":"IF(Blad1!E1502=\"\",\"\",Blad1!E1502)","v":""},{"$f":"IF(Blad1!B1502=\"\",\"\",Blad1!B1502)","v":""},{"$f":"IF(Blad1!H1502=\"\",\"\",Blad1!H1502)","v":""},{"$f":"IF(Blad1!I1502=\"\",\"\",Blad1!I1502)","v":""},{"$f":"IF(Blad1!M1502=\"\",\"\",Blad1!M1502)","v":""},{"$f":"IF(Blad1!F1502=\"\",\"\",Blad1!F1502)","v":""},{"$f":"IF(Blad1!Q1502=\"\",\"\",Blad1!Q1502)","v":""}]
[{"$f":"IF(Blad1!D1503=\"\",\"\",Blad1!D1503)","v":""},{"$f":"IF(Blad1!E1503=\"\",\"\",Blad1!E1503)","v":""},{"$f":"IF(Blad1!B1503=\"\",\"\",Blad1!B1503)","v":""},{"$f":"IF(Blad1!H1503=\"\",\"\",Blad1!H1503)","v":""},{"$f":"IF(Blad1!I1503=\"\",\"\",Blad1!I1503)","v":""},{"$f":"IF(Blad1!M1503=\"\",\"\",Blad1!M1503)","v":""},{"$f":"IF(Blad1!F1503=\"\",\"\",Blad1!F1503)","v":""},{"$f":"IF(Blad1!Q1503=\"\",\"\",Blad1!Q1503)","v":""}]
[{"$f":"IF(Blad1!D1504=\"\",\"\",Blad1!D1504)","v":""},{"$f":"IF(Blad1!E1504=\"\",\"\",Blad1!E1504)","v":""},{"$f":"IF(Blad1!B1504=\"\",\"\",Blad1!B1504)","v":""},{"$f":"IF(Blad1!H1504=\"\",\"\",Blad1!H1504)","v":""},{"$f":"IF(Blad1!I1504=\"\",\"\",Blad1!I1504)","v":""},{"$f":"IF(Blad1!M1504=\"\",\"\",Blad1!M1504)","v":""},{"$f":"IF(Blad1!F1504=\"\",\"\",Blad1!F1504)","v":""},{"$f":"IF(Blad1!Q1504=\"\",\"\",Blad1!Q1504)","v":""}]
[{"$f":"IF(Blad1!D1505=\"\",\"\",Blad1!D1505)","v":""},{"$f":"IF(Blad1!E1505=\"\",\"\",Blad1!E1505)","v":""},{"$f":"IF(Blad1!B1505=\"\",\"\",Blad1!B1505)","v":""},{"$f":"IF(Blad1!H1505=\"\",\"\",Blad1!H1505)","v":""},{"$f":"IF(Blad1!I1505=\"\",\"\",Blad1!I1505)","v":""},{"$f":"IF(Blad1!M1505=\"\",\"\",Blad1!M1505)","v":""},{"$f":"IF(Blad1!F1505=\"\",\"\",Blad1!F1505)","v":""},{"$f":"IF(Blad1!Q1505=\"\",\"\",Blad1!Q1505)","v":""}]
[{"$f":"IF(Blad1!D1506=\"\",\"\",Blad1!D1506)","v":""},{"$f":"IF(Blad1!E1506=\"\",\"\",Blad1!E1506)","v":""},{"$f":"IF(Blad1!B1506=\"\",\"\",Blad1!B1506)","v":""},{"$f":"IF(Blad1!H1506=\"\",\"\",Blad1!H1506)","v":""},{"$f":"IF(Blad1!I1506=\"\",\"\",Blad1!I1506)","v":""},{"$f":"IF(Blad1!M1506=\"\",\"\",Blad1!M1506)","v":""},{"$f":"IF(Blad1!F1506=\"\",\"\",Blad1!F1506)","v":""},{"$f":"IF(Blad1!Q1506=\"\",\"\",Blad1!Q1506)","v":""}]
[{"$f":"IF(Blad1!D1507=\"\",\"\",Blad1!D1507)","v":""},{"$f":"IF(Blad1!E1507=\"\",\"\",Blad1!E1507)","v":""},{"$f":"IF(Blad1!B1507=\"\",\"\",Blad1!B1507)","v":""},{"$f":"IF(Blad1!H1507=\"\",\"\",Blad1!H1507)","v":""},{"$f":"IF(Blad1!I1507=\"\",\"\",Blad1!I1507)","v":""},{"$f":"IF(Blad1!M1507=\"\",\"\",Blad1!M1507)","v":""},{"$f":"IF(Blad1!F1507=\"\",\"\",Blad1!F1507)","v":""},{"$f":"IF(Blad1!Q1507=\"\",\"\",Blad1!Q1507)","v":""}]
[{"$f":"IF(Blad1!D1508=\"\",\"\",Blad1!D1508)","v":""},{"$f":"IF(Blad1!E1508=\"\",\"\",Blad1!E1508)","v":""},{"$f":"IF(Blad1!B1508=\"\",\"\",Blad1!B1508)","v":""},{"$f":"IF(Blad1!H1508=\"\",\"\",Blad1!H1508)","v":""},{"$f":"IF(Blad1!I1508=\"\",\"\",Blad1!I1508)","v":""},{"$f":"IF(Blad1!M1508=\"\",\"\",Blad1!M1508)","v":""},{"$f":"IF(Blad1!F1508=\"\",\"\",Blad1!F1508)","v":""},{"$f":"IF(Blad1!Q1508=\"\",\"\",Blad1!Q1508)","v":""}]
[{"$f":"IF(Blad1!D1509=\"\",\"\",Blad1!D1509)","v":""},{"$f":"IF(Blad1!E1509=\"\",\"\",Blad1!E1509)","v":""},{"$f":"IF(Blad1!B1509=\"\",\"\",Blad1!B1509)","v":""},{"$f":"IF(Blad1!H1509=\"\",\"\",Blad1!H1509)","v":""},{"$f":"IF(Blad1!I1509=\"\",\"\",Blad1!I1509)","v":""},{"$f":"IF(Blad1!M1509=\"\",\"\",Blad1!M1509)","v":""},{"$f":"IF(Blad1!F1509=\"\",\"\",Blad1!F1509)","v":""},{"$f":"IF(Blad1!Q1509=\"\",\"\",Blad1!Q1509)","v":""}]
[{"$f":"IF(Blad1!D1510=\"\",\"\",Blad1!D1510)","v":""},{"$f":"IF(Blad1!E1510=\"\",\"\",Blad1!E1510)","v":""},{"$f":"IF(Blad1!B1510=\"\",\"\",Blad1!B1510)","v":""},{"$f":"IF(Blad1!H1510=\"\",\"\",Blad1!H1510)","v":""},{"$f":"IF(Blad1!I1510=\"\",\"\",Blad1!I1510)","v":""},{"$f":"IF(Blad1!M1510=\"\",\"\",Blad1!M1510)","v":""},{"$f":"IF(Blad1!F1510=\"\",\"\",Blad1!F1510)","v":""},{"$f":"IF(Blad1!Q1510=\"\",\"\",Blad1!Q1510)","v":""}]
[{"$f":"IF(Blad1!D1511=\"\",\"\",Blad1!D1511)","v":""},{"$f":"IF(Blad1!E1511=\"\",\"\",Blad1!E1511)","v":""},{"$f":"IF(Blad1!B1511=\"\",\"\",Blad1!B1511)","v":""},{"$f":"IF(Blad1!H1511=\"\",\"\",Blad1!H1511)","v":""},{"$f":"IF(Blad1!I1511=\"\",\"\",Blad1!I1511)","v":""},{"$f":"IF(Blad1!M1511=\"\",\"\",Blad1!M1511)","v":""},{"$f":"IF(Blad1!F1511=\"\",\"\",Blad1!F1511)","v":""},{"$f":"IF(Blad1!Q1511=\"\",\"\",Blad1!Q1511)","v":""}]
[{"$f":"IF(Blad1!D1512=\"\",\"\",Blad1!D1512)","v":""},{"$f":"IF(Blad1!E1512=\"\",\"\",Blad1!E1512)","v":""},{"$f":"IF(Blad1!B1512=\"\",\"\",Blad1!B1512)","v":""},{"$f":"IF(Blad1!H1512=\"\",\"\",Blad1!H1512)","v":""},{"$f":"IF(Blad1!I1512=\"\",\"\",Blad1!I1512)","v":""},{"$f":"IF(Blad1!M1512=\"\",\"\",Blad1!M1512)","v":""},{"$f":"IF(Blad1!F1512=\"\",\"\",Blad1!F1512)","v":""},{"$f":"IF(Blad1!Q1512=\"\",\"\",Blad1!Q1512)","v":""}]
[{"$f":"IF(Blad1!D1513=\"\",\"\",Blad1!D1513)","v":""},{"$f":"IF(Blad1!E1513=\"\",\"\",Blad1!E1513)","v":""},{"$f":"IF(Blad1!B1513=\"\",\"\",Blad1!B1513)","v":""},{"$f":"IF(Blad1!H1513=\"\",\"\",Blad1!H1513)","v":""},{"$f":"IF(Blad1!I1513=\"\",\"\",Blad1!I1513)","v":""},{"$f":"IF(Blad1!M1513=\"\",\"\",Blad1!M1513)","v":""},{"$f":"IF(Blad1!F1513=\"\",\"\",Blad1!F1513)","v":""},{"$f":"IF(Blad1!Q1513=\"\",\"\",Blad1!Q1513)","v":""}]